Workbook

Sheet نمای کل
B1: برنامه توليد و فروش سال 1403 شرکت پالایش نفت جی
E3: تناژ ترکیب فروش به تفکیک مراکز فروش
E4: شرح | G4: فله | H4: بشکه | I4: مجموع
E5: پالایشگاه اصفهان | G5: ='مقدار فروش '!B7+'مقدار فروش '!B13 -> 759999.62 | H5: ='مقدار فروش '!B14 -> 100000.25 | I5: =G5+H5 -> 859999.87
E6: بندرعباس | G6: ='مقدار فروش '!B21 -> 349999.94 | H6: 0 | I6: =G6+H6 -> 349999.94
E7: چابهار | G7: ='مقدار فروش '!B25 -> 60000 | H7: 0 | I7: =G7+H7 -> 60000
E8: مجموع | G8: =SUM(G4:G7) -> 1169999.6 | H8: =SUM(H4:H7) -> 100000.25 | I8: =SUM(I5:I7) -> 1269999.8
E10: انبار به انبار از سایت اصفهان به سایت های بندرعباس/ چابهار | I10: ='مقدار فروش '!B32 -> 289999.7
B12: تناژ ترکیب بازار فروش | H12: تناژ ترکیب نحوه بسته بندی | K12: مقدار برداشت شرکت های تابعه
B13: فروش داخلی | D13: ='مقدار فروش '!B7 -> 369999.84 | E13: =D13/D15 -> 0.2913385 | H13: بشکه | I13: ='مقدار فروش '!B14 -> 100000.25 | K13: شرح | L13: صادراتی
B14: فروش صادراتی | D14: ='مقدار فروش '!B27 -> 899999.97 | E14: =D14/D15 -> 0.7086615 | H14: فله | I14: ='مقدار فروش '!B7+'مقدار فروش '!B13+'مقدار فروش '!B21+'مقدار فروش '!B25 -> 1169999.6 | K14: جی پورنر پارس | L14: 103000
B15: جمع | D15: =SUM(D13:D14) -> 1269999.8 | E15: =SUM(E13:E14) -> 1 | H15: جمع | I15: =SUM(I13:I14) -> 1269999.8 | K15: نفت جی هرمز | L15: 103000
K16: جمع | L16: =SUM(L14:L15) -> 206000
B17: خرید وکیوم از پالایشگاه اصفهان | C17: =' تولید '!O50 -> 1116918
B18: خرید وکیوم از پالایشگاه بندرعباس/سایر پالایشگاه ها | C18: =' تولید '!O51 -> 170853.85
B19: کل وکیوم مورد نیاز | C19: =SUM(C17:D18) -> 1287771.9

Sheet مقدار فروش 
A1: برنامه فروش سال 1403 شرکت پالایش نفت جی
A2: شرح(شامل نام کالا/نوع بسته بندی/ترم تحویل) | B2: جمع مقدار فروش سال 1402 | C2: فروردین | D2: اردیبهشت | E2: خرداد | F2: تیر | G2: مرداد | H2: شهریور | I2: مهر | J2: آبان | K2: آذر | L2: دی | M2: بهمن | N2: اسفند
A3: الف-فروش داخلی | Q3: =I9*I7/25000 -> 7840
A4: قیر | B4: =SUM(C4:N4) -> 364738.9 | C4: 7052.96 | D4: 13065.8 | E4: 41068.32 | F4: 47260.89 | G4: 57774.17 | H4: 74039.81 | I4: 34087.2 | J4: 17559 | K4: 17559 | L4: 18534.5 | M4: 18534.5 | N4: 18202.75 | P4: =2732*12532/14532 -> 2356.0022 | R4: =N9*18660/N7 -> 3508.0538
A5: (MC)قیر محلول | B5: =SUM(C5:N5) -> 4696.28 | C5: 0 | D5: 269.91 | E5: 696.72 | F5: 214.52 | G5: 240.83 | H5: 520.72 | I5: 789.6 | J5: 381.49 | K5: 381.49 | L5: 402.7 | M5: 402.7 | N5: 395.6 | Q5: =10000/5 -> 2000 | S5: =2732*12660/14532 -> 2380.0661
A6: قیر امولسیون | B6: =SUM(C6:N6) -> 564.66 | C6: 0 | D6: 0 | E6: 35.95 | F6: 0 | G6: 78.8 | H6: 20.66 | I6: 123.2 | J6: 59.46 | K6: 59.46 | L6: 62.75 | M6: 62.75 | N6: 61.63 | P6: =532*5 -> 2660
A7: جمع فروش داخلی: | B7: =SUM(C7:N7) -> 369999.84 | C7: =SUM(C4:C6) -> 7052.96 | D7: =SUM(D4:D6) -> 13335.71 | E7: =SUM(E4:E6) -> 41800.99 | F7: =SUM(F4:F6) -> 47475.41 | G7: =SUM(G4:G6) -> 58093.8 | H7: =SUM(H4:H6) -> 74581.19 | I7: =SUM(I4:I6) -> 35000 | J7: =SUM(J4:J6) -> 17999.95 | ... N7: =SUM(N4:N6) -> 18659.98 | P7: =J4*P15/J7 -> 12224.988 | Q7: =J7*J9/11734 -> 5190.9009
A8: جمع فروش تهاتری: | B8: =SUM(C8:N8) -> 323992.14 | C8: 4194.48 | D8: 10966.96 | E8: 35909.49 | F8: 46653.41 | G8: 56512.36 | H8: 65115.65 | I8: 29400.1 | J8: 14615.91 | K8: 14615.91 | L8: 15427.98 | M8: 15427.98 | N8: 15151.91 | P8: =J5*P15/J7 -> 265.6023 | Q8: =10080*25000/12000 -> 21000
A9: جمع فروش غیر تهاتری: | B9: =SUM(C9:N9) -> 46007.41 | C9: 2858.48 | D9: 2368.62 | E9: 5891.5 | F9: 822 | G9: 1581.44 | H9: 9465.54 | I9: 5600 | J9: 3383.9 | K9: 3383.9 | L9: 3571.99 | M9: 3571.99 | N9: 3508.05 | P9: =J6*P15/J7 -> 41.397449 | Q9: =I9*25000/12000 -> 11666.667
Q10: =79530-80000 -> -470 | R10: =N7+128 -> 18787.98
A11: ب- فروش صادراتی | P11: =340000 -> 340000 | Q11: =Q10/5 -> -94 | R11: =S=339872-340000 -> #NAME?
A12: سایت اصفهان | P12: =SUM(C7:H7) -> 242340.06
A13: فله اصفهان | B13: =SUM(C13:N13) -> 389999.78 | C13: 42461.89 | D13: 47211.07 | E13: 37662.318 | F13: 21730.724 | G13: 34027.802 | H13: 17098.974 | I13: =25000+807-1000 -> 24807 | J13: 25000 | K13: =25000+10000 -> 35000 | L13: =25000+10000 -> 35000 | M13: =25000+10000 -> 35000 | N13: =25000+10000 -> 35000 | P13: =P11-P12 -> 97659.94 | Q13: =961*5 -> 4805
A14: بشکه اصفهان | B14: =SUM(C14:N14) -> 100000.25 | C14: 8632.79 | D14: 9479.006 | E14: 7530.074 | F14: 3178.736 | G14: 6167.748 | H14: 7684.801 | I14: =8000.1-675 -> 7325.1 | J14: =9865.4+135 -> 10000.4 | K14: =9865.4+135 -> 10000.4 | L14: =9865.4+135 -> 10000.4 | M14: =9865.4+135 -> 10000.4 | N14: =9865.4+135 -> 10000.4 | P14: =P13-I7 -> 62659.94 | R14: =J13+761 -> 25761
A15: جمع پالایشگاه اصفهان: | B15: =B13+B14 -> 490000.03 | C15: =SUM(C13,C14) -> 51094.68 | D15: =SUM(D13,D14) -> 56690.076 | E15: =SUM(E13,E14) -> 45192.392 | F15: =SUM(F13,F14) -> 24909.46 | G15: =SUM(G13,G14) -> 40195.55 | H15: =SUM(H13,H14) -> 24783.775 | I15: =SUM(I13,I14) -> 32132.1 | J15: =SUM(J13,J14) -> 35000.4 | ... N15: =SUM(N13,N14) -> 45000.4 | P15: =P14/5 -> 12531.988 | Q15: =316193-320000 -> -3807 | R15: =Q15/5 -> -761.4
A17: کل فروش اصفهان: | B17: =SUM(B7+B15) -> 859999.87 | C17: =C15+C7 -> 58147.64 | D17: =D15+D7 -> 70025.786 | E17: =E15+E7 -> 86993.382 | F17: =F15+F7 -> 72384.87 | G17: =G15+G7 -> 98289.35 | H17: =H15+H7 -> 99364.965 | I17: =I15+I7 -> 67132.1 | J17: =J15+J7 -> 53000.35 | ... N17: =N15+N7 -> 63660.38 | P17: =B14-100000 -> 0.255 | Q17: =P17/5 -> 0.051 | R17: =1200000*0.27 -> 324000
A19: سایت بندرعباس
A20: فله بندرعباس | B20: =SUM(C20:N20) -> 349999.94 | C20: 49090.661 | D20: 47545.63 | E20: 42148.284 | F20: 41133.442 | G20: 16752.968 | H20: 7080.551 | I20: =22868.3 -> 22868.3 | J20: =30849.7-5000-1000+150+8000 -> 32999.7 | K20: =30849.6-5000-1000+150-2000 -> 22999.6 | L20: =30849.6-5000-1000-850-2000 -> 21999.6 | M20: =30849.6-5000-1000-150-2000 -> 22699.6 | N20: =30849.6-5000-1000-150-18-2000 -> 22681.6 | P20: =850*5 -> 4250 | Q20: =807/5 -> 161.4
A21: جمع بندرعباس: | B21: =B20 -> 349999.94 | C21: =C20 -> 49090.661 | D21: =D20 -> 47545.63 | E21: =E20 -> 42148.284 | F21: =F20 -> 41133.442 | G21: =G20 -> 16752.968 | H21: =H20 -> 7080.551 | I21: =I20 -> 22868.3 | ... N21: =N20 -> 22681.6 | P21: =1040/5 -> 208 | Q21: =9865-10000 -> -135
A23: سایت چابهار
A24: فله چابهار | B24: =SUM(C24:N24) -> 60000 | C24: - | D24: - | E24: - | J24: 0 | K24: 15000 | L24: 15000 | M24: 15000 | N24: 15000 | Q24: =100/4 -> 25
A25: جمع چابهار: | B25: =SUM(C25:N25) -> 60000 | C25: =C24 -> - | D25: =D24 -> - | E25: =E24 -> - | F25: =F24 -> 0 | G25: =G24 -> 0 | H25: =H24 -> 0 | I25: =I24 -> 0 | J25: =J24 -> 0 | ... N25: =N24 -> 15000 | P25: =5000/5 -> 1000
A27: جمع فروش صادراتی: | B27: =SUM(B15+B21+B25) -> 899999.97 | C27: =C15+C21 -> 100185.34 | D27: =D15+D21 -> 104235.71 | E27: =E15+E21 -> 87340.676 | F27: =F15+F21+F25 -> 66042.902 | G27: =G15+G21+G25 -> 56948.518 | H27: =H15+H21+H25 -> 31864.326 | I27: =I15+I21+I25 -> 55000.4 | J27: =J15+J21+J25 -> 68000.1 | K27: =K15+K21+K25 -> 83000 | L27: =L15+L21+L25 -> 82000 | M27: =M15+M21+M25 -> 82700 | N27: =N15+N21+N25 -> 82682 | Q27: =868-150 -> 718
P28: =I29-90000 -> 0.4 | Q28: =317/2 -> 158.5
A29: جمع کل: | B29: =B27+B7 -> 1269999.8 | C29: =C21+C17 -> 107238.3 | D29: =D21+D17 -> 117571.42 | E29: =E21+E17 -> 129141.67 | F29: =F21+F17+F25 -> 113518.31 | G29: =G21+G17+G25 -> 115042.32 | H29: =H21+H17+H25 -> 106445.52 | I29: =I21+I17+I25 -> 90000.4 | J29: =J21+J17+J25 -> 86000.05 | K29: =K21+K17+K25 -> 100999.95 | L29: =L21+L17+L25 -> 100999.95 | M29: =M21+M17+M25 -> 101699.95 | N29: =N21+N17+N25 -> 101341.98 | P29: =5*208 -> 1040
A31: انبار به انبار از اصفهان به بندرعباس/چابهار | B31: 300000 | C31: 7500 | D31: 15000 | E31: 7500 | F31: 7500 | G31: 7500 | H31: 15000 | I31: 38571 | J31: 38571 | K31: 38571 | L31: 42858 | M31: 42858 | N31: 38571
A32: انبار به انبار از اصفهان به بندرعباس/چابهار | B32: =SUM(C32:N32) -> 289999.7 | C32: 36301.1 | D32: 37153.4 | E32: 33478.6 | F32: 33715.3 | G32: 11253 | H32: 3624.5 | I32: =I20-' تولید '!I22-1292+39.33 -> 10906.2 | J32: =J20-' تولید '!J22-1294-6000+39.33 -> 15035.6 | K32: =K24+K20-' تولید '!K22-1292+1500+39.33 -> 27537.5 | L32: =L24+L20-' تولید '!L22-1292+1500+39.33 -> 26537.5 | M32: =M24+M20-' تولید '!M22-1292+1500+39.33 -> 27237.5 | N32: =N24+N20-' تولید '!N22-1292+1500+39.33 -> 27219.5

Sheet  تولید 
A2: برنامه تولید سال 1403 شرکت پالایش نفت جی
N3: مقادیر به تن می باشد.
A4: شرح | C4: فروردین | D4: اردیبهشت | E4: خرداد | F4: تیر | G4: مرداد | H4: شهریور | I4: مهر | J4: آبان | K4: آذر | L4: دی | M4: بهمن | N4: اسفند | O4: جمع
A5: الف- تولید اصفهان
A6: محصول | B6: فله | C6: =79007-C7-C8-C9 -> 66603 | D6: =100236-D7-D8-D9 -> 90129 | E6: =105337-E7-E8-E9 -> 96946.05 | F6: =108802-F7-F8-F9 -> 102584 | G6: =97414-G7-G8-G9 -> 89955 | H6: =107058-H7-H8-H9 -> 107058 | I6: ='مقدار فروش '!I4+'مقدار فروش '!I13+'مقدار فروش '!I32 -> 69800.4 | J6: ='مقدار فروش '!J4+'مقدار فروش '!J13+'مقدار فروش '!J32 -> 57594.6 | K6: ='مقدار فروش '!K4+'مقدار فروش '!K13+'مقدار فروش '!K32 -> 80096.5 | L6: ='مقدار فروش '!L4+'مقدار فروش '!L13+'مقدار فروش '!L32 -> 80072 | M6: ='مقدار فروش '!M4+'مقدار فروش '!M13+'مقدار فروش '!M32 -> 80772 | N6: ='مقدار فروش '!N4+'مقدار فروش '!N13+'مقدار فروش '!N32 -> 80422.25 | O6: =SUM(C6:N6) -> 1002032.8 | S6: 800 | U6: 49468.75 | V6: 49468.75 | W6: 39950 | X6: 40075 | Y6: 40075 | Z6: 49475 | AA6: 57337.5 | AB6: 57356.25 | AC6: 98112.5 | AD6: 100112.5 | AE6: 100106.25 | AF6: 59462.5
B7: بشکه | C7: 11693 | D7: 10089 | E7: 7313 | F7: 6218 | G7: 7378 | H7: 0 | I7: ='مقدار فروش '!I14 -> 7325.1 | J7: ='مقدار فروش '!J14 -> 10000.4 | K7: ='مقدار فروش '!K14 -> 10000.4 | L7: ='مقدار فروش '!L14 -> 10000.4 | M7: ='مقدار فروش '!M14 -> 10000.4 | N7: ='مقدار فروش '!N14 -> 10000.4 | O7: =SUM(C7:N7) -> 100018.1 | U7: =U6+S6 -> 50268.75 | V7: =V6+S6 -> 50268.75 | W7: =W6+S6 -> 40750 | X7: =X6+S6 -> 40875 | Y7: =Y6+S6 -> 40875 | Z7: =Z6+S6 -> 50275 | AA7: =AA6+S6 -> 58137.5 | AB7: =AB6+S6 -> 58156.25 | AC7: =AC6+S6 -> 98912.5 | AD7: =AD6+S6 -> 100912.5 | AE7: =AE6+S6 -> 100906.25 | AF7: =AF6+S6 -> 60262.5
B8: قیر محلول (MC) | C8: 711 | D8: 18 | E8: 1042 | F8: 0 | G8: 2 | H8: 0 | I8: ='مقدار فروش '!I5 -> 789.6 | J8: ='مقدار فروش '!J5 -> 381.49 | K8: ='مقدار فروش '!K5 -> 381.49 | L8: ='مقدار فروش '!L5 -> 402.7 | M8: ='مقدار فروش '!M5 -> 402.7 | N8: ='مقدار فروش '!N5 -> 395.6 | O8: =SUM(C8:N8) -> 4526.58
B9: قیر امولسیون | C9: 0 | D9: ='مقدار فروش '!D6 -> 0 | E9: ='مقدار فروش '!E6 -> 35.95 | F9: ='مقدار فروش '!F6 -> 0 | G9: 79 | H9: 0 | I9: ='مقدار فروش '!I6 -> 123.2 | J9: ='مقدار فروش '!J6 -> 59.46 | K9: ='مقدار فروش '!K6 -> 59.46 | L9: ='مقدار فروش '!L6 -> 62.75 | M9: ='مقدار فروش '!M6 -> 62.75 | N9: ='مقدار فروش '!N6 -> 61.63 | O9: =SUM(C9:N9) -> 544.2
B10: مجموع تولید اصفهان: | C10: =C6+C7+C8+C9 -> 79007 | D10: =D6+D7+D8+D9 -> 100236 | E10: =E6+E7+E8+E9 -> 105337 | F10: =F6+F7+F8+F9 -> 108802 | G10: =G6+G7+G8+G9 -> 97414 | H10: =H6+H7+H8+H9 -> 107058 | I10: =I6+I7+I8+I9 -> 78038.3 | J10: =J6+J7+J8+J9 -> 68035.95 | ... N10: =N6+N7+N8+N9 -> 90879.88 | O10: =SUM(C10:N10) -> 1107121.7
A11: مواد اولیه اصفهان | B11: وکیوم باتوم ( اصفهان) | C11: =((SUM(C6:C7)*$T$65/0.99)+(C8*$T$67/0.99)+(C9*$T$68/0.99)) -> 79618.323 | D11: =((SUM(D6:D7)*$T$65/0.99)+(D8*$T$67/0.99)+(D9*$T$68/0.99)) -> 101243.76 | E11: =((SUM(E6:E7)*$T$65/0.99)+(E8*$T$67/0.99)+(E9*$T$68/0.99)) -> 106114.28 | F11: =((SUM(F6:F7)*$T$65/0.99)+(F8*$T$67/0.99)+(F9*$T$68/0.99)) -> 109901.01 | G11: =((SUM(G6:G7)*$T$65/0.99)+(G8*$T$67/0.99)+(G9*$T$68/0.99)) -> 98368.727 | H11: =((SUM(H6:H7)*$T$65/0.99)+(H8*$T$67/0.99)+(H9*$T$68/0.99)) -> 108139.39 | I11: =((SUM(I6:I7)*$T$65/0.99)+(I8*$T$67/0.99)+(I9*$T$68/0.99)) -> 78574.396 | J11: =((SUM(J6:J7)*$T$65/0.99)+(J8*$T$67/0.99)+(J9*$T$68/0.99)) -> 68601.371 | ... N11: =((SUM(N6:N7)*$T$65/0.99)+(N8*$T$67/0.99)+(N9*$T$68/0.99)) -> 91671.553 | O11: =SUM(C11:N11) -> 1116918
B12: هدر رفتگی | C12: =-(C11)*0.01 -> -796.18323 | D12: =-(D11)*0.01 -> -1012.4376 | E12: =-(E11)*0.01 -> -1061.1428 | F12: =-(F11)*0.01 -> -1099.0101 | G12: =-(G11)*0.01 -> -983.68727 | H12: =-(H11)*0.01 -> -1081.3939 | I12: =-(I11)*0.01 -> -785.74396 | J12: =-(J11)*0.01 -> -686.01371 | ... N12: =-(N11)*0.01 -> -916.71553 | O12: =SUM(C12:N12) -> -11169.18
B13: نفت سفید | C13: =((C8*$U$67)+(C9*$U$68)) -> 184.86 | D13: =((D8*$U$67)+(D9*$U$68)) -> 4.68 | E13: =((E8*$U$67)+(E9*$U$68)) -> 271.9985 | F13: =((F8*$U$67)+(F9*$U$68)) -> 0 | G13: =((G8*$U$67)+(G9*$U$68)) -> 2.89 | H13: =((H8*$U$67)+(H9*$U$68)) -> 0 | I13: =((I8*$U$67)+(I9*$U$68)) -> 208.992 | J13: =((J8*$U$67)+(J9*$U$68)) -> 100.9712 | ... N13: =((N8*$U$67)+(N9*$U$68)) -> 104.7049 | O13: =SUM(C13:N13) -> 1193.2368
B14: اسید | C14: =C9*$V$68 -> 0 | D14: =D9*$V$68 -> 0 | E14: =E9*$V$68 -> 0.03595 | F14: =F9*$V$68 -> 0 | G14: =G9*$V$68 -> 0.079 | H14: =H9*$V$68 -> 0 | I14: =I9*$V$68 -> 0.1232 | J14: =J9*$V$68 -> 0.05946 | ... N14: =N9*$V$68 -> 0.06163 | O14: =SUM(C14:N14) -> 0.5442
B15: پایدار کننده | C15: =C9*$X$68 -> 0 | D15: =D9*$X$68 -> 0 | E15: =E9*$X$68 -> 0.10785 | F15: =F9*$X$68 -> 0 | G15: =G9*$X$68 -> 0.237 | H15: =H9*$X$68 -> 0 | I15: =I9*$X$68 -> 0.3696 | J15: =J9*$X$68 -> 0.17838 | ... N15: =N9*$X$68 -> 0.18489 | O15: =SUM(C15:N15) -> 1.6326
B16: آب | C16: =C9*$Y$68 -> 0 | D16: =D9*$Y$68 -> 0 | E16: =E9*$Y$68 -> 11.61185 | F16: =F9*$Y$68 -> 0 | G16: =G9*$Y$68 -> 25.517 | H16: =H9*$Y$68 -> 0 | I16: =I9*$Y$68 -> 39.7936 | J16: =J9*$Y$68 -> 19.20558 | ... N16: =N9*$Y$68 -> 19.90649 | O16: =SUM(C16:N16) -> 175.7766
B17: امولسيفاير | C17: =C9*$W$68 -> 0 | D17: =D9*$W$68 -> 0 | E17: =E9*$W$68 -> 0.10785 | F17: =F9*$W$68 -> 0 | G17: =G9*$W$68 -> 0.237 | H17: =H9*$W$68 -> 0 | I17: =I9*$W$68 -> 0.3696 | J17: =J9*$W$68 -> 0.17838 | ... N17: =N9*$W$68 -> 0.18489 | O17: =SUM(C17:N17) -> 1.6326
B18: ورق | C18: =(C7/180)*11 -> 714.57222 | D18: =(D7/180)*11 -> 616.55 | E18: =(E7/180)*11 -> 446.90556 | F18: =(F7/180)*11 -> 379.98889 | G18: =(G7/180)*11 -> 450.87778 | H18: =(H7/180)*11 -> 0 | I18: =(I7/180)*11 -> 447.645 | J18: =(J7/180)*11 -> 611.13556 | ... N18: =(N7/180)*11 -> 611.13556 | O18: =SUM(C18:N18) -> 6112.2172
B19: مجموع مواد اولیه مورد نیاز تولید اصفهان: | C19: =C11-C12+C13+C14+C15+C16+C17 -> 80599.366 | D19: =D11-D12+D13+D14+D15+D16+D17 -> 102260.88 | E19: =E11-E12+E13+E14+E15+E16+E17 -> 107459.29 | F19: =F11-F12+F13+F14+F15+F16+F17 -> 111000.02 | G19: =G11-G12+G13+G14+G15+G16+G17 -> 99381.375 | H19: =H11-H12+H13+H14+H15+H16+H17 -> 109220.79 | I19: =I11-I12+I13+I14+I15+I16+I17 -> 79609.788 | J19: =J11-J12+J13+J14+J15+J16+J17 -> 69407.977 | ... O19: =O11-O12+O13+O14+O15+O16+O17 -> 1129460
A21: ب- تولید بندرعباس
A22: محصول | B22: فله | C22: 7998 | D22: 11341 | E22: 9232 | F22: =11172+10000 -> 21172 | G22: =9000+20000 -> 29000 | H22: =7236+19764 -> 27000 | I22: =10670.1+39.33 -> 10709.43 | J22: =10670.1+39.33 -> 10709.43 | K22: =10670.1+39.33 -> 10709.43 | L22: =10670.1+39.33 -> 10709.43 | M22: =10670.1+39.33 -> 10709.43 | N22: =10670.1+39.33 -> 10709.43 | O22: =SUM(C22:N22) -> 169999.58
B23: قیر 60/70 فله | O23: =SUM(C23:N23) -> 0
B24: 40/50 | O24: =SUM(C24:N24) -> 0
B25: ac30 | O25: =SUM(C25:N25) -> 0
B26: ac40 | O26: =SUM(C26:N26) -> 0
B27: vg40 فله | O27: =SUM(C27:N27) -> 0
B28: جمع تولید بندرعباس: | C28: =C22 -> 7998 | D28: =D22 -> 11341 | E28: =E22 -> 9232 | F28: =F22 -> 21172 | G28: =G22 -> 29000 | H28: =H22 -> 27000 | I28: =I22 -> 10709.43 | J28: =J22 -> 10709.43 | ... N28: =N22 -> 10709.43 | O28: =SUM(C28:N28) -> 169999.58
A29: تولید اسکله شهید رجایی:
A30: محصول | B30: فله | C30: 0 | D30: 0 | E30: 0 | F30: 0 | G30: 0 | H30: 0 | I30: 0 | J30: 0 | K30: 0 | L30: 0 | M30: 0 | N30: 0 | O30: =SUM(C30:N30) -> 0
B31: جمع تولید اسکله شهید رجایی: | C31: =C30 -> 0 | D31: =D30 -> 0 | E31: =E30 -> 0 | F31: =F30 -> 0 | G31: =G30 -> 0 | H31: =H30 -> 0 | I31: =I30 -> 0 | J31: =J30 -> 0 | ... O31: =O30 -> 0
A32: مواد اولیه بندرعباس | B32: دریافت از انبار به انبار (اصفهان ) | C32: ='مقدار فروش '!C32-0 -> 36301.1 | D32: ='مقدار فروش '!D32-0 -> 37153.4 | E32: ='مقدار فروش '!E32-0 -> 33478.6 | F32: ='مقدار فروش '!F32-F45 -> 33715.3 | G32: ='مقدار فروش '!G32-G45 -> 11253 | H32: ='مقدار فروش '!H32-H45 -> 3624.5 | I32: ='مقدار فروش '!I32-I45 -> 10906.2 | J32: ='مقدار فروش '!J32-J45 -> 15035.6 | K32: ='مقدار فروش '!K32-K45 -> 12537.5 | L32: ='مقدار فروش '!L32-L45 -> 11537.5 | M32: ='مقدار فروش '!M32-M45 -> 12237.5 | N32: ='مقدار فروش '!N32-N45 -> 12219.5 | O32: =SUM(C32:N32) -> 229999.7
B33: وکیوم | C33: 0 | D33: 0 | E33: 0 | F33: 0 | G33: 0 | H33: 0 | I33: 0 | J33: 0 | K33: 0 | L33: 0 | M33: 0 | N33: 0 | O33: =SUM(C33:N33) -> 0
B34: مجموع مواد اولیه مورد نیاز تولید اسکله شهید رجایی: | C34: =C33 -> 0 | D34: =D33 -> 0 | E34: =E33 -> 0 | F34: =F33 -> 0 | G34: =G33 -> 0 | H34: =H33 -> 0 | I34: =I33 -> 0 | J34: =J33 -> 0 | ... N34: =N33 -> 0 | O34: =SUM(C34:N34) -> 0
A35: تولید پلنت منطقه ویژه:
A36: محصول | B36: فله | C36: =C22 -> 7998 | D36: =D22 -> 11341 | E36: =E22 -> 9232 | F36: =F22 -> 21172 | G36: =G22 -> 29000 | H36: =H22 -> 27000 | I36: =I22 -> 10709.43 | J36: =J22 -> 10709.43 | ... N36: =N22 -> 10709.43 | O36: =SUM(C36:N36) -> 169999.58
B37: جمع تولید پلنت منطقه ویژه: | C37: =C36 -> 7998 | D37: =D36 -> 11341 | E37: =E36 -> 9232 | F37: =F36 -> 21172 | G37: =G36 -> 29000 | H37: =H36 -> 27000 | I37: =I36 -> 10709.43 | J37: =J36 -> 10709.43 | ... N37: =N36 -> 10709.43 | O37: =SUM(C37:N37) -> 169999.58
A38: مواد اولیه بندرعباس | B38: وکیوم پالایشگاه بندرعباس/سایر پالایشگاه ها | C38: =(C36/0.995) -> 8038.191 | D38: =(D36/0.995) -> 11397.99 | E38: =(E36/0.995) -> 9278.392 | F38: =(F36/0.995) -> 21278.392 | G38: =(G36/0.995) -> 29145.729 | H38: =(H36/0.995) -> 27135.678 | I38: =(I36/0.995) -> 10763.246 | J38: =(J36/0.995) -> 10763.246 | ... N38: =(N36/0.995) -> 10763.246 | O38: =SUM(C38:N38) -> 170853.85
B39: slops | C39: 0 | D39: 0 | E39: 0 | F39: 0 | G39: 0 | H39: 0 | I39: 0 | J39: 0 | K39: 0 | L39: 0 | M39: 0 | N39: 0 | O39: =SUM(C39:N39) -> 0
B40: مجموع مواد اولیه مورد نیاز تولید پلنت منطقه ویژه: | C40: =SUM(C38) -> 8038.191 | D40: =SUM(D38) -> 11397.99 | E40: =SUM(E38) -> 9278.392 | F40: =SUM(F38) -> 21278.392 | G40: =G38+G39 -> 29145.729 | H40: =SUM(H38) -> 27135.678 | I40: =SUM(I38) -> 10763.246 | J40: =SUM(J38) -> 10763.246 | K40: =SUM(K38) -> 10763.246 | L40: =SUM(L38) -> 10763.246 | M40: =SUM(M38) -> 10763.246 | N40: =SUM(N38) -> 10763.246 | O40: =SUM(C40:N40) -> 170853.85
A42: پ- چابهار
A43: محصول | B43: فله | C43: ='مقدار فروش '!C24 -> - | D43: ='مقدار فروش '!D24 -> - | E43: ='مقدار فروش '!E24 -> - | F43: ='مقدار فروش '!F24 -> 0 | G43: ='مقدار فروش '!G24 -> 0 | H43: ='مقدار فروش '!H24 -> 0 | I43: ='مقدار فروش '!I24 -> 0 | J43: ='مقدار فروش '!J24 -> 0 | ... N43: ='مقدار فروش '!N24 -> 15000 | O43: =SUM(C43:N43) -> 60000
B44: جمع چابهار: | C44: =C43 -> - | D44: =D43 -> - | E44: =E43 -> - | F44: =F43 -> 0 | G44: =G43 -> 0 | H44: =H43 -> 0 | I44: =I43 -> 0 | J44: =J43 -> 0 | ... N44: =N43 -> 15000 | O44: =SUM(C44:N44) -> 60000
A45: مواد اولیه چابهار | B45: دریافت از انبار به انبار (اصفهان ) | C45: =C43 -> - | D45: =D43 -> - | E45: =E43 -> - | F45: =F43 -> 0 | G45: =G43 -> 0 | H45: =H43 -> 0 | I45: =I43 -> 0 | J45: =J43 -> 0 | ... N45: =N43 -> 15000 | O45: =SUM(C45:N45) -> 60000
B46: وکیوم | C46: 0 | D46: 0 | E46: 0 | F46: 0 | G46: 0 | H46: 0 | I46: 0 | J46: 0 | K46: 0 | L46: 0 | M46: 0 | N46: 0 | O46: =SUM(C46:N46) -> 0
B47: مجموع مواد اولیه مورد نیاز چابهار: | C47: =C46 -> 0 | D47: =D46 -> 0 | E47: =E46 -> 0 | F47: =F46 -> 0 | G47: =G46 -> 0 | H47: =H46 -> 0 | I47: =I46 -> 0 | J47: =J46 -> 0 | ... N47: =N46 -> 0 | O47: =SUM(C47:N47) -> 0
A48: کل تولید 1403: | C48: =C28+C10 -> 87005 | D48: =D28+D10 -> 111577 | E48: =E28+E10 -> 114569 | F48: =F28+F10 -> 129974 | G48: =G28+G10 -> 126414 | H48: =H28+H10 -> 134058 | I48: =I28+I10 -> 88747.73 | J48: =J28+J10 -> 78745.38 | ... N48: =N28+N10 -> 101589.31 | O48: =SUM(C48:N48) -> 1277121.3
A50: کل مواد اولیه مورد نیاز | B50: وکیوم باتوم اصفهان | C50: =C11 -> 79618.323 | D50: =D11 -> 101243.76 | E50: =E11 -> 106114.28 | F50: =F11 -> 109901.01 | G50: =G11 -> 98368.727 | H50: =H11 -> 108139.39 | I50: =I11 -> 78574.396 | J50: =J11 -> 68601.371 | ... N50: =N11 -> 91671.553 | O50: =SUM(C50:N50) -> 1116918
B51: وكيوم باتوم بندرعباس | C51: =C38 -> 8038.191 | D51: =D38 -> 11397.99 | E51: =E38 -> 9278.392 | F51: =F38 -> 21278.392 | G51: =G38 -> 29145.729 | H51: =H38 -> 27135.678 | I51: =I38 -> 10763.246 | J51: =J38 -> 10763.246 | ... N51: =N38 -> 10763.246 | O51: =SUM(C51:N51) -> 170853.85
B52: مجموع نفت سفید مورد نیاز | C52: =C13 -> 184.86 | D52: =D13 -> 4.68 | E52: =E13 -> 271.9985 | F52: =F13 -> 0 | G52: =G13 -> 2.89 | H52: =H13 -> 0 | I52: =I13 -> 208.992 | J52: =J13 -> 100.9712 | ... N52: =N13 -> 104.7049 | O52: =SUM(C52:N52) -> 1193.2368
B53: مجموع اسید مورد نیاز | C53: =C14 -> 0 | D53: =D14 -> 0 | E53: =E14 -> 0.03595 | F53: =F14 -> 0 | G53: =G14 -> 0.079 | H53: =H14 -> 0 | I53: =I14 -> 0.1232 | J53: =J14 -> 0.05946 | ... N53: =N14 -> 0.06163 | O53: =SUM(C53:N53) -> 0.5442
B54: مجموع حلال مورد نیاز | C54: =C15 -> 0 | D54: =D15 -> 0 | E54: =E15 -> 0.10785 | F54: =F15 -> 0 | G54: =G15 -> 0.237 | H54: =H15 -> 0 | I54: =I15 -> 0.3696 | J54: =J15 -> 0.17838 | ... N54: =N15 -> 0.18489 | O54: =SUM(C54:N54) -> 1.6326
B55: مجموع امولسيفاير مورد نیاز | C55: =C17 -> 0 | D55: =D17 -> 0 | E55: =E17 -> 0.10785 | F55: =F17 -> 0 | G55: =G17 -> 0.237 | H55: =H17 -> 0 | I55: =I17 -> 0.3696 | J55: =J17 -> 0.17838 | ... N55: =N17 -> 0.18489 | O55: =SUM(C55:N55) -> 1.6326
B56: آب | C56: =C16 -> 0 | D56: =D16 -> 0 | E56: =E16 -> 11.61185 | F56: =F16 -> 0 | G56: =G16 -> 25.517 | H56: =H16 -> 0 | I56: =I16 -> 39.7936 | J56: =J16 -> 19.20558 | ... N56: =N16 -> 19.90649 | O56: =SUM(C56:N56) -> 175.7766
B57: ورق | C57: =C18 -> 714.57222 | D57: =D18 -> 616.55 | E57: =E18 -> 446.90556 | F57: =F18 -> 379.98889 | G57: =G18 -> 450.87778 | H57: =H18 -> 0 | I57: =I18 -> 447.645 | J57: =J18 -> 611.13556 | ... N57: =N18 -> 611.13556 | O57: =SUM(C57:N57) -> 6112.2172
B58: مجموع مواد اولیه مورد نیاز: | C58: =SUM(C50:C56) -> 87841.374 | D58: =SUM(D50:D56) -> 112646.43 | E58: =SUM(E50:E56) -> 115676.53 | F58: =SUM(F50:F56) -> 131179.4 | G58: =SUM(G50:G56) -> 127543.42 | H58: =SUM(H50:H56) -> 135275.07 | I58: =SUM(I50:I56) -> 89587.29 | J58: =SUM(J50:J56) -> 79485.21 | ... N58: =SUM(N50:N56) -> 102559.84 | O58: =SUM(C58:N58) -> 1289144.7
A60: انبار به انبار از سایت اصفهان به سایت های بندرعباس/ چابهار | C60: ='مقدار فروش '!C32 -> 36301.1 | D60: ='مقدار فروش '!D32 -> 37153.4 | E60: ='مقدار فروش '!E32 -> 33478.6 | F60: ='مقدار فروش '!F32 -> 33715.3 | G60: ='مقدار فروش '!G32 -> 11253 | H60: ='مقدار فروش '!H32 -> 3624.5 | I60: ='مقدار فروش '!I32 -> 10906.2 | J60: ='مقدار فروش '!J32 -> 15035.6 | ... N60: ='مقدار فروش '!N32 -> 27219.5 | O60: =SUM(C60:N60) -> 289999.7
R62: نسبت اختلاط مواد اولیه
R63: تولید اصفهان | S63: نوع محصول | T63: وکیوم باتوم اصفهان | U63: نفت سفيد | V63: اسید | W63: امولسيفاير | X63: پایدار کننده | Y63: آب
Y64: آب
S65: قیر 60/70 | T65: 1 | U65: 0 | V65: 0 | W65: 0 | X65: 0
S66: 85/100 | T66: 1 | U66: 0 | V66: 0 | W66: 0 | X66: 0
S67: قیر mc/250 | T67: 0.74 | U67: 0.26 | V67: 0 | W67: 0 | X67: 0
S68: قیر امولسیون | T68: 0.64 | U68: 0.03 | V68: 0.001 | W68: 0.003 | X68: 0.003 | Y68: 0.323
S69: انواع قیر های PG | T69: 1 | U69: 0 | V69: 0 | W69: 0 | X69: 0
C70: =C50+C51+#REF!+#REF!+#REF!+#REF!+#REF!+#REF! -> #REF! | D70: =D50+D51+#REF!+#REF!+#REF!+#REF!+#REF!+#REF! -> #REF! | E70: =E50+E51+#REF!+#REF!+#REF!+#REF!+#REF!+#REF! -> #REF! | F70: =F50+F51+#REF!+#REF!+#REF!+#REF!+#REF!+#REF! -> #REF! | G70: =G50+G51+#REF!+#REF!+#REF!+#REF!+#REF!+#REF! -> #REF! | H70: =H50+H51+#REF!+#REF!+#REF!+#REF!+#REF!+#REF! -> #REF! | I70: =I50+I51+#REF!+#REF!+#REF!+#REF!+#REF!+#REF! -> #REF! | J70: =J50+J51+#REF!+#REF!+#REF!+#REF!+#REF!+#REF! -> #REF! | ... O70: =O50+O51+#REF!+#REF!+#REF!+#REF!+#REF!+#REF! -> #REF! | S70: vg30 | T70: 1 | U70: 0 | V70: 0 | W70: 0 | X70: 0
S71: vg40 | T71: 1 | U71: 0 | V71: 0 | W71: 0 | X71: 0
C72: 410 | D72: 2352 | E72: 966 | F72: 242 | G72: 475 | H72: 75 | I72: 881.56425 | J72: 1116.648 | K72: 1116.648 | L72: 1116.648 | M72: 1116.648 | N72: 881.56425 | O72: 10749.721 | S72: vg10 | T72: 1 | U72: 0 | V72: 0 | W72: 0 | X72: 0
S75: نوع محصول | T75: وکیوم بندر | U75: slops | V75: وکیوم آبادان | W75: وکیوم شیراز | X75: وکیوم تهران | Y75: وکیوم اراک | Z75: وکیوم تبریز | AB75: تار ایرانول | AC75: وکیوم آبادان | AD75: وکیوم شیراز | AE75: وکیوم تهران | AF75: وکیوم تبریز
R76: بندرعباس | S76: 60/70 | T76: 0.92 | U76: 0.08 | AB76: 0.64
T77: 0.7 | V77: 0.3 | AB77: 0.6 | AE77: 0.4
T78: 0.73 | X78: 0.27 | AB78: 0.57 | AC78: 0.43
T79: 0.54 | W79: 0.46 | AB79: 0.46 | AD79: 0.54
T80: 0.76 | Z80: 0.24 | AB80: 0.64 | AF80: 0.36
T81: 0.76 | Y81: 0.24
S83: VG30 | T83: 0.96 | U83: 0.04 | AB83: 0.6
T84: 0.89 | Y84: 0.11 | AB84: 0.57 | AE84: 0.43
T85: 0.88 | X85: 0.12 | AB85: 0.54 | AC85: 0.46
T86: 0.86 | V86: 0.14 | AB86: 0.42 | AD86: 0.58
T87: 0.79 | W87: 0.21 | AB87: 0.6 | AF87: 0.4
T88: 0.89 | Z88: 0.11
S90: vg40 | T90: 0.99 | U90: 0.01 | AB90: 0.66
T91: 0.96 | Y91: 0.04 | AB91: 0.62 | AE91: 0.38
T92: 0.93 | X92: 0.07 | AB92: 0.59 | AC92: 0.41
T93: 0.95 | V93: 0.05 | AB93: 0.48 | AD93: 0.52
T94: 0.93 | W94: 0.07 | AB94: 0.65 | AF94: 0.35
T95: 0.96 | Z95: 0.04
R97: 60/70 | S97: وکیوم بندر/تار | T97: سلاپس/ وکیوم | W97: VG40 | X97: وکیوم بندر/تار | Y97: سلاپس/ وکیوم
R98: وکیوم بندربا سلاپس | S98: 0.92 | T98: 0.08 | U98: =T98+S98 -> 1 | W98: وکیوم بندربا سلاپس | X98: 0.98 | Y98: 0.02 | Z98: =Y98+X98 -> 1
R99: وکیوم بندر با سایر وکیومها | S99: =AVERAGE(T77:T81) -> 0.698 | T99: 0.3 | U99: =T99+S99 -> 0.998 | W99: وکیوم بندر با سایر وکیومها | X99: 0.95 | Y99: 0.05 | Z99: =Y99+X99 -> 1
R100: تار با وکیوم سایر پالایشگا ها | S100: 0.58 | T100: 0.42 | U100: =T100+S100 -> 1 | W100: تار با وکیوم سایر پالایشگا ها | X100: 0.6 | Y100: 0.4 | Z100: =Y100+X100 -> 1
R102: VG30 | S102: وکیوم بندر/تار | T102: سلاپس/ وکیوم
R103: وکیوم بندربا سلاپس | S103: 0.94 | T103: 0.06 | U103: =T103+S103 -> 1 | X103: =Y103/$Y$106 -> 0.61111111 | Y103: 146666.67 | Z103: از طریق سلاپس
R104: وکیوم بندر با سایر وکیومها | S104: 0.86 | T104: 0.14 | U104: =T104+S104 -> 1 | X104: =Y104/$Y$106 -> 0.33333333 | Y104: 80000 | Z104: از طریق سایر پالایشگاه ها
R105: تار با وکیوم سایر پالایشگا ها | S105: 0.55 | T105: 0.45 | U105: =T105+S105 -> 1 | X105: =Y105/$Y$106 -> 0.055555556 | Y105: 13333.333 | Z105: از طریق تار
Y106: =SUM(Y103:Y105) -> 240000 | Z106: تمامی محصولات بندربعاس

Sheet ضایعات
A1: نرخ فروش ضایعات سال 1403 شرکت پالایش نفت جی
A2: شرح
B3: مقدار | C3: نرخ فروش | D3: مبلغ
B4: (کیلوگرم) | C4: (ریال) | D4: (ریال)
A5: ضایعات ورق | B5: 700000 | C5: 15300 | D5: =C5*B5 -> 10710000000
D6: =SUM(D5:D5) -> 10710000000

Sheet تولید
A2: برنامه تولید سال 1401 شرکت پالایش نفت جی
N3: مقادیر به تن می باشد.
A4: شرح | C4: فروردین | D4: اردیبهشت | E4: خرداد | F4: تیر | G4: مرداد | H4: شهریور | I4: مهر | J4: آبان | K4: آذر | L4: دی | M4: بهمن | N4: اسفند | O4: جمع
A5: الف- تولید اصفهان
A6: محصول | B6: قیر 60/70 فله | C6: 43808 | D6: 27177 | E6: 16903 | F6: 17581 | G6: 32157 | H6: 27107 | I6: =22000+I22 -> 36000 | J6: =22000+J22 -> 38000 | K6: =22000+K22 -> 38000 | L6: =22000+L22 -> 38000 | M6: =22000+M22 -> 38000 | N6: =22000+N22 -> 36682 | O6: =SUM(C6:N6) -> 389415
B7: قیر 85/100 فله | C7: 3834 | F7: 144 | G7: 7772 | I7: 7250 | J7: 8350 | K7: 9450 | L7: 8950 | M7: 8250 | N7: 6250 | O7: =SUM(C7:N7) -> 60250
B8: قیر mc/250 فله | C8: 654 | D8: 782 | E8: 845 | F8: 2496 | G8: 139 | H8: 1874 | I8: 500 | J8: 300 | K8: 300 | L8: 600 | M8: 400 | N8: 400 | O8: =SUM(C8:N8) -> 9290
B9: قیر امولسیون فله | C9: 107 | D9: 47 | E9: 225 | F9: 130 | G9: 145 | H9: 319 | I9: 50 | J9: 50 | K9: 50 | L9: 50 | M9: 50 | N9: 50 | O9: =SUM(C9:N9) -> 1273
B10: انواع قیر های PG فله | C10: 14314 | D10: 14548 | E10: 22551 | F10: 40095 | G10: 21830 | H10: 22899 | I10: 23890 | J10: 24000 | K10: 26000 | L10: 19000 | M10: 20000 | N10: 19000 | O10: =SUM(C10:N10) -> 268127
B11: vg30 فله | O11: =SUM(C11:N11) -> 0
B12: 40/50 | C12: 5465 | D12: 4515 | E12: 19878 | G12: 3158 | H12: 1612 | I12: 200 | J12: 300 | K12: 200 | L12: 400 | M12: 300 | N12: 300 | O12: =SUM(C12:N12) -> 36328
B13: vg40 فله | H13: 3301 | O13: =SUM(C13:N13) -> 3301
B14: vg10 فله | H14: 1425 | O14: =SUM(C14:N14) -> 1425
B15: 60/70 بشکه | C15: 2948 | D15: 5012 | E15: 4231 | F15: 5364 | G15: 8239 | H15: 10143 | I15: 9000 | J15: 12000 | K15: 12000 | L15: 12000 | M15: 12000 | N15: 9000 | O15: =SUM(C15:N15) -> 101937
B16: 85/100 بشکه | C16: 7684 | D16: 4106 | E16: 3627 | F16: 4640 | G16: 5702 | H16: 11150 | I16: 6000 | J16: 7000 | K16: 7000 | L16: 7000 | M16: 7000 | N16: 6000 | O16: =SUM(C16:N16) -> 76909
B17: 60/70 کیسه | C17: 136 | F17: 411 | H17: 265 | O17: =SUM(C17:N17) -> 812
B18: vg30 بشکه | C18: 2964 | O18: =SUM(C18:N18) -> 2964
B19: vg40 بشکه | O19: =SUM(C19:N19) -> 0
B20: vg10 بشکه | O20: =SUM(C20:N20) -> 0
B21: جهت انبار به انبار به شیمی تجارت و مظروف | O21: =SUM(C21:N21) -> 0
B22: جهت انبار به انبار از اصفهان به بندرعباس | C22: 9649 | D22: 7068 | E22: 23547 | F22: 1092 | G22: 5801 | H22: 15161 | I22: 14000 | J22: 16000 | K22: 16000 | L22: 16000 | M22: 16000 | N22: 14682 | O22: =SUM(C22:N22) -> 155000
B23: مجموع تولید اصفهان | C23: =SUM(C6:C21) -> 81914 | D23: =SUM(D6:D21) -> 56187 | E23: =SUM(E6:E21) -> 68260 | F23: =SUM(F6:F21) -> 70861 | G23: =SUM(G6:G21) -> 79142 | H23: =SUM(H6:H21) -> 80095 | I23: =SUM(I6:I21) -> 82890 | J23: =SUM(J6:J21) -> 90000 | ... N23: =SUM(N6:N21) -> 77682 | O23: =SUM(C23:N23) -> 952031
A24: مواد اولیه اصفهان | B24: وکیوم با توم ( اصفهان) | C24: 81510 | D24: 55803 | E24: 67637 | F24: 70117 | G24: 78799 | H24: 77656 | I24: =((((I8/0.74)+(I9/0.63))/0.99)+(I6+I7+I10+I11+I12+I13+I14+I15+I16+I17+I18+I19+I20+I21)/0.99) -> 83934.385 | J24: =((((J8/0.74)+(J9/0.63))/0.99)+(J6+J7+J10+J11+J12+J13+J14+J15+J16+J17+J18+J19+J20+J21)/0.99) -> 91045.223 | K24: =((((K8/0.74)+(K9/0.63))/0.99)+(K6+K7+K10+K11+K12+K13+K14+K15+K16+K17+K18+K19+K20+K21)/0.99) -> 94075.526 | L24: =((((L8/0.74)+(L9/0.63))/0.99)+(L6+L7+L10+L11+L12+L13+L14+L15+L16+L17+L18+L19+L20+L21)/0.99) -> 87111.289 | M24: =((((M8/0.74)+(M9/0.63))/0.99)+(M6+M7+M10+M11+M12+M13+M14+M15+M16+M17+M18+M19+M20+M21)/0.99) -> 87040.309 | N24: =((((N8/0.74)+(N9/0.63))/0.99)+(N6+N7+N10+N11+N12+N13+N14+N15+N16+N17+N18+N19+N20+N21)/0.99) -> 78638.289 | O24: =SUM(C24:N24) -> 953367.02
B25: هدر رفتگی | C25: =-(C24)*0.01 -> -815.1 | D25: =-(D24)*0.01 -> -558.03 | E25: =-(E24)*0.01 -> -676.37 | F25: =-(F24)*0.01 -> -701.17 | G25: =-(G24)*0.01 -> -787.99 | H25: =-(H24)*0.01 -> -776.56 | I25: =-(I24)*0.01 -> -839.34385 | J25: =-(J24)*0.01 -> -910.45223 | ... N25: =-(N24)*0.01 -> -786.38289 | O25: =SUM(C25:N25) -> -9533.6702
B26: نفت سفید | C26: 153 | D26: 195 | E26: 185 | F26: 771 | G26: 61 | I26: =-(I25)*0.01 -> 8.3934385 | J26: =-(J25)*0.01 -> 9.1045223 | K26: =-(K25)*0.01 -> 9.4075526 | L26: =-(L25)*0.01 -> 8.7111289 | M26: =-(M25)*0.01 -> 8.7040309 | N26: =-(N25)*0.01 -> 7.8638289 | O26: =SUM(C26:N26) -> 1417.1845
B27: اسید | I27: =I9*$X$75 -> 0.175 | J27: =J9*$X$75 -> 0.175 | K27: =K9*$X$75 -> 0.175 | L27: =L9*$X$75 -> 0.175 | M27: =M9*$X$75 -> 0.175 | N27: =N9*$X$75 -> 0.175 | O27: =SUM(C27:N27) -> 1.05
B28: حلال | I28: =I9*$Z$75 -> 1.2 | J28: =J9*$Z$75 -> 1.2 | K28: =K9*$Z$75 -> 1.2 | L28: =L9*$Z$75 -> 1.2 | M28: =M9*$Z$75 -> 1.2 | N28: =N9*$Z$75 -> 1.2 | O28: =SUM(C28:N28) -> 7.2
B29: آب | I29: =I9*$AA$75 -> 15.475 | J29: =J9*$AA$75 -> 15.475 | K29: =K9*$AA$75 -> 15.475 | L29: =L9*$AA$75 -> 15.475 | M29: =M9*$AA$75 -> 15.475 | N29: =N9*$AA$75 -> 15.475 | O29: =SUM(C29:N29) -> 92.85
B30: امولسيفاير | F30: 3 | I30: =I9*$Y$75 -> 0.15 | J30: =J9*$Y$75 -> 0.15 | K30: =K9*$Y$75 -> 0.15 | L30: =L9*$Y$75 -> 0.15 | M30: =M9*$Y$75 -> 0.15 | N30: =N9*$Y$75 -> 0.15 | O30: =SUM(C30:N30) -> 3.9
B31: ورق | C31: 410 | D31: 2352 | E31: 966 | F31: 242 | G31: 475 | H31: 75 | I31: =((((I15+I16)*1000)/179)*10.52)/1000 -> 881.56425 | J31: =((((J15+J16)*1000)/179)*10.52)/1000 -> 1116.648 | K31: =((((K15+K16)*1000)/179)*10.52)/1000 -> 1116.648 | L31: =((((L15+L16)*1000)/179)*10.52)/1000 -> 1116.648 | M31: =((((M15+M16)*1000)/179)*10.52)/1000 -> 1116.648 | N31: =((((N15+N16)*1000)/179)*10.52)/1000 -> 881.56425 | O31: =SUM(C31:N31) -> 10749.721
B32: مجموع مواد اولیه مورد نیاز تولید اصفهان | C32: =SUM(C24:C30) -> 80847.9 | D32: =SUM(D24:D30) -> 55439.97 | E32: =SUM(E24:E30) -> 67145.63 | F32: =SUM(F24:F30) -> 70189.83 | G32: =SUM(G24:G30) -> 78072.01 | H32: =SUM(H24:H30) -> 76879.44 | I32: =SUM(I24:I30) -> 83120.434 | J32: =SUM(J24:J30) -> 90160.875 | ... N32: =SUM(N24:N30) -> 77876.769 | O32: =SUM(C32:N32) -> 945355.53
A33: ب- تولید بندرعباس | S33: 123.15237 | T33: 69.014798 | U33: 68.711768 | V33: 147.12369 | W33: 95.320455 | X33: 97.473788 | Y33: =O23-O32 -> 6675.4666 | Z33: =P23-P32 -> 0 | AA33: =Q23-Q32 -> 0
A34: محصول | B34: قیر 60/70 فله | C34: 6916 | D34: 5402 | E34: 5089 | F34: 12000 | G34: 1230 | H34: 2657 | I34: =35000-I35 -> 35000 | J34: =40000-J35 -> 40000 | K34: 40000 | L34: 45000 | M34: 46000 | N34: 40348 | O34: =SUM(C34:N34) -> 279642
B35: 40/50 | E35: 2000 | G35: 9400 | H35: 874 | O35: =SUM(C35:N35) -> 12274
B36: ac30 | E36: 4000 | O36: =SUM(C36:N36) -> 4000
B37: ac40 | E37: 7924 | O37: =SUM(C37:N37) -> 7924
B38: vg40 فله | C38: 16885 | D38: 7024 | H38: 25652 | O38: =SUM(C38:N38) -> 49561
B39: جمع تولید بندرعباس | C39: =SUM(C34:C38) -> 23801 | D39: =SUM(D34:D38) -> 12426 | E39: =SUM(E34:E38) -> 19013 | F39: =SUM(F34:F38) -> 12000 | G39: =SUM(G34:G38) -> 10630 | H39: =SUM(H34:H38) -> 29183 | I39: =SUM(I34:I38) -> 35000 | J39: =SUM(J34:J38) -> 40000 | ... O39: =SUM(O34:O38) -> 353401
A40: مواد اولیه بندرعباس | B40: دریافت از انبار به انبار (اصفهان ) | C40: 9649 | D40: 7068 | E40: 23547 | F40: 1092 | G40: 5801 | H40: 15161 | I40: 14000 | J40: 16000 | K40: 16000 | L40: 16000 | M40: 16000 | N40: 14682 | O40: =SUM(C40:N40) -> 155000
B41: وکیوم بندرعباس | C41: 21522 | D41: 10517 | E41: 27873 | F41: 10144 | G41: 11532 | H41: 13793 | I41: 24619 | J41: 25000 | K41: 28000 | L41: 28000 | M41: 26000 | N41: 23000 | O41: =SUM(C41:N41) -> 250000 | Q41: =250000-O41 -> 0
B42: سایر پالایشگاه ها | C42: 3252 | D42: 3761 | H42: 2657 | I42: 1500 | J42: 2000 | K42: 2000 | L42: 2000 | M42: 1500 | N42: 1330 | O42: =SUM(C42:N42) -> 20000
B43: slops | G43: 1999 | O43: =SUM(C43:N43) -> 1999
A44: مجموع مواد اولیه مورد نیاز تولید بندر عباس | B44: مجموع | C44: =SUM(C41:C43) -> 24774 | D44: =SUM(D41:D43) -> 14278 | E44: =SUM(E41:E43) -> 27873 | F44: =SUM(F41:F43) -> 10144 | G44: =SUM(G41:G43) -> 13531 | H44: =SUM(H41:H43) -> 16450 | I44: =SUM(I41:I43) -> 26119 | J44: =SUM(J41:J43) -> 27000 | ... O44: =SUM(O41:O43) -> 271999
A46: مجموع تولید سال1401 | C46: =C39+C23 -> 105715 | D46: =D39+D23 -> 68613 | E46: =E39+E23 -> 87273 | F46: =F39+F23 -> 82861 | G46: =G39+G23 -> 89772 | H46: =H39+H23 -> 109278 | I46: =I39+I23 -> 117890 | J46: =J39+J23 -> 130000 | ... N46: =N39+N23 -> 118030 | O46: =SUM(C46:N46) -> 1305432
A48: مواد اولیه مورد نیاز | B48: وکیوم با توم اصفهان | C48: =C24 -> 81510 | D48: =D24 -> 55803 | E48: =E24 -> 67637 | F48: =F24 -> 70117 | G48: =G24 -> 78799 | H48: =H24 -> 77656 | I48: =I24 -> 83934.385 | J48: =J24 -> 91045.223 | ... N48: =N24 -> 78638.289 | O48: =SUM(C48:N48) -> 953367.02
B49: وكيوم باتوم بندرعباس | C49: =C41 -> 21522 | D49: =D41 -> 10517 | E49: =E41 -> 27873 | F49: =F41 -> 10144 | G49: =G41 -> 11532 | H49: =H41 -> 13793 | I49: =I41 -> 24619 | J49: =J41 -> 25000 | ... N49: =N41 -> 23000 | O49: =ROUNDDOWN(SUM(C49:N49),-2) -> 250000
B50: وکیوم سایر پالایشگاه ها | C50: =C42 -> 3252 | D50: =D42 -> 3761 | E50: =E42 -> 0 | F50: =F42 -> 0 | G50: =G42 -> 0 | H50: =H42 -> 2657 | I50: =I42 -> 1500 | J50: =J42 -> 2000 | ... N50: =N42 -> 1330 | O50: =ROUNDDOWN(SUM(C50:N50),-2) -> 20000
B51: SLOPS | C51: =C43 -> 0 | D51: =D43 -> 0 | E51: =E43 -> 0 | F51: =F43 -> 0 | G51: =G43 -> 1999 | H51: =H43 -> 0 | I51: =I43 -> 0 | J51: =J43 -> 0 | ... N51: =N43 -> 0 | O51: =G51 -> 1999
B52: مجموع نفت سفید مورد نیاز | C52: =C26 -> 153 | D52: =D26 -> 195 | E52: =E26 -> 185 | F52: =F26 -> 771 | G52: =G26 -> 61 | H52: =H26 -> 0 | I52: =I26 -> 8.3934385 | J52: =J26 -> 9.1045223 | ... N52: =N26 -> 7.8638289 | O52: =SUM(C52:N52) -> 1417.1845
B53: مجموع اسید مورد نیاز | C53: =C27 -> 0 | D53: =D27 -> 0 | E53: =E27 -> 0 | F53: =F27 -> 0 | G53: =G27 -> 0 | H53: =H27 -> 0 | I53: =I27 -> 0.175 | J53: =J27 -> 0.175 | ... N53: =N27 -> 0.175 | O53: =SUM(C53:N53) -> 1.05
B54: مجموع حلال مورد نیاز | C54: =C28 -> 0 | D54: =D28 -> 0 | E54: =E28 -> 0 | F54: =F28 -> 0 | G54: =G28 -> 0 | H54: =H28 -> 0 | I54: =I28 -> 1.2 | J54: =J28 -> 1.2 | ... N54: =N28 -> 1.2 | O54: =SUM(C54:N54) -> 7.2
B55: مجموع امولسيفاير مورد نیاز | C55: =C30 -> 0 | D55: =D30 -> 0 | E55: =E30 -> 0 | F55: =F30 -> 3 | G55: =G30 -> 0 | H55: =H30 -> 0 | I55: =I30 -> 0.15 | J55: =J30 -> 0.15 | ... N55: =N30 -> 0.15 | O55: =SUM(C55:N55) -> 3.9
B56: آب | C56: =C29 -> 0 | D56: =D29 -> 0 | E56: =E29 -> 0 | F56: =F29 -> 0 | G56: =G29 -> 0 | H56: =H29 -> 0 | I56: =I29 -> 15.475 | J56: =J29 -> 15.475 | ... N56: =N29 -> 15.475 | O56: =SUM(C56:N56) -> 92.85
B57: ورق | C57: =C31 -> 410 | D57: =D31 -> 2352 | E57: =E31 -> 966 | F57: =F31 -> 242 | G57: =G31 -> 475 | H57: =H31 -> 75 | I57: =I31 -> 881.56425 | J57: =J31 -> 1116.648 | ... N57: =N31 -> 881.56425 | O57: =SUM(C57:N57) -> 10749.721
B58: مجموع مواد اولیه مورد نیاز | C58: =SUM(C48:C56) -> 106437 | D58: =SUM(D48:D56) -> 70276 | E58: =SUM(E48:E56) -> 95695 | F58: =SUM(F48:F56) -> 81035 | G58: =SUM(G48:G56) -> 92391 | H58: =SUM(H48:H56) -> 94106 | I58: =SUM(I48:I56) -> 110078.78 | J58: =SUM(J48:J56) -> 118071.33 | ... O58: =SUM(O48:O56) -> 1226888.2
T69: نسبت اختلاط مواد اولیه
T70: تولید اصفهان | U70: نوع محصول | V70: وکیوم باتوم اصفهان | W70: نفت سفيد | X70: اسید | Y70: امولسيفاير | Z70: حلال | AA70: آب
AA71: آب
U72: قیر 60/70 | V72: 1 | W72: 0 | X72: 0 | Y72: 0 | Z72: 0
U73: 85/100 | V73: 1 | W73: 0 | X73: 0 | Y73: 0 | Z73: 0
U74: قیر mc/250 | V74: 0.74 | W74: 0.26 | X74: 0 | Y74: 0 | Z74: 0
U75: قیر امولسیون | V75: 0.63 | W75: 0.03 | X75: 0.0035 | Y75: 0.003 | Z75: 0.024 | AA75: =V76-V75-X75-Y75-Z75-W75 -> 0.3095
U76: انواع قیر های PG | V76: 1 | W76: 0 | X76: 0 | Y76: 0 | Z76: 0
U77: vg30 | V77: 1 | W77: 0 | X77: 0 | Y77: 0 | Z77: 0
U78: vg40 | V78: 1 | W78: 0 | X78: 0 | Y78: 0 | Z78: 0
U79: vg10 | V79: 1 | W79: 0 | X79: 0 | Y79: 0 | Z79: 0
U82: نوع محصول | V82: وکیوم بندر | W82: slops | X82: وکیوم آبادان | Y82: وکیوم شیراز | Z82: وکیوم تهران | AA82: وکیوم اراک | AB82: وکیوم تبریز | AD82: تار ایرانول | AE82: وکیوم آبادان | AF82: وکیوم شیراز | AG82: وکیوم تهران | AH82: وکیوم تبریز
T83: بندرعباس | U83: 60/70 | V83: 0.92 | W83: 0.08 | AD83: 0.64
V84: 0.7 | X84: 0.3 | AD84: 0.6 | AG84: 0.4
V85: 0.73 | Z85: 0.27 | AD85: 0.57 | AE85: 0.43
V86: 0.54 | Y86: 0.46 | AD86: 0.46 | AF86: 0.54
V87: 0.76 | AB87: 0.24 | AD87: 0.64 | AH87: 0.36
V88: 0.76 | AA88: 0.24
U90: VG30 | V90: 0.96 | W90: 0.04 | AD90: 0.6
V91: 0.89 | AA91: 0.11 | AD91: 0.57 | AG91: 0.43
V92: 0.88 | Z92: 0.12 | AD92: 0.54 | AE92: 0.46
V93: 0.86 | X93: 0.14 | AD93: 0.42 | AF93: 0.58
V94: 0.79 | Y94: 0.21 | AD94: 0.6 | AH94: 0.4
V95: 0.89 | AB95: 0.11
U97: vg40 | V97: 0.99 | W97: 0.01 | AD97: 0.66
V98: 0.96 | AA98: 0.04 | AD98: 0.62 | AG98: 0.38
V99: 0.93 | Z99: 0.07 | AD99: 0.59 | AE99: 0.41
V100: 0.95 | X100: 0.05 | AD100: 0.48 | AF100: 0.52
V101: 0.93 | Y101: 0.07 | AD101: 0.65 | AH101: 0.35
V102: 0.96 | AB102: 0.04
T104: 60/70 | U104: وکیوم بندر/تار | V104: سلاپس/ وکیوم | Y104: VG40 | Z104: وکیوم بندر/تار | AA104: سلاپس/ وکیوم
T105: وکیوم بندربا سلاپس | U105: 0.92 | V105: 0.08 | W105: =V105+U105 -> 1 | Y105: وکیوم بندربا سلاپس | Z105: 0.98 | AA105: 0.02 | AB105: =AA105+Z105 -> 1
T106: وکیوم بندر با سایر وکیومها | U106: =AVERAGE(V84:V88) -> 0.698 | V106: 0.3 | W106: =V106+U106 -> 0.998 | Y106: وکیوم بندر با سایر وکیومها | Z106: 0.95 | AA106: 0.05 | AB106: =AA106+Z106 -> 1
T107: تار با وکیوم سایر پالایشگا ها | U107: 0.58 | V107: 0.42 | W107: =V107+U107 -> 1 | Y107: تار با وکیوم سایر پالایشگا ها | Z107: 0.6 | AA107: 0.4 | AB107: =AA107+Z107 -> 1
T109: VG30 | U109: وکیوم بندر/تار | V109: سلاپس/ وکیوم
T110: وکیوم بندربا سلاپس | U110: 0.94 | V110: 0.06 | W110: =V110+U110 -> 1 | Z110: =AA110/$AA$113 -> 0.61111111 | AA110: 146666.67 | AB110: از طریق سلاپس
T111: وکیوم بندر با سایر وکیومها | U111: 0.86 | V111: 0.14 | W111: =V111+U111 -> 1 | Z111: =AA111/$AA$113 -> 0.33333333 | AA111: 80000 | AB111: از طریق سایر پالایشگاه ها
T112: تار با وکیوم سایر پالایشگا ها | U112: 0.55 | V112: 0.45 | W112: =V112+U112 -> 1 | Z112: =AA112/$AA$113 -> 0.055555556 | AA112: 13333.333 | AB112: از طریق تار
AA113: =SUM(AA110:AA112) -> 240000 | AB113: تمامی محصولات بندربعاس

Sheet نرخ وکیوم و حمل
A2: نرخ خوراک و حمل سال 1403 شرکت پالایش نفت جی
A3: شرح | B3: سال 1402
A4: نرخ خرید هر تن وکیوم باتوم اصفهان | B4: 150000000
A5: نرخ خرید هر تن وکیوم باتوم بندرعباس | B5: 155000000
A6: نرخ خرید هر تن وکیوم باتوم شیراز | B6: 145000000
A7: نرخ خرید هر تن وکیوم باتوم آبادان | B7: 145000000
A8: نرخ خرید هر تن وکیوم باتوم تهران | B8: 145000000
A9: نرخ خرید هر تن وکیوم باتوم شازند | B9: 145000000
A10: نرخ خرید هر تن نفت سفید | B10: 360000000
A11: نرخ خرید هر تن ورق آهن | B11: 430000000
A12: نرخ هزینه حمل پرداختی بابت حمل هر تن قیر فله از اصفهان به بندرعباس | B12: 16000000
A13: نرخ هزینه حمل پرداختی بابت حمل هر تن قیر فله از شیراز به بندرعباس | B13: 12000000
A14: نرخ هزینه حمل پرداختی بابت حمل هر تن قیر فله از آبادان به بندرعباس | B14: 24000000
A15: نرخ هزینه حمل پرداختی بابت حمل هر تن قیر فله از تهران به بندرعباس | B15: 26000000
... A20: هزینه خط لوله پلنت | B20: 700000

Sheet فروش سه ماهه آخر 94
A1: =#REF! -> #REF!
A2: ="بودجه "&#REF!&" براي سال مالي "&#REF! -> #REF!
A3: محاسبه فروش سه ماهه پایانی سال 1394
AA4: مبالغ به میلیون ریال
A5: شرح | C5: مقدار فروش-تن | D5: فروردین | E5: اردیبهشت | F5: خرداد | G5: تیر | H5: مرداد | I5: شهریور | J5: مهر | K5: آبان | L5: آذر | M5: دی | N5: مقدار فروش واقعی 94/10/01 الی 94/11/16 | O5: مبلغ فروش واقعی 94/10/01 الی 94/11/16 | P5: پیش بینی مقدار فروش از 94/11/17 الی 94/12/29 | Q5: نرخ فروش | R5: پیش بینی مبلغ فروش از 94/11/17 الی 94/12/29 | S5: پیش بینی تخفیف | T5: مبلغ فروش
A6: الف-فروش داخلی
A7: قیر 60/70 | B7: 0.21538462 | N7: 15410.66 | O7: 104764930740 | P7: =N7/$N$29*88633.617 -> 9773.2162 | Q7: 4800000 | R7: =P7*Q7 -> 4.6911438e+10 | S7: 0 | T7: =O7+R7-S7 -> 1.5167637e+11
A8: قیر 85/100 | B8: 0.12769231 | N8: 204.72 | O8: 1592674140 | P8: =N8/$N$29*88633.617 -> 129.83044 | Q8: 4800000 | R8: =P8*Q8 -> 6.2318613e+08 | S8: 0 | T8: =O8+R8-S8 -> 2.2158603e+09 | V8: 496475.53
A9: قیر mc/250 | B9: 0.015384615 | N9: 7081.12 | O9: 86138262200 | P9: =N9/$N$29*88633.617 -> 4490.7432 | Q9: 7500000 | R9: =P9*Q9 -> 3.3680574e+10 | S9: 0 | T9: =O9+R9-S9 -> 1.1981884e+11
A10: قیر امولسیون | B10: 0.0030769231 | N10: 0 | O10: 0 | P10: =N10/$N$29*88633.617 -> 0 | Q10: =Q8*0.9 -> 4320000 | R10: =P10*Q10 -> 0 | S10: 0 | T10: =O10+R10-S10 -> 0
A11: انواع قیر های PG | B11: 0.63076923 | N11: 49973.68 | O11: 365372313160 | P11: =N11/$N$29*88633.617 -> 31692.58 | Q11: 4800000 | R11: =P11*Q11 -> 1.5212439e+11 | S11: 0 | T11: =O11+R11-S11 -> 5.174967e+11
A12: سایر قیرها | B12: 0.0076923077 | N12: 0 | O12: 0 | P12: =N12/$N$29*88633.617 -> 0 | Q12: 4980000 | R12: =P12*Q12 -> 0 | S12: 0 | T12: =O12+R12-S12 -> 0
A13: جمع فروش داخلی | B13: 1 | C13: =SUM(C7:C12) -> 0 | D13: =SUM(D7:D12) -> 0 | E13: =SUM(E7:E12) -> 0 | F13: =SUM(F7:F12) -> 0 | G13: =SUM(G7:G12) -> 0 | H13: =SUM(H7:H12) -> 0 | I13: =SUM(I7:I12) -> 0 | J13: =SUM(J7:J12) -> 0 | ... T13: =SUM(T7:T12) -> 7.9120776e+11 | U13: =P13+N13 -> 118756.55 | V13: =U13/U15 -> 0.5199649 | W13: =U13*4800000 -> 5.7003144e+11
A14: ب- فروش صادراتی | U14: =P28+N28 -> 109636.85 | V14: =U14/U15 -> 0.4800351 | W14: =U14*Q15 -> 4.9980039e+11
A15: قیر 60/70 فله | B15: 0.41666667 | N15: 27290.7 | O15: 141285981734 | P15: =N15/$N$29*88633.617 -> 17307.365 | Q15: 4558690 | R15: =P15*Q15 -> 7.889891e+10 | S15: 0 | T15: =O15+R15-S15 -> 2.2018489e+11 | U15: =U13+U14 -> 228393.4 | W15: =W13+W14 -> 1.0698318e+12
A16: قیر 60/70 FOB | B16: 0.10555556 | N16: 3562.963 | O16: 23236349722 | P16: =N16/$N$29*88633.617 -> 2259.5793 | Q16: 5075000 | R16: =P16*Q16 -> 1.1467365e+10 | S16: 0 | T16: =O16+R16-S16 -> 3.4703714e+10
A17: قیر 60/70 مظروفEX | B17: 0.066666667 | N17: 15959.797 | O17: 115086934636 | P17: =N17/$N$29*88633.617 -> 10121.471 | Q17: 6007810 | R17: =P17*Q17 -> 6.0807874e+10 | S17: 0 | T17: =O17+R17-S17 -> 1.7589481e+11 | W17: =W15/U15 -> 4684162.7
A18: قیر 60/70 مظروف FOB | B18: 0.16666667 | N18: 8870.295 | O18: 76385742133 | P18: =N18/$N$29*88633.617 -> 5625.4119 | Q18: 6732370 | R18: =P18*Q18 -> 3.7872355e+10 | S18: 0 | T18: =O18+R18-S18 -> 1.142581e+11
A19: قیر 85/100 فله | B19: 0.13333333 | N19: 10658.1 | O19: 57949216661 | P19: =N19/$N$29*88633.617 -> 6759.2118 | Q19: 4558690 | R19: =P19*Q19 -> 3.0813151e+10 | S19: 0 | T19: =O19+R19-S19 -> 8.8762368e+10 | U19: =N13+P13 -> 118756.55 | V19: 621662 | W19: =U19+V19 -> 740418.55
A20: قیر 85/100 FOB | B20: 0.0055555556 | N20: 0 | O20: 0 | P20: =N20/$N$29*88633.617 -> 0 | Q20: 5075000 | R20: =P20*Q20 -> 0 | S20: 0 | T20: =O20+R20-S20 -> 0 | U20: =N28+P28 -> 109636.85 | V20: 699945 | W20: =U20+V20 -> 809581.85
A21: قیر 85/100 مظروفEX | B21: 0.016666667 | N21: 747.744 | O21: 5435826047 | P21: =N21/$N$29*88633.617 -> 474.20836 | Q21: 6007810 | R21: =P21*Q21 -> 2.8489537e+09 | S21: 0 | T21: =O21+R21-S21 -> 8.2847798e+09
A22: قیر 85/100 مظروف FOB | B22: 0.027777778 | N22: 0 | O22: 0 | P22: =N22/$N$29*88633.617 -> 0 | Q22: 6732370 | R22: =P22*Q22 -> 0 | S22: 0 | T22: =O22+R22-S22 -> 0
A23: قیر mc/250 | B23: 0 | N23: 0 | O23: 0 | P23: =N23/$N$29*88633.617 -> 0 | Q23: 0 | R23: =P23*Q23 -> 0 | S23: 0 | T23: =O23+R23-S23 -> 0 | U23: 5516395 | V23: =T13/1000000 -> 791207.76 | W23: =U23+V23 -> 6307602.8
A24: قیر VG فله | B24: 0.022222222 | N24: 0 | O24: 0 | P24: =N24/$N$29*88633.617 -> 0 | Q24: 4679450 | R24: =P24*Q24 -> 0 | S24: 0 | T24: =O24+R24-S24 -> 0 | U24: 6297491 | V24: =T28/1000000 -> 642088.66 | W24: =U24+V24+1 -> 6939580.7
A25: قیر VG بشکه FOB | B25: 0.011111111 | N25: 0 | O25: 0 | P25: =N25/$N$29*88633.617 -> 0 | Q25: 6853130 | R25: =P25*Q25 -> 0 | S25: 0 | T25: =O25+R25-S25 -> 0
A26: قیر VG فله FOB | B26: 0.022222222 | N26: 0 | O26: 0 | P26: =N26/$N$29*88633.617 -> 0 | Q26: 5250000 | R26: =P26*Q26 -> 0 | S26: 0 | T26: =O26+R26-S26 -> 0
A27: سایر قیرها | B27: 0.0055555556 | N27: 0 | O27: 0 | P27: =N27/$N$29*88633.617 -> 0 | Q27: 10685529 | R27: =P27*Q27 -> 0 | S27: 0 | T27: =O27+R27-S27 -> 0
A28: جمع فروش صادراتی | B28: 1 | C28: =SUM(C15:C27) -> 0 | D28: =SUM(D15:D27) -> 0 | E28: =SUM(E15:E27) -> 0 | F28: =SUM(F15:F27) -> 0 | G28: =SUM(G15:G27) -> 0 | H28: =SUM(H15:H27) -> 0 | I28: =SUM(I15:I27) -> 0 | J28: =SUM(J15:J27) -> 0 | ... T28: =SUM(T15:T27) -> 6.4208866e+11
A29: جمع کل | C29: =C28+C13 -> 0 | D29: =D28+D13 -> 0 | E29: =E28+E13 -> 0 | F29: =F28+F13 -> 0 | G29: =G28+G13 -> 0 | H29: =H28+H13 -> 0 | I29: =I28+I13 -> 0 | J29: =J28+J13 -> 0 | ... T29: =T28+T13 -> 1.4332964e+12
C34: سه ماهه اول 94 | E34: سه ماهه دوم 94 | G34: سه ماهه سوم 94 | I34: سه ماهه چهارم 94
C35: مقدار فروش | D35: مبلغ فروش | E35: مقدار فروش | F35: مبلغ فروش | G35: مقدار فروش | H35: مبلغ فروش | I35: مقدار فروش | J35: مبلغ فروش
A36: قیر 60/70 فله | I36: =N7+P7+N15+P15+N16+P16 -> 75604.483 | J36: =T7+T15+T16 -> 4.0656497e+11
A37: قیر 60/70 مظروف | I37: =N17+N18+P17+P18 -> 40576.975 | J37: =T17+T18 -> 2.9015291e+11
A38: قیر 85/100 فله | I38: =N8+P8+N19+P19+N20+P20 -> 17751.862 | J38: =T8+T19+T20 -> 9.0978228e+10
A39: قیر 85/100 مظروف | I39: =N21+P21+N22+P22 -> 1221.9524 | J39: =T21+T22 -> 8.2847798e+09
A40: انواع قیرهای PG | I40: =N11+P11 -> 81666.26 | J40: =T11 -> 5.174967e+11
A41: قیر MC250 | I41: =N9+P9+N23+P23 -> 11571.863 | J41: =T9+T23 -> 1.1981884e+11
A42: قیر امولسیون | I42: =N10+P10 -> 0 | J42: =T10 -> 0
A43: قیر VG فله | I43: =N24+P24+N26+P26 -> 0 | J43: =T24+T26 -> 0
A44: قیر VG مظروف | I44: =N25+P25 -> 0 | J44: =T25 -> 0
A45: سایر محصولات | I45: =N12+P12+N27+P27 -> 0 | J45: =T12+T27 -> 0

Sheet تولید سه ماهه آخر 94
A1: =#REF! -> #REF!
A2: ="بودجه "&#REF!&" براي سال مالي "&#REF! -> #REF!
A3: محاسبه تولید سه ماهه پایانی سال 1394
AA4: مبالغ به میلیون ریال
A5: شرح | C5: مقدار فروش-تن | D5: فروردین | E5: اردیبهشت | F5: خرداد | G5: تیر | H5: مرداد | I5: شهریور | J5: مهر | K5: آبان | L5: آذر | M5: تولید | N5: اضافه تولید | Q5: مقدار تولید | R5: خرید از همیار جی | S5: وکیوم باتوم | T5: نفت سفید | U5: ورق | V5: حمل | W5: استافینگ | X5: مظروف سازی | Y5: دستمزد | Z5: سایر هزینه ها
A6: الف-فروش داخلی
A7: قیر 60/70 | C7: =SUM(D7:O7) -> 2000 | M7: 0 | N7: 2000 | P7: 20184 | Q7: =M7+N7 -> 2000 | S7: =P7/0.98*5585000+(Q7-P7)/0.98*3735000 -> 4.5724898e+10 | Y7: =Q7/SUM($Q$7:$Q$29)*(80000000000-60170000000) -> 1.6495136e+08 | Z7: =Q7/SUM($Q$7:$Q$29)*(405000000000-288000000000) -> 9.7323795e+08 | AA7: =SUM(R7:Z7)/1000000 -> 46863.087
A8: قیر 85/100 | C8: =SUM(D8:O8) -> 1334.5504 | M8: 334.55044 | N8: 1000 | P8: 3335 | Q8: =M8+N8 -> 1334.5504 | S8: =P8/0.98*5585000+(Q8-P8)/0.98*3735000 -> 1.1381935e+10 | Y8: =Q8/SUM($Q$7:$Q$29)*(80000000000-60170000000) -> 1.1006795e+08 | Z8: =Q8/SUM($Q$7:$Q$29)*(405000000000-288000000000) -> 6.4941757e+08 | AA8: =SUM(R8:Z8)/1000000 -> 12141.42
A9: قیر mc/250 | C9: =SUM(D9:O9) -> 13352.863 | M9: =11571.8632059623-219 -> 11352.863 | N9: 2000 | P9: 6006 | Q9: =M9+N9 -> 13352.863 | S9: =P9*0.75/0.98*5585000+(Q9-P9)*0.75/0.98*3735000 -> 4.6671462e+10 | T9: =Q9*0.25*9069780 -> 3.0276883e+10 | Y9: =Q9/SUM($Q$7:$Q$29)*(80000000000-60170000000) -> 1.1012864e+09 | Z9: =Q9/SUM($Q$7:$Q$29)*(405000000000-288000000000) -> 6.4977566e+09 | AA9: =SUM(R9:Z9)/1000000 -> 84547.388
A10: قیر امولسیون | C10: =SUM(D10:O10) -> 11 | M10: 11 | Q10: =M10+N10 -> 11 | S10: =P10*0.62/0.98*5585000+(Q10-P10)*0.62/0.98*3735000 -> 25992551 | Y10: =Q10/SUM($Q$7:$Q$29)*(80000000000-60170000000) -> 907232.46 | Z10: =Q10/SUM($Q$7:$Q$29)*(405000000000-288000000000) -> 5352808.7 | AA10: =SUM(R10:Z10)/1000000 -> 32.252592
A11: انواع قیر های PG | C11: =SUM(D11:O11) -> 114145.26 | M11: =81666.2602608815+295+15000+10000+184 -> 107145.26 | N11: 7000 | P11: 12000 | Q11: =M11+N11 -> 114145.26 | S11: =P11/0.98*5585000+(Q11-P11)/0.98*3735000 -> 4.5768627e+11 | Y11: =Q11/SUM($Q$7:$Q$29)*(80000000000-60170000000) -> 9.4142077e+09 | Z11: =Q11/SUM($Q$7:$Q$29)*(405000000000-288000000000) -> 5.554525e+10 | AA11: =SUM(R11:Z11)/1000000 -> 522645.73
A12: سایر قیرها | C12: =SUM(D12:O12) -> 0 | M12: 0 | Q12: =M12+N12 -> 0 | S12: =P12/0.98*5585000+(Q12-P12)/0.98*3735000 -> 0 | Y12: =Q12/SUM($Q$7:$Q$29)*(80000000000-60170000000) -> 0 | Z12: =Q12/SUM($Q$7:$Q$29)*(405000000000-288000000000) -> 0 | AA12: =SUM(R12:Z12)/1000000 -> 0
A13: جمع فروش داخلی | B13: 1 | C13: =SUM(C7:C12) -> 130843.67 | D13: =SUM(D7:D12) -> 0 | E13: =SUM(E7:E12) -> 0 | F13: =SUM(F7:F12) -> 0 | G13: =SUM(G7:G12) -> 0 | H13: =SUM(H7:H12) -> 0 | I13: =SUM(I7:I12) -> 0 | J13: =SUM(J7:J12) -> 0 | ... O13: =SUM(O7:O12) -> 0 | S13: =P13/0.98*5585000+(Q13-P13)/0.98*3735000 -> 0 | Y13: =Q13/SUM($Q$7:$Q$29)*(80000000000-60170000000) -> 0 | Z13: =Q13/SUM($Q$7:$Q$29)*(405000000000-288000000000) -> 0 | AA13: =SUM(R13:Z13)/1000000 -> 0
A14: ب- فروش صادراتی | S14: =P14/0.98*5585000+(Q14-P14)/0.98*3735000 -> 0 | Y14: =Q14/SUM($Q$7:$Q$29)*(80000000000-60170000000) -> 0 | Z14: =Q14/SUM($Q$7:$Q$29)*(405000000000-288000000000) -> 0 | AA14: =SUM(R14:Z14)/1000000 -> 0
A15: قیر 60/70 فله | C15: =SUM(D15:O15) -> 49598.065 | M15: =44598.0645992378+5000 -> 49598.065 | P15: =55382-32184 -> 23198 | Q15: =M15+N15 -> 49598.065 | S15: =P15/0.98*5585000+(Q15-P15)/0.98*3735000 -> 2.328215e+11 | Y15: =Q15/SUM($Q$7:$Q$29)*(80000000000-60170000000) -> 4.090634e+09 | Z15: =Q15/SUM($Q$7:$Q$29)*(405000000000-288000000000) -> 2.4135359e+10 | AA15: =SUM(R15:Z15)/1000000 -> 261047.49
A16: قیر 60/70 FOB | C16: =SUM(D16:O16) -> 5822.5423 | M16: 5822.5423 | Q16: =M16+N16 -> 5822.5423 | R16: =Q16*4232000 -> 2.4640999e+10 | S16: =P16/0.98*5585000+(Q16-P16)/0.98*3735000 -> 2.2191016e+10 | Y16: =Q16/SUM($Q$7:$Q$29)*(80000000000-60170000000) -> 4.8021812e+08 | Z16: =Q16/SUM($Q$7:$Q$29)*(405000000000-288000000000) -> 2.8333596e+09 | AA16: =SUM(R16:Z16)/1000000 -> 50145.592
A17: قیر 60/70 مظروفEX | C17: =SUM(D17:O17) -> 26056.268 | M17: =26081.2678896738-25 -> 26056.268 | Q17: =M17+N17 -> 26056.268 | S17: =P17/0.98*5585000+(Q17-P17)/0.98*3735000 -> 9.9306286e+10 | U17: =Q17*1068000 -> 2.7828094e+10 | X17: =Q17*317839 -> 8.2816981e+09 | Y17: =Q17/SUM($Q$7:$Q$29)*(80000000000-60170000000) -> 2.1490084e+09 | Z17: =Q17/SUM($Q$7:$Q$29)*(405000000000-288000000000) -> 1.2679474e+10 | AA17: =SUM(R17:Z17)/1000000 -> 150244.56
A18: قیر 60/70 مظروف FOB | C18: =SUM(D18:O18) -> 14495.707 | M18: 14495.707 | Q18: =M18+N18 -> 14495.707 | S18: =P18/0.98*5585000+(Q18-P18)/0.98*3735000 -> 5.5246393e+10 | U18: =Q18*1068000 -> 1.5481415e+10 | V18: =Q18*450000 -> 6.5230681e+09 | W18: =Q18*260000 -> 3.7688838e+09 | X18: =Q18*317839 -> 4.607301e+09 | Y18: =Q18/SUM($Q$7:$Q$29)*(80000000000-60170000000) -> 1.1955433e+09 | Z18: =Q18/SUM($Q$7:$Q$29)*(405000000000-288000000000) -> 7.0538861e+09 | AA18: =SUM(R18:Z18)/1000000 -> 93876.491
A19: قیر 85/100 فله | C19: =SUM(D19:O19) -> 12417.312 | M19: =17417.311842684-5000 -> 12417.312 | P19: =7221-3335 -> 3886 | Q19: =M19+N19 -> 12417.312 | S19: =P19/0.98*5585000+(Q19-P19)/0.98*3735000 -> 5.4660979e+10 | Y19: =Q19/SUM($Q$7:$Q$29)*(80000000000-60170000000) -> 1.0241262e+09 | Z19: =Q19/SUM($Q$7:$Q$29)*(405000000000-288000000000) -> 6.0424996e+09 | AA19: =SUM(R19:Z19)/1000000 -> 61727.605
A20: قیر 85/100 FOB | C20: =SUM(D20:O20) -> 0 | M20: 0 | Q20: =M20+N20 -> 0 | S20: =P20/0.98*5585000+(Q20-P20)/0.98*3735000 -> 0 | Y20: =Q20/SUM($Q$7:$Q$29)*(80000000000-60170000000) -> 0 | Z20: =Q20/SUM($Q$7:$Q$29)*(405000000000-288000000000) -> 0 | AA20: =SUM(R20:Z20)/1000000 -> 0
A21: قیر 85/100 مظروفEX | C21: =SUM(D21:O21) -> 1200.9524 | M21: =1221.95235797149-21 -> 1200.9524 | Q21: =M21+N21 -> 1200.9524 | S21: =P21/0.98*5585000+(Q21-P21)/0.98*3735000 -> 4.577099e+09 | U21: =Q21*1068000 -> 1.2826171e+09 | X21: =Q21*317839 -> 3.817095e+08 | Y21: =Q21/SUM($Q$7:$Q$29)*(80000000000-60170000000) -> 99049360 | Z21: =Q21/SUM($Q$7:$Q$29)*(405000000000-288000000000) -> 5.8440621e+08 | AA21: =SUM(R21:Z21)/1000000 -> 6924.8812
A22: قیر 85/100 مظروف FOB | C22: =SUM(D22:O22) -> 0 | M22: 0 | Q22: =M22+N22 -> 0 | S22: =P22/0.98*5585000+(Q22-P22)/0.98*3735000 -> 0 | U22: =Q22*1068000 -> 0 | V22: =Q22*450000 -> 0 | W22: =Q22*260000 -> 0 | X22: =Q22*317839 -> 0 | Y22: =Q22/SUM($Q$7:$Q$29)*(80000000000-60170000000) -> 0 | Z22: =Q22/SUM($Q$7:$Q$29)*(405000000000-288000000000) -> 0 | AA22: =SUM(R22:Z22)/1000000 -> 0
A23: قیر mc/250 | C23: =SUM(D23:O23) -> 0 | M23: 0 | Q23: =M23+N23 -> 0 | S23: =P23*0.75/0.98*5585000+(Q23-P23)*0.75/0.98*3735000 -> 0 | Y23: =Q23/SUM($Q$7:$Q$29)*(80000000000-60170000000) -> 0 | Z23: =Q23/SUM($Q$7:$Q$29)*(405000000000-288000000000) -> 0 | AA23: =SUM(R23:Z23)/1000000 -> 0
A24: قیر VG فله | C24: =SUM(D24:O24) -> 0 | M24: 0 | Q24: =M24+N24 -> 0 | S24: =P24/0.98*5585000+(Q24-P24)/0.98*3735000 -> 0 | Y24: =Q24/SUM($Q$7:$Q$29)*(80000000000-60170000000) -> 0 | Z24: =Q24/SUM($Q$7:$Q$29)*(405000000000-288000000000) -> 0 | AA24: =SUM(R24:Z24)/1000000 -> 0
A25: قیر VG بشکه FOB | C25: =SUM(D25:O25) -> 0 | M25: 0 | Q25: =M25+N25 -> 0 | S25: =P25/0.98*5585000+(Q25-P25)/0.98*3735000 -> 0 | Y25: =Q25/SUM($Q$7:$Q$29)*(80000000000-60170000000) -> 0 | Z25: =Q25/SUM($Q$7:$Q$29)*(405000000000-288000000000) -> 0 | AA25: =SUM(R25:Z25)/1000000 -> 0
A26: قیر VG فله FOB | C26: =SUM(D26:O26) -> 0 | M26: 0 | Q26: =M26+N26 -> 0 | S26: =P26/0.98*5585000+(Q26-P26)/0.98*3735000 -> 0 | Y26: =Q26/SUM($Q$7:$Q$29)*(80000000000-60170000000) -> 0 | Z26: =Q26/SUM($Q$7:$Q$29)*(405000000000-288000000000) -> 0 | AA26: =SUM(R26:Z26)/1000000 -> 0
A27: سایر قیرها | C27: =SUM(D27:O27) -> 0 | M27: 0 | Q27: =M27+N27 -> 0 | S27: =P27/0.98*5585000+(Q27-P27)/0.98*3735000 -> 0 | Y27: =Q27/SUM($Q$7:$Q$29)*(80000000000-60170000000) -> 0 | Z27: =Q27/SUM($Q$7:$Q$29)*(405000000000-288000000000) -> 0 | AA27: =SUM(R27:Z27)/1000000 -> 0
A28: جمع فروش صادراتی | B28: 1 | C28: =SUM(C15:C27) -> 109590.85 | D28: =SUM(D15:D27) -> 0 | E28: =SUM(E15:E27) -> 0 | F28: =SUM(F15:F27) -> 0 | G28: =SUM(G15:G27) -> 0 | H28: =SUM(H15:H27) -> 0 | I28: =SUM(I15:I27) -> 0 | J28: =SUM(J15:J27) -> 0 | ... O28: =SUM(O15:O27) -> 0 | Y28: =Q28/SUM($Q$7:$Q$29)*(80000000000-60170000000) -> 0 | Z28: =Q28/SUM($Q$7:$Q$29)*(405000000000-288000000000) -> 0 | AA28: =SUM(R28:Z28)/1000000 -> 0
A29: جمع کل | C29: =C28+C13 -> 240434.52 | D29: =D28+D13 -> 0 | E29: =E28+E13 -> 0 | F29: =F28+F13 -> 0 | G29: =G28+G13 -> 0 | H29: =H28+H13 -> 0 | I29: =I28+I13 -> 0 | J29: =J28+J13 -> 0 | ... O29: =O28+O13 -> 0 | R29: =SUM(R6:R28) -> 2.4640999e+10 | S29: =SUM(S6:S28) -> 1.0302938e+12 | T29: =SUM(T6:T28) -> 3.0276883e+10 | U29: =SUM(U6:U28) -> 4.4592126e+10 | V29: =SUM(V6:V28) -> 6.5230681e+09 | W29: =SUM(W6:W28) -> 3.7688838e+09 | X29: =SUM(X6:X28) -> 1.3270709e+10 | Y29: =SUM(Y6:Y28) -> 1.983e+10 | Z29: =SUM(Z6:Z28) -> 117000000000
Z32: =SUM(R29:Z29) -> 1.2901965e+12
C34: سه ماهه اول 94 | E34: سه ماهه دوم 94 | G34: سه ماهه سوم 94 | I34: سه ماهه چهارم 94 | Z34: ='فروش سه ماهه آخر 94'!T29 -> 1.4332964e+12
C35: مقدار تولید | E35: مقدار تولید | G35: مقدار تولید | I35: مقدار تولید | J35: بهای تمام شده
A36: قیر 60/70 فله | I36: =SUM(M7:O7,M15:O16) -> 57420.607 | J36: =AA7+AA15+AA16 -> 358056.17 | Z36: =Z34-Z32 -> 1.4309992e+11
A37: قیر 60/70 مظروف | I37: =SUM(M17:O18) -> 40551.975 | J37: =AA17+AA18 -> 244121.05 | S37: =S29/241931 -> 4258626.8
A38: قیر 85/100 فله | I38: =SUM(M8:O8,M19:O20) -> 13751.862 | J38: =AA8+AA19+AA20 -> 73869.025 | Z38: =Z36/Z34 -> 0.099839724
A39: قیر 85/100 مظروف | I39: =SUM(M21:O22) -> 1200.9524 | J39: =AA21+AA22 -> 6924.8812
A40: انواع قیرهای PG | I40: =SUM(M11:O11) -> 114145.26 | J40: =AA11 -> 522645.73
A41: قیر MC250 | I41: =SUM(M9:O9,M23:O23) -> 13352.863 | J41: =AA9+AA23 -> 84547.388
A42: قیر امولسیون | I42: =SUM(M10:O10) -> 11 | J42: =AA10 -> 32.252592
A43: قیر VG فله | I43: =SUM(M24:O24,M26:O26) -> 0 | J43: =AA24+AA26 -> 0
A44: قیر VG مظروف | I44: =SUM(M25:O25) -> 0 | J44: =AA25 -> 0
A45: سایر محصولات | I45: =SUM(M12:O12,M27:O27) -> 0 | J45: =AA12+AA27 -> 0 | K45: 0

Sheet بهای تمام شده 95
A1: شرح | C1: مقدار فروش-تن | D1: فروردین | E1: اردیبهشت | F1: خرداد | G1: تیر | H1: مرداد | I1: شهریور | J1: مهر | K1: آبان | L1: آذر | M1: دی | N1: بهمن | O1: اسفند | P1: نرخ فروش ارزی-دلار | Q1: نرخ ارز بر اساس دلار آزاد | R1: نرخ بهای تمام شده | S1: بهای تمام شده کالای فروش رفته | T1: خرید از همیار جی | U1: وکیوم باتوم | V1: نفت سفید | W1: ورق | X1: حمل | Y1: استافینگ | Z1: مظروف سازی | AA1: دستمزد | AB1: سایر هزینه ها | AF1: فروردین | AG1: اردیبهشت | AH1: خرداد | AI1: تیر | AJ1: مرداد | AK1: شهریور | AL1: مهر | AM1: آبان | AN1: آذر | AO1: دی | AP1: بهمن | AQ1: اسفند
A2: الف-فروش داخلی
A3: قیر 60/70 | B3: 0.21538462 | C3: =SUM(D3:O3) -> 140000 | D3: 7538.4615 | E3: 10769.231 | F3: 12923.077 | G3: 14000 | H3: 15076.923 | I3: 17230.769 | J3: 16153.846 | K3: 14000 | L3: 10769.231 | M3: 8615.3846 | N3: 7538.4615 | O3: 5384.6154 | P3: - | Q3: - | R3: =IFERROR(SUM(T3:AB3)/C3,0) -> 4087998.7 | S3: =R3*C3 -> 5.7231982e+11 | U3: =C3/0.98*3735000 -> 5.3357143e+11 | AA3: =C3/1550000*96000000000 -> 8.6709677e+09 | AB3: =C3/1550000*333000000000 -> 3.0077419e+10 | AF3: =D3*$R$3/1000000 -> 30817.221 | AG3: =E3*$R$3/1000000 -> 44024.601 | AH3: =F3*$R$3/1000000 -> 52829.521 | AI3: =G3*$R$3/1000000 -> 57231.982 | AJ3: =H3*$R$3/1000000 -> 61634.442 | AK3: =I3*$R$3/1000000 -> 70439.362 | AL3: =J3*$R$3/1000000 -> 66036.902 | AM3: =K3*$R$3/1000000 -> 57231.982 | ... AQ3: =O3*$R$3/1000000 -> 22012.301
A4: قیر 85/100 | B4: 0.12769231 | C4: =SUM(D4:O4) -> 83000 | D4: 4469.2308 | E4: 6384.6154 | F4: 7661.5385 | G4: 8300 | H4: 8938.4615 | I4: 10215.385 | J4: 9576.9231 | K4: 8300 | L4: 6384.6154 | M4: 5107.6923 | N4: 4469.2308 | O4: 3192.3077 | P4: - | Q4: - | R4: =IFERROR(SUM(T4:AB4)/C4,0) -> 4087998.7 | S4: =R4*C4 -> 3.3930389e+11 | U4: =C4/0.98*3735000 -> 3.1633163e+11 | AA4: =C4/1550000*96000000000 -> 5.1406452e+09 | AB4: =C4/1550000*333000000000 -> 1.7831613e+10 | AF4: =D4*$R$4/1000000 -> 18270.21 | AG4: =E4*$R$4/1000000 -> 26100.299 | AH4: =F4*$R$4/1000000 -> 31320.359 | AI4: =G4*$R$4/1000000 -> 33930.389 | AJ4: =H4*$R$4/1000000 -> 36540.419 | AK4: =I4*$R$4/1000000 -> 41760.479 | AL4: =J4*$R$4/1000000 -> 39150.449 | AM4: =K4*$R$4/1000000 -> 33930.389 | ... AQ4: =O4*$R$4/1000000 -> 13050.15
A5: قیر mc/250 | B5: 0.015384615 | C5: =SUM(D5:O5) -> 10000 | D5: 538.46154 | E5: 769.23077 | F5: 923.07692 | G5: 1000 | H5: 1076.9231 | I5: 1230.7692 | J5: 1153.8462 | K5: 1000 | L5: 769.23077 | M5: 615.38462 | N5: 538.46154 | O5: 384.61538 | P5: - | Q5: - | R5: =IFERROR(SUM(T5:AB5)/C5,0) -> 5402637.6 | S5: =R5*C5 -> 5.4026376e+10 | U5: =C5*0.75/0.98*3735000 -> 2.8584184e+10 | V5: =C5*0.25*9069780 -> 2.267445e+10 | AA5: =C5/1550000*96000000000 -> 6.1935484e+08 | AB5: =C5/1550000*333000000000 -> 2.1483871e+09 | AF5: =D5*$R$5/1000000 -> 2909.1125 | AG5: =E5*$R$5/1000000 -> 4155.875 | AH5: =F5*$R$5/1000000 -> 4987.0501 | AI5: =G5*$R$5/1000000 -> 5402.6376 | AJ5: =H5*$R$5/1000000 -> 5818.2251 | AK5: =I5*$R$5/1000000 -> 6649.4001 | AL5: =J5*$R$5/1000000 -> 6233.8126 | AM5: =K5*$R$5/1000000 -> 5402.6376 | ... AQ5: =O5*$R$5/1000000 -> 2077.9375
A6: قیر امولسیون | B6: 0.0030769231 | C6: =SUM(D6:O6) -> 2000 | D6: 107.69231 | E6: 153.84615 | F6: 184.61538 | G6: 200 | H6: 215.38462 | I6: 246.15385 | J6: 230.76923 | K6: 200 | L6: 153.84615 | M6: 123.07692 | N6: 107.69231 | O6: 76.923077 | P6: - | Q6: - | R6: =IFERROR(SUM(T6:AB6)/C6,0) -> 2639733.4 | S6: =R6*C6 -> 5.2794668e+09 | U6: =C6*0.62/0.98*3735000 -> 4.7259184e+09 | AA6: =C6/1550000*96000000000 -> 1.2387097e+08 | AB6: =C6/1550000*333000000000 -> 4.2967742e+08 | AF6: =D6*$R$6/1000000 -> 284.27898 | AG6: =E6*$R$6/1000000 -> 406.11283 | AH6: =F6*$R$6/1000000 -> 487.33539 | AI6: =G6*$R$6/1000000 -> 527.94668 | AJ6: =H6*$R$6/1000000 -> 568.55796 | AK6: =I6*$R$6/1000000 -> 649.78052 | AL6: =J6*$R$6/1000000 -> 609.16924 | AM6: =K6*$R$6/1000000 -> 527.94668 | ... AQ6: =O6*$R$6/1000000 -> 203.05641
A7: انواع قیر های PG | B7: 0.63076923 | C7: =SUM(D7:O7) -> 410000 | D7: 22076.923 | E7: 31538.462 | F7: 37846.154 | G7: 41000 | H7: 44153.846 | I7: 50461.538 | J7: 47307.692 | K7: 41000 | L7: 31538.462 | M7: 25230.769 | N7: 22076.923 | O7: 15769.231 | P7: - | Q7: - | R7: =IFERROR(SUM(T7:AB7)/C7,0) -> 4087998.7 | S7: =R7*C7 -> 1.6760795e+12 | U7: =C7/0.98*3735000 -> 1.562602e+12 | AA7: =C7/1550000*96000000000 -> 2.5393548e+10 | AB7: =C7/1550000*333000000000 -> 8.8083871e+10 | AF7: =D7*$R$7/1000000 -> 90250.432 | AG7: =E7*$R$7/1000000 -> 128929.19 | AH7: =F7*$R$7/1000000 -> 154715.03 | AI7: =G7*$R$7/1000000 -> 167607.95 | AJ7: =H7*$R$7/1000000 -> 180500.86 | AK7: =I7*$R$7/1000000 -> 206286.7 | AL7: =J7*$R$7/1000000 -> 193393.78 | AM7: =K7*$R$7/1000000 -> 167607.95 | ... AQ7: =O7*$R$7/1000000 -> 64464.595
A8: سایر قیرها | B8: 0.0076923077 | C8: =SUM(D8:O8) -> 5000 | D8: 269.23077 | E8: 384.61538 | F8: 461.53846 | G8: 500 | H8: 538.46154 | I8: 615.38462 | J8: 576.92308 | K8: 500 | L8: 384.61538 | M8: 307.69231 | N8: 269.23077 | O8: 192.30769 | P8: - | Q8: - | R8: =IFERROR(SUM(T8:AB8)/C8,0) -> 4087998.7 | S8: =R8*C8 -> 2.0439993e+10 | U8: =C8/0.98*3735000 -> 1.9056122e+10 | AA8: =C8/1550000*96000000000 -> 3.0967742e+08 | AB8: =C8/1550000*333000000000 -> 1.0741935e+09 | AF8: =D8*$R$8/1000000 -> 1100.615 | AG8: =E8*$R$8/1000000 -> 1572.3072 | AH8: =F8*$R$8/1000000 -> 1886.7686 | AI8: =G8*$R$8/1000000 -> 2043.9993 | AJ8: =H8*$R$8/1000000 -> 2201.2301 | AK8: =I8*$R$8/1000000 -> 2515.6915 | AL8: =J8*$R$8/1000000 -> 2358.4608 | AM8: =K8*$R$8/1000000 -> 2043.9993 | ... AQ8: =O8*$R$8/1000000 -> 786.15359
A9: جمع فروش داخلی | B9: 1 | C9: =SUM(C3:C8) -> 650000 | D9: =SUM(D3:D8) -> 35000 | E9: =SUM(E3:E8) -> 50000 | F9: =SUM(F3:F8) -> 60000 | G9: =SUM(G3:G8) -> 65000 | H9: =SUM(H3:H8) -> 70000 | I9: =SUM(I3:I8) -> 80000 | J9: =SUM(J3:J8) -> 75000 | ... O9: =SUM(O3:O8) -> 25000 | S9: =SUM(S3:S8) -> 2.667449e+12 | T9: =SUM(T3:T8) -> 0 | U9: =SUM(U3:U8) -> 2.4648713e+12 | V9: =SUM(V3:V8) -> 2.267445e+10 | W9: =SUM(W3:W8) -> 0 | X9: =SUM(X3:X8) -> 0 | Y9: =SUM(Y3:Y8) -> 0 | Z9: =SUM(Z3:Z8) -> 0 | ... AB9: =SUM(AB3:AB8) -> 1.3964516e+11
A10: ب- فروش صادراتی
A11: قیر 60/70 فله | B11: 0.41666667 | C11: =SUM(D11:O11) -> 470000 | D11: 31333.333 | E11: 39166.667 | F11: 39166.667 | G11: 31333.333 | H11: 28722.222 | I11: 26111.111 | J11: 31333.333 | K11: 39166.667 | L11: 47000 | M11: 49611.111 | N11: 52222.222 | O11: 54833.333 | P11: 159.28089 | Q11: 137.39114 | R11: =IFERROR(SUM(T11:AB11)/C11,0) -> 4087998.7 | S11: =R11*C11 -> 1.9213594e+12 | U11: =C11/0.98*3735000 -> 1.7912755e+12 | AA11: =C11/1550000*96000000000 -> 2.9109677e+10 | AB11: =C11/1550000*333000000000 -> 1.0097419e+11 | AF11: =D11*$R$11/1000000 -> 128090.63 | AG11: =E11*$R$11/1000000 -> 160113.28 | AH11: =F11*$R$11/1000000 -> 160113.28 | AI11: =G11*$R$11/1000000 -> 128090.63 | AJ11: =H11*$R$11/1000000 -> 117416.41 | AK11: =I11*$R$11/1000000 -> 106742.19 | AL11: =J11*$R$11/1000000 -> 128090.63 | AM11: =K11*$R$11/1000000 -> 160113.28 | ... AQ11: =O11*$R$11/1000000 -> 224158.59
A12: قیر 60/70 FOB | B12: 0.10555556 | C12: =SUM(D12:O12) -> 0 | D12: 0 | E12: 0 | F12: 0 | G12: 0 | H12: 0 | I12: 0 | J12: 0 | K12: 0 | L12: 0 | M12: 0 | N12: 0 | O12: 0 | P12: 176.28089 | Q12: 152.05486 | R12: =IFERROR(SUM(T12:AB12)/C12,0) -> 0 | S12: =R12*C12 -> 0 | T12: =C12*4232000 -> 0 | U12: =C12/0.98*3735000 -> 0 | AA12: =C12/1550000*96000000000 -> 0 | AB12: =C12/1550000*333000000000 -> 0 | AF12: =D12*$R$12/1000000 -> 0 | AG12: =E12*$R$12/1000000 -> 0 | AH12: =F12*$R$12/1000000 -> 0 | AI12: =G12*$R$12/1000000 -> 0 | AJ12: =H12*$R$12/1000000 -> 0 | AK12: =I12*$R$12/1000000 -> 0 | AL12: =J12*$R$12/1000000 -> 0 | AM12: =K12*$R$12/1000000 -> 0 | ... AQ12: =O12*$R$12/1000000 -> 0
A13: قیر 60/70 مظروفEX | B13: 0.066666667 | C13: =SUM(D13:O13) -> 60000 | D13: 4000 | E13: 5000 | F13: 5000 | G13: 4000 | H13: 3666.6667 | I13: 3333.3333 | J13: 4000 | K13: 5000 | L13: 6000 | M13: 6333.3333 | N13: 6666.6667 | O13: 7000 | P13: 207.28089 | Q13: 178.79457 | R13: =IFERROR(SUM(T13:AB13)/C13,0) -> 5473837.7 | S13: =R13*C13 -> 3.2843026e+11 | U13: =C13/0.98*3735000 -> 2.2867347e+11 | W13: =C13*1068000 -> 64080000000 | Z13: =C13*317839 -> 19070340000 | AA13: =C13/1550000*96000000000 -> 3.716129e+09 | AB13: =C13/1550000*333000000000 -> 1.2890323e+10 | AF13: =D13*$R$13/1000000 -> 21895.351 | AG13: =E13*$R$13/1000000 -> 27369.188 | AH13: =F13*$R$13/1000000 -> 27369.188 | AI13: =G13*$R$13/1000000 -> 21895.351 | AJ13: =H13*$R$13/1000000 -> 20070.738 | AK13: =I13*$R$13/1000000 -> 18246.126 | AL13: =J13*$R$13/1000000 -> 21895.351 | AM13: =K13*$R$13/1000000 -> 27369.188 | ... AQ13: =O13*$R$13/1000000 -> 38316.864
A14: قیر 60/70 مظروف FOB | B14: 0.16666667 | C14: =SUM(D14:O14) -> 150000 | D14: 10000 | E14: 12500 | F14: 12500 | G14: 10000 | H14: 9166.6667 | I14: 8333.3333 | J14: 10000 | K14: 12500 | L14: 15000 | M14: 15833.333 | N14: 16666.667 | O14: 17500 | P14: 231.28089 | Q14: 199.49629 | R14: =IFERROR(SUM(T14:AB14)/C14,0) -> 6183837.7 | S14: =R14*C14 -> 9.2757565e+11 | U14: =C14/0.98*3735000 -> 5.7168367e+11 | W14: =C14*1068000 -> 160200000000 | X14: =C14*450000 -> 67500000000 | Y14: =C14*260000 -> 39000000000 | Z14: =C14*317839 -> 47675850000 | AA14: =C14/1550000*96000000000 -> 9.2903226e+09 | AB14: =C14/1550000*333000000000 -> 3.2225806e+10 | AF14: =D14*$R$14/1000000 -> 61838.377 | AG14: =E14*$R$14/1000000 -> 77297.971 | AH14: =F14*$R$14/1000000 -> 77297.971 | AI14: =G14*$R$14/1000000 -> 61838.377 | AJ14: =H14*$R$14/1000000 -> 56685.179 | AK14: =I14*$R$14/1000000 -> 51531.981 | AL14: =J14*$R$14/1000000 -> 61838.377 | AM14: =K14*$R$14/1000000 -> 77297.971 | ... AQ14: =O14*$R$14/1000000 -> 108217.16
A15: قیر 85/100 فله | B15: 0.13333333 | C15: =SUM(D15:O15) -> 125000 | D15: 8333.3333 | E15: 10416.667 | F15: 10416.667 | G15: 8333.3333 | H15: 7638.8889 | I15: 6944.4444 | J15: 8333.3333 | K15: 10416.667 | L15: 12500 | M15: 13194.444 | N15: 13888.889 | O15: 14583.333 | P15: 159.28089 | Q15: 137.39114 | R15: =IFERROR(SUM(T15:AB15)/C15,0) -> 4087998.7 | S15: =R15*C15 -> 5.1099984e+11 | U15: =C15/0.98*3735000 -> 4.7640306e+11 | AA15: =C15/1550000*96000000000 -> 7.7419355e+09 | AB15: =C15/1550000*333000000000 -> 2.6854839e+10 | AF15: =D15*$R$15/1000000 -> 34066.656 | AG15: =E15*$R$15/1000000 -> 42583.32 | AH15: =F15*$R$15/1000000 -> 42583.32 | AI15: =G15*$R$15/1000000 -> 34066.656 | AJ15: =H15*$R$15/1000000 -> 31227.768 | AK15: =I15*$R$15/1000000 -> 28388.88 | AL15: =J15*$R$15/1000000 -> 34066.656 | AM15: =K15*$R$15/1000000 -> 42583.32 | ... AQ15: =O15*$R$15/1000000 -> 59616.647
A16: قیر 85/100 FOB | B16: 0.0055555556 | C16: =SUM(D16:O16) -> 0 | D16: 0 | E16: 0 | F16: 0 | G16: 0 | H16: 0 | I16: 0 | J16: 0 | K16: 0 | L16: 0 | M16: 0 | N16: 0 | O16: 0 | P16: 176.28089 | Q16: 152.05486 | R16: =IFERROR(SUM(T16:AB16)/C16,0) -> 0 | S16: =R16*C16 -> 0 | T16: =C16*4232000 -> 0 | U16: =C16/0.98*3735000 -> 0 | AA16: =C16/1550000*96000000000 -> 0 | AB16: =C16/1550000*333000000000 -> 0 | AF16: =D16*$R$16/1000000 -> 0 | AG16: =E16*$R$16/1000000 -> 0 | AH16: =F16*$R$16/1000000 -> 0 | AI16: =G16*$R$16/1000000 -> 0 | AJ16: =H16*$R$16/1000000 -> 0 | AK16: =I16*$R$16/1000000 -> 0 | AL16: =J16*$R$16/1000000 -> 0 | AM16: =K16*$R$16/1000000 -> 0 | ... AQ16: =O16*$R$16/1000000 -> 0
A17: قیر 85/100 مظروفEX | B17: 0.016666667 | C17: =SUM(D17:O17) -> 15000 | D17: 1000 | E17: 1250 | F17: 1250 | G17: 1000 | H17: 916.66667 | I17: 833.33333 | J17: 1000 | K17: 1250 | L17: 1500 | M17: 1583.3333 | N17: 1666.6667 | O17: 1750 | P17: 207.28089 | Q17: 178.79457 | R17: =IFERROR(SUM(T17:AB17)/C17,0) -> 5473837.7 | S17: =R17*C17 -> 8.2107565e+10 | U17: =C17/0.98*3735000 -> 5.7168367e+10 | W17: =C17*1068000 -> 16020000000 | Z17: =C17*317839 -> 4767585000 | AA17: =C17/1550000*96000000000 -> 9.2903226e+08 | AB17: =C17/1550000*333000000000 -> 3.2225806e+09 | AF17: =D17*$R$17/1000000 -> 5473.8377 | AG17: =E17*$R$17/1000000 -> 6842.2971 | AH17: =F17*$R$17/1000000 -> 6842.2971 | AI17: =G17*$R$17/1000000 -> 5473.8377 | AJ17: =H17*$R$17/1000000 -> 5017.6845 | AK17: =I17*$R$17/1000000 -> 4561.5314 | AL17: =J17*$R$17/1000000 -> 5473.8377 | AM17: =K17*$R$17/1000000 -> 6842.2971 | ... AQ17: =O17*$R$17/1000000 -> 9579.2159
A18: قیر 85/100 مظروف FOB | B18: 0.027777778 | C18: =SUM(D18:O18) -> 25000 | D18: 1666.6667 | E18: 2083.3333 | F18: 2083.3333 | G18: 1666.6667 | H18: 1527.7778 | I18: 1388.8889 | J18: 1666.6667 | K18: 2083.3333 | L18: 2500 | M18: 2638.8889 | N18: 2777.7778 | O18: 2916.6667 | P18: 231.28089 | Q18: 199.49629 | R18: =IFERROR(SUM(T18:AB18)/C18,0) -> 6183837.7 | S18: =R18*C18 -> 1.5459594e+11 | U18: =C18/0.98*3735000 -> 9.5280612e+10 | W18: =C18*1068000 -> 26700000000 | X18: =C18*450000 -> 11250000000 | Y18: =C18*260000 -> 6500000000 | Z18: =C18*317839 -> 7945975000 | AA18: =C18/1550000*96000000000 -> 1.5483871e+09 | AB18: =C18/1550000*333000000000 -> 5.3709677e+09 | AF18: =D18*$R$18/1000000 -> 10306.396 | AG18: =E18*$R$18/1000000 -> 12882.995 | AH18: =F18*$R$18/1000000 -> 12882.995 | AI18: =G18*$R$18/1000000 -> 10306.396 | AJ18: =H18*$R$18/1000000 -> 9447.5298 | AK18: =I18*$R$18/1000000 -> 8588.6634 | AL18: =J18*$R$18/1000000 -> 10306.396 | AM18: =K18*$R$18/1000000 -> 12882.995 | ... AQ18: =O18*$R$18/1000000 -> 18036.193
A19: قیر mc/250 | B19: 0 | C19: =SUM(D19:O19) -> 0 | D19: 0 | E19: 0 | F19: 0 | G19: 0 | H19: 0 | I19: 0 | J19: 0 | K19: 0 | L19: 0 | M19: 0 | N19: 0 | O19: 0 | P19: - | R19: =IFERROR(SUM(T19:AB19)/C19,0) -> 0 | S19: =R19*C19 -> 0 | U19: =C19*0.75/0.98*3735000 -> 0 | AA19: =C19/1550000*96000000000 -> 0 | AB19: =C19/1550000*333000000000 -> 0 | AF19: =D19*$R$19/1000000 -> 0 | AG19: =E19*$R$19/1000000 -> 0 | AH19: =F19*$R$19/1000000 -> 0 | AI19: =G19*$R$19/1000000 -> 0 | AJ19: =H19*$R$19/1000000 -> 0 | AK19: =I19*$R$19/1000000 -> 0 | AL19: =J19*$R$19/1000000 -> 0 | AM19: =K19*$R$19/1000000 -> 0 | ... AQ19: =O19*$R$19/1000000 -> 0
A20: قیر VG فله | B20: 0.022222222 | C20: =SUM(D20:O20) -> 40000 | D20: 2666.6667 | E20: 3333.3333 | F20: 3333.3333 | G20: 2666.6667 | H20: 2444.4444 | I20: 2222.2222 | J20: 2666.6667 | K20: 3333.3333 | L20: 4000 | M20: 4222.2222 | N20: 4444.4444 | O20: 4666.6667 | P20: 164.28089 | Q20: 141.704 | R20: =IFERROR(SUM(T20:AB20)/C20,0) -> 4087998.7 | S20: =R20*C20 -> 1.6351995e+11 | U20: =C20/0.98*3735000 -> 1.5244898e+11 | AA20: =C20/1550000*96000000000 -> 2.4774194e+09 | AB20: =C20/1550000*333000000000 -> 8.5935484e+09 | AF20: =D20*$R$20/1000000 -> 10901.33 | AG20: =E20*$R$20/1000000 -> 13626.662 | AH20: =F20*$R$20/1000000 -> 13626.662 | AI20: =G20*$R$20/1000000 -> 10901.33 | AJ20: =H20*$R$20/1000000 -> 9992.8857 | AK20: =I20*$R$20/1000000 -> 9084.4415 | AL20: =J20*$R$20/1000000 -> 10901.33 | AM20: =K20*$R$20/1000000 -> 13626.662 | ... AQ20: =O20*$R$20/1000000 -> 19077.327
A21: قیر VG بشکه FOB | B21: 0.011111111 | C21: =SUM(D21:O21) -> 10000 | D21: 666.66667 | E21: 833.33333 | F21: 833.33333 | G21: 666.66667 | H21: 611.11111 | I21: 555.55556 | J21: 666.66667 | K21: 833.33333 | L21: 1000 | M21: 1055.5556 | N21: 1111.1111 | O21: 1166.6667 | P21: 235.28089 | Q21: 202.94657 | R21: =IFERROR(SUM(T21:AB21)/C21,0) -> 6183837.7 | S21: =R21*C21 -> 6.1838377e+10 | U21: =C21/0.98*3735000 -> 3.8112245e+10 | W21: =C21*1068000 -> 10680000000 | X21: =C21*450000 -> 4500000000 | Y21: =C21*260000 -> 2600000000 | Z21: =C21*317839 -> 3178390000 | AA21: =C21/1550000*96000000000 -> 6.1935484e+08 | AB21: =C21/1550000*333000000000 -> 2.1483871e+09 | AF21: =D21*$R$21/1000000 -> 4122.5585 | AG21: =E21*$R$21/1000000 -> 5153.1981 | AH21: =F21*$R$21/1000000 -> 5153.1981 | AI21: =G21*$R$21/1000000 -> 4122.5585 | AJ21: =H21*$R$21/1000000 -> 3779.0119 | AK21: =I21*$R$21/1000000 -> 3435.4654 | AL21: =J21*$R$21/1000000 -> 4122.5585 | AM21: =K21*$R$21/1000000 -> 5153.1981 | ... AQ21: =O21*$R$21/1000000 -> 7214.4773
A22: قیر VG فله FOB | B22: 0.022222222 | C22: =SUM(D22:O22) -> 0 | D22: 0 | E22: 0 | F22: 0 | G22: 0 | H22: 0 | I22: 0 | J22: 0 | K22: 0 | L22: 0 | M22: 0 | N22: 0 | O22: 0 | P22: 182.28089 | Q22: 157.23029 | R22: =IFERROR(SUM(T22:AB22)/C22,0) -> 0 | S22: =R22*C22 -> 0 | T22: =C22*4232000 -> 0 | U22: =C22/0.98*3735000 -> 0 | AA22: =C22/1550000*96000000000 -> 0 | AB22: =C22/1550000*333000000000 -> 0 | AF22: =D22*$R$22/1000000 -> 0 | AG22: =E22*$R$22/1000000 -> 0 | AH22: =F22*$R$22/1000000 -> 0 | AI22: =G22*$R$22/1000000 -> 0 | AJ22: =H22*$R$22/1000000 -> 0 | AK22: =I22*$R$22/1000000 -> 0 | AL22: =J22*$R$22/1000000 -> 0 | AM22: =K22*$R$22/1000000 -> 0 | ... AQ22: =O22*$R$22/1000000 -> 0
A23: سایر قیرها | B23: 0.0055555556 | C23: =SUM(D23:O23) -> 5000 | D23: 333.33333 | E23: 416.66667 | F23: 416.66667 | G23: 333.33333 | H23: 305.55556 | I23: 277.77778 | J23: 333.33333 | K23: 416.66667 | L23: 500 | M23: 527.77778 | N23: 555.55556 | O23: 583.33333 | P23: 165.28089 | Q23: 142.56657 | R23: =IFERROR(SUM(T23:AB23)/C23,0) -> 4087998.7 | S23: =R23*C23 -> 2.0439993e+10 | U23: =C23/0.98*3735000 -> 1.9056122e+10 | AA23: =C23/1550000*96000000000 -> 3.0967742e+08 | AB23: =C23/1550000*333000000000 -> 1.0741935e+09 | AF23: =D23*$R$23/1000000 -> 1362.6662 | AG23: =E23*$R$23/1000000 -> 1703.3328 | AH23: =F23*$R$23/1000000 -> 1703.3328 | AI23: =G23*$R$23/1000000 -> 1362.6662 | AJ23: =H23*$R$23/1000000 -> 1249.1107 | AK23: =I23*$R$23/1000000 -> 1135.5552 | AL23: =J23*$R$23/1000000 -> 1362.6662 | AM23: =K23*$R$23/1000000 -> 1703.3328 | ... AQ23: =O23*$R$23/1000000 -> 2384.6659
A24: جمع فروش صادراتی | B24: 1 | C24: =SUM(C11:C23) -> 900000 | D24: =SUM(D11:D23) -> 60000 | E24: =SUM(E11:E23) -> 75000 | F24: =SUM(F11:F23) -> 75000 | G24: =SUM(G11:G23) -> 60000 | H24: =SUM(H11:H23) -> 55000 | I24: =SUM(I11:I23) -> 50000 | J24: =SUM(J11:J23) -> 60000 | ... O24: =SUM(O11:O23) -> 105000 | S24: =SUM(S11:S23) -> 4.170867e+12 | T24: =SUM(T11:T23) -> 0 | U24: =SUM(U11:U23) -> 3.430102e+12 | V24: =SUM(V11:V23) -> 0 | W24: =SUM(W11:W23) -> 277680000000 | X24: =SUM(X11:X23) -> 83250000000 | Y24: =SUM(Y11:Y23) -> 48100000000 | Z24: =SUM(Z11:Z23) -> 82638140000 | ... AB24: =SUM(AB11:AB23) -> 1.9335484e+11
A25: جمع کل | C25: =C24+C9 -> 1550000 | D25: =D24+D9 -> 95000 | E25: =E24+E9 -> 125000 | F25: =F24+F9 -> 135000 | G25: =G24+G9 -> 125000 | H25: =H24+H9 -> 125000 | I25: =I24+I9 -> 130000 | J25: =J24+J9 -> 135000 | ... O25: =O24+O9 -> 130000 | S25: =S24+S9 -> 6.838316e+12 | T25: =T24+T9 -> 0 | U25: =U24+U9 -> 5.8949734e+12 | V25: =V24+V9 -> 2.267445e+10 | W25: =W24+W9 -> 277680000000 | X25: =X24+X9 -> 83250000000 | Y25: =Y24+Y9 -> 48100000000 | Z25: =Z24+Z9 -> 82638140000 | ... AB25: =AB24+AB9 -> 333000000000
C30: سه ماهه اول 95 | E30: سه ماهه دوم 95 | G30: سه ماهه سوم 95 | I30: سه ماهه چهارم 95
C31: مقدار فروش | D31: بهای تمام شده | E31: مقدار فروش | F31: بهای تمام شده | G31: مقدار فروش | H31: بهای تمام شده | I31: مقدار فروش | J31: بهای تمام شده
A32: قیر 60/70 فله | C32: =SUM(D3:F3,D11:F12) -> 140897.44 | D32: =SUM(AF3:AH3,AF11:AH12) -> 575988.53 | E32: =SUM(G3:I3,G11:I12) -> 132474.36 | F32: =SUM(AI3:AK3,AI11:AK12) -> 541555.01 | G32: =SUM(J3:L3,J11:L12) -> 158423.08 | H32: =SUM(AL3:AN3,AL11:AN12) -> 647633.33 | I32: =SUM(M3:O3,M11:O12) -> 178205.13 | J32: =SUM(AO3:AQ3,AO11:AQ12) -> 728502.33
A33: قیر 60/70 مظروف | C33: =SUM(D13:F14) -> 49000 | D33: =SUM(AF13:AH14) -> 293068.05 | E33: =SUM(G13:I14) -> 38500 | F33: =SUM(AI13:AK14) -> 230267.75 | G33: =SUM(J13:L14) -> 52500 | H33: =SUM(AL13:AN14) -> 314001.48 | I33: =SUM(M13:O14) -> 70000 | J33: =SUM(AO13:AQ14) -> 418668.64
A34: قیر 85/100 فله | C34: =SUM(D4:F4,D15:F16) -> 47682.051 | D34: =SUM(AF4:AH4,AF15:AH16) -> 194924.16 | E34: =SUM(G4:I4,G15:I16) -> 50370.513 | F34: =SUM(AI4:AK4,AI15:AK16) -> 205914.59 | G34: =SUM(J4:L4,J15:L16) -> 55511.538 | H34: =SUM(AL4:AN4,AL15:AN16) -> 226931.1 | I34: =SUM(M4:O4,M15:O16) -> 54435.897 | J34: =SUM(AO4:AQ4,AO15:AQ16) -> 222533.88
A35: قیر 85/100 مظروف | C35: =SUM(D17:F18) -> 9333.3333 | D35: =SUM(AF17:AH18) -> 55230.818 | E35: =SUM(G17:I18) -> 7333.3333 | F35: =SUM(AI17:AK18) -> 43395.643 | G35: =SUM(J17:L18) -> 10000 | H35: =SUM(AL17:AN18) -> 59175.877 | I35: =SUM(M17:O18) -> 13333.333 | J35: =SUM(AO17:AQ18) -> 78901.169
A36: انواع قیرهای PG | C36: =SUM(D7:F7) -> 91461.538 | D36: =SUM(AF7:AH7) -> 373894.65 | E36: =SUM(G7:I7) -> 135615.38 | F36: =SUM(AI7:AK7) -> 554395.51 | G36: =SUM(J7:L7) -> 119846.15 | H36: =SUM(AL7:AN7) -> 489930.92 | I36: =SUM(M7:O7) -> 63076.923 | J36: =SUM(AO7:AQ7) -> 257858.38
A37: قیر MC250 | C37: =SUM(D5:F5,D19:F19) -> 2230.7692 | D37: =SUM(AF5:AH5,AF19:AH19) -> 12052.038 | E37: =SUM(G5:I5,G19:I19) -> 3307.6923 | F37: =SUM(AI5:AK5,AI19:AK19) -> 17870.263 | G37: =SUM(J5:L5,J19:L19) -> 2923.0769 | H37: =SUM(AL5:AN5,AL19:AN19) -> 15792.325 | I37: =SUM(M5:O5,M19:O19) -> 1538.4615 | J37: =SUM(AO5:AQ5,AO19:AQ19) -> 8311.7501
A38: قیر امولسیون | C38: =SUM(D6:F6) -> 446.15385 | D38: =SUM(AF6:AH6) -> 1177.7272 | E38: =SUM(G6:I6) -> 661.53846 | F38: =SUM(AI6:AK6) -> 1746.2852 | G38: =SUM(J6:L6) -> 584.61538 | H38: =SUM(AL6:AN6) -> 1543.2287 | I38: =SUM(M6:O6) -> 307.69231 | J38: =SUM(AO6:AQ6) -> 812.22565
A39: قیر VG فله | C39: =SUM(D20:F20,D22:F22) -> 9333.3333 | D39: =SUM(AF20:AH20,AF22:AH22) -> 38154.654 | E39: =SUM(G20:I20,G22:I22) -> 7333.3333 | F39: =SUM(AI20:AK20,AI22:AK22) -> 29978.657 | G39: =SUM(J20:L20,J22:L22) -> 10000 | H39: =SUM(AL20:AN20,AL22:AN22) -> 40879.987 | I39: =SUM(M20:O20,M22:O22) -> 13333.333 | J39: =SUM(AO20:AQ20,AO22:AQ22) -> 54506.649
A40: قیر VG مظروف | C40: =SUM(D21:F21) -> 2333.3333 | D40: =SUM(AF21:AH21) -> 14428.955 | E40: =SUM(G21:I21) -> 1833.3333 | F40: =SUM(AI21:AK21) -> 11337.036 | G40: =SUM(J21:L21) -> 2500 | H40: =SUM(AL21:AN21) -> 15459.594 | I40: =SUM(M21:O21) -> 3333.3333 | J40: =SUM(AO21:AQ21) -> 20612.792
A41: سایر محصولات | C41: =SUM(D8:F8,D23:F23) -> 2282.0513 | D41: =SUM(AF8:AH8,AF23:AH23) -> 9329.0226 | E41: =SUM(G8:I8,G23:I23) -> 2570.5128 | F41: =SUM(AI8:AK8,AI23:AK23) -> 10508.253 | G41: =SUM(J8:L8,J23:L23) -> 2711.5385 | H41: =SUM(AL8:AN8,AL23:AN23) -> 11084.766 | I41: =SUM(M8:O8,M23:O23) -> 2435.8974 | J41: =SUM(AO8:AQ8,AO23:AQ23) -> 9957.9455

Sheet مظروف سازی 95
A1: شرح | B1: سهم از کل | C1: مقدار فروش-تن | D1: فروردین | E1: اردیبهشت | F1: خرداد | G1: تیر | H1: مرداد | I1: شهریور | J1: مهر | K1: آبان | L1: آذر | M1: دی | N1: بهمن | O1: اسفند | P1: جمع تولید | Q1: وکیوم باتوم | R1: نفت سفید | S1: ورق | T1: حمل | U1: استافینگ | V1: مظروف سازی | W1: دستمزد | X1: سایر هزینه ها | Z1: نرخ مواد | AA1: فروردین | AB1: اردیبهشت | AC1: خرداد | AD1: تیر | AE1: مرداد | AF1: شهریور | AG1: مهر | AH1: آبان | AI1: آذر | AJ1: دی | AK1: بهمن | AL1: اسفند
A2: الف-تولید داخلی | C2: 650000 | D2: 40000 | E2: 55000 | F2: 55000 | G2: 70000 | H2: 75000 | I2: 85000 | J2: 75000 | K2: 60000 | L2: 45000 | M2: 40000 | N2: 30000 | O2: 20000
A3: قیر 60/70 | B3: 0.097902098 | C3: =SUM(D3:O3) -> 140000 | D3: 8615.3846 | E3: 11846.154 | F3: 11846.154 | G3: 15076.923 | H3: 16153.846 | I3: 18307.692 | J3: 16153.846 | K3: 12923.077 | L3: 9692.3077 | M3: 8615.3846 | N3: 6461.5385 | O3: 4307.6923 | P3: =C3 -> 140000 | Q3: =P3/0.98*3735000 -> 5.3357143e+11 | W3: =P3/1550000*96000000000 -> 8.6709677e+09 | X3: =P3/1550000*333000000000 -> 3.0077419e+10 | Y3: =T3+U3 -> 0 | Z3: =IFERROR(Y3/P3,0) -> 0 | AA3: =D3*$Z$3 -> 0 | AB3: =E3*$Z$3 -> 0 | AC3: =F3*$Z$3 -> 0 | AD3: =G3*$Z$3 -> 0 | AE3: =H3*$Z$3 -> 0 | AF3: =I3*$Z$3 -> 0 | AG3: =J3*$Z$3 -> 0 | AH3: =K3*$Z$3 -> 0 | ... AL3: =O3*$Z$3 -> 0
A4: قیر 85/100 | B4: 0.058041958 | C4: =SUM(D4:O4) -> 83000 | D4: 5107.6923 | E4: 7023.0769 | F4: 7023.0769 | G4: 8938.4615 | H4: 9576.9231 | I4: 10853.846 | J4: 9576.9231 | K4: 7661.5385 | L4: 5746.1538 | M4: 5107.6923 | N4: 3830.7692 | O4: 2553.8462 | P4: =C4 -> 83000 | Q4: =P4/0.98*3735000 -> 3.1633163e+11 | W4: =P4/1550000*96000000000 -> 5.1406452e+09 | X4: =P4/1550000*333000000000 -> 1.7831613e+10 | Y4: =T4+U4 -> 0 | Z4: =IFERROR(Y4/P4,0) -> 0 | AA4: =D4*$Z$4 -> 0 | AB4: =E4*$Z$4 -> 0 | AC4: =F4*$Z$4 -> 0 | AD4: =G4*$Z$4 -> 0 | AE4: =H4*$Z$4 -> 0 | AF4: =I4*$Z$4 -> 0 | AG4: =J4*$Z$4 -> 0 | AH4: =K4*$Z$4 -> 0 | ... AL4: =O4*$Z$4 -> 0
A5: قیر mc/250 | B5: 0.006993007 | C5: =SUM(D5:O5) -> 32000 | D5: =615.384615384615*(32/10) -> 1969.2308 | E5: =846.153846153846*(32/10) -> 2707.6923 | F5: =846.153846153846*(32/10) -> 2707.6923 | G5: =1076.92307692308*(32/10) -> 3446.1538 | H5: =1153.84615384615*(32/10) -> 3692.3077 | I5: =1307.69230769231*(32/10) -> 4184.6154 | J5: =1153.84615384615*(32/10) -> 3692.3077 | K5: =923.076923076923*(32/10) -> 2953.8462 | L5: =692.307692307692*(32/10) -> 2215.3846 | M5: =615.384615384615*(32/10) -> 1969.2308 | N5: =461.538461538462*(32/10) -> 1476.9231 | O5: =307.692307692308*(32/10) -> 984.61538 | P5: =C5 -> 32000 | Q5: =P5*0.75/0.98*3735000 -> 9.1469388e+10 | R5: =P5*0.25*9069780 -> 7.255824e+10 | W5: =P5/1550000*96000000000 -> 1.9819355e+09 | X5: =P5/1550000*333000000000 -> 6.8748387e+09 | Y5: =T5+U5 -> 0 | Z5: =IFERROR(Y5/P5,0) -> 0 | AA5: =D5*$Z$5 -> 0 | AB5: =E5*$Z$5 -> 0 | AC5: =F5*$Z$5 -> 0 | AD5: =G5*$Z$5 -> 0 | AE5: =H5*$Z$5 -> 0 | AF5: =I5*$Z$5 -> 0 | AG5: =J5*$Z$5 -> 0 | AH5: =K5*$Z$5 -> 0 | ... AL5: =O5*$Z$5 -> 0
A6: قیر امولسیون | B6: 0.0013986014 | C6: =SUM(D6:O6) -> 2000 | D6: 123.07692 | E6: =2000-SUM(D6,F6:O6) -> 169.23077 | F6: 169.23077 | G6: 215.38462 | H6: 230.76923 | I6: 261.53846 | J6: 230.76923 | K6: 184.61538 | L6: 138.46154 | M6: 123.07692 | N6: 92.307692 | O6: 61.538462 | P6: =C6 -> 2000 | Q6: =P6*0.62/0.98*3735000 -> 4.7259184e+09 | W6: =P6/1550000*96000000000 -> 1.2387097e+08 | X6: =P6/1550000*333000000000 -> 4.2967742e+08 | Y6: =T6+U6 -> 0 | Z6: =IFERROR(Y6/P6,0) -> 0 | AA6: =D6*$Z$6 -> 0 | AB6: =E6*$Z$6 -> 0 | AC6: =F6*$Z$6 -> 0 | AD6: =G6*$Z$6 -> 0 | AE6: =H6*$Z$6 -> 0 | AF6: =I6*$Z$6 -> 0 | AG6: =J6*$Z$6 -> 0 | AH6: =K6*$Z$6 -> 0 | ... AL6: =O6*$Z$6 -> 0
A7: انواع قیر های PG | B7: 0.28671329 | C7: =SUM(D7:O7) -> 410000 | D7: 25230.769 | E7: 34692.308 | F7: 34692.308 | G7: 44153.846 | H7: 47307.692 | I7: 53615.385 | J7: 47307.692 | K7: 37846.154 | L7: 28384.615 | M7: 25230.769 | N7: 18923.077 | O7: 12615.385 | P7: =C7 -> 410000 | Q7: =P7/0.98*3735000 -> 1.562602e+12 | W7: =P7/1550000*96000000000 -> 2.5393548e+10 | X7: =P7/1550000*333000000000 -> 8.8083871e+10 | Y7: =T7+U7 -> 0 | Z7: =IFERROR(Y7/P7,0) -> 0 | AA7: =D7*$Z$7 -> 0 | AB7: =E7*$Z$7 -> 0 | AC7: =F7*$Z$7 -> 0 | AD7: =G7*$Z$7 -> 0 | AE7: =H7*$Z$7 -> 0 | AF7: =I7*$Z$7 -> 0 | AG7: =J7*$Z$7 -> 0 | AH7: =K7*$Z$7 -> 0 | ... AL7: =O7*$Z$7 -> 0
A8: سایر قیرها | B8: 0.0034965035 | C8: =SUM(D8:O8) -> 5000 | D8: 307.69231 | E8: 423.07692 | F8: 423.07692 | G8: 538.46154 | H8: 576.92308 | I8: 653.84615 | J8: 576.92308 | K8: 461.53846 | L8: 346.15385 | M8: 307.69231 | N8: 230.76923 | O8: 153.84615 | P8: =C8 -> 5000 | Q8: =P8/0.98*3735000 -> 1.9056122e+10 | W8: =P8/1550000*96000000000 -> 3.0967742e+08 | X8: =P8/1550000*333000000000 -> 1.0741935e+09 | Y8: =T8+U8 -> 0 | Z8: =IFERROR(Y8/P8,0) -> 0 | AA8: =D8*$Z$8 -> 0 | AB8: =E8*$Z$8 -> 0 | AC8: =F8*$Z$8 -> 0 | AD8: =G8*$Z$8 -> 0 | AE8: =H8*$Z$8 -> 0 | AF8: =I8*$Z$8 -> 0 | AG8: =J8*$Z$8 -> 0 | AH8: =K8*$Z$8 -> 0 | ... AL8: =O8*$Z$8 -> 0
A9: جمع تولید داخلی | C9: =SUM(C3:C8) -> 672000 | D9: 40000 | E9: 55000 | F9: 55000 | G9: 70000 | H9: 75000 | I9: 85000 | J9: 75000 | K9: 60000 | L9: 45000 | M9: 40000 | N9: 30000 | O9: 20000 | Q9: =P9/0.98*3735000 -> 0 | W9: =P9/1550000*96000000000 -> 0 | X9: =P9/1550000*333000000000 -> 0 | Y9: =T9+U9 -> 0 | Z9: =IFERROR(Y9/P9,0) -> 0 | AA9: =D9*Z9 -> 0 | AB9: =E9*AA9 -> 0 | AC9: =F9*AB9 -> 0 | AD9: =G9*AC9 -> 0 | AE9: =H9*AD9 -> 0 | AF9: =I9*AE9 -> 0 | AG9: =J9*AF9 -> 0 | AH9: =K9*AG9 -> 0 | ... AL9: =O9*AK9 -> 0
A10: ب- تولید صادراتی | C10: 780000 | D10: 52000 | E10: 65000 | F10: 65000 | G10: 52000 | H10: 47666.667 | I10: 43333.333 | J10: 52000 | K10: 65000 | L10: 78000 | M10: 82333.333 | N10: 86666.667 | O10: 91000 | Q10: =P10/0.98*3735000 -> 0 | W10: =P10/1550000*96000000000 -> 0 | X10: =P10/1550000*333000000000 -> 0 | Y10: =T10+U10 -> 0 | Z10: =IFERROR(Y10/P10,0) -> 0 | AA10: =D10*Z10 -> 0 | AB10: =E10*AA10 -> 0 | AC10: =F10*AB10 -> 0 | AD10: =G10*AC10 -> 0 | AE10: =H10*AD10 -> 0 | AF10: =I10*AE10 -> 0 | AG10: =J10*AF10 -> 0 | AH10: =K10*AG10 -> 0 | ... AL10: =O10*AK10 -> 0
A11: قیر 60/70 فله EX | B11: 0.26223776 | C11: =SUM(D11:O11) -> 448000 | D11: =31333.3333333333*(448000/470000) -> 29866.667 | E11: =39166.6666666667*(448000/470000) -> 37333.333 | F11: =39166.6666666667*(448000/470000) -> 37333.333 | G11: =31333.3333333333*(448000/470000) -> 29866.667 | H11: =28722.2222222222*(448000/470000) -> 27377.778 | I11: =26111.1111111111*(448000/470000) -> 24888.889 | J11: =31333.3333333333*(448000/470000) -> 29866.667 | K11: =39166.6666666667*(448000/470000) -> 37333.333 | L11: =47000*(448000/470000) -> 44800 | M11: =49611.1111111111*(448000/470000) -> 47288.889 | N11: =52222.2222222222*(448000/470000) -> 49777.778 | O11: =54833.3333333333*(448000/470000) -> 52266.667 | P11: =C11 -> 448000 | Q11: =P11/0.98*3735000 -> 1.7074286e+12 | W11: =P11/1550000*96000000000 -> 2.7747097e+10 | X11: =P11/1550000*333000000000 -> 9.6247742e+10 | Y11: =T11+U11 -> 0 | Z11: =IFERROR(Y11/P11,0) -> 0 | AA11: =D11*$Z$11 -> 0 | AB11: =E11*$Z$11 -> 0 | AC11: =F11*$Z$11 -> 0 | AD11: =G11*$Z$11 -> 0 | AE11: =H11*$Z$11 -> 0 | AF11: =I11*$Z$11 -> 0 | AG11: =J11*$Z$11 -> 0 | AH11: =K11*$Z$11 -> 0 | ... AL11: =O11*$Z$11 -> 0
A12: قیر 60/70 فله FOB | B12: 0 | C12: =SUM(D12:O12) -> 0 | D12: 0 | E12: 0 | F12: 0 | G12: 0 | H12: 0 | I12: 0 | J12: 0 | K12: 0 | L12: 0 | M12: 0 | N12: 0 | O12: 0 | P12: =C12 -> 0 | Q12: =P12/0.98*3735000 -> 0 | W12: =P12/1550000*96000000000 -> 0 | X12: =P12/1550000*333000000000 -> 0 | Y12: =T12+U12 -> 0 | Z12: =IFERROR(Y12/P12,0) -> 0 | AA12: =D12*$Z$12 -> 0 | AB12: =E12*$Z$12 -> 0 | AC12: =F12*$Z$12 -> 0 | AD12: =G12*$Z$12 -> 0 | AE12: =H12*$Z$12 -> 0 | AF12: =I12*$Z$12 -> 0 | AG12: =J12*$Z$12 -> 0 | AH12: =K12*$Z$12 -> 0 | ... AL12: =O12*$Z$12 -> 0
A13: قیر 60/70 مظروفEX | B13: 0.041958042 | C13: =SUM(D13:O13) -> 60000 | D13: 4000 | E13: 5000 | F13: 5000 | G13: 4000 | H13: 3666.6667 | I13: 3333.3333 | J13: 4000 | K13: 5000 | L13: 6000 | M13: 6333.3333 | N13: 6666.6667 | O13: 7000 | P13: =C13 -> 60000 | Q13: =P13/0.98*3735000 -> 2.2867347e+11 | S13: =P13*1068000 -> 64080000000 | V13: =P13*317839 -> 19070340000 | W13: =P13/1550000*96000000000 -> 3.716129e+09 | X13: =P13/1550000*333000000000 -> 1.2890323e+10 | Y13: =T13+U13 -> 0 | Z13: =IFERROR(Y13/P13,0) -> 0 | AA13: =D13*$Z$13 -> 0 | AB13: =E13*$Z$13 -> 0 | AC13: =F13*$Z$13 -> 0 | AD13: =G13*$Z$13 -> 0 | AE13: =H13*$Z$13 -> 0 | AF13: =I13*$Z$13 -> 0 | AG13: =J13*$Z$13 -> 0 | AH13: =K13*$Z$13 -> 0 | ... AL13: =O13*$Z$13 -> 0
A14: قیر 60/70 مظروف FOB | B14: 0.1048951 | C14: =SUM(D14:O14) -> 150000 | D14: 10000 | E14: 12500 | F14: 12500 | G14: 10000 | H14: 9166.6667 | I14: 8333.3333 | J14: 10000 | K14: 12500 | L14: 15000 | M14: 15833.333 | N14: 16666.667 | O14: 17500 | P14: =C14 -> 150000 | Q14: =P14/0.98*3735000 -> 5.7168367e+11 | S14: =P14*1068000 -> 160200000000 | T14: =P14*450000 -> 67500000000 | U14: =P14*260000 -> 39000000000 | V14: =P14*317839 -> 47675850000 | W14: =P14/1550000*96000000000 -> 9.2903226e+09 | X14: =P14/1550000*333000000000 -> 3.2225806e+10 | Y14: =T14+U14 -> 106500000000 | Z14: =IFERROR(Y14/P14,0) -> 710000 | AA14: =D14*$Z$14 -> 7100000000 | AB14: =E14*$Z$14 -> 8875000000 | AC14: =F14*$Z$14 -> 8875000000 | AD14: =G14*$Z$14 -> 7100000000 | AE14: =H14*$Z$14 -> 6.5083333e+09 | AF14: =I14*$Z$14 -> 5.9166667e+09 | AG14: =J14*$Z$14 -> 7100000000 | AH14: =K14*$Z$14 -> 8875000000 | ... AL14: =O14*$Z$14 -> 12425000000
A15: قیر 85/100 فله EX | B15: 0.083916084 | C15: =SUM(D15:O15) -> 125000 | D15: 8333.3333 | E15: 10416.667 | F15: 10416.667 | G15: 8333.3333 | H15: 7638.8889 | I15: 6944.4444 | J15: 8333.3333 | K15: 10416.667 | L15: 12500 | M15: 13194.444 | N15: 13888.889 | O15: 14583.333 | P15: =C15 -> 125000 | Q15: =P15/0.98*3735000 -> 4.7640306e+11 | W15: =P15/1550000*96000000000 -> 7.7419355e+09 | X15: =P15/1550000*333000000000 -> 2.6854839e+10 | Y15: =T15+U15 -> 0 | Z15: =IFERROR(Y15/P15,0) -> 0 | AA15: =D15*$Z$15 -> 0 | AB15: =E15*$Z$15 -> 0 | AC15: =F15*$Z$15 -> 0 | AD15: =G15*$Z$15 -> 0 | AE15: =H15*$Z$15 -> 0 | AF15: =I15*$Z$15 -> 0 | AG15: =J15*$Z$15 -> 0 | AH15: =K15*$Z$15 -> 0 | ... AL15: =O15*$Z$15 -> 0
A16: قیر 85/100 فله FOB | B16: 0 | C16: =SUM(D16:O16) -> 0 | D16: 0 | E16: 0 | F16: 0 | G16: 0 | H16: 0 | I16: 0 | J16: 0 | K16: 0 | L16: 0 | M16: 0 | N16: 0 | O16: 0 | P16: =C16 -> 0 | Q16: =P16/0.98*3735000 -> 0 | W16: =P16/1550000*96000000000 -> 0 | X16: =P16/1550000*333000000000 -> 0 | Y16: =T16+U16 -> 0 | Z16: =IFERROR(Y16/P16,0) -> 0 | AA16: =D16*$Z$16 -> 0 | AB16: =E16*$Z$16 -> 0 | AC16: =F16*$Z$16 -> 0 | AD16: =G16*$Z$16 -> 0 | AE16: =H16*$Z$16 -> 0 | AF16: =I16*$Z$16 -> 0 | AG16: =J16*$Z$16 -> 0 | AH16: =K16*$Z$16 -> 0 | ... AL16: =O16*$Z$16 -> 0
A17: قیر 85/100 مظروفEX | B17: 0.01048951 | C17: =SUM(D17:O17) -> 15000 | D17: 1000 | E17: 1250 | F17: 1250 | G17: 1000 | H17: 916.66667 | I17: 833.33333 | J17: 1000 | K17: 1250 | L17: 1500 | M17: 1583.3333 | N17: 1666.6667 | O17: 1750 | P17: =C17 -> 15000 | Q17: =P17/0.98*3735000 -> 5.7168367e+10 | S17: =P17*1068000 -> 16020000000 | V17: =P17*317839 -> 4767585000 | W17: =P17/1550000*96000000000 -> 9.2903226e+08 | X17: =P17/1550000*333000000000 -> 3.2225806e+09 | Y17: =T17+U17 -> 0 | Z17: =IFERROR(Y17/P17,0) -> 0 | AA17: =D17*$Z$17 -> 0 | AB17: =E17*$Z$17 -> 0 | AC17: =F17*$Z$17 -> 0 | AD17: =G17*$Z$17 -> 0 | AE17: =H17*$Z$17 -> 0 | AF17: =I17*$Z$17 -> 0 | AG17: =J17*$Z$17 -> 0 | AH17: =K17*$Z$17 -> 0 | ... AL17: =O17*$Z$17 -> 0
A18: قیر 85/100 مظروف FOB | B18: 0.017482517 | C18: =SUM(D18:O18) -> 25000 | D18: 1666.6667 | E18: 2083.3333 | F18: 2083.3333 | G18: 1666.6667 | H18: 1527.7778 | I18: 1388.8889 | J18: 1666.6667 | K18: 2083.3333 | L18: 2500 | M18: 2638.8889 | N18: 2777.7778 | O18: 2916.6667 | P18: =C18 -> 25000 | Q18: =P18/0.98*3735000 -> 9.5280612e+10 | S18: =P18*1068000 -> 26700000000 | T18: =P18*450000 -> 11250000000 | U18: =P18*260000 -> 6500000000 | V18: =P18*317839 -> 7945975000 | W18: =P18/1550000*96000000000 -> 1.5483871e+09 | X18: =P18/1550000*333000000000 -> 5.3709677e+09 | Y18: =T18+U18 -> 17750000000 | Z18: =IFERROR(Y18/P18,0) -> 710000 | AA18: =D18*$Z$18 -> 1.1833333e+09 | AB18: =E18*$Z$18 -> 1.4791667e+09 | AC18: =F18*$Z$18 -> 1.4791667e+09 | AD18: =G18*$Z$18 -> 1.1833333e+09 | AE18: =H18*$Z$18 -> 1.0847222e+09 | AF18: =I18*$Z$18 -> 9.8611111e+08 | AG18: =J18*$Z$18 -> 1.1833333e+09 | AH18: =K18*$Z$18 -> 1.4791667e+09 | ... AL18: =O18*$Z$18 -> 2.0708333e+09
A19: قیر mc/250 | B19: 0 | C19: =SUM(D19:O19) -> 0 | D19: 0 | E19: 0 | F19: 0 | G19: 0 | H19: 0 | I19: 0 | J19: 0 | K19: 0 | L19: 0 | M19: 0 | N19: 0 | O19: 0 | P19: =C19 -> 0 | Q19: =P19*0.75/0.98*3735000 -> 0 | W19: =P19/1550000*96000000000 -> 0 | X19: =P19/1550000*333000000000 -> 0 | Y19: =T19+U19 -> 0 | Z19: =IFERROR(Y19/P19,0) -> 0 | AA19: =D19*$Z$19 -> 0 | AB19: =E19*$Z$19 -> 0 | AC19: =F19*$Z$19 -> 0 | AD19: =G19*$Z$19 -> 0 | AE19: =H19*$Z$19 -> 0 | AF19: =I19*$Z$19 -> 0 | AG19: =J19*$Z$19 -> 0 | AH19: =K19*$Z$19 -> 0 | ... AL19: =O19*$Z$19 -> 0
A20: قیر VG فله | B20: 0.013986014 | C20: =SUM(D20:O20) -> 40000 | D20: 2666.6667 | E20: 3333.3333 | F20: 3333.3333 | G20: 2666.6667 | H20: 2444.4444 | I20: 2222.2222 | J20: 2666.6667 | K20: 3333.3333 | L20: 4000 | M20: 4222.2222 | N20: 4444.4444 | O20: 4666.6667 | P20: =C20 -> 40000 | Q20: =P20/0.98*3735000 -> 1.5244898e+11 | W20: =P20/1550000*96000000000 -> 2.4774194e+09 | X20: =P20/1550000*333000000000 -> 8.5935484e+09 | Y20: =T20+U20 -> 0 | Z20: =IFERROR(Y20/P20,0) -> 0 | AA20: =D20*$Z$20 -> 0 | AB20: =E20*$Z$20 -> 0 | AC20: =F20*$Z$20 -> 0 | AD20: =G20*$Z$20 -> 0 | AE20: =H20*$Z$20 -> 0 | AF20: =I20*$Z$20 -> 0 | AG20: =J20*$Z$20 -> 0 | AH20: =K20*$Z$20 -> 0 | ... AL20: =O20*$Z$20 -> 0
A21: قیر VG بشکه FOB | B21: 0.006993007 | C21: =SUM(D21:O21) -> 10000 | D21: 666.66667 | E21: 833.33333 | F21: 833.33333 | G21: 666.66667 | H21: 611.11111 | I21: 555.55556 | J21: 666.66667 | K21: 833.33333 | L21: 1000 | M21: 1055.5556 | N21: 1111.1111 | O21: 1166.6667 | P21: =C21 -> 10000 | Q21: =P21/0.98*3735000 -> 3.8112245e+10 | S21: =P21*1068000 -> 10680000000 | T21: =P21*450000 -> 4500000000 | U21: =P21*260000 -> 2600000000 | V21: =P21*317839 -> 3178390000 | W21: =P21/1550000*96000000000 -> 6.1935484e+08 | X21: =P21/1550000*333000000000 -> 2.1483871e+09 | Y21: =T21+U21 -> 7100000000 | Z21: =IFERROR(Y21/P21,0) -> 710000 | AA21: =D21*$Z$21 -> 4.7333333e+08 | AB21: =E21*$Z$21 -> 5.9166667e+08 | AC21: =F21*$Z$21 -> 5.9166667e+08 | AD21: =G21*$Z$21 -> 4.7333333e+08 | AE21: =H21*$Z$21 -> 4.3388889e+08 | AF21: =I21*$Z$21 -> 3.9444444e+08 | AG21: =J21*$Z$21 -> 4.7333333e+08 | AH21: =K21*$Z$21 -> 5.9166667e+08 | ... AL21: =O21*$Z$21 -> 8.2833333e+08
A22: قیر VG فله FOB | B22: 0 | C22: =SUM(D22:O22) -> 0 | D22: 0 | E22: 0 | F22: 0 | G22: 0 | H22: 0 | I22: 0 | J22: 0 | K22: 0 | L22: 0 | M22: 0 | N22: 0 | O22: 0 | P22: =C22 -> 0 | Q22: =P22/0.98*3735000 -> 0 | W22: =P22/1550000*96000000000 -> 0 | X22: =P22/1550000*333000000000 -> 0 | Y22: =T22+U22 -> 0 | Z22: =IFERROR(Y22/P22,0) -> 0 | AA22: =D22*$Z$22 -> 0 | AB22: =E22*$Z$22 -> 0 | AC22: =F22*$Z$22 -> 0 | AD22: =G22*$Z$22 -> 0 | AE22: =H22*$Z$22 -> 0 | AF22: =I22*$Z$22 -> 0 | AG22: =J22*$Z$22 -> 0 | AH22: =K22*$Z$22 -> 0 | ... AL22: =O22*$Z$22 -> 0
A23: سایر قیرها | B23: 0.0034965035 | C23: =SUM(D23:O23) -> 5000 | D23: 333.33333 | E23: 416.66667 | F23: 416.66667 | G23: 333.33333 | H23: 305.55556 | I23: 277.77778 | J23: 333.33333 | K23: 416.66667 | L23: 500 | M23: 527.77778 | N23: 555.55556 | O23: 583.33333 | P23: =C23 -> 5000 | Q23: =P23/0.98*3735000 -> 1.9056122e+10 | W23: =P23/1550000*96000000000 -> 3.0967742e+08 | X23: =P23/1550000*333000000000 -> 1.0741935e+09 | Y23: =T23+U23 -> 0 | Z23: =IFERROR(Y23/P23,0) -> 0 | AA23: =D23*$Z$23 -> 0 | AB23: =E23*$Z$23 -> 0 | AC23: =F23*$Z$23 -> 0 | AD23: =G23*$Z$23 -> 0 | AE23: =H23*$Z$23 -> 0 | AF23: =I23*$Z$23 -> 0 | AG23: =J23*$Z$23 -> 0 | AH23: =K23*$Z$23 -> 0 | ... AL23: =O23*$Z$23 -> 0
A24: جمع تولید صادراتی | C24: =SUM(C11:C23) -> 878000 | D24: 52000 | E24: 65000 | F24: 65000 | G24: 52000 | H24: 47666.667 | I24: 43333.333 | J24: 52000 | K24: 65000 | L24: 78000 | M24: 82333.333 | N24: 86666.667 | O24: 91000
A25: جمع کل | B25: 1 | C25: =C24+C9 -> 1550000 | D25: 92000 | E25: 120000 | F25: 120000 | G25: 122000 | H25: 122666.67 | I25: 128333.33 | J25: 127000 | K25: 125000 | L25: 123000 | M25: 122333.33 | N25: 116666.67 | O25: 111000 | Q25: =SUM(Q3:Q24) -> 5.8740116e+12 | R25: =SUM(R3:R24) -> 7.255824e+10 | S25: =SUM(S3:S24) -> 277680000000 | T25: =SUM(T3:T24) -> 83250000000 | U25: =SUM(U3:U24) -> 48100000000 | V25: =SUM(V3:V24) -> 82638140000 | W25: =SUM(W3:W24) -> 96000000000 | X25: =SUM(X3:X24) -> 333000000000
C30: سه ماهه اول 95 | E30: سه ماهه دوم 95 | G30: سه ماهه سوم 95 | I30: سه ماهه چهارم 95
C31: مقدار تولید | D31: بهای تمام شده | E31: مقدار تولید | F31: بهای تمام شده | G31: مقدار تولید | H31: بهای تمام شده | I31: مقدار تولید | J31: بهای تمام شده
A32: قیر 60/70 فله | C32: =SUM(D3:F3,D11:F12) -> 136841.03 | D32: =SUM(AA3:AC3,AA11:AC12)/1000000 -> 0 | E32: =SUM(G3:I3,G11:I12) -> 131671.79 | F32: =SUM(AD3:AF3,AD11:AF12)/1000000 -> 0 | G32: =SUM(J3:L3,J11:L12) -> 150769.23 | H32: =SUM(AG3:AI3,AG11:AI12)/1000000 -> 0 | I32: =SUM(M3:O3,M11:O12) -> 168717.95 | J32: =SUM(AJ3:AL3,AJ11:AL12)/1000000 -> 0
A33: قیر 60/70 مظروف | C33: =SUM(D13:F14) -> 49000 | D33: =SUM(AA13:AC14)/1000000 -> 24850 | E33: =SUM(G13:I14) -> 38500 | F33: =SUM(AD13:AF14)/1000000 -> 19525 | G33: =SUM(J13:L14) -> 52500 | H33: =SUM(AG13:AI14)/1000000 -> 26625 | I33: =SUM(M13:O14) -> 70000 | J33: =SUM(AJ13:AL14)/1000000 -> 35500
A34: قیر 85/100 فله | C34: =SUM(D4:F4,D15:F16) -> 48320.513 | D34: =SUM(AA4:AC4,AA15:AC16)/1000000 -> 0 | E34: =SUM(G4:I4,G15:I16) -> 52285.897 | F34: =SUM(AD4:AF4,AD15:AF16)/1000000 -> 0 | G34: =SUM(J4:L4,J15:L16) -> 54234.615 | H34: =SUM(AG4:AI4,AG15:AI16)/1000000 -> 0 | I34: =SUM(M4:O4,M15:O16) -> 53158.974 | J34: =SUM(AJ4:AL4,AJ15:AL16)/1000000 -> 0
A35: قیر 85/100 مظروف | C35: =SUM(D17:F18) -> 9333.3333 | D35: =SUM(AA17:AC18)/1000000 -> 4141.6667 | E35: =SUM(G17:I18) -> 7333.3333 | F35: =SUM(AD17:AF18)/1000000 -> 3254.1667 | G35: =SUM(J17:L18) -> 10000 | H35: =SUM(AG17:AI18)/1000000 -> 4437.5 | I35: =SUM(M17:O18) -> 13333.333 | J35: =SUM(AJ17:AL18)/1000000 -> 5916.6667
A36: انواع قیرهای PG | C36: =SUM(D7:F7) -> 94615.385 | D36: =SUM(AA7:AC7)/1000000 -> 0 | E36: =SUM(G7:I7) -> 145076.92 | F36: =SUM(AD7:AF7)/1000000 -> 0 | G36: =SUM(J7:L7) -> 113538.46 | H36: =SUM(AG7:AI7)/1000000 -> 0 | I36: =SUM(M7:O7) -> 56769.231 | J36: =SUM(AJ7:AL7)/1000000 -> 0
A37: قیر MC250 | C37: =SUM(D5:F5,D19:F19) -> 7384.6154 | D37: =SUM(AA5:AC5,AA19:AC19)/1000000 -> 0 | E37: =SUM(G5:I5,G19:I19) -> 11323.077 | F37: =SUM(AD5:AF5,AD19:AF19)/1000000 -> 0 | G37: =SUM(J5:L5,J19:L19) -> 8861.5385 | H37: =SUM(AG5:AI5,AG19:AI19)/1000000 -> 0 | I37: =SUM(M5:O5,M19:O19) -> 4430.7692 | J37: =SUM(AJ5:AL5,AJ19:AL19)/1000000 -> 0
A38: قیر امولسیون | C38: =SUM(D6:F6) -> 461.53846 | D38: =SUM(AA6:AC6)/1000000 -> 0 | E38: =SUM(G6:I6) -> 707.69231 | F38: =SUM(AD6:AF6)/1000000 -> 0 | G38: =SUM(J6:L6) -> 553.84615 | H38: =SUM(AG6:AI6)/1000000 -> 0 | I38: =SUM(M6:O6) -> 276.92308 | J38: =SUM(AJ6:AL6)/1000000 -> 0
A39: قیر VG فله | C39: =SUM(D20:F20,D22:F22) -> 9333.3333 | D39: =SUM(AA20:AC20,AA22:AC22)/1000000 -> 0 | E39: =SUM(G20:I20,G22:I22) -> 7333.3333 | F39: =SUM(AD20:AF20,AD22:AF22)/1000000 -> 0 | G39: =SUM(J20:L20,J22:L22) -> 10000 | H39: =SUM(AG20:AI20,AG22:AI22)/1000000 -> 0 | I39: =SUM(M20:O20,M22:O22) -> 13333.333 | J39: =SUM(AJ20:AL20,AJ22:AL22)/1000000 -> 0
A40: قیر VG مظروف | C40: =SUM(D21:F21) -> 2333.3333 | D40: =SUM(AA21:AC21)/1000000 -> 1656.6667 | E40: =SUM(G21:I21) -> 1833.3333 | F40: =SUM(AD21:AF21)/1000000 -> 1301.6667 | G40: =SUM(J21:L21) -> 2500 | H40: =SUM(AG21:AI21)/1000000 -> 1775 | I40: =SUM(M21:O21) -> 3333.3333 | J40: =SUM(AJ21:AL21)/1000000 -> 2366.6667
A41: سایر محصولات | C41: =SUM(D8:F8,D23:F23) -> 2320.5128 | D41: =SUM(AA8:AC8,AA23:AC23)/1000000 -> 0 | E41: =SUM(G8:I8,G23:I23) -> 2685.8974 | F41: =SUM(AD8:AF8,AD23:AF23)/1000000 -> 0 | G41: =SUM(J8:L8,J23:L23) -> 2634.6154 | H41: =SUM(AG8:AI8,AG23:AI23)/1000000 -> 0 | I41: =SUM(M8:O8,M23:O23) -> 2358.9744 | J41: =SUM(AJ8:AL8,AJ23:AL23)/1000000 -> 0

Sheet اسناد تعدیلات تلفیق
A1: شماره سند | B1: شرح حساب | C1: مبلغ بدهکار | D1: مبلغ بستانکار | E1: شرح سند | F1: مقدار | G1: نرخ | H1: مبلغ | I1: کالا
A2: 1 | B2: فروش خالص و درآمد ارائه خدمات | C2: 500881.52 | E2: برگشت فروش نفت جی به جی پورنر شش ماهه اول سال 95 | F2: =10500+6000+7500 -> 24000 | G2: =#REF! -> #REF! | H2: =F2*G2 -> #REF! | I2: exw فله
A3: 1 | B3: بهاي تمام شده كالا ي فروش رفته و خدمات ارائه شده | D3: 500881.52 | E3: برگشت فروش نفت جی به جی پورنر شش ماهه اول سال 95 | F3: 18000 | G3: =#REF! -> #REF! | H3: =F3*G3 -> #REF! | I3: exw بشکه
A4: 2 | B4: فروش خالص و درآمد ارائه خدمات | C4: 848170.43 | E4: برگشت فروش نفت جی به جی پورنر شش ماهه دوم سال 95 | F4: =151000-18000 -> 133000 | G4: =#REF! -> #REF! | H4: =F4*G4 -> #REF! | I4: fob بشکه
A5: 2 | B5: بهاي تمام شده كالا ي فروش رفته و خدمات ارائه شده | D5: =C4 -> 848170.43 | E5: برگشت فروش نفت جی به جی پورنر شش ماهه دوم سال 95 | F5: 40000 | G5: =G2 -> #REF! | H5: =F5*G5 -> #REF! | I5: exw فله
A6: 3 | B6: فروش خالص و درآمد ارائه خدمات | C6: =120000*317839/1000000 -> 38140.68 | E6: برگشت فروش جی پورنر به نفت جی شش ماهه اول سال 95 | H6: =SUM(H2:H5) -> #REF!
A7: 3 | B7: بهاي تمام شده كالا ي فروش رفته و خدمات ارائه شده | D7: =C6 -> 38140.68 | E7: برگشت فروش جی پورنر به نفت جی شش ماهه اول سال 95
A8: 4 | B8: فروش خالص و درآمد ارائه خدمات | C8: =140000*317839/1000000 -> 44497.46 | E8: برگشت فروش جی پورنر به نفت جی شش ماهه دوم سال 95
A9: 4 | B9: بهاي تمام شده كالا ي فروش رفته و خدمات ارائه شده | D9: =C8 -> 44497.46 | E9: برگشت فروش جی پورنر به نفت جی شش ماهه دوم سال 95
A10: 5 | B10: فروش خالص و درآمد ارائه خدمات | C10: =3420+26250 -> 29670 | E10: برگشت فروش لیان به نفت جی شش ماهه اول سال 95
A11: 5 | B11: بهاي تمام شده كالا ي فروش رفته و خدمات ارائه شده | D11: =C10 -> 29670 | E11: برگشت فروش لیان به نفت جی شش ماهه اول سال 95
A12: 6 | B12: فروش خالص و درآمد ارائه خدمات | C12: =3420+47600 -> 51020 | E12: برگشت فروش لیان به نفت جی شش ماهه دوم سال 95
A13: 6 | B13: بهاي تمام شده كالا ي فروش رفته و خدمات ارائه شده | D13: =C12 -> 51020 | E13: برگشت فروش لیان به نفت جی شش ماهه دوم سال 95
A14: 7 | B14: خالص ساير درآمدها و هزينه هاي عملياتي | C14: 117750 | E14: برگشت سهم نفت جی از سود تقسیمی شرکت های فرعی
A15: 7 | B15: سود سهام دریافتنی | D15: =C14 -> 117750 | E15: برگشت سهم نفت جی از سود تقسیمی شرکت های فرعی
D18: =73850+6840 -> 80690
