Workbook

Sheet اصلی
A1: شماره پروانه | B1: تاریخ پروانه | C1: شماره حواله | D1: تاریخ حواله | E1: سال حواله | F1: مقدار | G1: نام مشتری | H1: کنترل | I1: تاریخ خروج | J1: تسویه | K1: تاریخ دریافت | L1: مقصد | M1: بسته بندی | N1: گمرک خروجی | O1: کد گمرک | P1: ش.ق
A2: 50100-7166451 | B2: 95/01/24 | C2: 95-951500017 | D2: 95/01/17 | E2: =MID(D2,1,2) -> 95 | F2: 471711 | G2: oasis maritime services l.l.c | H2: true | I2: نامشخص | J2: تسویه | K2: 0 | L2: 0 | M2: - | N2: 0 | O2: 0 | P2: 1394394801001
A3: 50100-7163092 | B3: 95/01/24 | C3: 95-952500001 | D3: 95/01/14 | E3: =MID(D3,1,2) -> 95 | F3: 475716 | G3: oasis maritime services l.l.c | H3: true | I3: نامشخص | J3: تسویه | K3: 0 | L3: 0 | M3: - | N3: 0 | O3: 0 | P3: 1394394801001
A4: 50100-7160987 | B4: 95/01/23 | C4: 95-951500009 | D4: 95/01/15 | E4: =MID(D4,1,2) -> 95 | F4: 700000 | G4: DAXON PETROLEUM | H4: true | I4: نامشخص | J4: تسویه | K4: 0 | L4: 0 | M4: - | N4: 0 | O4: 0 | P4: 1394392647001
A5: 50100-7150210 | B5: 95/01/22 | C5: 95-951500004 | D5: 95/01/10 | E5: =MID(D5,1,2) -> 95 | F5: 997610 | G5: oasis maritime services l.l.c | H5: true | I5: نامشخص | J5: تسویه | K5: 0 | L5: 0 | M5: - | N5: 0 | O5: 0 | P5: 1394394801001
A6: 50100-7129007 | B6: 95/01/16 | C6: 95-951500002 | D6: 95/01/09 | E6: =MID(D6,1,2) -> 95 | F6: 1497000 | G6: oasis maritime services l.l.c | H6: true | I6: نامشخص | J6: تسویه | K6: 0 | L6: 0 | M6: - | N6: 0 | O6: 0 | P6: 1394394801001
A7: 50100-7133359 | B7: 95/01/17 | C7: 95-951500001 | D7: 95/01/08 | E7: =MID(D7,1,2) -> 95 | F7: 37756 | G7: oasis maritime services l.l.c | H7: true | I7: نامشخص | J7: تسویه | K7: 0 | L7: 0 | M7: - | N7: 0 | O7: 0 | P7: 1394394801001
A8: 50100-7156388 | B8: 95/01/23 | C8: 95-951500014 | D8: 95/01/16 | E8: =MID(D8,1,2) -> 95 | F8: 1005590 | G8: oasis maritime services l.l.c | H8: true | I8: نامشخص | J8: تسویه | K8: 0 | L8: 0 | M8: - | N8: 0 | O8: 0 | P8: 1394394801001
A9: 50100-7166844 | B9: 95/01/24 | C9: 95-951500021 | D9: 95/01/17 | E9: =MID(D9,1,2) -> 95 | F9: 2000000 | G9: oasis maritime services l.l.c | H9: true | I9: نامشخص | J9: تسویه | K9: 0 | L9: 0 | M9: - | N9: 0 | O9: 0 | P9: 1394394801001
A10: 50100-7164770 | B10: 95/01/24 | C10: 95-951500014 | D10: 95/01/16 | E10: =MID(D10,1,2) -> 95 | F10: 500020 | G10: oasis maritime services l.l.c | H10: true | I10: نامشخص | J10: تسویه | K10: 0 | L10: 0 | M10: - | N10: 0 | O10: 0 | P10: 1394394801001
A11: 50100-7114515 | B11: 95/01/09 | C11: 95-954100001 | D11: 95/01/08 | E11: =MID(D11,1,2) -> 95 | F11: 2839343 | G11: oasis maritime services l.l.c | H11: true | I11: نامشخص | J11: تسویه | K11: 0 | L11: 0 | M11: - | N11: 0 | O11: 0 | P11: 1394390726001
A12: 50100-7129133 | B12: 95/01/16 | C12: 95-951500002 | D12: 95/01/09 | E12: =MID(D12,1,2) -> 95 | F12: 3000 | G12: oasis maritime services l.l.c | H12: true | I12: نامشخص | J12: تسویه | K12: 0 | L12: 0 | M12: - | N12: 0 | O12: 0 | P12: 1394394801001
A13: 50100-7138613 | B13: 95/01/18 | C13: 95-951500001 | D13: 95/01/08 | E13: =MID(D13,1,2) -> 95 | F13: 962244 | G13: oasis maritime services l.l.c | H13: true | I13: نامشخص | J13: تسویه | K13: 0 | L13: 0 | M13: - | N13: 0 | O13: 0 | P13: 1394394801001
... A49: 50100-7200455 | B49: 95/02/01 | C49: 95-951500028 | D49: 95/01/21 | E49: =MID(D49,1,2) -> 95 | F49: 212220 | G49: oasis maritime services l.l.c | H49: true | I49: نامشخص | J49: تسویه | K49: 0 | L49: 0 | M49: - | N49: 0 | O49: 0 | P49: 1394394801001
A50: 50100-7207118 | B50: 95/02/04 | C50: 95-951500085 | D50: 95/01/29 | E50: =MID(D50,1,2) -> 95 | F50: 973761 | G50: oasis maritime services l.l.c | H50: true | I50: نامشخص | J50: =VLOOKUP(C50,شرکتها!A:B,2,FALSE) -> #N/A | K50: 0 | L50: 0 | M50: - | N50: 0 | O50: 0 | P50: 1394395847001
A51: 50100-7174908 | B51: 95/01/26 | C51: 95-951500008 | D51: 95/01/14 | E51: =MID(D51,1,2) -> 95 | F51: 303900 | G51: SHINING GREEN STAR FZE | H51: true | I51: نامشخص | J51: تسویه | K51: 0 | L51: 0 | M51: - | N51: 0 | O51: 0 | P51: 1394395845001
A52: 50100-7217222 | B52: 95/02/06 | C52: 95-951500075 | D52: 95/01/29 | E52: =MID(D52,1,2) -> 95 | F52: 986640 | G52: SHINING GREEN STAR FZE | H52: true | I52: نامشخص | J52: تسویه | K52: 0 | L52: 0 | M52: - | N52: 0 | O52: 0 | P52: 1394395845001
A53: 50100-7207784 | B53: 95/02/04 | C53: 95-951500030 | D53: 95/01/21 | E53: =MID(D53,1,2) -> 95 | F53: 1000000 | G53: LLC Sebco Bitumen | H53: true | I53: نامشخص | J53: تسویه | K53: 0 | L53: 0 | M53: - | N53: 0 | O53: 0 | P53: 1395397985001
A54: 50100-7188133 | B54: 95/01/30 | C54: 95-951500059 | D54: 95/01/25 | E54: =MID(D54,1,2) -> 95 | F54: 300000 | G54: oasis maritime services l.l.c | H54: true | I54: نامشخص | J54: =VLOOKUP(C54,شرکتها!A:B,2,FALSE) -> #N/A | K54: 0 | L54: 0 | M54: - | N54: 0 | O54: 0 | P54: 1394395847001
A55: 50100-7206436 | B55: 95/02/04 | C55: 95-951500060 | D55: 95/01/25 | E55: =MID(D55,1,2) -> 95 | F55: 300000 | G55: oasis maritime services l.l.c | H55: true | I55: نامشخص | J55: =VLOOKUP(C55,شرکتها!A:B,2,FALSE) -> #N/A | K55: 0 | L55: 0 | M55: - | N55: 0 | O55: 0 | P55: 1394395847001
A56: 50100-7217006 | B56: 95/02/06 | C56: 95-951500043 | D56: 95/01/24 | E56: =MID(D56,1,2) -> 95 | F56: 495980 | G56: SHINING GREEN STAR FZE | H56: true | I56: نامشخص | J56: تسویه | K56: 0 | L56: 0 | M56: - | N56: 0 | O56: 0 | P56: 1394395845001
A57: 50100-7207919 | B57: 95/02/04 | C57: 95-951500042 | D57: 95/01/24 | E57: =MID(D57,1,2) -> 95 | F57: 475605 | G57: SHINING GREEN STAR FZE | H57: true | I57: نامشخص | J57: تسویه | K57: 0 | L57: 0 | M57: - | N57: 0 | O57: 0 | P57: 1394395845001
A58: 50100-7178666 | B58: 95/01/28 | C58: 95-951500021 | D58: 95/01/17 | E58: =MID(D58,1,2) -> 95 | F58: 500000 | G58: oasis maritime services l.l.c | H58: true | I58: نامشخص | J58: تسویه | K58: 0 | L58: 0 | M58: - | N58: 0 | O58: 0 | P58: 1394394801001
A59: 50100-7217222 | B59: 95/02/06 | C59: 95-951500043 | D59: 95/01/24 | E59: =MID(D59,1,2) -> 95 | F59: 6395 | G59: SHINING GREEN STAR FZE | H59: true | I59: نامشخص | J59: تسویه | K59: 0 | L59: 0 | M59: - | N59: 0 | O59: 0 | P59: 1394395845001
A60: 50100-7187739 | B60: 95/01/30 | C60: 95-951500020 | D60: 95/01/17 | E60: =MID(D60,1,2) -> 95 | F60: 496775 | G60: SHINING GREEN STAR FZE | H60: true | I60: نامشخص | J60: تسویه | K60: 0 | L60: 0 | M60: - | N60: 0 | O60: 0 | P60: 1394395845001
A61: 50100-7188133 | B61: 95/01/30 | C61: 95-951500060 | D61: 95/01/25 | E61: =MID(D61,1,2) -> 95 | F61: 700000 | G61: oasis maritime services l.l.c | H61: true | I61: نامشخص | J61: =VLOOKUP(C61,شرکتها!A:B,2,FALSE) -> #N/A | K61: 0 | L61: 0 | M61: - | N61: 0 | O61: 0 | P61: 1394395847001
A62: 50100-7207577 | B62: 95/02/04 | C62: 95-951500087 | D62: 95/01/29 | E62: =MID(D62,1,2) -> 95 | F62: 494310 | G62: oasis maritime services l.l.c | H62: true | I62: نامشخص | J62: =VLOOKUP(C62,شرکتها!A:B,2,FALSE) -> #N/A | K62: 0 | L62: 0 | M62: - | N62: 0 | O62: 0 | P62: 1394395847001
A63: 50100-7207430 | B63: 95/02/04 | C63: 95-951500045 | D63: 95/01/24 | E63: =MID(D63,1,2) -> 95 | F63: 399490 | G63: SHINING GREEN STAR FZE | H63: true | I63: نامشخص | J63: تسویه | K63: 0 | L63: 0 | M63: - | N63: 0 | O63: 0 | P63: 1394395845001
A64: 50100-7216643 | B64: 95/02/06 | C64: 95-951500022 | D64: 95/01/18 | E64: =MID(D64,1,2) -> 95 | F64: 414600 | G64: LLC Sebco Bitumen | H64: true | I64: نامشخص | J64: تسویه | K64: 0 | L64: 0 | M64: - | N64: 0 | O64: 0 | P64: 1395397985001
A65: 50100-7176974 | B65: 95/01/28 | C65: 95-951500014 | D65: 95/01/16 | E65: =MID(D65,1,2) -> 95 | F65: 1006342 | G65: oasis maritime services l.l.c | H65: true | I65: نامشخص | J65: تسویه | K65: 0 | L65: 0 | M65: - | N65: 0 | O65: 0 | P65: 1394394801001
A66: 50100-7198818 | B66: 95/02/01 | C66: 95-951500020 | D66: 95/01/17 | E66: =MID(D66,1,2) -> 95 | F66: 129393 | G66: SHINING GREEN STAR FZE | H66: true | I66: نامشخص | J66: تسویه | K66: 0 | L66: 0 | M66: - | N66: 0 | O66: 0 | P66: 1394395845001
A67: 50100-7216643 | B67: 95/02/06 | C67: 95-951500027 | D67: 95/01/18 | E67: =MID(D67,1,2) -> 95 | F67: 373260 | G67: LLC Sebco Bitumen | H67: true | I67: نامشخص | J67: تسویه | K67: 0 | L67: 0 | M67: - | N67: 0 | O67: 0 | P67: 1395397985001
A68: 50100-7216643 | B68: 95/02/06 | C68: 95-951500023 | D68: 95/01/18 | E68: =MID(D68,1,2) -> 95 | F68: 188940 | G68: LLC Sebco Bitumen | H68: true | I68: نامشخص | J68: تسویه | K68: 0 | L68: 0 | M68: - | N68: 0 | O68: 0 | P68: 1395397985001
A69: 50100-7207661 | B69: 95/02/04 | C69: 95-951500017 | D69: 95/01/17 | E69: =MID(D69,1,2) -> 95 | F69: 58529 | G69: oasis maritime services l.l.c | H69: true | I69: نامشخص | J69: تسویه | K69: 0 | L69: 0 | M69: - | N69: 0 | O69: 0 | P69: 1394394801001
A70: 50100-7203514 | B70: 95/02/04 | C70: 95-951500056 | D70: 95/01/25 | E70: =MID(D70,1,2) -> 95 | F70: 449640 | G70: SHINING GREEN STAR FZE | H70: true | I70: نامشخص | J70: تسویه | K70: 0 | L70: 0 | M70: - | N70: 0 | O70: 0 | P70: 1394395845001
A71: 50100-7199815 | B71: 95/02/01 | C71: 95-951500028 | D71: 95/01/21 | E71: =MID(D71,1,2) -> 95 | F71: 239035 | G71: oasis maritime services l.l.c | H71: true | I71: نامشخص | J71: تسویه | K71: 0 | L71: 0 | M71: - | N71: 0 | O71: 0 | P71: 1394394801001
A72: 50100-7183827 | B72: 95/01/29 | C72: 95-951500030 | D72: 95/01/21 | E72: =MID(D72,1,2) -> 95 | F72: 300000 | G72: LLC Sebco Bitumen | H72: true | I72: نامشخص | J72: تسویه | K72: 0 | L72: 0 | M72: - | N72: 0 | O72: 0 | P72: 1395397985001
A73: 50100-7188433 | B73: 95/01/30 | C73: 95-952500001 | D73: 95/01/14 | E73: =MID(D73,1,2) -> 95 | F73: 51932 | G73: oasis maritime services l.l.c | H73: true | I73: نامشخص | J73: تسویه | K73: 0 | L73: 0 | M73: - | N73: 0 | O73: 0 | P73: 1394394801001
A74: 50100-7209733 | B74: 95/02/05 | C74: 95-951500041 | D74: 95/01/24 | E74: =MID(D74,1,2) -> 95 | F74: 995890 | G74: SHINING GREEN STAR FZE | H74: true | I74: نامشخص | J74: تسویه | K74: 0 | L74: 0 | M74: - | N74: 0 | O74: 0 | P74: 1394395845001
... A98: 50100-7207535 | B98: 95/02/04 | C98: 95-951500018 | D98: 95/01/17 | E98: =MID(D98,1,2) -> 95 | F98: 984231 | G98: oasis maritime services l.l.c | H98: true | I98: نامشخص | J98: تسویه | K98: 0 | L98: 0 | M98: - | N98: 0 | O98: 0 | P98: 1394394801001
...

Sheet شرکتها
B1: shania | K1: 96/08/02 | M1: شماره حواله | N1: شماره قرارداد بورسي
A2: 94-941500006 | B2: shania | L2: =MID(M2,1,2)&"-"&M2 -> 96-966200349 | M2: 966200349 | N2: 1396520117
A3: 94-941500014 | B3: shania | L3: =MID(M3,1,2)&"-"&M3 -> 96-966200230 | M3: 966200230 | N3: 1396511620
A4: 94-941500015 | B4: shania | L4: =MID(M4,1,2)&"-"&M4 -> 96-966200331 | M4: 966200331 | N4: 1396518902
A5: 94-941500016 | B5: shania | L5: =MID(M5,1,2)&"-"&M5 -> 95-954100030 | M5: 954100030 | N5: 1395460645001
A6: 94-941500021 | B6: shania | L6: =MID(M6,1,2)&"-"&M6 -> 96-961500578 | M6: 961500578 | N6: 1396514771001
A7: 94-941500026 | B7: shania | L7: =MID(M7,1,2)&"-"&M7 -> 96-966200231 | M7: 966200231 | N7: 1396511620
A8: 94-941500027 | B8: shania | L8: =MID(M8,1,2)&"-"&M8 -> 96-966200321 | M8: 966200321 | N8: 1396518902
A9: 94-941500046 | B9: shania | L9: =MID(M9,1,2)&"-"&M9 -> 96-966200352 | M9: 966200352 | N9: 1396520117
A10: 94-941500060 | B10: shania | L10: =MID(M10,1,2)&"-"&M10 -> 96-964100062 | M10: 964100062 | N10: 1396513284001
A11: 94-941500061 | B11: shania | L11: =MID(M11,1,2)&"-"&M11 -> 95-952200032 | M11: 952200032 | N11: 1395431924001
A12: 94-941500070 | B12: shania | L12: =MID(M12,1,2)&"-"&M12 -> 95-952200035 | M12: 952200035 | N12: 1395431924001
A13: 94-941500071 | B13: shania | L13: =MID(M13,1,2)&"-"&M13 -> 95-951500159 | M13: 951500159 | N13: 1395397987001
... A1122: 92-50319 | B1122: gas co | L1122: =MID(M1122,1,2)&"-"&M1122 -> 96-961200057 | M1122: 961200057 | N1122: 1396508185001
A1123: 87-20050 | B1123: richmond mercantile | C1123: تسویه نشده | L1123: =MID(M1123,1,2)&"-"&M1123 -> 96-961500542 | M1123: 961500542 | N1123: 1396500681001
A1124: 87-20060 | B1124: richmond mercantile | C1124: تسویه نشده | L1124: =MID(M1124,1,2)&"-"&M1124 -> 96-961500433 | M1124: 961500433 | N1124: 1396500350001
A1125: 87-20125 | B1125: richmond mercantile | C1125: تسویه نشده | L1125: =MID(M1125,1,2)&"-"&M1125 -> 95-951500469 | M1125: 951500469 | N1125: 1395441450001
A1126: 87-20183 | B1126: richmond mercantile | C1126: تسویه نشده | L1126: =MID(M1126,1,2)&"-"&M1126 -> 95-951500550 | M1126: 951500550 | N1126: 1395447926001
A1127: 88-50080 | B1127: richmond mercantile | C1127: تسویه نشده | L1127: =MID(M1127,1,2)&"-"&M1127 -> 95-951500573 | M1127: 951500573 | N1127: 1395452681001
A1128: 88-50159 | B1128: richmond mercantile | C1128: تسویه شده | L1128: =MID(M1128,1,2)&"-"&M1128 -> 95-951500584 | M1128: 951500584 | N1128: 1395451401001
A1129: 88-50190 | B1129: richmond mercantile | C1129: تسویه نشده | L1129: =MID(M1129,1,2)&"-"&M1129 -> 96-961500004 | M1129: 961500004 | N1129: 1395451401001
A1130: 88-50451 | B1130: richmond mercantile | C1130: تسویه نشده | L1130: =MID(M1130,1,2)&"-"&M1130 -> 96-961500036 | M1130: 961500036 | N1130: 1395453119001
A1131: 88-50533 | B1131: richmond mercantile | C1131: تسویه نشده | L1131: =MID(M1131,1,2)&"-"&M1131 -> 96-961500143 | M1131: 961500143 | N1131: 1396481167001
A1132: 88-50551 | B1132: richmond mercantile | C1132: تسویه نشده | L1132: =MID(M1132,1,2)&"-"&M1132 -> 96-961500219 | M1132: 961500219 | N1132: 1396491879001
A1133: 88-50565 | B1133: richmond mercantile | C1133: تسویه نشده | L1133: =MID(M1133,1,2)&"-"&M1133 -> 96-961500277 | M1133: 961500277 | N1133: 1396492151001
A1134: 88-50566 | B1134: richmond mercantile | C1134: تسویه نشده | L1134: =MID(M1134,1,2)&"-"&M1134 -> 96-961500322 | M1134: 961500322 | N1134: 1396491878001
... A1499: 92-50732 | B1499: shining gulf | C1499: تسویه شده | L1499: =MID(M1499,1,2)&"-"&M1499 -> 96-962000048 | M1499: 962000048 | N1499: 1396514467
A1500: 93-931500748 | B1500: JANSON | L1500: =MID(M1500,1,2)&"-"&M1500 -> 96-962000043 | M1500: 962000043 | N1500: 1396514467
A1501: 93-931500749 | B1501: JANSON | L1501: =MID(M1501,1,2)&"-"&M1501 -> 95-956200129 | M1501: 956200129 | N1501: 1395456107
A1502: 93-931500752 | B1502: JANSON | L1502: =MID(M1502,1,2)&"-"&M1502 -> 95-956200337 | M1502: 956200337 | N1502: 1395470078
A1503: 93-931500753 | B1503: JANSON | L1503: =MID(M1503,1,2)&"-"&M1503 -> 95-956200372 | M1503: 956200372 | N1503: 1395470885
A1504: 93-931500754 | B1504: JANSON | L1504: =MID(M1504,1,2)&"-"&M1504 -> 95-956200376 | M1504: 956200376 | N1504: 1395470885
A1505: 93-931500756 | B1505: JANSON | L1505: =MID(M1505,1,2)&"-"&M1505 -> 95-956200378 | M1505: 956200378 | N1505: 1395470885
A1506: 93-931500757 | B1506: JANSON | L1506: =MID(M1506,1,2)&"-"&M1506 -> 95-952000321 | M1506: 952000321 | N1506: 1395464401
A1507: 93-931500758 | B1507: JANSON | L1507: =MID(M1507,1,2)&"-"&M1507 -> 95-951100109 | M1507: 951100109 | N1507: 1395427127
A1508: 93-931500762 | B1508: JANSON | L1508: =MID(M1508,1,2)&"-"&M1508 -> 95-951100181 | M1508: 951100181 | N1508: 1395461520
A1509: 93-931500763 | B1509: JANSON | L1509: =MID(M1509,1,2)&"-"&M1509 -> 95-952000099 | M1509: 952000099 | N1509: 1395433645
A1510: 93-931500764 | B1510: JANSON | L1510: =MID(M1510,1,2)&"-"&M1510 -> 95-952000282 | M1510: 952000282 | N1510: 1395447768
A1511: 93-931500767 | B1511: JANSON | L1511: =MID(M1511,1,2)&"-"&M1511 -> 96-962000012 | M1511: 962000012 | N1511: 1396514467
... A3306: 95-952500070 | B3306: oasis5555555555 | L3306: =MID(M3306,1,2)&"-"&M3306 -> 95-954100004 | M3306: 954100004 | N3306: 1395397988001
...

Sheet ش.ق
A1: شماره حواله | B1: شماره حواله | C1: شماره قرارداد بورسي
A2: 966000036 | B2: =MID(A2,1,2)&"-"&A2 -> 96-966000036 | C2: ندارد
A3: 966000036 | B3: =MID(A3,1,2)&"-"&A3 -> 96-966000036 | C3: ندارد
A4: 961100113 | B4: =MID(A4,1,2)&"-"&A4 -> 96-961100113 | C4: 1396541324
A5: 966200440 | B5: =MID(A5,1,2)&"-"&A5 -> 96-966200440 | C5: 1396531357
A6: 964100094 | B6: =MID(A6,1,2)&"-"&A6 -> 96-964100094 | C6: 1396538721001
A7: 952200074 | B7: =MID(A7,1,2)&"-"&A7 -> 95-952200074 | C7: 1395459319001
A8: 966000034 | B8: =MID(A8,1,2)&"-"&A8 -> 96-966000034 | C8: ندارد
A9: 966200484 | B9: =MID(A9,1,2)&"-"&A9 -> 96-966200484 | C9: 1396533043
A10: 966200492 | B10: =MID(A10,1,2)&"-"&A10 -> 96-966200492 | C10: 1396535037
A11: 966200527 | B11: =MID(A11,1,2)&"-"&A11 -> 96-966200527 | C11: 1396539696
A12: 954100030 | B12: =MID(A12,1,2)&"-"&A12 -> 95-954100030 | C12: 1395460645001
A13: 964100021 | B13: =MID(A13,1,2)&"-"&A13 -> 96-964100021 | C13: 1396474210001
... A4309: 966200333 | B4309: =MID(A4309,1,2)&"-"&A4309 -> 96-966200333 | C4309: 1396518916
A4310: 966000030 | B4310: =MID(A4310,1,2)&"-"&A4310 -> 96-966000030
A4311: 966000040 | B4311: =MID(A4311,1,2)&"-"&A4311 -> 96-966000040 | C4311: ندارد
A4312: 951200070 | B4312: =MID(A4312,1,2)&"-"&A4312 -> 95-951200070 | C4312: 1395447927001
A4313: 951200071 | B4313: =MID(A4313,1,2)&"-"&A4313 -> 95-951200071 | C4313: 1395418114001
A4314: 961200137 | B4314: =MID(A4314,1,2)&"-"&A4314 -> 96-961200137 | C4314: 1396522401001
A4315: 951500122 | B4315: =MID(A4315,1,2)&"-"&A4315 -> 95-951500122 | C4315: 1395397987001
A4316: 951200066 | B4316: =MID(A4316,1,2)&"-"&A4316 -> 95-951200066 | C4316: 1395449245001
A4317: 952200017 | B4317: =MID(A4317,1,2)&"-"&A4317 -> 95-952200017 | C4317: 1395400302001
A4318: 952200029 | B4318: =MID(A4318,1,2)&"-"&A4318 -> 95-952200029 | C4318: 1395400302001
A4319: 962200002 | B4319: =MID(A4319,1,2)&"-"&A4319 -> 96-962200002 | C4319: 1395459319001
A4320: 952500058 | B4320: =MID(A4320,1,2)&"-"&A4320 -> 95-952500058 | C4320: 1395447376001
A4321: 952200053 | B4321: =MID(A4321,1,2)&"-"&A4321 -> 95-952200053 | C4321: 1395447927001
A4322: 966200303 | B4322: =MID(A4322,1,2)&"-"&A4322 -> 96-966200303 | C4322: 1396517669
... A5094: 956000006 | B5094: =MID(A5094,1,2)&"-"&A5094 -> 95-956000006 | C5094: ندارد
A5095: 966000024 | B5095: =MID(A5095,1,2)&"-"&A5095 -> 96-966000024
A5096: 951200046 | B5096: =MID(A5096,1,2)&"-"&A5096 -> 95-951200046 | C5096: 1395400302001
A5097: 951200050 | B5097: =MID(A5097,1,2)&"-"&A5097 -> 95-951200050 | C5097: 1395400302001
A5098: 951500101 | B5098: =MID(A5098,1,2)&"-"&A5098 -> 95-951500101 | C5098: 1395397987001
A5099: 951100140 | B5099: =MID(A5099,1,2)&"-"&A5099 -> 95-951100140 | C5099: 1395443379
A5100: 962200018 | B5100: =MID(A5100,1,2)&"-"&A5100 -> 96-962200018 | C5100: 1395467472001
A5101: 951200032 | B5101: =MID(A5101,1,2)&"-"&A5101 -> 95-951200032 | C5101: 1395399147001
A5102: 951200078 | B5102: =MID(A5102,1,2)&"-"&A5102 -> 95-951200078 | C5102: 1395399147001
A5103: 952000089 | B5103: =MID(A5103,1,2)&"-"&A5103 -> 95-952000089 | C5103: 1395430749
A5104: 956200027 | B5104: =MID(A5104,1,2)&"-"&A5104 -> 95-956200027 | C5104: 1395407682
A5105: 966200309 | B5105: =MID(A5105,1,2)&"-"&A5105 -> 96-966200309 | C5105: 1396517670
A5106: 956200043 | B5106: =MID(A5106,1,2)&"-"&A5106 -> 95-956200043 | C5106: 1395411206
...

Sheet Sheet1
A1: شماره پروانه | B1: کوتاژ | C1: تاریخ پروانه | D1: نوع بسته بندی
A2: 50100-8499469 | B2: 8499469 | C2: 96/01/15 | D2: بشكه
A3: 50100-8499469 | B3: 8499469 | C3: 96/01/15 | D3: بشكه
A4: 50100-8489612 | B4: 8489612 | C4: 96/01/09 | D4: فله
A5: 50100-8490044 | B5: 8490044 | C5: 96/01/09 | D5: بشكه
A6: 50100-8501342 | B6: 8501342 | C6: 96/01/15 | D6: فله
A7: 50100-8491399 | B7: 8491399 | C7: 96/01/09 | D7: بشكه
A8: 50100-8491399 | B8: 8491399 | C8: 96/01/09 | D8: بشكه
A9: 50100-8491399 | B9: 8491399 | C9: 96/01/09 | D9: بشكه
A10: 50100-8486277 | B10: 8486277 | C10: 96/01/08 | D10: بشكه
A11: 15100-397380 | B11: 397380 | C11: 96/01/09 | D11: فله
A12: 15100-397380 | B12: 397380 | C12: 96/01/09 | D12: فله
... A86: 50100-8530045 | B86: 8530045 | C86: 96/01/23 | D86: فله
A87: ="15100-399667" -> 15100-399667 | B87: 399667 | C87: ="96/01/19" -> 96/01/19 | D87: بشكه
A88: ="15100-398821" -> 15100-398821 | B88: 398821 | C88: ="96/01/16" -> 96/01/16 | D88: فله
A89: ="15100-398821" -> 15100-398821 | B89: 398821 | C89: ="96/01/16" -> 96/01/16 | D89: فله
A90: ="15100-398821" -> 15100-398821 | B90: 398821 | C90: ="96/01/16" -> 96/01/16 | D90: فله
A91: ="15100-399667" -> 15100-399667 | B91: 399667 | C91: ="96/01/19" -> 96/01/19 | D91: بشكه
A92: ="15100-405804" -> 15100-405804 | B92: 405804 | C92: ="96/01/31" -> 96/01/31 | D92: فله
A93: ="15100-405804" -> 15100-405804 | B93: 405804 | C93: ="96/01/31" -> 96/01/31 | D93: فله
A94: ="15100-405804" -> 15100-405804 | B94: 405804 | C94: ="96/01/31" -> 96/01/31 | D94: فله
A95: ="15100-405804" -> 15100-405804 | B95: 405804 | C95: ="96/01/31" -> 96/01/31 | D95: فله
A96: ="15100-405804" -> 15100-405804 | B96: 405804 | C96: ="96/01/31" -> 96/01/31 | D96: فله
A97: ="15100-402715" -> 15100-402715 | B97: 402715 | C97: ="96/01/26" -> 96/01/26 | D97: فله
A98: ="15100-402724" -> 15100-402724 | B98: 402724 | C98: ="96/01/26" -> 96/01/26 | D98: فله
A99: ="15100-399199" -> 15100-399199 | B99: 399199 | C99: ="96/01/17" -> 96/01/17 | D99: بشكه
A100: ="15100-398641" -> 15100-398641 | B100: 398641 | C100: ="96/01/16" -> 96/01/16 | D100: فله
A101: ="15100-403972" -> 15100-403972 | B101: 403972 | C101: ="96/01/28" -> 96/01/28 | D101: بشكه
A102: ="15100-402206" -> 15100-402206 | B102: 402206 | C102: ="96/01/24" -> 96/01/24 | D102: فله
A103: ="15100-402293" -> 15100-402293 | B103: 402293 | C103: ="96/01/24" -> 96/01/24 | D103: بشكه
A104: ="15100-398551" -> 15100-398551 | B104: 398551 | C104: ="96/01/16" -> 96/01/16 | D104: بشكه
A105: ="15100-402227" -> 15100-402227 | B105: 402227 | C105: ="96/01/24" -> 96/01/24 | D105: فله
A106: ="15100-399754" -> 15100-399754 | B106: 399754 | C106: ="96/01/19" -> 96/01/19 | D106: فله
A107: ="15100-399754" -> 15100-399754 | B107: 399754 | C107: ="96/01/19" -> 96/01/19 | D107: فله
A108: ="15100-404062" -> 15100-404062 | B108: 404062 | C108: ="96/01/28" -> 96/01/28 | D108: فله
A109: ="15100-403957" -> 15100-403957 | B109: 403957 | C109: ="96/01/28" -> 96/01/28 | D109: بشكه
A110: ="15100-402003" -> 15100-402003 | B110: 402003 | C110: ="96/01/24" -> 96/01/24 | D110: بشكه
A111: ="15100-402317" -> 15100-402317 | B111: 402317 | C111: ="96/01/24" -> 96/01/24 | D111: بشكه
A112: ="15100-404592" -> 15100-404592 | B112: 404592 | C112: ="96/01/29" -> 96/01/29 | D112: فله
A113: ="15100-404592" -> 15100-404592 | B113: 404592 | C113: ="96/01/29" -> 96/01/29 | D113: فله
...

Sheet Sheet2
B1: سريال پروانه صادراتي | C1: شماره كوتاژ | E1: تاريخ كوتاژ | F1: تاريخ پيش اظهار | G1: شماره قرارداد بورسي | H1: نام مشتري | I1: شماره حواله فروش | K1: مقدار در اين پروانه
A2: =B2&J2&K2 -> 50100-823152395-951500342200000 | B2: 50100-8231523 | C2: 8231523 | D2: 95 | E2: 95/10/29 | F2: 95/10/29 | G2: 1395438159001 | H2: LLC Sebco Bitumen | I2: 951500342 | J2: 95-951500342 | K2: 200000
A3: =B3&J3&K3 -> 50100-732547395-952500002255391 | B3: 50100-7325473 | C3: 7325473 | D3: 95 | E3: 95/02/30 | F3: 95/02/30 | G3: 1394394801001 | H3: oasis maritime services l.l.c | I3: 952500002 | J3: 95-952500002 | K3: 255391
A4: =B4&J4&K4 -> 15100-31372995-95150010469717 | B4: 15100-313729 | C4: 313729 | D4: 95 | E4: 95/06/08 | F4: 95/06/08 | G4: 1395397985001 | H4: LLC Sebco Bitumen | I4: 951500104 | J4: 95-951500104 | K4: 69717
A5: =B5&J5&K5 -> 50100-823152395-951500479102000 | B5: 50100-8231523 | C5: 8231523 | D5: 95 | E5: 95/10/29 | F5: 95/10/29 | G5: 1395449892001 | H5: DAXON PETROLEUM | I5: 951500479 | J5: 95-951500479 | K5: 102000
A6: =B6&J6&K6 -> 50100-745693595-9515001539350 | B6: 50100-7456935 | C6: 7456935 | D6: 95 | E6: 95/03/31 | F6: 95/03/31 | G6: 1395399149001 | H6: Shanghai kestro Polychem Inc | I6: 951500153 | J6: 95-951500153 | K6: 9350
A7: =B7&J7&K7 -> 50100-716645194-9415006399559 | B7: 50100-7166451 | C7: 7166451 | D7: 95 | E7: 95/01/24 | F7: 95/01/24 | G7: 1394389331001 | H7: oasis maritime services l.l.c | I7: 941500639 | J7: 94-941500639 | K7: 9559
A8: =B8&J8&K8 -> 15100-39577395-952500105109967 | B8: 15100-395773 | C8: 395773 | D8: 95 | E8: 95/12/26 | F8: 95/12/26 | G8: 1395462017001 | H8: LLC Sebco Bitumen | I8: 952500105 | J8: 95-952500105 | K8: 109967
A9: =B9&J9&K9 -> 15100-26785694-941500783114150 | B9: 15100-267856 | C9: 267856 | D9: 95 | E9: 95/02/21 | F9: 95/02/21 | G9: 1394394178001 | H9: LLC Sebco Bitumen | I9: 941500783 | J9: 94-941500783 | K9: 114150
A10: =B10&J10&K10 -> 50100-758908195-9515001741791 | B10: 50100-7589081 | C10: 7589081 | D10: 95 | E10: 95/05/10 | F10: 95/05/10 | G10: 1395400303001 | H10: SHINING GREEN STAR FZE | I10: 951500174 | J10: 95-951500174 | K10: 1791
A11: =B11&J11&K11 -> 50100-758908195-951500182495069 | B11: 50100-7589081 | C11: 7589081 | D11: 95 | E11: 95/05/10 | F11: 95/05/10 | G11: 1395400303001 | H11: SHINING GREEN STAR FZE | I11: 951500182 | J11: 95-951500182 | K11: 495069
A12: =B12&J12&K12 -> 50100-749689495-95250001742568 | B12: 50100-7496894 | C12: 7496894 | D12: 95 | E12: 95/04/13 | F12: 95/04/13 | G12: 1395397987001 | H12: oasis maritime services l.l.c | I12: 952500017 | J12: 95-952500017 | K12: 42568
A13: =B13&J13&K13 -> 50100-735971294-94150060810854 | B13: 50100-7359712 | C13: 7359712 | D13: 95 | E13: 95/03/08 | F13: 95/03/08 | G13: 1394389329001 | H13: LLC Sebco Bitumen | I13: 941500608 | J13: 94-941500608 | K13: 10854
... A373: =B373&J373&K373 -> 15100-33169095-95250003470929 | B373: 15100-331690 | C373: 331690 | D373: 95 | E373: 95/07/26 | F373: 95/07/26 | G373: 1395434890001 | H373: Herat Nut and Bold Ltd | I373: 952500034 | J373: 95-952500034 | K373: 70929
A374: =B374&J374&K374 -> 45110-7062495-959000005513106 | B374: 45110-70624 | C374: 70624 | D374: 95 | E374: 95/08/20 | F374: 95/08/20 | G374: 13641-10 | H374: تجارتي مسعود رشيد نورزايي لميتد | I374: 959000005 | J374: 95-959000005 | K374: 513106
A375: =B375&J375&K375 -> 15100-31748394-94150004511000 | B375: 15100-317483 | C375: 317483 | D375: 95 | E375: 95/06/16 | F375: 95/06/16 | G375: 1394341921001 | H375: LLC Sebco Bitumen | I375: 941500045 | J375: 94-941500045 | K375: 11000
A376: =B376&J376&K376 -> 50100-729538995-951500094799870 | B376: 50100-7295389 | C376: 7295389 | D376: 95 | E376: 95/02/23 | F376: 95/02/23 | G376: 1394395845001 | H376: SHINING GREEN STAR FZE | I376: 951500094 | J376: 95-951500094 | K376: 799870
A377: =B377&J377&K377 -> 50100-748994795-952500017977898 | B377: 50100-7489947 | C377: 7489947 | D377: 95 | E377: 95/04/12 | F377: 95/04/12 | G377: 1395397987001 | H377: oasis maritime services l.l.c | I377: 952500017 | J377: 95-952500017 | K377: 977898
A378: =B378&J378&K378 -> 50100-736529995-951500129732773 | B378: 50100-7365299 | C378: 7365299 | D378: 95 | E378: 95/03/09 | F378: 95/03/09 | G378: 1395397985001 | H378: LLC Sebco Bitumen | I378: 951500129 | J378: 95-951500129 | K378: 732773
A379: =B379&J379&K379 -> 15100-38894795-95150058947360 | B379: 15100-388947 | C379: 388947 | D379: 95 | E379: 95/12/16 | F379: 95/12/16 | G379: 1395462017001 | H379: LLC Sebco Bitumen | I379: 951500589 | J379: 95-951500589 | K379: 47360
A380: =B380&J380&K380 -> 50100-834136195-951500531301500 | B380: 50100-8341361 | C380: 8341361 | D380: 95 | E380: 95/11/25 | F380: 95/11/25 | G380: 1395447373001 | H380: SHINING GREEN STAR FZE | I380: 951500531 | J380: 95-951500531 | K380: 301500
A381: =B381&J381&K381 -> 50100-756637595-951500090207180 | B381: 50100-7566375 | C381: 7566375 | D381: 95 | E381: 95/05/03 | F381: 95/05/03 | G381: 1394395845001 | H381: SHINING GREEN STAR FZE | I381: 951500090 | J381: 95-951500090 | K381: 207180
A382: =B382&J382&K382 -> 50100-729983195-9515001171000000 | B382: 50100-7299831 | C382: 7299831 | D382: 95 | E382: 95/02/26 | F382: 95/02/26 | G382: 1394395845001 | H382: SHINING GREEN STAR FZE | I382: 951500117 | J382: 95-951500117 | K382: 1000000
A383: =B383&J383&K383 -> 50100-720766195-95150001758529 | B383: 50100-7207661 | C383: 7207661 | D383: 95 | E383: 95/02/04 | F383: 95/02/04 | G383: 1394394801001 | H383: oasis maritime services l.l.c | I383: 951500017 | J383: 95-951500017 | K383: 58529
A384: =B384&J384&K384 -> 50100-856263796-96250000343616 | B384: 50100-8562637 | C384: 8562637 | D384: 96 | E384: 96/01/29 | F384: 96/01/29 | G384: 1395447928001 | H384: oasis maritime services l.l.c | I384: 962500003 | J384: 96-962500003 | K384: 43616
A385: =B385&J385&K385 -> 15100-31295695-95150014525470 | B385: 15100-312956 | C385: 312956 | D385: 95 | E385: 95/06/06 | F385: 95/06/06 | G385: 1395401420001 | H385: LLC Sebco Bitumen | I385: 951500145 | J385: 95-951500145 | K385: 25470
A386: =B386&J386&K386 -> 15100-39343395-95150059770520 | B386: 15100-393433 | C386: 393433 | D386: 95 | E386: 95/12/23 | F386: 95/12/23 | G386: 1395462017001 | H386: LLC Sebco Bitumen | I386: 951500597 | J386: 95-951500597 | K386: 70520
... A542: =B542&J542&K542 -> 50100-824879195-951500528495545 | B542: 50100-8248791 | C542: 8248791 | D542: 95 | E542: 95/11/04 | F542: 95/11/04 | G542: 1395447374001 | H542: PETRO HUB ENERGY FZE | I542: 951500528 | J542: 95-951500528 | K542: 495545
A543: =B543&J543&K543 -> 45110-7062195-95900000539683 | B543: 45110-70621 | C543: 70621 | D543: 95 | E543: 95/04/17 | F543: 95/04/17 | G543: 13641-10 | H543: تجارتي مسعود رشيد نورزايي لميتد | I543: 959000005 | J543: 95-959000005 | K543: 39683
A544: =B544&J544&K544 -> 50100-725101395-9515001121599560 | B544: 50100-7251013 | C544: 7251013 | D544: 95 | E544: 95/02/13 | F544: 95/02/13 | G544: 1395397985001 | H544: LLC Sebco Bitumen | I544: 951500112 | J544: 95-951500112 | K544: 1599560
A545: =B545&J545&K545 -> 15100-27325095-95150013350580 | B545: 15100-273250 | C545: 273250 | D545: 95 | E545: 95/03/01 | F545: 95/03/01 | G545: 1395397986001 | H545: DAXON PETROLEUM | I545: 951500133 | J545: 95-951500133 | K545: 50580
A546: =B546&J546&K546 -> 15100-26808895-95150010373560 | B546: 15100-268088 | C546: 268088 | D546: 95 | E546: 95/02/21 | F546: 95/02/21 | G546: 1395397986001 | H546: DAXON PETROLEUM | I546: 951500103 | J546: 95-951500103 | K546: 73560
A547: =B547&J547&K547 -> 15100-27713295-95150016322190 | B547: 15100-277132 | C547: 277132 | D547: 95 | E547: 95/03/10 | F547: 95/03/10 | G547: 1395401420001 | H547: LLC Sebco Bitumen | I547: 951500163 | J547: 95-951500163 | K547: 22190
A548: =B548&J548&K548 -> 50100-788357195-951500236388250 | B548: 50100-7883571 | C548: 7883571 | D548: 95 | E548: 95/07/29 | F548: 95/07/29 | G548: 1395421206001 | H548: LLC Sebco Bitumen | I548: 951500236 | J548: 95-951500236 | K548: 388250
A549: =B549&J549&K549 -> 50100-720757795-951500087494310 | B549: 50100-7207577 | C549: 7207577 | D549: 95 | E549: 95/02/04 | F549: 95/02/04 | G549: 1394395847001 | H549: oasis maritime services l.l.c | I549: 951500087 | J549: 95-951500087 | K549: 494310
A550: =B550&J550&K550 -> 50100-825486695-951500556996920 | B550: 50100-8254866 | C550: 8254866 | D550: 95 | E550: 95/11/05 | F550: 95/11/05 | G550: 1395456621001 | H550: oasis maritime services l.l.c | I550: 951500556 | J550: 95-951500556 | K550: 996920
A551: =B551&J551&K551 -> 50100-820430895-9515004882030 | B551: 50100-8204308 | C551: 8204308 | D551: 95 | E551: 95/10/23 | F551: 95/10/23 | G551: 1395447373001 | H551: SHINING GREEN STAR FZE | I551: 951500488 | J551: 95-951500488 | K551: 2030
A552: =B552&J552&K552 -> 50100-845714495-95150056842740 | B552: 50100-8457144 | C552: 8457144 | D552: 95 | E552: 95/12/23 | F552: 95/12/23 | G552: 1395451400001 | H552: DAXON PETROLEUM | I552: 951500568 | J552: 95-951500568 | K552: 42740
A553: =B553&J553&K553 -> 756700495-951500064132820 | B553: 7567004 | C553: 7567004 | D553: 95 | E553: 95/05/03 | F553: 95/05/03 | G553: 1395397986001 | H553: DAXON PETROLEUM | I553: 951500064 | J553: 95-951500064 | K553: 132820
A554: =B554&J554&K554 -> 45110-7062195-959000006228763 | B554: 45110-70621 | C554: 70621 | D554: 95 | E554: 95/04/17 | F554: 95/04/17 | G554: 13641-10 | H554: تجارتي مسعود رشيد نورزايي لميتد | I554: 959000006 | J554: 95-959000006 | K554: 228763
...

Sheet Sheet3
