Workbook

Sheet اصلی
A1: شماره پروانه | B1: تاریخ پروانه | C1: شماره حواله | D1: تاریخ حواله | E1: سال حواله | F1: مقدار | G1: نام مشتری | H1: کنترل | I1: تاریخ خروج | J1: تسویه | K1: تاریخ دریافت | L1: مقصد | M1: بسته بندی | N1: گمرک خروجی | O1: کد گمرک | P1: ش.ق
A2: 50100-7166451 | B2: 95/01/24 | C2: 95-951500017 | D2: 95/01/17 | E2: =MID(D2,1,2) -> 95 | F2: 471711 | G2: oasis maritime services l.l.c | H2: true | I2: نامشخص | J2: تسویه | K2: 0 | L2: 0 | M2: - | N2: 0 | O2: 0 | P2: 1394394801001
A3: 50100-7163092 | B3: 95/01/24 | C3: 95-952500001 | D3: 95/01/14 | E3: =MID(D3,1,2) -> 95 | F3: 475716 | G3: oasis maritime services l.l.c | H3: true | I3: نامشخص | J3: تسویه | K3: 0 | L3: 0 | M3: - | N3: 0 | O3: 0 | P3: 1394394801001
A4: 50100-7160987 | B4: 95/01/23 | C4: 95-951500009 | D4: 95/01/15 | E4: =MID(D4,1,2) -> 95 | F4: 700000 | G4: DAXON PETROLEUM | H4: true | I4: نامشخص | J4: تسویه | K4: 0 | L4: 0 | M4: - | N4: 0 | O4: 0 | P4: 1394392647001
A5: 50100-7150210 | B5: 95/01/22 | C5: 95-951500004 | D5: 95/01/10 | E5: =MID(D5,1,2) -> 95 | F5: 997610 | G5: oasis maritime services l.l.c | H5: true | I5: نامشخص | J5: تسویه | K5: 0 | L5: 0 | M5: - | N5: 0 | O5: 0 | P5: 1394394801001
A6: 50100-7129007 | B6: 95/01/16 | C6: 95-951500002 | D6: 95/01/09 | E6: =MID(D6,1,2) -> 95 | F6: 1497000 | G6: oasis maritime services l.l.c | H6: true | I6: نامشخص | J6: تسویه | K6: 0 | L6: 0 | M6: - | N6: 0 | O6: 0 | P6: 1394394801001
A7: 50100-7133359 | B7: 95/01/17 | C7: 95-951500001 | D7: 95/01/08 | E7: =MID(D7,1,2) -> 95 | F7: 37756 | G7: oasis maritime services l.l.c | H7: true | I7: نامشخص | J7: تسویه | K7: 0 | L7: 0 | M7: - | N7: 0 | O7: 0 | P7: 1394394801001
A8: 50100-7156388 | B8: 95/01/23 | C8: 95-951500014 | D8: 95/01/16 | E8: =MID(D8,1,2) -> 95 | F8: 1005590 | G8: oasis maritime services l.l.c | H8: true | I8: نامشخص | J8: تسویه | K8: 0 | L8: 0 | M8: - | N8: 0 | O8: 0 | P8: 1394394801001
A9: 50100-7166844 | B9: 95/01/24 | C9: 95-951500021 | D9: 95/01/17 | E9: =MID(D9,1,2) -> 95 | F9: 2000000 | G9: oasis maritime services l.l.c | H9: true | I9: نامشخص | J9: تسویه | K9: 0 | L9: 0 | M9: - | N9: 0 | O9: 0 | P9: 1394394801001
A10: 50100-7164770 | B10: 95/01/24 | C10: 95-951500014 | D10: 95/01/16 | E10: =MID(D10,1,2) -> 95 | F10: 500020 | G10: oasis maritime services l.l.c | H10: true | I10: نامشخص | J10: تسویه | K10: 0 | L10: 0 | M10: - | N10: 0 | O10: 0 | P10: 1394394801001
A11: 50100-7114515 | B11: 95/01/09 | C11: 95-954100001 | D11: 95/01/08 | E11: =MID(D11,1,2) -> 95 | F11: 2839343 | G11: oasis maritime services l.l.c | H11: true | I11: نامشخص | J11: تسویه | K11: 0 | L11: 0 | M11: - | N11: 0 | O11: 0 | P11: 1394390726001
A12: 50100-7129133 | B12: 95/01/16 | C12: 95-951500002 | D12: 95/01/09 | E12: =MID(D12,1,2) -> 95 | F12: 3000 | G12: oasis maritime services l.l.c | H12: true | I12: نامشخص | J12: تسویه | K12: 0 | L12: 0 | M12: - | N12: 0 | O12: 0 | P12: 1394394801001
A13: 50100-7138613 | B13: 95/01/18 | C13: 95-951500001 | D13: 95/01/08 | E13: =MID(D13,1,2) -> 95 | F13: 962244 | G13: oasis maritime services l.l.c | H13: true | I13: نامشخص | J13: تسویه | K13: 0 | L13: 0 | M13: - | N13: 0 | O13: 0 | P13: 1394394801001
... A49: 50100-7200455 | B49: 95/02/01 | C49: 95-951500028 | D49: 95/01/21 | E49: =MID(D49,1,2) -> 95 | F49: 212220 | G49: oasis maritime services l.l.c | H49: true | I49: نامشخص | J49: تسویه | K49: 0 | L49: 0 | M49: - | N49: 0 | O49: 0 | P49: 1394394801001
A50: 50100-7207118 | B50: 95/02/04 | C50: 95-951500085 | D50: 95/01/29 | E50: =MID(D50,1,2) -> 95 | F50: 973761 | G50: oasis maritime services l.l.c | H50: true | I50: نامشخص | J50: =VLOOKUP(C50,شرکتها!A:B,2,FALSE) -> #N/A | K50: 0 | L50: 0 | M50: - | N50: 0 | O50: 0 | P50: 1394395847001
A51: 50100-7174908 | B51: 95/01/26 | C51: 95-951500008 | D51: 95/01/14 | E51: =MID(D51,1,2) -> 95 | F51: 303900 | G51: SHINING GREEN STAR FZE | H51: true | I51: نامشخص | J51: تسویه | K51: 0 | L51: 0 | M51: - | N51: 0 | O51: 0 | P51: 1394395845001
A52: 50100-7217222 | B52: 95/02/06 | C52: 95-951500075 | D52: 95/01/29 | E52: =MID(D52,1,2) -> 95 | F52: 986640 | G52: SHINING GREEN STAR FZE | H52: true | I52: نامشخص | J52: تسویه | K52: 0 | L52: 0 | M52: - | N52: 0 | O52: 0 | P52: 1394395845001
A53: 50100-7207784 | B53: 95/02/04 | C53: 95-951500030 | D53: 95/01/21 | E53: =MID(D53,1,2) -> 95 | F53: 1000000 | G53: LLC Sebco Bitumen | H53: true | I53: نامشخص | J53: تسویه | K53: 0 | L53: 0 | M53: - | N53: 0 | O53: 0 | P53: 1395397985001
A54: 50100-7188133 | B54: 95/01/30 | C54: 95-951500059 | D54: 95/01/25 | E54: =MID(D54,1,2) -> 95 | F54: 300000 | G54: oasis maritime services l.l.c | H54: true | I54: نامشخص | J54: =VLOOKUP(C54,شرکتها!A:B,2,FALSE) -> #N/A | K54: 0 | L54: 0 | M54: - | N54: 0 | O54: 0 | P54: 1394395847001
A55: 50100-7206436 | B55: 95/02/04 | C55: 95-951500060 | D55: 95/01/25 | E55: =MID(D55,1,2) -> 95 | F55: 300000 | G55: oasis maritime services l.l.c | H55: true | I55: نامشخص | J55: =VLOOKUP(C55,شرکتها!A:B,2,FALSE) -> #N/A | K55: 0 | L55: 0 | M55: - | N55: 0 | O55: 0 | P55: 1394395847001
A56: 50100-7217006 | B56: 95/02/06 | C56: 95-951500043 | D56: 95/01/24 | E56: =MID(D56,1,2) -> 95 | F56: 495980 | G56: SHINING GREEN STAR FZE | H56: true | I56: نامشخص | J56: تسویه | K56: 0 | L56: 0 | M56: - | N56: 0 | O56: 0 | P56: 1394395845001
A57: 50100-7207919 | B57: 95/02/04 | C57: 95-951500042 | D57: 95/01/24 | E57: =MID(D57,1,2) -> 95 | F57: 475605 | G57: SHINING GREEN STAR FZE | H57: true | I57: نامشخص | J57: تسویه | K57: 0 | L57: 0 | M57: - | N57: 0 | O57: 0 | P57: 1394395845001
A58: 50100-7178666 | B58: 95/01/28 | C58: 95-951500021 | D58: 95/01/17 | E58: =MID(D58,1,2) -> 95 | F58: 500000 | G58: oasis maritime services l.l.c | H58: true | I58: نامشخص | J58: تسویه | K58: 0 | L58: 0 | M58: - | N58: 0 | O58: 0 | P58: 1394394801001
A59: 50100-7217222 | B59: 95/02/06 | C59: 95-951500043 | D59: 95/01/24 | E59: =MID(D59,1,2) -> 95 | F59: 6395 | G59: SHINING GREEN STAR FZE | H59: true | I59: نامشخص | J59: تسویه | K59: 0 | L59: 0 | M59: - | N59: 0 | O59: 0 | P59: 1394395845001
A60: 50100-7187739 | B60: 95/01/30 | C60: 95-951500020 | D60: 95/01/17 | E60: =MID(D60,1,2) -> 95 | F60: 496775 | G60: SHINING GREEN STAR FZE | H60: true | I60: نامشخص | J60: تسویه | K60: 0 | L60: 0 | M60: - | N60: 0 | O60: 0 | P60: 1394395845001
A61: 50100-7188133 | B61: 95/01/30 | C61: 95-951500060 | D61: 95/01/25 | E61: =MID(D61,1,2) -> 95 | F61: 700000 | G61: oasis maritime services l.l.c | H61: true | I61: نامشخص | J61: =VLOOKUP(C61,شرکتها!A:B,2,FALSE) -> #N/A | K61: 0 | L61: 0 | M61: - | N61: 0 | O61: 0 | P61: 1394395847001
A62: 50100-7207577 | B62: 95/02/04 | C62: 95-951500087 | D62: 95/01/29 | E62: =MID(D62,1,2) -> 95 | F62: 494310 | G62: oasis maritime services l.l.c | H62: true | I62: نامشخص | J62: =VLOOKUP(C62,شرکتها!A:B,2,FALSE) -> #N/A | K62: 0 | L62: 0 | M62: - | N62: 0 | O62: 0 | P62: 1394395847001
A63: 50100-7207430 | B63: 95/02/04 | C63: 95-951500045 | D63: 95/01/24 | E63: =MID(D63,1,2) -> 95 | F63: 399490 | G63: SHINING GREEN STAR FZE | H63: true | I63: نامشخص | J63: تسویه | K63: 0 | L63: 0 | M63: - | N63: 0 | O63: 0 | P63: 1394395845001
A64: 50100-7216643 | B64: 95/02/06 | C64: 95-951500022 | D64: 95/01/18 | E64: =MID(D64,1,2) -> 95 | F64: 414600 | G64: LLC Sebco Bitumen | H64: true | I64: نامشخص | J64: تسویه | K64: 0 | L64: 0 | M64: - | N64: 0 | O64: 0 | P64: 1395397985001
A65: 50100-7176974 | B65: 95/01/28 | C65: 95-951500014 | D65: 95/01/16 | E65: =MID(D65,1,2) -> 95 | F65: 1006342 | G65: oasis maritime services l.l.c | H65: true | I65: نامشخص | J65: تسویه | K65: 0 | L65: 0 | M65: - | N65: 0 | O65: 0 | P65: 1394394801001
A66: 50100-7198818 | B66: 95/02/01 | C66: 95-951500020 | D66: 95/01/17 | E66: =MID(D66,1,2) -> 95 | F66: 129393 | G66: SHINING GREEN STAR FZE | H66: true | I66: نامشخص | J66: تسویه | K66: 0 | L66: 0 | M66: - | N66: 0 | O66: 0 | P66: 1394395845001
A67: 50100-7216643 | B67: 95/02/06 | C67: 95-951500027 | D67: 95/01/18 | E67: =MID(D67,1,2) -> 95 | F67: 373260 | G67: LLC Sebco Bitumen | H67: true | I67: نامشخص | J67: تسویه | K67: 0 | L67: 0 | M67: - | N67: 0 | O67: 0 | P67: 1395397985001
A68: 50100-7216643 | B68: 95/02/06 | C68: 95-951500023 | D68: 95/01/18 | E68: =MID(D68,1,2) -> 95 | F68: 188940 | G68: LLC Sebco Bitumen | H68: true | I68: نامشخص | J68: تسویه | K68: 0 | L68: 0 | M68: - | N68: 0 | O68: 0 | P68: 1395397985001
A69: 50100-7207661 | B69: 95/02/04 | C69: 95-951500017 | D69: 95/01/17 | E69: =MID(D69,1,2) -> 95 | F69: 58529 | G69: oasis maritime services l.l.c | H69: true | I69: نامشخص | J69: تسویه | K69: 0 | L69: 0 | M69: - | N69: 0 | O69: 0 | P69: 1394394801001
A70: 50100-7203514 | B70: 95/02/04 | C70: 95-951500056 | D70: 95/01/25 | E70: =MID(D70,1,2) -> 95 | F70: 449640 | G70: SHINING GREEN STAR FZE | H70: true | I70: نامشخص | J70: تسویه | K70: 0 | L70: 0 | M70: - | N70: 0 | O70: 0 | P70: 1394395845001
A71: 50100-7199815 | B71: 95/02/01 | C71: 95-951500028 | D71: 95/01/21 | E71: =MID(D71,1,2) -> 95 | F71: 239035 | G71: oasis maritime services l.l.c | H71: true | I71: نامشخص | J71: تسویه | K71: 0 | L71: 0 | M71: - | N71: 0 | O71: 0 | P71: 1394394801001
A72: 50100-7183827 | B72: 95/01/29 | C72: 95-951500030 | D72: 95/01/21 | E72: =MID(D72,1,2) -> 95 | F72: 300000 | G72: LLC Sebco Bitumen | H72: true | I72: نامشخص | J72: تسویه | K72: 0 | L72: 0 | M72: - | N72: 0 | O72: 0 | P72: 1395397985001
A73: 50100-7188433 | B73: 95/01/30 | C73: 95-952500001 | D73: 95/01/14 | E73: =MID(D73,1,2) -> 95 | F73: 51932 | G73: oasis maritime services l.l.c | H73: true | I73: نامشخص | J73: تسویه | K73: 0 | L73: 0 | M73: - | N73: 0 | O73: 0 | P73: 1394394801001
A74: 50100-7209733 | B74: 95/02/05 | C74: 95-951500041 | D74: 95/01/24 | E74: =MID(D74,1,2) -> 95 | F74: 995890 | G74: SHINING GREEN STAR FZE | H74: true | I74: نامشخص | J74: تسویه | K74: 0 | L74: 0 | M74: - | N74: 0 | O74: 0 | P74: 1394395845001
... A98: 50100-7207535 | B98: 95/02/04 | C98: 95-951500018 | D98: 95/01/17 | E98: =MID(D98,1,2) -> 95 | F98: 984231 | G98: oasis maritime services l.l.c | H98: true | I98: نامشخص | J98: تسویه | K98: 0 | L98: 0 | M98: - | N98: 0 | O98: 0 | P98: 1394394801001
A99: 50100-7216486 | B99: 95/02/06 | C99: 95-951500085 | D99: 95/01/29 | E99: =MID(D99,1,2) -> 95 | F99: 995560 | G99: oasis maritime services l.l.c | H99: true | I99: نامشخص | J99: =VLOOKUP(C99,شرکتها!A:B,2,FALSE) -> #N/A | K99: 0 | L99: 0 | M99: - | N99: 0 | O99: 0 | P99: 1394395847001
A100: 50100-7198334 | B100: 95/02/01 | C100: 95-951500017 | D100: 95/01/17 | E100: =MID(D100,1,2) -> 95 | F100: 468680 | G100: oasis maritime services l.l.c | H100: true | I100: نامشخص | J100: تسویه | K100: 0 | L100: 0 | M100: - | N100: 0 | O100: 0 | P100: 1394394801001
A101: 50100-7215732 | B101: 95/02/06 | C101: 95-951500070 | D101: 95/01/29 | E101: =MID(D101,1,2) -> 95 | F101: 997670 | G101: SHINING GREEN STAR FZE | H101: true | I101: نامشخص | J101: تسویه | K101: 0 | L101: 0 | M101: - | N101: 0 | O101: 0 | P101: 1394395845001
A102: 50100-7179241 | B102: 95/01/28 | C102: 95-951500036 | D102: 95/01/22 | E102: =MID(D102,1,2) -> 95 | F102: 905119 | G102: oasis maritime services l.l.c | H102: true | I102: نامشخص | J102: =VLOOKUP(C102,شرکتها!A:B,2,FALSE) -> #N/A | K102: 0 | L102: 0 | M102: - | N102: 0 | O102: 0 | P102: 1394395847001
A103: 50100-7200051 | B103: 95/02/01 | C103: 95-951500028 | D103: 95/01/21 | E103: =MID(D103,1,2) -> 95 | F103: 398392 | G103: oasis maritime services l.l.c | H103: true | I103: نامشخص | J103: تسویه | K103: 0 | L103: 0 | M103: - | N103: 0 | O103: 0 | P103: 1394394801001
A104: 50100-7210592 | B104: 95/02/05 | C104: 95-951500060 | D104: 95/01/25 | E104: =MID(D104,1,2) -> 95 | F104: 23560 | G104: oasis maritime services l.l.c | H104: true | I104: نامشخص | J104: =VLOOKUP(C104,شرکتها!A:B,2,FALSE) -> #N/A | K104: 0 | L104: 0 | M104: - | N104: 0 | O104: 0 | P104: 1394395847001
A105: 50100-7191379 | B105: 95/01/30 | C105: 95-952500002 | D105: 95/01/17 | E105: =MID(D105,1,2) -> 95 | F105: 205244 | G105: oasis maritime services l.l.c | H105: true | I105: نامشخص | J105: تسویه | K105: 0 | L105: 0 | M105: - | N105: 0 | O105: 0 | P105: 1394394801001
A106: 50100-7167864 | B106: 95/01/26 | C106: 95-952500001 | D106: 95/01/14 | E106: =MID(D106,1,2) -> 95 | F106: 489096 | G106: oasis maritime services l.l.c | H106: true | I106: نامشخص | J106: تسویه | K106: 0 | L106: 0 | M106: - | N106: 0 | O106: 0 | P106: 1394394801001
A107: 50100-7210592 | B107: 95/02/05 | C107: 95-951500040 | D107: 95/01/24 | E107: =MID(D107,1,2) -> 95 | F107: 1000000 | G107: oasis maritime services l.l.c | H107: true | I107: نامشخص | J107: =VLOOKUP(C107,شرکتها!A:B,2,FALSE) -> #N/A | K107: 0 | L107: 0 | M107: - | N107: 0 | O107: 0 | P107: 1394395847001
A108: 50100-7210592 | B108: 95/02/05 | C108: 95-951500100 | D108: 95/01/31 | E108: =MID(D108,1,2) -> 95 | F108: 976440 | G108: oasis maritime services l.l.c | H108: true | I108: نامشخص | J108: =VLOOKUP(C108,شرکتها!A:B,2,FALSE) -> #N/A | K108: 0 | L108: 0 | M108: - | N108: 0 | O108: 0 | P108: 1394395847001
A109: 50100-7203514 | B109: 95/02/04 | C109: 95-951500026 | D109: 95/01/18 | E109: =MID(D109,1,2) -> 95 | F109: 500000 | G109: LLC Sebco Bitumen | H109: true | I109: نامشخص | J109: تسویه | K109: 0 | L109: 0 | M109: - | N109: 0 | O109: 0 | P109: 1395397985001
A110: 50100-7209598 | B110: 95/02/05 | C110: 95-951500042 | D110: 95/01/24 | E110: =MID(D110,1,2) -> 95 | F110: 402537 | G110: SHINING GREEN STAR FZE | H110: true | I110: نامشخص | J110: تسویه | K110: 0 | L110: 0 | M110: - | N110: 0 | O110: 0 | P110: 1394395845001
A111: 50100-7199475 | B111: 95/02/04 | C111: 95-954100003 | D111: 95/01/31 | E111: =MID(D111,1,2) -> 95 | F111: 2794634 | G111: oasis maritime services l.l.c | H111: true | I111: نامشخص | J111: تسویه | K111: 0 | L111: 0 | M111: - | N111: 0 | O111: 0 | P111: 1395397988001
A112: 15100-269647 | B112: 95/02/25 | C112: 95-951500133 | D112: 95/02/18 | E112: =MID(D112,1,2) -> 95 | F112: 24140 | G112: DAXON PETROLEUM | H112: true | I112: نامشخص | J112: تسویه | K112: 0 | L112: 0 | M112: - | N112: 0 | O112: 0 | P112: 1395397986001
A113: 15100-263128 | B113: 95/02/09 | C113: 95-951500038 | D113: 95/01/22 | E113: =MID(D113,1,2) -> 95 | F113: 121120 | G113: DAXON PETROLEUM | H113: true | I113: نامشخص | J113: تسویه | K113: 0 | L113: 0 | M113: - | N113: 0 | O113: 0 | P113: 1395397986001
A114: 15100-261536 | B114: 95/02/06 | C114: 95-951500038 | D114: 95/01/22 | E114: =MID(D114,1,2) -> 95 | F114: 23400 | G114: DAXON PETROLEUM | H114: true | I114: نامشخص | J114: تسویه | K114: 0 | L114: 0 | M114: - | N114: 0 | O114: 0 | P114: 1395397986001
A115: 15100-263167 | B115: 95/02/09 | C115: 95-951500099 | D115: 95/01/31 | E115: =MID(D115,1,2) -> 95 | F115: 151360 | G115: LLC Sebco Bitumen | H115: true | I115: نامشخص | J115: تسویه | K115: 0 | L115: 0 | M115: - | N115: 0 | O115: 0 | P115: 1395397985001
A116: 15100-270879 | B116: 95/02/27 | C116: 95-951500098 | D116: 95/01/31 | E116: =MID(D116,1,2) -> 95 | F116: 46840 | G116: LLC Sebco Bitumen | H116: true | I116: نامشخص | J116: تسویه | K116: 0 | L116: 0 | M116: - | N116: 0 | O116: 0 | P116: 1395397985001
A117: 15100-270400 | B117: 95/02/26 | C117: 95-951500133 | D117: 95/02/18 | E117: =MID(D117,1,2) -> 95 | F117: 95580 | G117: DAXON PETROLEUM | H117: true | I117: نامشخص | J117: تسویه | K117: 0 | L117: 0 | M117: - | N117: 0 | O117: 0 | P117: 1395397986001
A118: 15100-262524 | B118: 95/02/08 | C118: 95-951500099 | D118: 95/01/31 | E118: =MID(D118,1,2) -> 95 | F118: 73250 | G118: LLC Sebco Bitumen | H118: true | I118: نامشخص | J118: تسویه | K118: 0 | L118: 0 | M118: - | N118: 0 | O118: 0 | P118: 1395397985001
A119: 15100-263633 | B119: 95/02/11 | C119: 95-951500038 | D119: 95/01/22 | E119: =MID(D119,1,2) -> 95 | F119: 69020 | G119: DAXON PETROLEUM | H119: true | I119: نامشخص | J119: تسویه | K119: 0 | L119: 0 | M119: - | N119: 0 | O119: 0 | P119: 1395397986001
A120: 15100-270327 | B120: 95/02/26 | C120: 95-951500098 | D120: 95/01/31 | E120: =MID(D120,1,2) -> 95 | F120: 94500 | G120: LLC Sebco Bitumen | H120: true | I120: نامشخص | J120: تسویه | K120: 0 | L120: 0 | M120: - | N120: 0 | O120: 0 | P120: 1395397985001
... A178: 50100-7333773 | B178: 95/03/01 | C178: 95-951500049 | D178: 95/01/25 | E178: =MID(D178,1,2) -> 95 | F178: 640000 | G178: LLC Sebco Bitumen | H178: true | I178: نامشخص | J178: تسویه | K178: 0 | L178: 0 | M178: - | N178: 0 | O178: 0 | P178: 1395397985001
A179: 50100-7238351 | B179: 95/02/11 | C179: 95-951500087 | D179: 95/01/29 | E179: =MID(D179,1,2) -> 95 | F179: 505250 | G179: oasis maritime services l.l.c | H179: true | I179: نامشخص | J179: =VLOOKUP(C179,شرکتها!A:B,2,FALSE) -> #N/A | K179: 0 | L179: 0 | M179: - | N179: 0 | O179: 0 | P179: 1394395847001
A180: 50100-7325374 | B180: 95/02/29 | C180: 95-952500010 | D180: 95/02/05 | E180: =MID(D180,1,2) -> 95 | F180: 195072 | G180: oasis maritime services l.l.c | H180: true | I180: نامشخص | J180: تسویه | K180: 0 | L180: 0 | M180: - | N180: 0 | O180: 0 | P180: 1394395847001
A181: 50100-7272571 | B181: 95/02/19 | C181: 95-951500060 | D181: 95/01/25 | E181: =MID(D181,1,2) -> 95 | F181: 176440 | G181: oasis maritime services l.l.c | H181: true | I181: نامشخص | J181: =VLOOKUP(C181,شرکتها!A:B,2,FALSE) -> #N/A | K181: 0 | L181: 0 | M181: - | N181: 0 | O181: 0 | P181: 1394395847001
A182: 50100-7272571 | B182: 95/02/19 | C182: 95-951500107 | D182: 95/02/05 | E182: =MID(D182,1,2) -> 95 | F182: 797080 | G182: oasis maritime services l.l.c | H182: true | I182: نامشخص | J182: =VLOOKUP(C182,شرکتها!A:B,2,FALSE) -> #N/A | K182: 0 | L182: 0 | M182: - | N182: 0 | O182: 0 | P182: 1394395847001
A183: 50100-7333942 | B183: 95/03/01 | C183: 95-951500046 | D183: 95/01/24 | E183: =MID(D183,1,2) -> 95 | F183: 138732 | G183: LLC Sebco Bitumen | H183: true | I183: نامشخص | J183: تسویه | K183: 0 | L183: 0 | M183: - | N183: 0 | O183: 0 | P183: 1395397985001
A184: 50100-7310706 | B184: 95/02/27 | C184: 95-951500073 | D184: 95/01/29 | E184: =MID(D184,1,2) -> 95 | F184: 1327484 | G184: SHINING GREEN STAR FZE | H184: true | I184: نامشخص | J184: تسویه | K184: 0 | L184: 0 | M184: - | N184: 0 | O184: 0 | P184: 1394395845001
A185: 50100-7333773 | B185: 95/03/01 | C185: 95-951500046 | D185: 95/01/24 | E185: =MID(D185,1,2) -> 95 | F185: 210060 | G185: LLC Sebco Bitumen | H185: true | I185: نامشخص | J185: تسویه | K185: 0 | L185: 0 | M185: - | N185: 0 | O185: 0 | P185: 1395397985001
A186: 50100-7365299 | B186: 95/03/09 | C186: 95-951500051 | D186: 95/01/25 | E186: =MID(D186,1,2) -> 95 | F186: 260767 | G186: LLC Sebco Bitumen | H186: true | I186: نامشخص | J186: تسویه | K186: 0 | L186: 0 | M186: - | N186: 0 | O186: 0 | P186: 1395397985001
A187: 50100-7310706 | B187: 95/02/27 | C187: 95-951500072 | D187: 95/01/29 | E187: =MID(D187,1,2) -> 95 | F187: 670786 | G187: SHINING GREEN STAR FZE | H187: true | I187: نامشخص | J187: تسویه | K187: 0 | L187: 0 | M187: - | N187: 0 | O187: 0 | P187: 1394395845001
A188: 50100-7279370 | B188: 95/02/20 | C188: 95-951500123 | D188: 95/02/13 | E188: =MID(D188,1,2) -> 95 | F188: 375720 | G188: oasis maritime services l.l.c | H188: true | I188: نامشخص | J188: تسویه | K188: 0 | L188: 0 | M188: - | N188: 0 | O188: 0 | P188: 1394395847001
A189: 50100-7346574 | B189: 95/03/05 | C189: 95-951500030 | D189: 95/01/21 | E189: =MID(D189,1,2) -> 95 | F189: 1360 | G189: LLC Sebco Bitumen | H189: true | I189: نامشخص | J189: تسویه | K189: 0 | L189: 0 | M189: - | N189: 0 | O189: 0 | P189: 1395397985001
A190: 50100-7272571 | B190: 95/02/19 | C190: 95-951500100 | D190: 95/01/31 | E190: =MID(D190,1,2) -> 95 | F190: 23480 | G190: oasis maritime services l.l.c | H190: true | I190: نامشخص | J190: =VLOOKUP(C190,شرکتها!A:B,2,FALSE) -> #N/A | K190: 0 | L190: 0 | M190: - | N190: 0 | O190: 0 | P190: 1394395847001
A191: 50100-7238351 | B191: 95/02/11 | C191: 95-951500036 | D191: 95/01/22 | E191: =MID(D191,1,2) -> 95 | F191: 482660 | G191: oasis maritime services l.l.c | H191: true | I191: نامشخص | J191: =VLOOKUP(C191,شرکتها!A:B,2,FALSE) -> #N/A | K191: 0 | L191: 0 | M191: - | N191: 0 | O191: 0 | P191: 1394395847001
A192: 50100-7333773 | B192: 95/03/01 | C192: 95-951500029 | D192: 95/01/21 | E192: =MID(D192,1,2) -> 95 | F192: 645920 | G192: LLC Sebco Bitumen | H192: true | I192: نامشخص | J192: تسویه | K192: 0 | L192: 0 | M192: - | N192: 0 | O192: 0 | P192: 1395397985001
A193: 50100-7351661 | B193: 95/03/08 | C193: 95-951500048 | D193: 95/01/25 | E193: =MID(D193,1,2) -> 95 | F193: 70878 | G193: LLC Sebco Bitumen | H193: true | I193: نامشخص | J193: تسویه | K193: 0 | L193: 0 | M193: - | N193: 0 | O193: 0 | P193: 1395397985001
A194: 50100-7365299 | B194: 95/03/09 | C194: 95-951500129 | D194: 95/02/15 | E194: =MID(D194,1,2) -> 95 | F194: 732773 | G194: LLC Sebco Bitumen | H194: true | I194: نامشخص | J194: تسویه | K194: 0 | L194: 0 | M194: - | N194: 0 | O194: 0 | P194: 1395397985001
A195: 50100-7312945 | B195: 95/02/27 | C195: 95-951500081 | D195: 95/01/29 | E195: =MID(D195,1,2) -> 95 | F195: 1000000 | G195: SHINING GREEN STAR FZE | H195: true | I195: نامشخص | J195: تسویه | K195: 0 | L195: 0 | M195: - | N195: 0 | O195: 0 | P195: 1394395845001
A196: 50100-7299447 | B196: 95/02/25 | C196: 95-951500130 | D196: 95/02/15 | E196: =MID(D196,1,2) -> 95 | F196: 400000 | G196: LLC Sebco Bitumen | H196: true | I196: نامشخص | J196: تسویه | K196: 0 | L196: 0 | M196: - | N196: 0 | O196: 0 | P196: 1395397985001
A197: 50100-7299447 | B197: 95/02/25 | C197: 95-951500051 | D197: 95/01/25 | E197: =MID(D197,1,2) -> 95 | F197: 352987 | G197: LLC Sebco Bitumen | H197: true | I197: نامشخص | J197: تسویه | K197: 0 | L197: 0 | M197: - | N197: 0 | O197: 0 | P197: 1395397985001
A198: 50100-7299447 | B198: 95/02/25 | C198: 95-951500011 | D198: 95/01/15 | E198: =MID(D198,1,2) -> 95 | F198: 239473 | G198: DAXON PETROLEUM | H198: true | I198: نامشخص | J198: تسویه | K198: 0 | L198: 0 | M198: - | N198: 0 | O198: 0 | P198: 1394392647001
A199: 50100-7233110 | B199: 95/02/09 | C199: 95-951500068 | D199: 95/01/29 | E199: =MID(D199,1,2) -> 95 | F199: 98308 | G199: SHINING GREEN STAR FZE | H199: true | I199: نامشخص | J199: تسویه | K199: 0 | L199: 0 | M199: - | N199: 0 | O199: 0 | P199: 1394395845001
A200: 50100-7279370 | B200: 95/02/20 | C200: 95-952500011 | D200: 95/02/08 | E200: =MID(D200,1,2) -> 95 | F200: 500000 | G200: oasis maritime services l.l.c | H200: true | I200: نامشخص | J200: =VLOOKUP(C200,شرکتها!A:B,2,FALSE) -> #N/A | K200: 0 | L200: 0 | M200: - | N200: 0 | O200: 0 | P200: 1394395847001
A201: 50100-7237755 | B201: 95/02/11 | C201: 95-951500011 | D201: 95/01/15 | E201: =MID(D201,1,2) -> 95 | F201: 100000 | G201: DAXON PETROLEUM | H201: true | I201: نامشخص | J201: تسویه | K201: 0 | L201: 0 | M201: - | N201: 0 | O201: 0 | P201: 1394392647001
A202: 50100-7260217 | B202: 95/02/15 | C202: 95-951500083 | D202: 95/01/29 | E202: =MID(D202,1,2) -> 95 | F202: 665072 | G202: SHINING GREEN STAR FZE | H202: true | I202: نامشخص | J202: تسویه | K202: 0 | L202: 0 | M202: - | N202: 0 | O202: 0 | P202: 1394395845001
A203: 50100-7228032 | B203: 95/02/08 | C203: 95-951500070 | D203: 95/01/29 | E203: =MID(D203,1,2) -> 95 | F203: 548726 | G203: SHINING GREEN STAR FZE | H203: true | I203: نامشخص | J203: تسویه | K203: 0 | L203: 0 | M203: - | N203: 0 | O203: 0 | P203: 1394395845001
A204: 50100-7346574 | B204: 95/03/05 | C204: 95-951500158 | D204: 95/02/27 | E204: =MID(D204,1,2) -> 95 | F204: 998640 | G204: PETRO HUB ENERGY FZE | H204: true | I204: نامشخص | J204: تسویه | K204: 0 | L204: 0 | M204: - | N204: 0 | O204: 0 | P204: 1395397990001
A205: 50100-7342860 | B205: 95/03/04 | C205: 95-951500035 | D205: 95/01/22 | E205: =MID(D205,1,2) -> 95 | F205: 338111 | G205: oasis maritime services l.l.c | H205: true | I205: نامشخص | J205: =VLOOKUP(C205,شرکتها!A:B,2,FALSE) -> #N/A | K205: 0 | L205: 0 | M205: - | N205: 0 | O205: 0 | P205: 1394395847001
A206: 50100-7338415 | B206: 95/03/03 | C206: 95-951500142 | D206: 95/02/22 | E206: =MID(D206,1,2) -> 95 | F206: 1000000 | G206: DAXON PETROLEUM | H206: true | I206: نامشخص | J206: تسویه | K206: 0 | L206: 0 | M206: - | N206: 0 | O206: 0 | P206: 1395397986001
A207: 50100-7382663 | B207: 95/03/12 | C207: 95-951500115 | D207: 95/02/11 | E207: =MID(D207,1,2) -> 95 | F207: 425270 | G207: SHINING GREEN STAR FZE | H207: true | I207: نامشخص | J207: تسویه | K207: 0 | L207: 0 | M207: - | N207: 0 | O207: 0 | P207: 1394395845001
A208: 50100-7279370 | B208: 95/02/20 | C208: 95-951500036 | D208: 95/01/22 | E208: =MID(D208,1,2) -> 95 | F208: 114750 | G208: oasis maritime services l.l.c | H208: true | I208: نامشخص | J208: =VLOOKUP(C208,شرکتها!A:B,2,FALSE) -> #N/A | K208: 0 | L208: 0 | M208: - | N208: 0 | O208: 0 | P208: 1394395847001
A209: 50100-7351661 | B209: 95/03/08 | C209: 95-951500031 | D209: 95/01/21 | E209: =MID(D209,1,2) -> 95 | F209: 77342 | G209: LLC Sebco Bitumen | H209: true | I209: نامشخص | J209: تسویه | K209: 0 | L209: 0 | M209: - | N209: 0 | O209: 0 | P209: 1395397985001
A210: 50100-7303503 | B210: 95/02/26 | C210: 95-951500114 | D210: 95/02/08 | E210: =MID(D210,1,2) -> 95 | F210: 998000 | G210: PETRO HUB ENERGY FZE | H210: true | I210: نامشخص | J210: تسویه | K210: 0 | L210: 0 | M210: - | N210: 0 | O210: 0 | P210: 1395397990001
A211: 50100-7228032 | B211: 95/02/08 | C211: 95-951500071 | D211: 95/01/29 | E211: =MID(D211,1,2) -> 95 | F211: 447344 | G211: SHINING GREEN STAR FZE | H211: true | I211: نامشخص | J211: تسویه | K211: 0 | L211: 0 | M211: - | N211: 0 | O211: 0 | P211: 1394395845001
A212: 50100-7373569 | B212: 95/03/10 | C212: 95-952500011 | D212: 95/02/08 | E212: =MID(D212,1,2) -> 95 | F212: 500000 | G212: oasis maritime services l.l.c | H212: true | I212: نامشخص | J212: =VLOOKUP(C212,شرکتها!A:B,2,FALSE) -> #N/A | K212: 0 | L212: 0 | M212: - | N212: 0 | O212: 0 | P212: 1394395847001
A213: 50100-7233110 | B213: 95/02/09 | C213: 95-951500069 | D213: 95/01/29 | E213: =MID(D213,1,2) -> 95 | F213: 396237 | G213: SHINING GREEN STAR FZE | H213: true | I213: نامشخص | J213: تسویه | K213: 0 | L213: 0 | M213: - | N213: 0 | O213: 0 | P213: 1394395845001
A214: 50100-7260217 | B214: 95/02/15 | C214: 95-951500069 | D214: 95/01/29 | E214: =MID(D214,1,2) -> 95 | F214: 52308 | G214: SHINING GREEN STAR FZE | H214: true | I214: نامشخص | J214: تسویه | K214: 0 | L214: 0 | M214: - | N214: 0 | O214: 0 | P214: 1394395845001
A215: 50100-7349014 | B215: 95/03/05 | C215: 95-952500010 | D215: 95/02/05 | E215: =MID(D215,1,2) -> 95 | F215: 388634 | G215: oasis maritime services l.l.c | H215: true | I215: نامشخص | J215: تسویه | K215: 0 | L215: 0 | M215: - | N215: 0 | O215: 0 | P215: 1394395847001
...

Sheet شرکتها
B1: shania | K1: 96/08/02 | M1: شماره حواله | N1: شماره قرارداد بورسي
A2: 94-941500006 | B2: shania | L2: =MID(M2,1,2)&"-"&M2 -> 96-966200349 | M2: 966200349 | N2: 1396520117
A3: 94-941500014 | B3: shania | L3: =MID(M3,1,2)&"-"&M3 -> 96-966200230 | M3: 966200230 | N3: 1396511620
A4: 94-941500015 | B4: shania | L4: =MID(M4,1,2)&"-"&M4 -> 96-966200331 | M4: 966200331 | N4: 1396518902
A5: 94-941500016 | B5: shania | L5: =MID(M5,1,2)&"-"&M5 -> 95-954100030 | M5: 954100030 | N5: 1395460645001
A6: 94-941500021 | B6: shania | L6: =MID(M6,1,2)&"-"&M6 -> 96-961500578 | M6: 961500578 | N6: 1396514771001
A7: 94-941500026 | B7: shania | L7: =MID(M7,1,2)&"-"&M7 -> 96-966200231 | M7: 966200231 | N7: 1396511620
A8: 94-941500027 | B8: shania | L8: =MID(M8,1,2)&"-"&M8 -> 96-966200321 | M8: 966200321 | N8: 1396518902
A9: 94-941500046 | B9: shania | L9: =MID(M9,1,2)&"-"&M9 -> 96-966200352 | M9: 966200352 | N9: 1396520117
A10: 94-941500060 | B10: shania | L10: =MID(M10,1,2)&"-"&M10 -> 96-964100062 | M10: 964100062 | N10: 1396513284001
A11: 94-941500061 | B11: shania | L11: =MID(M11,1,2)&"-"&M11 -> 95-952200032 | M11: 952200032 | N11: 1395431924001
A12: 94-941500070 | B12: shania | L12: =MID(M12,1,2)&"-"&M12 -> 95-952200035 | M12: 952200035 | N12: 1395431924001
A13: 94-941500071 | B13: shania | L13: =MID(M13,1,2)&"-"&M13 -> 95-951500159 | M13: 951500159 | N13: 1395397987001
... A1122: 92-50319 | B1122: gas co | L1122: =MID(M1122,1,2)&"-"&M1122 -> 96-961200057 | M1122: 961200057 | N1122: 1396508185001
A1123: 87-20050 | B1123: richmond mercantile | C1123: تسویه نشده | L1123: =MID(M1123,1,2)&"-"&M1123 -> 96-961500542 | M1123: 961500542 | N1123: 1396500681001
A1124: 87-20060 | B1124: richmond mercantile | C1124: تسویه نشده | L1124: =MID(M1124,1,2)&"-"&M1124 -> 96-961500433 | M1124: 961500433 | N1124: 1396500350001
A1125: 87-20125 | B1125: richmond mercantile | C1125: تسویه نشده | L1125: =MID(M1125,1,2)&"-"&M1125 -> 95-951500469 | M1125: 951500469 | N1125: 1395441450001
A1126: 87-20183 | B1126: richmond mercantile | C1126: تسویه نشده | L1126: =MID(M1126,1,2)&"-"&M1126 -> 95-951500550 | M1126: 951500550 | N1126: 1395447926001
A1127: 88-50080 | B1127: richmond mercantile | C1127: تسویه نشده | L1127: =MID(M1127,1,2)&"-"&M1127 -> 95-951500573 | M1127: 951500573 | N1127: 1395452681001
A1128: 88-50159 | B1128: richmond mercantile | C1128: تسویه شده | L1128: =MID(M1128,1,2)&"-"&M1128 -> 95-951500584 | M1128: 951500584 | N1128: 1395451401001
A1129: 88-50190 | B1129: richmond mercantile | C1129: تسویه نشده | L1129: =MID(M1129,1,2)&"-"&M1129 -> 96-961500004 | M1129: 961500004 | N1129: 1395451401001
A1130: 88-50451 | B1130: richmond mercantile | C1130: تسویه نشده | L1130: =MID(M1130,1,2)&"-"&M1130 -> 96-961500036 | M1130: 961500036 | N1130: 1395453119001
A1131: 88-50533 | B1131: richmond mercantile | C1131: تسویه نشده | L1131: =MID(M1131,1,2)&"-"&M1131 -> 96-961500143 | M1131: 961500143 | N1131: 1396481167001
A1132: 88-50551 | B1132: richmond mercantile | C1132: تسویه نشده | L1132: =MID(M1132,1,2)&"-"&M1132 -> 96-961500219 | M1132: 961500219 | N1132: 1396491879001
A1133: 88-50565 | B1133: richmond mercantile | C1133: تسویه نشده | L1133: =MID(M1133,1,2)&"-"&M1133 -> 96-961500277 | M1133: 961500277 | N1133: 1396492151001
A1134: 88-50566 | B1134: richmond mercantile | C1134: تسویه نشده | L1134: =MID(M1134,1,2)&"-"&M1134 -> 96-961500322 | M1134: 961500322 | N1134: 1396491878001
... A1499: 92-50732 | B1499: shining gulf | C1499: تسویه شده | L1499: =MID(M1499,1,2)&"-"&M1499 -> 96-962000048 | M1499: 962000048 | N1499: 1396514467
A1500: 93-931500748 | B1500: JANSON | L1500: =MID(M1500,1,2)&"-"&M1500 -> 96-962000043 | M1500: 962000043 | N1500: 1396514467
A1501: 93-931500749 | B1501: JANSON | L1501: =MID(M1501,1,2)&"-"&M1501 -> 95-956200129 | M1501: 956200129 | N1501: 1395456107
A1502: 93-931500752 | B1502: JANSON | L1502: =MID(M1502,1,2)&"-"&M1502 -> 95-956200337 | M1502: 956200337 | N1502: 1395470078
A1503: 93-931500753 | B1503: JANSON | L1503: =MID(M1503,1,2)&"-"&M1503 -> 95-956200372 | M1503: 956200372 | N1503: 1395470885
A1504: 93-931500754 | B1504: JANSON | L1504: =MID(M1504,1,2)&"-"&M1504 -> 95-956200376 | M1504: 956200376 | N1504: 1395470885
A1505: 93-931500756 | B1505: JANSON | L1505: =MID(M1505,1,2)&"-"&M1505 -> 95-956200378 | M1505: 956200378 | N1505: 1395470885
A1506: 93-931500757 | B1506: JANSON | L1506: =MID(M1506,1,2)&"-"&M1506 -> 95-952000321 | M1506: 952000321 | N1506: 1395464401
A1507: 93-931500758 | B1507: JANSON | L1507: =MID(M1507,1,2)&"-"&M1507 -> 95-951100109 | M1507: 951100109 | N1507: 1395427127
A1508: 93-931500762 | B1508: JANSON | L1508: =MID(M1508,1,2)&"-"&M1508 -> 95-951100181 | M1508: 951100181 | N1508: 1395461520
A1509: 93-931500763 | B1509: JANSON | L1509: =MID(M1509,1,2)&"-"&M1509 -> 95-952000099 | M1509: 952000099 | N1509: 1395433645
A1510: 93-931500764 | B1510: JANSON | L1510: =MID(M1510,1,2)&"-"&M1510 -> 95-952000282 | M1510: 952000282 | N1510: 1395447768
A1511: 93-931500767 | B1511: JANSON | L1511: =MID(M1511,1,2)&"-"&M1511 -> 96-962000012 | M1511: 962000012 | N1511: 1396514467
... A3306: 95-952500070 | B3306: oasis5555555555 | L3306: =MID(M3306,1,2)&"-"&M3306 -> 95-954100004 | M3306: 954100004 | N3306: 1395397988001
L3307: =MID(M3307,1,2)&"-"&M3307 -> 95-954100012 | M3307: 954100012 | N3307: 1395400302002
L3308: =MID(M3308,1,2)&"-"&M3308 -> 95-954100024 | M3308: 954100024 | N3308: 1395455748001
L3309: =MID(M3309,1,2)&"-"&M3309 -> 95-956000008 | M3309: 956000008 | N3309: 1395449117
L3310: =MID(M3310,1,2)&"-"&M3310 -> 95-951800046 | M3310: 951800046 | N3310: 1395421994
L3311: =MID(M3311,1,2)&"-"&M3311 -> 96-961800006 | M3311: 961800006 | N3311: 1396492348
A3312: 96-961500113 | B3312: m/s khan Group960606 | L3312: =MID(M3312,1,2)&"-"&M3312 -> 95-951800001 | M3312: 951800001 | N3312: 1395401951
A3313: 96-961500126 | B3313: m/s khan Group960606 | L3313: =MID(M3313,1,2)&"-"&M3313 -> 95-951900259 | M3313: 951900259 | N3313: 1395464567
A3314: 96-961500156 | B3314: m/s khan Group960606 | L3314: =MID(M3314,1,2)&"-"&M3314 -> 96-964300010 | M3314: 964300010 | N3314: 1396506170001
A3315: 96-961500159 | B3315: m/s khan Group960606 | L3315: =MID(M3315,1,2)&"-"&M3315 -> 95-951700056 | M3315: 951700056 | N3315: 1395411204
A3316: 95-951500295 | B3316: sebco-8159 | L3316: =MID(M3316,1,2)&"-"&M3316 -> 95-951700301 | M3316: 951700301 | N3316: 1395457936
A3317: 95-951500293 | B3317: sebco-8159 | L3317: =MID(M3317,1,2)&"-"&M3317 -> 95-951700326 | M3317: 951700326 | N3317: 1395460247
A3318: 95-951500298 | B3318: sebco-8159 | L3318: =MID(M3318,1,2)&"-"&M3318 -> 95-951700329 | M3318: 951700329 | N3318: 1395460247
A3319: 95-951500294 | B3319: sebco-8159 | L3319: =MID(M3319,1,2)&"-"&M3319 -> 96-966100002 | M3319: 966100002 | N3319: 1395471088
A3320: 95-951500297 | B3320: sebco-8159 | L3320: =MID(M3320,1,2)&"-"&M3320 -> 95-951800145 | M3320: 951800145 | N3320: 1395468356
A3321: 95-951500291 | B3321: sebco-8159 | L3321: =MID(M3321,1,2)&"-"&M3321 -> 95-954100029 | M3321: 954100029 | N3321: 1395460645001
A3322: 95-951500292 | B3322: sebco-8159 | L3322: =MID(M3322,1,2)&"-"&M3322 -> 95-954100035 | M3322: 954100035 | N3322: 1395460645001
A3323: 95-951500307 | B3323: sebco-8159 | L3323: =MID(M3323,1,2)&"-"&M3323 -> 96-964100002 | M3323: 964100002 | N3323: 1395468402001
... A3394: 95-952500001 | B3394: تسویه | L3394: =MID(M3394,1,2)&"-"&M3394 -> 95-952000187 | M3394: 952000187 | N3394: 1395443199
A3395: 95-951500004 | B3395: تسویه | F3395: 951500441 | L3395: =MID(M3395,1,2)&"-"&M3395 -> 95-956200370 | M3395: 956200370 | N3395: 1395470885
A3396: 95-951500002 | B3396: تسویه | F3396: 951500452 | L3396: =MID(M3396,1,2)&"-"&M3396 -> 95-956200371 | M3396: 956200371 | N3396: 1395470885
A3397: 95-951500001 | B3397: تسویه | F3397: 951500454 | L3397: =MID(M3397,1,2)&"-"&M3397 -> 96-962000068 | M3397: 962000068 | N3397: 1396514467
A3398: 95-951500014 | B3398: تسویه | F3398: 951500465 | L3398: =MID(M3398,1,2)&"-"&M3398 -> 95-951700009 | M3398: 951700009 | N3398: 1395401990
A3399: 95-951500021 | B3399: تسویه | F3399: 951500471 | L3399: =MID(M3399,1,2)&"-"&M3399 -> 95-951700015 | M3399: 951700015 | N3399: 1395401990
A3400: 95-951500014 | B3400: تسویه | F3400: 951500490 | L3400: =MID(M3400,1,2)&"-"&M3400 -> 95-951700019 | M3400: 951700019 | N3400: 1395401990
A3401: 95-954100001 | B3401: تسویه | F3401: 951500510 | L3401: =MID(M3401,1,2)&"-"&M3401 -> 95-951700075 | M3401: 951700075 | N3401: 1395411402
A3402: 95-951500002 | B3402: تسویه | F3402: 951500511 | L3402: =MID(M3402,1,2)&"-"&M3402 -> 95-951700078 | M3402: 951700078 | N3402: 1395411402
A3403: 95-951500001 | B3403: تسویه | F3403: 951500516 | L3403: =MID(M3403,1,2)&"-"&M3403 -> 95-951700082 | M3403: 951700082 | N3403: 1394389479
A3404: 95-951500015 | B3404: تسویه | F3404: 951500524 | L3404: =MID(M3404,1,2)&"-"&M3404 -> 95-951700142 | M3404: 951700142 | N3404: 1395421160
A3405: 95-951500013 | B3405: تسویه | F3405: 951500525 | L3405: =MID(M3405,1,2)&"-"&M3405 -> 96-962000204 | M3405: 962000204 | N3405: 1396514467
A3406: 95-951500013 | B3406: تسویه | L3406: =MID(M3406,1,2)&"-"&M3406 -> 95-952200025 | M3406: 952200025 | N3406: 1395400302001
A3407: 95-951500014 | B3407: تسویه | F3407: 951500526 | L3407: =MID(M3407,1,2)&"-"&M3407 -> 95-952200052 | M3407: 952200052 | N3407: 1395431922001
A3408: 95-951500033 | B3408: تسویه | F3408: 951500536 | L3408: =MID(M3408,1,2)&"-"&M3408 -> 95-952200056 | M3408: 952200056 | N3408: 1395438611001
A3409: 95-951500086 | B3409: تسویه | F3409: 951500537 | L3409: =MID(M3409,1,2)&"-"&M3409 -> 95-952200060 | M3409: 952200060 | N3409: 1395438611001
A3410: 95-952500001 | B3410: تسویه | L3410: =MID(M3410,1,2)&"-"&M3410 -> 95-952200061 | M3410: 952200061 | N3410: 1395449245001
A3411: 95-952500001 | B3411: تسویه | L3411: =MID(M3411,1,2)&"-"&M3411 -> 95-952200069 | M3411: 952200069 | N3411: 1395459319001
A3412: 95-951500028 | B3412: تسویه | L3412: =MID(M3412,1,2)&"-"&M3412 -> 95-952200070 | M3412: 952200070 | N3412: 1395447927001
A3413: 95-951500021 | B3413: تسویه | L3413: =MID(M3413,1,2)&"-"&M3413 -> 95-952200071 | M3413: 952200071 | N3413: 1395400302001
A3414: 95-951500014 | B3414: تسویه | L3414: =MID(M3414,1,2)&"-"&M3414 -> 95-952200086 | M3414: 952200086 | N3414: 1395467472001
A3415: 95-951500017 | B3415: تسویه | L3415: =MID(M3415,1,2)&"-"&M3415 -> 96-962200001 | M3415: 962200001 | N3415: 1395467472001
A3416: 95-951500028 | B3416: تسویه | L3416: =MID(M3416,1,2)&"-"&M3416 -> 96-962200014 | M3416: 962200014 | N3416: 1396474046001
A3417: 95-952500001 | B3417: تسویه | L3417: =MID(M3417,1,2)&"-"&M3417 -> 96-962200021 | M3417: 962200021 | N3417: 1396479478001
A3418: 95-952500002 | B3418: تسویه | L3418: =MID(M3418,1,2)&"-"&M3418 -> 96-962200023 | M3418: 962200023 | N3418: 1396479478001
A3419: 95-951500028 | B3419: تسویه | L3419: =MID(M3419,1,2)&"-"&M3419 -> 96-962200031 | M3419: 962200031 | N3419: 1396483576001
A3420: 95-952500002 | B3420: تسویه | L3420: =MID(M3420,1,2)&"-"&M3420 -> 96-962200032 | M3420: 962200032 | N3420: 1396483576001
A3421: 95-951500034 | B3421: تسویه | L3421: =MID(M3421,1,2)&"-"&M3421 -> 96-962200053 | M3421: 962200053 | N3421: 1396500396001
... A5334: 93-931500157 | B5334: تسویه | L5334: =MID(M5334,1,2)&"-"&M5334 -> 96-966000004 | M5334: 966000004 | N5334: ندارد
A5335: 93-931500165 | B5335: تسویه | L5335: =MID(M5335,1,2)&"-"&M5335 -> -
A5336: 93-931500146 | B5336: تسویه | L5336: =MID(M5336,1,2)&"-"&M5336 -> -
A5337: 93-931500230 | B5337: تسویه | L5337: =MID(M5337,1,2)&"-"&M5337 -> -
A5338: 93-931500146 | B5338: تسویه | L5338: =MID(M5338,1,2)&"-"&M5338 -> -
A5339: 93-931500236 | B5339: تسویه | L5339: =MID(M5339,1,2)&"-"&M5339 -> -
A5340: 93-931500212 | B5340: تسویه | L5340: =MID(M5340,1,2)&"-"&M5340 -> -
A5341: 93-931500212 | B5341: تسویه | L5341: =MID(M5341,1,2)&"-"&M5341 -> -
A5342: 93-931500094 | B5342: تسویه | L5342: =MID(M5342,1,2)&"-"&M5342 -> -
A5343: 93-931500094 | B5343: تسویه | L5343: =MID(M5343,1,2)&"-"&M5343 -> -
A5344: 93-931500230 | B5344: تسویه | L5344: =MID(M5344,1,2)&"-"&M5344 -> -
A5345: 93-931500231 | B5345: تسویه | L5345: =MID(M5345,1,2)&"-"&M5345 -> -
A5346: 93-931500236 | B5346: تسویه | L5346: =MID(M5346,1,2)&"-"&M5346 -> -
... A5464: 93-931500840 | B5464: تسویه | L5464: =MID(M5464,1,2)&"-"&M5464 -> -
A5465: 93-931500782 | B5465: تسویه
...

Sheet ش.ق
A1: شماره حواله | B1: شماره حواله | C1: شماره قرارداد بورسي
A2: 966000036 | B2: =MID(A2,1,2)&"-"&A2 -> 96-966000036 | C2: ندارد
A3: 966000036 | B3: =MID(A3,1,2)&"-"&A3 -> 96-966000036 | C3: ندارد
A4: 961100113 | B4: =MID(A4,1,2)&"-"&A4 -> 96-961100113 | C4: 1396541324
A5: 966200440 | B5: =MID(A5,1,2)&"-"&A5 -> 96-966200440 | C5: 1396531357
A6: 964100094 | B6: =MID(A6,1,2)&"-"&A6 -> 96-964100094 | C6: 1396538721001
A7: 952200074 | B7: =MID(A7,1,2)&"-"&A7 -> 95-952200074 | C7: 1395459319001
A8: 966000034 | B8: =MID(A8,1,2)&"-"&A8 -> 96-966000034 | C8: ندارد
A9: 966200484 | B9: =MID(A9,1,2)&"-"&A9 -> 96-966200484 | C9: 1396533043
A10: 966200492 | B10: =MID(A10,1,2)&"-"&A10 -> 96-966200492 | C10: 1396535037
A11: 966200527 | B11: =MID(A11,1,2)&"-"&A11 -> 96-966200527 | C11: 1396539696
A12: 954100030 | B12: =MID(A12,1,2)&"-"&A12 -> 95-954100030 | C12: 1395460645001
A13: 964100021 | B13: =MID(A13,1,2)&"-"&A13 -> 96-964100021 | C13: 1396474210001
... A4309: 966200333 | B4309: =MID(A4309,1,2)&"-"&A4309 -> 96-966200333 | C4309: 1396518916
A4310: 966000030 | B4310: =MID(A4310,1,2)&"-"&A4310 -> 96-966000030
A4311: 966000040 | B4311: =MID(A4311,1,2)&"-"&A4311 -> 96-966000040 | C4311: ندارد
A4312: 951200070 | B4312: =MID(A4312,1,2)&"-"&A4312 -> 95-951200070 | C4312: 1395447927001
A4313: 951200071 | B4313: =MID(A4313,1,2)&"-"&A4313 -> 95-951200071 | C4313: 1395418114001
A4314: 961200137 | B4314: =MID(A4314,1,2)&"-"&A4314 -> 96-961200137 | C4314: 1396522401001
A4315: 951500122 | B4315: =MID(A4315,1,2)&"-"&A4315 -> 95-951500122 | C4315: 1395397987001
A4316: 951200066 | B4316: =MID(A4316,1,2)&"-"&A4316 -> 95-951200066 | C4316: 1395449245001
A4317: 952200017 | B4317: =MID(A4317,1,2)&"-"&A4317 -> 95-952200017 | C4317: 1395400302001
A4318: 952200029 | B4318: =MID(A4318,1,2)&"-"&A4318 -> 95-952200029 | C4318: 1395400302001
A4319: 962200002 | B4319: =MID(A4319,1,2)&"-"&A4319 -> 96-962200002 | C4319: 1395459319001
A4320: 952500058 | B4320: =MID(A4320,1,2)&"-"&A4320 -> 95-952500058 | C4320: 1395447376001
A4321: 952200053 | B4321: =MID(A4321,1,2)&"-"&A4321 -> 95-952200053 | C4321: 1395447927001
A4322: 966200303 | B4322: =MID(A4322,1,2)&"-"&A4322 -> 96-966200303 | C4322: 1396517669
... A5094: 956000006 | B5094: =MID(A5094,1,2)&"-"&A5094 -> 95-956000006 | C5094: ندارد
A5095: 966000024 | B5095: =MID(A5095,1,2)&"-"&A5095 -> 96-966000024
A5096: 951200046 | B5096: =MID(A5096,1,2)&"-"&A5096 -> 95-951200046 | C5096: 1395400302001
A5097: 951200050 | B5097: =MID(A5097,1,2)&"-"&A5097 -> 95-951200050 | C5097: 1395400302001
A5098: 951500101 | B5098: =MID(A5098,1,2)&"-"&A5098 -> 95-951500101 | C5098: 1395397987001
A5099: 951100140 | B5099: =MID(A5099,1,2)&"-"&A5099 -> 95-951100140 | C5099: 1395443379
A5100: 962200018 | B5100: =MID(A5100,1,2)&"-"&A5100 -> 96-962200018 | C5100: 1395467472001
A5101: 951200032 | B5101: =MID(A5101,1,2)&"-"&A5101 -> 95-951200032 | C5101: 1395399147001
A5102: 951200078 | B5102: =MID(A5102,1,2)&"-"&A5102 -> 95-951200078 | C5102: 1395399147001
A5103: 952000089 | B5103: =MID(A5103,1,2)&"-"&A5103 -> 95-952000089 | C5103: 1395430749
A5104: 956200027 | B5104: =MID(A5104,1,2)&"-"&A5104 -> 95-956200027 | C5104: 1395407682
A5105: 966200309 | B5105: =MID(A5105,1,2)&"-"&A5105 -> 96-966200309 | C5105: 1396517670
A5106: 956200043 | B5106: =MID(A5106,1,2)&"-"&A5106 -> 95-956200043 | C5106: 1395411206
A5107: 962000357 | B5107: =MID(A5107,1,2)&"-"&A5107 -> 96-962000357 | C5107: 1396529715
... A8429: 966200680 | B8429: =MID(A8429,1,2)&"-"&A8429 -> 96-966200680 | C8429: 1396553738
A8430: 966000030 | B8430: =MID(A8430,1,2)&"-"&A8430 -> 96-966000030
A8431: 966000040 | B8431: =MID(A8431,1,2)&"-"&A8431 -> 96-966000040 | C8431: ندارد
A8432: 961200137 | B8432: =MID(A8432,1,2)&"-"&A8432 -> 96-961200137 | C8432: 1396522401001
A8433: 962200116 | B8433: =MID(A8433,1,2)&"-"&A8433 -> 96-962200116 | C8433: 1396548705001
A8434: 962500229 | B8434: =MID(A8434,1,2)&"-"&A8434 -> 96-962500229 | C8434: 1396552140001
A8435: 962500213 | B8435: =MID(A8435,1,2)&"-"&A8435 -> 96-962500213 | C8435: 1396538727001
A8436: 962500208 | B8436: =MID(A8436,1,2)&"-"&A8436 -> 96-962500208 | C8436: 1396472851001
A8437: 962200113 | B8437: =MID(A8437,1,2)&"-"&A8437 -> 96-962200113 | C8437: 1396548705001
A8438: 972500001 | B8438: =MID(A8438,1,2)&"-"&A8438 -> 97-972500001 | C8438: 1396552140001
A8439: 962500168 | B8439: =MID(A8439,1,2)&"-"&A8439 -> 96-962500168 | C8439: 1396519129001
A8440: 962200100 | B8440: =MID(A8440,1,2)&"-"&A8440 -> 96-962200100 | C8440: 1396534633001
A8441: 962500197 | B8441: =MID(A8441,1,2)&"-"&A8441 -> 96-962500197 | C8441: 1396534910001
A8442: 972500005 | B8442: =MID(A8442,1,2)&"-"&A8442 -> 97-972500005 | C8442: 1396548708001
... A8769: 966000028 | B8769: =MID(A8769,1,2)&"-"&A8769 -> 96-966000028 | C8769: ندارد

Sheet Sheet1
A1: شماره پروانه | B1: کوتاژ | C1: تاریخ پروانه | D1: نوع بسته بندی
A2: 50100-8499469 | B2: 8499469 | C2: 96/01/15 | D2: بشكه
A3: 50100-8499469 | B3: 8499469 | C3: 96/01/15 | D3: بشكه
A4: 50100-8489612 | B4: 8489612 | C4: 96/01/09 | D4: فله
A5: 50100-8490044 | B5: 8490044 | C5: 96/01/09 | D5: بشكه
A6: 50100-8501342 | B6: 8501342 | C6: 96/01/15 | D6: فله
A7: 50100-8491399 | B7: 8491399 | C7: 96/01/09 | D7: بشكه
A8: 50100-8491399 | B8: 8491399 | C8: 96/01/09 | D8: بشكه
A9: 50100-8491399 | B9: 8491399 | C9: 96/01/09 | D9: بشكه
A10: 50100-8486277 | B10: 8486277 | C10: 96/01/08 | D10: بشكه
A11: 15100-397380 | B11: 397380 | C11: 96/01/09 | D11: فله
A12: 15100-397380 | B12: 397380 | C12: 96/01/09 | D12: فله
... A86: 50100-8530045 | B86: 8530045 | C86: 96/01/23 | D86: فله
A87: ="15100-399667" -> 15100-399667 | B87: 399667 | C87: ="96/01/19" -> 96/01/19 | D87: بشكه
A88: ="15100-398821" -> 15100-398821 | B88: 398821 | C88: ="96/01/16" -> 96/01/16 | D88: فله
A89: ="15100-398821" -> 15100-398821 | B89: 398821 | C89: ="96/01/16" -> 96/01/16 | D89: فله
A90: ="15100-398821" -> 15100-398821 | B90: 398821 | C90: ="96/01/16" -> 96/01/16 | D90: فله
A91: ="15100-399667" -> 15100-399667 | B91: 399667 | C91: ="96/01/19" -> 96/01/19 | D91: بشكه
A92: ="15100-405804" -> 15100-405804 | B92: 405804 | C92: ="96/01/31" -> 96/01/31 | D92: فله
A93: ="15100-405804" -> 15100-405804 | B93: 405804 | C93: ="96/01/31" -> 96/01/31 | D93: فله
A94: ="15100-405804" -> 15100-405804 | B94: 405804 | C94: ="96/01/31" -> 96/01/31 | D94: فله
A95: ="15100-405804" -> 15100-405804 | B95: 405804 | C95: ="96/01/31" -> 96/01/31 | D95: فله
A96: ="15100-405804" -> 15100-405804 | B96: 405804 | C96: ="96/01/31" -> 96/01/31 | D96: فله
A97: ="15100-402715" -> 15100-402715 | B97: 402715 | C97: ="96/01/26" -> 96/01/26 | D97: فله
A98: ="15100-402724" -> 15100-402724 | B98: 402724 | C98: ="96/01/26" -> 96/01/26 | D98: فله
A99: ="15100-399199" -> 15100-399199 | B99: 399199 | C99: ="96/01/17" -> 96/01/17 | D99: بشكه
A100: ="15100-398641" -> 15100-398641 | B100: 398641 | C100: ="96/01/16" -> 96/01/16 | D100: فله
A101: ="15100-403972" -> 15100-403972 | B101: 403972 | C101: ="96/01/28" -> 96/01/28 | D101: بشكه
A102: ="15100-402206" -> 15100-402206 | B102: 402206 | C102: ="96/01/24" -> 96/01/24 | D102: فله
A103: ="15100-402293" -> 15100-402293 | B103: 402293 | C103: ="96/01/24" -> 96/01/24 | D103: بشكه
A104: ="15100-398551" -> 15100-398551 | B104: 398551 | C104: ="96/01/16" -> 96/01/16 | D104: بشكه
A105: ="15100-402227" -> 15100-402227 | B105: 402227 | C105: ="96/01/24" -> 96/01/24 | D105: فله
A106: ="15100-399754" -> 15100-399754 | B106: 399754 | C106: ="96/01/19" -> 96/01/19 | D106: فله
A107: ="15100-399754" -> 15100-399754 | B107: 399754 | C107: ="96/01/19" -> 96/01/19 | D107: فله
A108: ="15100-404062" -> 15100-404062 | B108: 404062 | C108: ="96/01/28" -> 96/01/28 | D108: فله
A109: ="15100-403957" -> 15100-403957 | B109: 403957 | C109: ="96/01/28" -> 96/01/28 | D109: بشكه
A110: ="15100-402003" -> 15100-402003 | B110: 402003 | C110: ="96/01/24" -> 96/01/24 | D110: بشكه
A111: ="15100-402317" -> 15100-402317 | B111: 402317 | C111: ="96/01/24" -> 96/01/24 | D111: بشكه
A112: ="15100-404592" -> 15100-404592 | B112: 404592 | C112: ="96/01/29" -> 96/01/29 | D112: فله
A113: ="15100-404592" -> 15100-404592 | B113: 404592 | C113: ="96/01/29" -> 96/01/29 | D113: فله
A114: ="15100-404592" -> 15100-404592 | B114: 404592 | C114: ="96/01/29" -> 96/01/29 | D114: فله
A115: ="15100-403282" -> 15100-403282 | B115: 403282 | C115: ="96/01/27" -> 96/01/27 | D115: بشكه
A116: ="15100-402703" -> 15100-402703 | B116: 402703 | C116: ="96/01/26" -> 96/01/26 | D116: فله
A117: ="15100-402703" -> 15100-402703 | B117: 402703 | C117: ="96/01/26" -> 96/01/26 | D117: فله
A118: ="15100-402703" -> 15100-402703 | B118: 402703 | C118: ="96/01/26" -> 96/01/26 | D118: فله
A119: ="15100-402703" -> 15100-402703 | B119: 402703 | C119: ="96/01/26" -> 96/01/26 | D119: فله
A120: ="15100-402703" -> 15100-402703 | B120: 402703 | C120: ="96/01/26" -> 96/01/26 | D120: فله
A121: ="15100-403984" -> 15100-403984 | B121: 403984 | C121: ="96/01/28" -> 96/01/28 | D121: فله
A122: ="15100-399812" -> 15100-399812 | B122: 399812 | C122: ="96/01/19" -> 96/01/19 | D122: فله
A123: ="15100-404119" -> 15100-404119 | B123: 404119 | C123: ="96/01/28" -> 96/01/28 | D123: فله
A124: ="15100-404119" -> 15100-404119 | B124: 404119 | C124: ="96/01/28" -> 96/01/28 | D124: فله
A125: ="15100-404119" -> 15100-404119 | B125: 404119 | C125: ="96/01/28" -> 96/01/28 | D125: فله
A126: ="15100-403264" -> 15100-403264 | B126: 403264 | C126: ="96/01/27" -> 96/01/27 | D126: بشكه
A127: ="15100-402691" -> 15100-402691 | B127: 402691 | C127: ="96/01/26" -> 96/01/26 | D127: بشكه
A128: ="15100-402691" -> 15100-402691 | B128: 402691 | C128: ="96/01/26" -> 96/01/26 | D128: بشكه
A129: ="15100-402691" -> 15100-402691 | B129: 402691 | C129: ="96/01/26" -> 96/01/26 | D129: بشكه
A130: ="15100-402290" -> 15100-402290 | B130: 402290 | C130: ="96/01/24" -> 96/01/24 | D130: فله
A131: ="15100-401498" -> 15100-401498 | B131: 401498 | C131: ="96/01/23" -> 96/01/23 | D131: بشكه
A132: ="15100-405705" -> 15100-405705 | B132: 405705 | C132: ="96/01/31" -> 96/01/31 | D132: فله
A133: ="15100-401633" -> 15100-401633 | B133: 401633 | C133: ="96/01/23" -> 96/01/23 | D133: فله
A134: ="15100-400754" -> 15100-400754 | B134: 400754 | C134: ="96/01/21" -> 96/01/21 | D134: فله
A135: ="15100-405133" -> 15100-405133 | B135: 405133 | C135: ="96/01/30" -> 96/01/30 | D135: بشكه
A136: ="15100-405133" -> 15100-405133 | B136: 405133 | C136: ="96/01/30" -> 96/01/30 | D136: بشكه
A137: ="15100-404462" -> 15100-404462 | B137: 404462 | C137: ="96/01/29" -> 96/01/29 | D137: بشكه
A138: ="15100-404462" -> 15100-404462 | B138: 404462 | C138: ="96/01/29" -> 96/01/29 | D138: بشكه
A139: ="15100-404537" -> 15100-404537 | B139: 404537 | C139: ="96/01/29" -> 96/01/29 | D139: بشكه
A140: ="15100-404537" -> 15100-404537 | B140: 404537 | C140: ="96/01/29" -> 96/01/29 | D140: بشكه
A141: ="15100-405653" -> 15100-405653 | B141: 405653 | C141: ="96/01/31" -> 96/01/31 | D141: بشكه
A142: ="15100-405687" -> 15100-405687 | B142: 405687 | C142: ="96/01/31" -> 96/01/31 | D142: فله
A143: ="15100-403400" -> 15100-403400 | B143: 403400 | C143: ="96/01/27" -> 96/01/27 | D143: فله
A144: ="15100-403394" -> 15100-403394 | B144: 403394 | C144: ="96/01/27" -> 96/01/27 | D144: فله
A145: ="15100-401588" -> 15100-401588 | B145: 401588 | C145: ="96/01/23" -> 96/01/23 | D145: بشكه
A146: ="15100-401588" -> 15100-401588 | B146: 401588 | C146: ="96/01/23" -> 96/01/23 | D146: بشكه
A147: ="15100-401540" -> 15100-401540 | B147: 401540 | C147: ="96/01/23" -> 96/01/23 | D147: بشكه
A148: ="15100-399827" -> 15100-399827 | B148: 399827 | C148: ="96/01/19" -> 96/01/19 | D148: فله
A149: ="15100-404480" -> 15100-404480 | B149: 404480 | C149: ="96/01/29" -> 96/01/29 | D149: بشكه
A150: ="15100-404480" -> 15100-404480 | B150: 404480 | C150: ="96/01/29" -> 96/01/29 | D150: بشكه
A151: ="15100-403228" -> 15100-403228 | B151: 403228 | C151: ="96/01/27" -> 96/01/27 | D151: بشكه
A152: ="15100-402598" -> 15100-402598 | B152: 402598 | C152: ="96/01/26" -> 96/01/26 | D152: فله
A153: ="15100-402598" -> 15100-402598 | B153: 402598 | C153: ="96/01/26" -> 96/01/26 | D153: فله
A154: ="15100-400907" -> 15100-400907 | B154: 400907 | C154: ="96/01/21" -> 96/01/21 | D154: بشكه
A155: ="15100-405115" -> 15100-405115 | B155: 405115 | C155: ="96/01/30" -> 96/01/30 | D155: فله
A156: ="15100-405115" -> 15100-405115 | B156: 405115 | C156: ="96/01/30" -> 96/01/30 | D156: فله
A157: ="15100-405115" -> 15100-405115 | B157: 405115 | C157: ="96/01/30" -> 96/01/30 | D157: فله
A158: ="15100-400796" -> 15100-400796 | B158: 400796 | C158: ="96/01/21" -> 96/01/21 | D158: بشكه
A159: ="15100-405082" -> 15100-405082 | B159: 405082 | C159: ="96/01/30" -> 96/01/30 | D159: بشكه
A160: ="15100-405082" -> 15100-405082 | B160: 405082 | C160: ="96/01/30" -> 96/01/30 | D160: بشكه
A161: ="15100-400889" -> 15100-400889 | B161: 400889 | C161: ="96/01/21" -> 96/01/21 | D161: بشكه
A162: ="15100-400865" -> 15100-400865 | B162: 400865 | C162: ="96/01/21" -> 96/01/21 | D162: فله
A163: ="15100-400248" -> 15100-400248 | B163: 400248 | C163: ="96/01/20" -> 96/01/20 | D163: بشكه
A164: ="15100-400272" -> 15100-400272 | B164: 400272 | C164: ="96/01/20" -> 96/01/20 | D164: بشكه
A165: ="15100-400706" -> 15100-400706 | B165: 400706 | C165: ="96/01/21" -> 96/01/21 | D165: بشكه
A166: 50100-8624148 | B166: 8624148 | C166: 96/02/12 | D166: بشكه
A167: 50100-8624148 | B167: 8624148 | C167: 96/02/12 | D167: بشكه
A168: 50100-8624148 | B168: 8624148 | C168: 96/02/12 | D168: بشكه
A169: 50100-8582427 | B169: 8582427 | C169: 96/02/03 | D169: بشكه
A170: 50100-8591792 | B170: 8591792 | C170: 96/02/04 | D170: بشكه
A171: 50100-8628101 | B171: 8628101 | C171: 96/02/12 | D171: بشكه
A172: 50100-8628101 | B172: 8628101 | C172: 96/02/12 | D172: بشكه
A173: 50100-8628101 | B173: 8628101 | C173: 96/02/12 | D173: بشكه
...

Sheet Sheet2
B1: سريال پروانه صادراتي | C1: شماره كوتاژ | E1: تاريخ كوتاژ | F1: تاريخ پيش اظهار | G1: شماره قرارداد بورسي | H1: نام مشتري | I1: شماره حواله فروش | K1: مقدار در اين پروانه
A2: =B2&J2&K2 -> 50100-823152395-951500342200000 | B2: 50100-8231523 | C2: 8231523 | D2: 95 | E2: 95/10/29 | F2: 95/10/29 | G2: 1395438159001 | H2: LLC Sebco Bitumen | I2: 951500342 | J2: 95-951500342 | K2: 200000
A3: =B3&J3&K3 -> 50100-732547395-952500002255391 | B3: 50100-7325473 | C3: 7325473 | D3: 95 | E3: 95/02/30 | F3: 95/02/30 | G3: 1394394801001 | H3: oasis maritime services l.l.c | I3: 952500002 | J3: 95-952500002 | K3: 255391
A4: =B4&J4&K4 -> 15100-31372995-95150010469717 | B4: 15100-313729 | C4: 313729 | D4: 95 | E4: 95/06/08 | F4: 95/06/08 | G4: 1395397985001 | H4: LLC Sebco Bitumen | I4: 951500104 | J4: 95-951500104 | K4: 69717
A5: =B5&J5&K5 -> 50100-823152395-951500479102000 | B5: 50100-8231523 | C5: 8231523 | D5: 95 | E5: 95/10/29 | F5: 95/10/29 | G5: 1395449892001 | H5: DAXON PETROLEUM | I5: 951500479 | J5: 95-951500479 | K5: 102000
A6: =B6&J6&K6 -> 50100-745693595-9515001539350 | B6: 50100-7456935 | C6: 7456935 | D6: 95 | E6: 95/03/31 | F6: 95/03/31 | G6: 1395399149001 | H6: Shanghai kestro Polychem Inc | I6: 951500153 | J6: 95-951500153 | K6: 9350
A7: =B7&J7&K7 -> 50100-716645194-9415006399559 | B7: 50100-7166451 | C7: 7166451 | D7: 95 | E7: 95/01/24 | F7: 95/01/24 | G7: 1394389331001 | H7: oasis maritime services l.l.c | I7: 941500639 | J7: 94-941500639 | K7: 9559
A8: =B8&J8&K8 -> 15100-39577395-952500105109967 | B8: 15100-395773 | C8: 395773 | D8: 95 | E8: 95/12/26 | F8: 95/12/26 | G8: 1395462017001 | H8: LLC Sebco Bitumen | I8: 952500105 | J8: 95-952500105 | K8: 109967
A9: =B9&J9&K9 -> 15100-26785694-941500783114150 | B9: 15100-267856 | C9: 267856 | D9: 95 | E9: 95/02/21 | F9: 95/02/21 | G9: 1394394178001 | H9: LLC Sebco Bitumen | I9: 941500783 | J9: 94-941500783 | K9: 114150
A10: =B10&J10&K10 -> 50100-758908195-9515001741791 | B10: 50100-7589081 | C10: 7589081 | D10: 95 | E10: 95/05/10 | F10: 95/05/10 | G10: 1395400303001 | H10: SHINING GREEN STAR FZE | I10: 951500174 | J10: 95-951500174 | K10: 1791
A11: =B11&J11&K11 -> 50100-758908195-951500182495069 | B11: 50100-7589081 | C11: 7589081 | D11: 95 | E11: 95/05/10 | F11: 95/05/10 | G11: 1395400303001 | H11: SHINING GREEN STAR FZE | I11: 951500182 | J11: 95-951500182 | K11: 495069
A12: =B12&J12&K12 -> 50100-749689495-95250001742568 | B12: 50100-7496894 | C12: 7496894 | D12: 95 | E12: 95/04/13 | F12: 95/04/13 | G12: 1395397987001 | H12: oasis maritime services l.l.c | I12: 952500017 | J12: 95-952500017 | K12: 42568
A13: =B13&J13&K13 -> 50100-735971294-94150060810854 | B13: 50100-7359712 | C13: 7359712 | D13: 95 | E13: 95/03/08 | F13: 95/03/08 | G13: 1394389329001 | H13: LLC Sebco Bitumen | I13: 941500608 | J13: 94-941500608 | K13: 10854
... A373: =B373&J373&K373 -> 15100-33169095-95250003470929 | B373: 15100-331690 | C373: 331690 | D373: 95 | E373: 95/07/26 | F373: 95/07/26 | G373: 1395434890001 | H373: Herat Nut and Bold Ltd | I373: 952500034 | J373: 95-952500034 | K373: 70929
A374: =B374&J374&K374 -> 45110-7062495-959000005513106 | B374: 45110-70624 | C374: 70624 | D374: 95 | E374: 95/08/20 | F374: 95/08/20 | G374: 13641-10 | H374: تجارتي مسعود رشيد نورزايي لميتد | I374: 959000005 | J374: 95-959000005 | K374: 513106
A375: =B375&J375&K375 -> 15100-31748394-94150004511000 | B375: 15100-317483 | C375: 317483 | D375: 95 | E375: 95/06/16 | F375: 95/06/16 | G375: 1394341921001 | H375: LLC Sebco Bitumen | I375: 941500045 | J375: 94-941500045 | K375: 11000
A376: =B376&J376&K376 -> 50100-729538995-951500094799870 | B376: 50100-7295389 | C376: 7295389 | D376: 95 | E376: 95/02/23 | F376: 95/02/23 | G376: 1394395845001 | H376: SHINING GREEN STAR FZE | I376: 951500094 | J376: 95-951500094 | K376: 799870
A377: =B377&J377&K377 -> 50100-748994795-952500017977898 | B377: 50100-7489947 | C377: 7489947 | D377: 95 | E377: 95/04/12 | F377: 95/04/12 | G377: 1395397987001 | H377: oasis maritime services l.l.c | I377: 952500017 | J377: 95-952500017 | K377: 977898
A378: =B378&J378&K378 -> 50100-736529995-951500129732773 | B378: 50100-7365299 | C378: 7365299 | D378: 95 | E378: 95/03/09 | F378: 95/03/09 | G378: 1395397985001 | H378: LLC Sebco Bitumen | I378: 951500129 | J378: 95-951500129 | K378: 732773
A379: =B379&J379&K379 -> 15100-38894795-95150058947360 | B379: 15100-388947 | C379: 388947 | D379: 95 | E379: 95/12/16 | F379: 95/12/16 | G379: 1395462017001 | H379: LLC Sebco Bitumen | I379: 951500589 | J379: 95-951500589 | K379: 47360
A380: =B380&J380&K380 -> 50100-834136195-951500531301500 | B380: 50100-8341361 | C380: 8341361 | D380: 95 | E380: 95/11/25 | F380: 95/11/25 | G380: 1395447373001 | H380: SHINING GREEN STAR FZE | I380: 951500531 | J380: 95-951500531 | K380: 301500
A381: =B381&J381&K381 -> 50100-756637595-951500090207180 | B381: 50100-7566375 | C381: 7566375 | D381: 95 | E381: 95/05/03 | F381: 95/05/03 | G381: 1394395845001 | H381: SHINING GREEN STAR FZE | I381: 951500090 | J381: 95-951500090 | K381: 207180
A382: =B382&J382&K382 -> 50100-729983195-9515001171000000 | B382: 50100-7299831 | C382: 7299831 | D382: 95 | E382: 95/02/26 | F382: 95/02/26 | G382: 1394395845001 | H382: SHINING GREEN STAR FZE | I382: 951500117 | J382: 95-951500117 | K382: 1000000
A383: =B383&J383&K383 -> 50100-720766195-95150001758529 | B383: 50100-7207661 | C383: 7207661 | D383: 95 | E383: 95/02/04 | F383: 95/02/04 | G383: 1394394801001 | H383: oasis maritime services l.l.c | I383: 951500017 | J383: 95-951500017 | K383: 58529
A384: =B384&J384&K384 -> 50100-856263796-96250000343616 | B384: 50100-8562637 | C384: 8562637 | D384: 96 | E384: 96/01/29 | F384: 96/01/29 | G384: 1395447928001 | H384: oasis maritime services l.l.c | I384: 962500003 | J384: 96-962500003 | K384: 43616
A385: =B385&J385&K385 -> 15100-31295695-95150014525470 | B385: 15100-312956 | C385: 312956 | D385: 95 | E385: 95/06/06 | F385: 95/06/06 | G385: 1395401420001 | H385: LLC Sebco Bitumen | I385: 951500145 | J385: 95-951500145 | K385: 25470
A386: =B386&J386&K386 -> 15100-39343395-95150059770520 | B386: 15100-393433 | C386: 393433 | D386: 95 | E386: 95/12/23 | F386: 95/12/23 | G386: 1395462017001 | H386: LLC Sebco Bitumen | I386: 951500597 | J386: 95-951500597 | K386: 70520
... A542: =B542&J542&K542 -> 50100-824879195-951500528495545 | B542: 50100-8248791 | C542: 8248791 | D542: 95 | E542: 95/11/04 | F542: 95/11/04 | G542: 1395447374001 | H542: PETRO HUB ENERGY FZE | I542: 951500528 | J542: 95-951500528 | K542: 495545
A543: =B543&J543&K543 -> 45110-7062195-95900000539683 | B543: 45110-70621 | C543: 70621 | D543: 95 | E543: 95/04/17 | F543: 95/04/17 | G543: 13641-10 | H543: تجارتي مسعود رشيد نورزايي لميتد | I543: 959000005 | J543: 95-959000005 | K543: 39683
A544: =B544&J544&K544 -> 50100-725101395-9515001121599560 | B544: 50100-7251013 | C544: 7251013 | D544: 95 | E544: 95/02/13 | F544: 95/02/13 | G544: 1395397985001 | H544: LLC Sebco Bitumen | I544: 951500112 | J544: 95-951500112 | K544: 1599560
A545: =B545&J545&K545 -> 15100-27325095-95150013350580 | B545: 15100-273250 | C545: 273250 | D545: 95 | E545: 95/03/01 | F545: 95/03/01 | G545: 1395397986001 | H545: DAXON PETROLEUM | I545: 951500133 | J545: 95-951500133 | K545: 50580
A546: =B546&J546&K546 -> 15100-26808895-95150010373560 | B546: 15100-268088 | C546: 268088 | D546: 95 | E546: 95/02/21 | F546: 95/02/21 | G546: 1395397986001 | H546: DAXON PETROLEUM | I546: 951500103 | J546: 95-951500103 | K546: 73560
A547: =B547&J547&K547 -> 15100-27713295-95150016322190 | B547: 15100-277132 | C547: 277132 | D547: 95 | E547: 95/03/10 | F547: 95/03/10 | G547: 1395401420001 | H547: LLC Sebco Bitumen | I547: 951500163 | J547: 95-951500163 | K547: 22190
A548: =B548&J548&K548 -> 50100-788357195-951500236388250 | B548: 50100-7883571 | C548: 7883571 | D548: 95 | E548: 95/07/29 | F548: 95/07/29 | G548: 1395421206001 | H548: LLC Sebco Bitumen | I548: 951500236 | J548: 95-951500236 | K548: 388250
A549: =B549&J549&K549 -> 50100-720757795-951500087494310 | B549: 50100-7207577 | C549: 7207577 | D549: 95 | E549: 95/02/04 | F549: 95/02/04 | G549: 1394395847001 | H549: oasis maritime services l.l.c | I549: 951500087 | J549: 95-951500087 | K549: 494310
A550: =B550&J550&K550 -> 50100-825486695-951500556996920 | B550: 50100-8254866 | C550: 8254866 | D550: 95 | E550: 95/11/05 | F550: 95/11/05 | G550: 1395456621001 | H550: oasis maritime services l.l.c | I550: 951500556 | J550: 95-951500556 | K550: 996920
A551: =B551&J551&K551 -> 50100-820430895-9515004882030 | B551: 50100-8204308 | C551: 8204308 | D551: 95 | E551: 95/10/23 | F551: 95/10/23 | G551: 1395447373001 | H551: SHINING GREEN STAR FZE | I551: 951500488 | J551: 95-951500488 | K551: 2030
A552: =B552&J552&K552 -> 50100-845714495-95150056842740 | B552: 50100-8457144 | C552: 8457144 | D552: 95 | E552: 95/12/23 | F552: 95/12/23 | G552: 1395451400001 | H552: DAXON PETROLEUM | I552: 951500568 | J552: 95-951500568 | K552: 42740
A553: =B553&J553&K553 -> 756700495-951500064132820 | B553: 7567004 | C553: 7567004 | D553: 95 | E553: 95/05/03 | F553: 95/05/03 | G553: 1395397986001 | H553: DAXON PETROLEUM | I553: 951500064 | J553: 95-951500064 | K553: 132820
A554: =B554&J554&K554 -> 45110-7062195-959000006228763 | B554: 45110-70621 | C554: 70621 | D554: 95 | E554: 95/04/17 | F554: 95/04/17 | G554: 13641-10 | H554: تجارتي مسعود رشيد نورزايي لميتد | I554: 959000006 | J554: 95-959000006 | K554: 228763
A555: =B555&J555&K555 -> 50100-718067695-951500014328910 | B555: 50100-7180676 | C555: 7180676 | D555: 95 | E555: 95/01/29 | F555: 95/01/29 | G555: 1394394801001 | H555: oasis maritime services l.l.c | I555: 951500014 | J555: 95-951500014 | K555: 328910
A556: =B556&J556&K556 -> 15100-26316794-94150083249450 | B556: 15100-263167 | C556: 263167 | D556: 95 | E556: 95/02/09 | F556: 95/02/09 | G556: 1394395844001 | H556: LLC Sebco Bitumen | I556: 941500832 | J556: 94-941500832 | K556: 49450
A557: =B557&J557&K557 -> 15100-26316794-94150071715390 | B557: 15100-263167 | C557: 263167 | D557: 95 | E557: 95/02/09 | F557: 95/02/09 | G557: 1394392935001 | H557: LLC Sebco Bitumen | I557: 941500717 | J557: 94-941500717 | K557: 15390
A558: =B558&J558&K558 -> 50100-713335994-9415005896000 | B558: 50100-7133359 | C558: 7133359 | D558: 95 | E558: 95/01/17 | F558: 95/01/17 | G558: 1394382630001 | H558: oasis maritime services l.l.c | I558: 941500589 | J558: 94-941500589 | K558: 6000
A559: =B559&J559&K559 -> 15100-26252494-94150078324920 | B559: 15100-262524 | C559: 262524 | D559: 95 | E559: 95/02/08 | F559: 95/02/08 | G559: 1394394178001 | H559: LLC Sebco Bitumen | I559: 941500783 | J559: 94-941500783 | K559: 24920
A560: =B560&J560&K560 -> 15100-26252494-94150083549420 | B560: 15100-262524 | C560: 262524 | D560: 95 | E560: 95/02/08 | F560: 95/02/08 | G560: 1394395844001 | H560: LLC Sebco Bitumen | I560: 941500835 | J560: 94-941500835 | K560: 49420
A561: =B561&J561&K561 -> 15100-28128795-95150016245080 | B561: 15100-281287 | C561: 281287 | D561: 95 | E561: 95/03/20 | F561: 95/03/20 | G561: 1395401420001 | H561: LLC Sebco Bitumen | I561: 951500162 | J561: 95-951500162 | K561: 45080
A562: =B562&J562&K562 -> 15100-32236195-95250003221086 | B562: 15100-322361 | C562: 322361 | D562: 95 | E562: 95/07/01 | F562: 95/07/01 | G562: 1395424250001 | H562: Herat Nut and Bold Ltd | I562: 952500032 | J562: 95-952500032 | K562: 21086
A563: =B563&J563&K563 -> 15100-27850195-95150016224620 | B563: 15100-278501 | C563: 278501 | D563: 95 | E563: 95/03/13 | F563: 95/03/13 | G563: 1395401420001 | H563: LLC Sebco Bitumen | I563: 951500162 | J563: 95-951500162 | K563: 24620
A564: =B564&J564&K564 -> 15100-27375795-95150016249420 | B564: 15100-273757 | C564: 273757 | D564: 95 | E564: 95/03/03 | F564: 95/03/03 | G564: 1395401420001 | H564: LLC Sebco Bitumen | I564: 951500162 | J564: 95-951500162 | K564: 49420
A565: =B565&J565&K565 -> 50100-843599595-951500479115000 | B565: 50100-8435995 | C565: 8435995 | D565: 95 | E565: 95/12/17 | F565: 95/12/17 | G565: 1395449892001 | H565: DAXON PETROLEUM | I565: 951500479 | J565: 95-951500479 | K565: 115000
A566: =B566&J566&K566 -> 50100-843599595-95150047833235 | B566: 50100-8435995 | C566: 8435995 | D566: 95 | E566: 95/12/17 | F566: 95/12/17 | G566: 1395449892001 | H566: DAXON PETROLEUM | I566: 951500478 | J566: 95-951500478 | K566: 33235
... A584: =B584&J584&K584 -> 15100-33250095-95250003445596 | B584: 15100-332500 | C584: 332500 | D584: 95 | E584: 95/07/28 | F584: 95/07/28 | G584: 1395434890001 | H584: Herat Nut and Bold Ltd | I584: 952500034 | J584: 95-952500034 | K584: 45596
A585: =B585&J585&K585 -> 45110-6977495-959000005693134 | B585: 45110-69774 | C585: 69774 | D585: 95 | E585: 94/12/18 | F585: 94/12/18 | G585: 13641-10 | H585: تجارتي مسعود رشيد نورزايي لميتد | I585: 959000005 | J585: 95-959000005 | K585: 693134
A586: =B586&J586&K586 -> 50100-843599595-951500410500000 | B586: 50100-8435995 | C586: 8435995 | D586: 95 | E586: 95/12/17 | F586: 95/12/17 | G586: 1395447375001 | H586: DAXON PETROLEUM | I586: 951500410 | J586: 95-951500410 | K586: 500000
A587: =B587&J587&K587 -> 15100-26316794-94150071460040 | B587: 15100-263167 | C587: 263167 | D587: 95 | E587: 95/02/09 | F587: 95/02/09 | G587: 1394392935001 | H587: LLC Sebco Bitumen | I587: 941500714 | J587: 94-941500714 | K587: 60040
A588: =B588&J588&K588 -> 15100-27716594-94150080720470 | B588: 15100-277165 | C588: 277165 | D588: 95 | E588: 95/03/10 | F588: 95/03/10 | G588: 1394394802001 | H588: LLC Sebco Bitumen | I588: 941500807 | J588: 94-941500807 | K588: 20470
A589: =B589&J589&K589 -> 50100-730216695-951500092979995 | B589: 50100-7302166 | C589: 7302166 | D589: 95 | E589: 95/02/26 | F589: 95/02/26 | G589: 1394395845001 | H589: SHINING GREEN STAR FZE | I589: 951500092 | J589: 95-951500092 | K589: 979995
A590: =B590&J590&K590 -> 15100-26316795-951500099151360 | B590: 15100-263167 | C590: 263167 | D590: 95 | E590: 95/02/09 | F590: 95/02/09 | G590: 1395397985001 | H590: LLC Sebco Bitumen | I590: 951500099 | J590: 95-951500099 | K590: 151360
A591: =B591&J591&K591 -> 15100-26483395-951500099122760 | B591: 15100-264833 | C591: 264833 | D591: 95 | E591: 95/02/14 | F591: 95/02/14 | G591: 1395397985001 | H591: LLC Sebco Bitumen | I591: 951500099 | J591: 95-951500099 | K591: 122760
A592: =B592&J592&K592 -> 15100-27716594-94150081827480 | B592: 15100-277165 | C592: 277165 | D592: 95 | E592: 95/03/10 | F592: 95/03/10 | G592: 1394394802001 | H592: LLC Sebco Bitumen | I592: 941500818 | J592: 94-941500818 | K592: 27480
A593: =B593&J593&K593 -> 15100-27807894-94150077453600 | B593: 15100-278078 | C593: 278078 | D593: 95 | E593: 95/03/12 | F593: 95/03/12 | G593: 1394394178001 | H593: LLC Sebco Bitumen | I593: 941500774 | J593: 94-941500774 | K593: 53600
A594: =B594&J594&K594 -> 15100-26441794-941500835123475 | B594: 15100-264417 | C594: 264417 | D594: 95 | E594: 95/02/13 | F594: 95/03/13 | G594: 1394395844001 | H594: LLC Sebco Bitumen | I594: 941500835 | J594: 94-941500835 | K594: 123475
A595: =B595&J595&K595 -> 15100-26483394-94150078379550 | B595: 15100-264833 | C595: 264833 | D595: 95 | E595: 95/02/14 | F595: 95/02/14 | G595: 1394394178001 | H595: LLC Sebco Bitumen | I595: 941500783 | J595: 94-941500783 | K595: 79550
A596: =B596&J596&K596 -> 15100-26483394-941500835100450 | B596: 15100-264833 | C596: 264833 | D596: 95 | E596: 95/02/14 | F596: 95/02/14 | G596: 1394395844001 | H596: LLC Sebco Bitumen | I596: 941500835 | J596: 94-941500835 | K596: 100450
A597: =B597&J597&K597 -> 50100-731201895-952500003284257 | B597: 50100-7312018 | C597: 7312018 | D597: 95 | E597: 95/02/27 | F597: 95/02/27 | G597: 1394394801001 | H597: oasis maritime services l.l.c | I597: 952500003 | J597: 95-952500003 | K597: 284257
... A1346: =B1346&J1346&K1346 -> 50100-852164596-9641000072837151 | B1346: 50100-8521645 | C1346: 8521645 | D1346: 96 | E1346: 96/01/20 | F1346: 96/01/20 | G1346: 1396471677001 | H1346: AL MASAR PETROLUME L.L.C | I1346: 964100007 | J1346: 96-964100007 | K1346: 2837151
A1347: =B1347&J1347&K1347 -> 45110-7062195-959000004330000 | B1347: 45110-70621 | C1347: 70621 | D1347: 95 | E1347: 95/04/17 | F1347: 95/04/17 | G1347: 13641-10 | H1347: تجارتي مسعود رشيد نورزايي لميتد | I1347: 959000004 | J1347: 95-959000004 | K1347: 330000
A1348: =B1348&J1348&K1348 -> 50100-821013695-95250006047672 | B1348: 50100-8210136 | C1348: 8210136 | D1348: 95 | E1348: 95/10/25 | F1348: 95/10/25 | G1348: 1395436479001 | H1348: PETRO HUB ENERGY FZE | I1348: 952500060 | J1348: 95-952500060 | K1348: 47672
A1349: =B1349&J1349&K1349 -> 50100-749210695-954100010971451 | B1349: 50100-7492106 | C1349: 7492106 | D1349: 95 | E1349: 95/04/12 | F1349: 95/04/12 | G1349: 1395400302002 | H1349: oasis maritime services l.l.c | I1349: 954100010 | J1349: 95-954100010 | K1349: 971451
A1350: =B1350&J1350&K1350 -> 50100-830124195-9515003801638580 | B1350: 50100-8301241 | C1350: 8301241 | D1350: 95 | E1350: 95/11/16 | F1350: 95/11/16 | G1350: 1395445412001 | H1350: LLC Sebco Bitumen | I1350: 951500380 | J1350: 95-951500380 | K1350: 1638580
A1351: =B1351&J1351&K1351 -> 50100-830124195-951500379539520 | B1351: 50100-8301241 | C1351: 8301241 | D1351: 95 | E1351: 95/11/16 | F1351: 95/11/16 | G1351: 1395441469001 | H1351: DAXON PETROLEUM | I1351: 951500379 | J1351: 95-951500379 | K1351: 539520
A1352: =B1352&J1352&K1352 -> 15100-35991695-95150042548180 | B1352: 15100-359916 | C1352: 359916 | D1352: 95 | E1352: 95/10/04 | F1352: 95/10/04 | G1352: 1395447925001 | H1352: LLC Sebco Bitumen | I1352: 951500425 | J1352: 95-951500425 | K1352: 48180
A1353: =B1353&J1353&K1353 -> 15100--35049795-951500420292860 | B1353: 15100--350497 | C1353: 350497 | D1353: 95 | E1353: 95/09/14 | F1353: 95/09/14 | G1353: 1395441446001 | H1353: M/S J.K. Khan Group | I1353: 951500420 | J1353: 95-951500420 | K1353: 292860
A1354: =B1354&J1354&K1354 -> 15100-35061995-95150042023540 | B1354: 15100-350619 | C1354: 350619 | D1354: 95 | E1354: 95/09/14 | F1354: 95/09/14 | G1354: 1395441446001 | H1354: M/S J.K. Khan Group | I1354: 951500420 | J1354: 95-951500420 | K1354: 23540
A1355: =B1355&J1355&K1355 -> 15100-35160495-951500409248540 | B1355: 15100-351604 | C1355: 351604 | D1355: 95 | E1355: 95/09/16 | F1355: 95/09/16 | G1355: 1395445412001 | H1355: LLC Sebco Bitumen | I1355: 951500409 | J1355: 95-951500409 | K1355: 248540
A1356: =B1356&J1356&K1356 -> 15100-35159295-951500421335000 | B1356: 15100-351592 | C1356: 351592 | D1356: 95 | E1356: 95/09/16 | F1356: 95/09/16 | G1356: 1395441447001 | H1356: M/S J.K. Khan Group | I1356: 951500421 | J1356: 95-951500421 | K1356: 335000
A1357: =B1357&J1357&K1357 -> 15100-35662395-951500409149070 | B1357: 15100-356623 | C1357: 356623 | D1357: 95 | E1357: 95/09/25 | F1357: 95/09/25 | G1357: 1395445412001 | H1357: LLC Sebco Bitumen | I1357: 951500409 | J1357: 95-951500409 | K1357: 149070
A1358: =B1358&J1358&K1358 -> 15100-35715895-95150040960250 | B1358: 15100-357158 | C1358: 357158 | D1358: 95 | E1358: 95/09/28 | F1358: 95/09/28 | G1358: 1395445412001 | H1358: LLC Sebco Bitumen | I1358: 951500409 | J1358: 95-951500409 | K1358: 60250
A1359: =B1359&J1359&K1359 -> 15100-25626294-94150084573660 | B1359: 15100-256262 | C1359: 256262 | D1359: 95 | E1359: 95/01/24 | F1359: 95/01/24 | G1359: 1394395844001 | H1359: LLC Sebco Bitumen | I1359: 941500845 | J1359: 94-941500845 | K1359: 73660
... A1600: =B1600&J1600&K1600 -> 50100-845722595-9515004519450 | B1600: 50100-8457225 | C1600: 8457225 | D1600: 95 | E1600: 95/12/23 | F1600: 95/12/23 | G1600: 1395447925001 | H1600: LLC Sebco Bitumen | I1600: 951500451 | J1600: 95-951500451 | K1600: 9450
A1601: =B1601&J1601&K1601 -> 45110-7062195-95900000378377 | B1601: 45110-70621 | C1601: 70621 | D1601: 95 | E1601: 95/04/17 | F1601: 95/04/17 | G1601: 13641-10 | H1601: تجارتي مسعود رشيد نورزايي لميتد | I1601: 959000003 | J1601: 95-959000003 | K1601: 78377
A1602: =B1602&J1602&K1602 -> 15100-27075095-95150010324840 | B1602: 15100-270750 | C1602: 270750 | D1602: 95 | E1602: 95/02/27 | F1602: 95/02/27 | G1602: 1395397986001 | H1602: DAXON PETROLEUM | I1602: 951500103 | J1602: 95-951500103 | K1602: 24840
A1603: =B1603&J1603&K1603 -> 15100-27075095-95150013368340 | B1603: 15100-270750 | C1603: 270750 | D1603: 95 | E1603: 95/02/27 | F1603: 95/02/27 | G1603: 1395397986001 | H1603: DAXON PETROLEUM | I1603: 951500133 | J1603: 95-951500133 | K1603: 68340
A1604: =B1604&J1604&K1604 -> 50100-731294595-9515000811000000 | B1604: 50100-7312945 | C1604: 7312945 | D1604: 95 | E1604: 95/02/27 | F1604: 95/02/27 | G1604: 1394395845001 | H1604: SHINING GREEN STAR FZE | I1604: 951500081 | J1604: 95-951500081 | K1604: 1000000
A1605: =B1605&J1605&K1605 -> 50100-833850395-951500468146037 | B1605: 50100-8338503 | C1605: 8338503 | D1605: 95 | E1605: 95/11/25 | F1605: 95/11/25 | G1605: 1395447925001 | H1605: LLC Sebco Bitumen | I1605: 951500468 | J1605: 95-951500468 | K1605: 146037
A1606: =B1606&J1606&K1606 -> 50100-725751195-95150006112960 | B1606: 50100-7257511 | C1606: 7257511 | D1606: 95 | E1606: 95/02/14 | F1606: 95/02/14 | G1606: 1395397990001 | H1606: PETRO HUB ENERGY FZE | I1606: 951500061 | J1606: 95-951500061 | K1606: 12960
A1607: =B1607&J1607&K1607 -> 15100-25657795-95150001250290 | B1607: 15100-256577 | C1607: 256577 | D1607: 95 | E1607: 95/01/25 | F1607: 95/01/25 | G1607: 1394392647001 | H1607: DAXON PETROLEUM | I1607: 951500012 | J1607: 95-951500012 | K1607: 50290
A1608: =B1608&J1608&K1608 -> 15100-25657794-94150084573720 | B1608: 15100-256577 | C1608: 256577 | D1608: 95 | E1608: 95/01/25 | F1608: 95/01/25 | G1608: 1394395844001 | H1608: LLC Sebco Bitumen | I1608: 941500845 | J1608: 94-941500845 | K1608: 73720
A1609: =B1609&J1609&K1609 -> 15100-38813695-95150058379730 | B1609: 15100-388136 | C1609: 388136 | D1609: 95 | E1609: 95/12/15 | F1609: 95/12/15 | G1609: 1395462017001 | H1609: LLC Sebco Bitumen | I1609: 951500583 | J1609: 95-951500583 | K1609: 79730
A1610: =B1610&J1610&K1610 -> 50100-723921494-941500815695640 | B1610: 50100-7239214 | C1610: 7239214 | D1610: 95 | E1610: 95/02/11 | F1610: 95/02/11 | G1610: 1394394802001 | H1610: LLC Sebco Bitumen | I1610: 941500815 | J1610: 94-941500815 | K1610: 695640
A1611: =B1611&J1611&K1611 -> 50100-725202995-95150005643560 | B1611: 50100-7252029 | C1611: 7252029 | D1611: 95 | E1611: 95/02/13 | F1611: 95/02/13 | G1611: 1394395845001 | H1611: SHINING GREEN STAR FZE | I1611: 951500056 | J1611: 95-951500056 | K1611: 43560
A1612: =B1612&J1612&K1612 -> 15100-27323894-94150070519680 | B1612: 15100-273238 | C1612: 273238 | D1612: 95 | E1612: 95/03/01 | F1612: 95/03/01 | G1612: 1394392646001 | H1612: LLC Sebco Bitumen | I1612: 941500705 | J1612: 94-941500705 | K1612: 19680
A1613: =B1613&J1613&K1613 -> 15100-36435995-95150052349280 | B1613: 15100-364359 | C1613: 364359 | D1613: 95 | E1613: 95/10/13 | F1613: 95/10/13 | G1613: 1395449236001 | H1613: LLC Sebco Bitumen | I1613: 951500523 | J1613: 95-951500523 | K1613: 49280
... A2120: =B2120&J2120&K2120 -> 50100-790308295-951500280104620 | B2120: 50100-7903082 | C2120: 7903082 | D2120: 95 | E2120: 95/08/04 | F2120: 95/08/04 | G2120: 1395427837001 | H2120: Black Gold Traders FZE | I2120: 951500280 | J2120: 95-951500280 | K2120: 104620
A2121: =B2121&J2121&K2121 -> 50100-790786395-9542000391963732 | B2121: 50100-7907863 | C2121: 7907863 | D2121: 95 | E2121: 95/08/05 | F2121: 95/08/05 | G2121: 1395436005001 | H2121: LLC Sebco Bitumen | I2121: 954200039 | J2121: 95-954200039 | K2121: 1963732
A2122: =B2122&J2122&K2122 -> 50100-792883195-954100016907289 | B2122: 50100-7928831 | C2122: 7928831 | D2122: 95 | E2122: 95/08/11 | F2122: 95/08/11 | G2122: 1395399148001 | H2122: oasis maritime services l.l.c | I2122: 954100016 | J2122: 95-954100016 | K2122: 907289
A2123: =B2123&J2123&K2123 -> 50100-792926195-951500199319060 | B2123: 50100-7929261 | C2123: 7929261 | D2123: 95 | E2123: 95/08/11 | F2123: 95/08/11 | G2123: 1395397986001 | H2123: DAXON PETROLEUM | I2123: 951500199 | J2123: 95-951500199 | K2123: 319060
A2124: =B2124&J2124&K2124 -> 50100-792926195-951500199680940 | B2124: 50100-7929261 | C2124: 7929261 | D2124: 95 | E2124: 95/08/11 | F2124: 95/08/11 | G2124: 1395397986001 | H2124: DAXON PETROLEUM | I2124: 951500199 | J2124: 95-951500199 | K2124: 680940
A2125: =B2125&J2125&K2125 -> 50100-792926195-951500200402360 | B2125: 50100-7929261 | C2125: 7929261 | D2125: 95 | E2125: 95/08/11 | F2125: 95/08/11 | G2125: 1395397986001 | H2125: DAXON PETROLEUM | I2125: 951500200 | J2125: 95-951500200 | K2125: 402360
...

Sheet Sheet3
