Workbook

Sheet گزارش مالی
A1: شركت پالايش نفت جي(سهامي عام)
A2: گزارش قيرهاي تحویلی تهاتري از محل وکیوم باتوم موضوع قانون بند «ک» تبصره یک بودجه سال 1402
A3: شرح | B3: از محل حواله های صادر شده با وکیوم باتوم 65/000 ریالی | D3: از محل حواله های صادر شده با وکیوم باتوم 70/000 ریالی | F3: جمع کل | I3: وکیوم های جذب شده | N3: مانده مطالبات / (بدهی)
B4: مقدار برداشت شده (کیلوگرم) | C4: مبلغ فروش به همراه ارزش افزوده (ریال) | D4: مقدار برداشت شده (کیلوگرم) | E4: مبلغ فروش به همراه ارزش افزوده (ریال) | F4: مقدار برداشت شده (کیلوگرم) | G4: مبلغ فروش به همراه ارزش افزوده (ریال) | I4: وکیوم باتوم با نرخ 65/000 | K4: وکیوم باتوم با نرخ 70/000
I5: مقدار (کیلوگرم) | J5: مبلغ (ریال) | K5: مقدار (کیلوگرم) | L5: مبلغ (ریال)
A6: بازآفرینی شهری | B6: 4789240 | C6: 389122397532 | D6: 8777260 | E6: 768005861370 | F6: 13566500 | G6: 1157128258902 | I6: 0 | J6: 0 | K6: 0 | L6: 0 | N6: 1157128258902
A7: ساخت و توسعه زیربناهای حمل و نقل | B7: 45504110 | C7: 3697188457064 | D7: 2120330 | E7: 185527814835 | F7: 47624440 | G7: 3882716271899 | I7: 57000000 | J7: 3705000000000 | K7: 0 | L7: 0 | N7: 177716271899
A8: سازمان راهداری و حمل و نقل جاده ای | B8: 113731910 | C8: 9240659284754 | D8: 6659790 | E8: 582728295105 | F8: 120391700 | G8: 9823387579859 | I8: 101731731 | J8: 6612562515000 | K8: 0 | L8: 0 | N8: 3210825064859
A9: سازمان ملی زمین و مسکن | B9: 2188300 | C9: 177797843190 | D9: 159280 | E9: 13936920360 | F9: 2347580 | G9: 191734763550 | I9: 982025 | J9: 63831625000 | K9: 0 | L9: 0 | N9: 127903138550
A10: معاونت بودجه وزارت راه و شهرسازی | B10: 4980700 | C10: 404678638998 | D10: 1398770 | E10: 122391675615 | F10: 6379470 | G10: 527070314613 | I10: 55802823 | J10: 3627183495000 | K10: 10956194 | L10: 766933580000 | N10: -3867046760387
A11: مادر تخصصی عمران شهرهای جدید | B11: 1185640 | C11: 96332420052 | D11: 349980 | E11: 30623075010 | F11: 1535620 | G11: 126955495062 | I11: 248387 | J11: 16145155000 | K11: 0 | L11: 0 | N11: 110810340062
A12: جمع | B12: 172379900 | C12: 14005779041590 | D12: 19465410 | E12: 1703213642295 | F12: 191845310 | G12: 15708992683885 | I12: 215764966 | J12: 14024722790000 | K12: 10956194 | L12: 766933580000 | N12: 917336313885
A14: مطالبات وزارت راه و شهرسازی از سنوات 1400 و 1401 و 1402:
A15: سال بودجه | B15: مانده بودجه اعلامی واحد بازرگانی | D15: مانده بودجه مالی (طبق دفاتر در تاریخ 1403/11/13) | F15: نرخ وکیوم | G15: اختلاف
A16: 1400 | B16: 672506397500 | D16: 672507222500 | F16: 75000 | G16: -825000
A17: 1401 | B17: 343318793369 | D17: 410100143920 | F17: 75000 | G17: -66781350551
A18: 1402 | B18: 3222504856009 | D18: 3222504856002 | F18: 65000 | G18: 7
B19: 644541904385 | D19: 644541904385 | F19: 70000 | G19: 0
A20: جمع | B20: 4882871951263 | D20: 4949654126807 | F20: - | G20: -66782175544
A22: اختلاف سال 1401 ناشی از مانده بودجه وکیوم باتوم جذب شده 300 میلیارد ریالی وزارت راه جهت تسویه بدهی سنواتی می باشد.

Sheet گزارش نهایی بودجه 1402-1
B1: شركت پالايش نفت جي(سهامي عام)
B2: گزارش بودجه قيرهاي تهاتري از محل VB موضوع قانون بودجه سال 1402 تخصیص یافته به پالایش نفت جی
AF3: مبالغ به ریال و مقادیر به کیلوگرم
B4: شرح | C4: مقدار قیرهای تحویلی نفت جی | K4: اعلام وصول در سامانه سبا | Q4: معادل سازی وکیوم با قیر تحویل شده | V4: وضعیت وکیوم های جذب شده و تخصیص | AA4: مانده مطالبات وکیوم
C5: مقدار حواله | D5: مقدار تحویل | E5: مبلغ فاکتور | F5: تحویل 650000 | G5: مبلغ | H5: تحویل 700000 | I5: مبلغ | K5: مقدار تحویل | L5: اختلاف تحویل در سامانه | M5: مقدار اعلام وصول -رئیس | N5: مبلغ اعلام وصول | O5: اختلاف تحویل و رئیس دستگاه | Q5: مقدار وکیوم-65000 | R5: مبلغ وکیوم تخصیصی-65000 | S5: مقدار وکیوم 70000 | T5: مبلغ وکیوم تخصیصی-70000 | V5: مقدار وکیوم-65000 | W5: مبلغ وکیوم تخصیصی-65000 | X5: مقدار وکیوم 70000 | Y5: مبلغ وکیوم تخصیصی-70000 | AA5: مانده مطالبات وکیوم65000 | AB5: مبلغ مانده مطالبات 65000 | AC5: مانده مطالبات 70000 | AD5: مبلغ مانده مطالبات 70000 | AE5: تخصیصی از وزارت راه 65000 | AF5: مانده مطالبات پس از تخصیص 65000 | AG5: تخصیصی از وزارت راه 70000 | AH5: مانده مطالبات پس از تخصیص 7000
B6: بازآفرینی شهری | C6: 13907000 | D6: 13566500 | E6: 1157128259397 | F6: 4789240 | G6: 389122397532 | H6: 8777260 | I6: 768005861865 | K6: 13566500 | L6: =D6-K6 -> 0 | M6: 13566490 | N6: 1149166687500 | O6: =K6-M6 -> 10 | Q6: 5986498 | R6: 389122397532 | S6: 10971512 | T6: 768005861865 | V6: 0 | W6: 0 | X6: 0 | Y6: =X6*70000 -> 0 | AA6: =Q6-V6 -> 5986498 | AB6: =R6-W6 -> 389122397532 | AC6: =S6-X6 -> 10971512 | AD6: =T6-Y6 -> 768005861865 | AE6: =AA6 -> 5986498 | AF6: =AA6-AE6 -> 0 | AG6: 0 | AH6: =AC6 -> 10971512
B7: ساخت و توسعه | C7: 47801000 | D7: 47624440 | E7: 3882716271679 | F7: 45504110 | G7: 3697188456844 | H7: 2120330 | I7: 185527814835 | K7: 47545400 | L7: =D7-K7 -> 79040 | M7: 47544670 | N7: 3863004437500 | O7: =K7-M7 -> 730 | Q7: 56879822 | R7: 3697188456844 | S7: 2650397 | T7: 185527814835 | V7: =W7/65000 -> 57000000 | W7: =SUM(وکیوم!F7) -> 3705000000000 | X7: 0 | Y7: 0 | AA7: =Q7-V7 -> -120178 | AB7: =R7-W7 -> -7811543156 | AC7: =S7-X7 -> 2650397 | AD7: =T7-Y7 -> 185527814835 | AE7: 0 | AF7: =AA7 -> -120178 | AG7: 1994933 | AH7: =AC7-AG7 -> 655464
B8: سازمان راهداری | C8: 121267000 | D8: 120391700 | E8: 9823387579424 | F8: 113731910 | G8: 9240659284319 | H8: 6659790 | I8: 582728295105 | K8: 120391700 | L8: =D8-K8 -> 0 | M8: 120390700 | N8: 9801420187500 | O8: =K8-M8 -> 1000 | Q8: 142163989 | R8: 9240659284319 | S8: 8324690 | T8: 582728295105 | V8: =W8/65000 -> 101731731 | W8: =SUM(وکیوم!G30) -> 6612562515000 | X8: 0 | Y8: 0 | AA8: =Q8-V8 -> 40432258 | AB8: =R8-W8 -> 2628096769319 | AC8: =S8-X8 -> 8324690 | AD8: =T8-Y8 -> 582728295105 | AE8: =AA8 -> 40432258 | AF8: =AA8-AE8 -> 0 | AG8: =AC8 -> 8324690 | AH8: 0
B9: مسکن ملی | C9: 2367769 | D9: 2347580 | E9: 191734763550 | F9: 2188300 | G9: 177797843190 | H9: 159280 | I9: 13936920360 | K9: 2347580 | L9: =D9-K9 -> 0 | M9: 2347580 | N9: 191736375000 | O9: =K9-M9 -> 0 | Q9: 2735351 | R9: 177797843190 | S9: 199099 | T9: 13936920360 | V9: =W9/65000 -> 982025 | W9: =SUM(وکیوم!F109) -> 63831625000 | X9: =Y9/70000 -> 0 | Y9: 0 | AA9: =Q9-V9 -> 1753326 | AB9: =R9-W9 -> 113966218190 | AC9: =S9-X9 -> 199099 | AD9: =T9-Y9 -> 13936920360 | AE9: =AA9 -> 1753326 | AF9: =AA9-AE9 -> 0 | AG9: =AC9 -> 199099 | AH9: 0
B10: معاونت بودجه | C10: 6406690 | D10: 6379470 | E10: 527070314606 | F10: 4980700 | G10: 404678638991 | H10: 1398770 | I10: 122391675615 | K10: 6379470 | L10: =D10-K10 -> 0 | M10: 6379470 | N10: 527074250000 | O10: =K10-M10 -> 0 | Q10: 6225825 | R10: 404678638991 | S10: 1748453 | T10: 122391675615 | V10: =W10/65000 -> 55802823 | W10: =SUM(وکیوم!G62:G66) -> 3627183495000 | X10: =Y10/70000 -> 10956194 | Y10: =SUM(وکیوم!H67,وکیوم!G68) -> 766933580000 | AA10: =Q10-V10 -> -49576998 | AB10: =R10-W10 -> -3222504856009 | AC10: =S10-X10 -> -9207741 | AD10: =T10-Y10 -> -644541904385 | AE10: 0 | AF10: -151273 | AG10: 0 | AH10: 0
B11: شهرهای جدید | C11: 1542000 | D11: 1535620 | E11: 126955495062 | F11: 1185640 | G11: 96332420052 | H11: 349980 | I11: 30623075010 | K11: 1535620 | L11: =D11-K11 -> 0 | M11: 1535530 | N11: 124761812500 | O11: =K11-M11 -> 90 | Q11: 1482037 | R11: 96332420052 | S11: 437473 | T11: 30623075010 | V11: =W11/65000 -> 248387 | W11: =SUM(وکیوم!G111) -> 16145155000 | X11: =Y11/70000 -> 0 | Y11: 0 | AA11: =Q11-V11 -> 1233650 | AB11: =R11-W11 -> 80187265052 | AC11: =S11-X11 -> 437473 | AD11: =T11-Y11 -> 30623075010 | AE11: =AA11 -> 1233650 | AF11: =AA11-AE11 -> 0 | AG11: =AC11 -> 437473 | AH11: 0
B12: جمع | C12: =SUM(C6:C11) -> 193291459 | D12: =SUM(D6:D11) -> 191845310 | E12: =SUM(E6:E11) -> 15708992683718 | F12: =SUM(F6:F11) -> 172379900 | G12: =SUM(G6:G11) -> 14005779040928 | H12: =SUM(H6:H11) -> 19465410 | I12: =SUM(I6:I11) -> 1703213642790 | K12: =SUM(K6:K11) -> 191766270 | L12: =SUM(L6:L11) -> 79040 | M12: =SUM(M6:M11) -> 191764440 | N12: =SUM(N6:N11) -> 15657163750000 | O12: =SUM(O6:O11) -> 1830 | Q12: =SUM(Q6:Q11) -> 215473522 | R12: =SUM(R6:R11) -> 14005779040928 | S12: =SUM(S6:S11) -> 24331624 | T12: =SUM(T6:T11) -> 1703213642790 | V12: =SUM(V6:V11) -> 215764966 | W12: =SUM(W6:W11) -> 14024722790000 | X12: =SUM(X6:X11) -> 10956194 | Y12: =SUM(Y6:Y11) -> 766933580000 | AA12: =SUM(AA6:AA11) -> -291444 | AB12: =SUM(AB6:AB11) -> -18943749072 | AC12: =SUM(AC6:AC11) -> 13375430 | AD12: =SUM(AD6:AD11) -> 936280062790 | AE12: =SUM(AE6:AE11) -> 49405732 | AF12: =SUM(AF6:AF11) -> -271451 | AG12: =SUM(AG6:AG11) -> 10956195 | AH12: =SUM(AH6:AH11) -> 11626976
AE15: تهیه گزارش: کتاب اللهی
AE16: 1403/11/11
B17: دلایل اختلاف تحویل در ردیف شماره 2:
B18: 1. حواله شماره 14021800020 - شرکت بهپویان صنعت ساختمان (چهارمحال و بختیاری) به میزان 50،150 کیلوگرم در سامانه سبا نیامده است
B19: 2. حواله شماره 14021800051 - شرکت کلهر غرب (کهگیلوی و بویراحمد) ه میزان 399،890 کیلوگرم که در سامانه 371 تن وارد شده است (28،890)
B20: (ارزش فاکتورهای دو حواله فوق 36،565،610،488 ریال می باشد)
B24: مطالبات وزارت راه و شهرسازی از سنوات 1400 و 1401 :
B26: 1400 | D26: 672506397500
B27: 1401 | D27: 343318793369
B28: جمع | D28: =D26+D27 -> 1015825190869

Sheet نامه های وکیوم
B1: وکیوم باتوم جذب شده- بودجه 1402
B2: سازمان | C2: مراحل | D2: نرخ وکیوم | E2: شماره نامه | F2: تاریخ نامه | G2: مبلغ وکیوم جذب شده
B3: ساخت | C3: 1 | D3: 65000 | E3: 182762/870 | F3: 1402/09/30 | G3: 1625000000000
C4: 2 | D4: 65000 | E4: 188557/870 | F4: 1402/10/18 | G4: 650000000000
C5: 3 | D5: 65000 | E5: 13007/870 | F5: 1403/02/03 | G5: 455000000000
C6: 4 | D6: 65000 | E6: 66907/870 | F6: 1403/05/03 | G6: 975000000000
C7: جمع | G7: =SUM(G3:G6) -> 3705000000000
B8: راهداری | C8: 1 | D8: 65000 | E8: 182756/870 | F8: 1402/09/30 | G8: 975000000000
C9: 2 | D9: 65000 | E9: 185277/870 | F9: 1402/09/30 | G9: 533567125000
C10: 3 | D10: 65000 | E10: 190922/870 | F10: 1402/10/20 | G10: 736060000000
C11: 4 | D11: 65000 | E11: 196858/870 | F11: 1402/10/30 | G11: 703495000000
C12: 5 | D12: 65000 | E12: 202774/870 | F12: 1402/11/08 | G12: 216093280000
C13: 6 | D13: 65000 | E13: 222591/870 | F13: 1402/12/08 | G13: 263622125000
C14: 7 | D14: 65000 | E14: 212977/870 | F14: 1402/11/23 | G14: 28055625000
C15: 8 | D15: 65000 | E15: 213086/870 | F15: 1402/11/23 | G15: 40339780000
C16: 9 | D16: 65000 | E16: 222578/870 | F16: 1402/12/08 | G16: 148590000000
C17: 10 | D17: 65000 | E17: 32766/870 | F17: 1402/12/22 | G17: 128751155000
C18: 11 | D18: 65000 | E18: 232902/870 | F18: 1402/12/22 | G18: 108612530000
C19: 12 | D19: 65000 | E19: 238446/870 | F19: 1402/12/28 | G19: 256927905000
C20: 13 | D20: 65000 | E20: 238737/870 | F20: 1402/12/28 | G20: 167705655000
... C29: 22 | D29: 65000 | E29: 68858/870 | F29: 1403/05/08 | G29: 314591875000
C30: جمع | G30: =SUM(G8:G29) -> 6612562515000
B31: معاونت برنامه ریزی | C31: 1 | D31: 65000 | E31: 237778/870 | F31: 1402/12/28 | G31: 24734905000 | H31: تسویه حساب معاونت بودجه
C32: 2 | D32: 65000 | E32: 26014/870 | F32: 1403/02/24 | G32: 27448655000 | H32: تسویه حساب معاونت بودجه
C33: 3 | D33: 65000 | E33: 73726/870 | F33: 1403/05/16 | G33: 1725480575000 | I33: 91617476523 | J33: 1633863098477
C34: 4 | D34: 65000 | E34: 73685/870 | F34: 1403/05/16 | G34: 1199519360000 | J34: 994233670842 | K34: 113966218190 | L34: 80187265052 | M34: 11132205916
C35: 5 | D35: 65000 | E35: 73971/870 | F35: 1403/05/16 | G35: 650000000000 | H35: 352495078991 | I35: 297504921009
C36: 6 | D36: 70000-بندر | E36: 73979/870 | F36: 1403/05/16 | G36: 324999990000 | H36: 140794710000 | I36: 139645284630 | J36: 13936920360 | K36: 30623075010
C37: 7 | D37: 70000 | E37: 94457/870 | F37: 1403/06/25 | G37: 441933590000 | H37: =G37 -> 441933590000
C38: جمع | G38: =SUM(G31:G37) -> 4394117075000
B39: مسکن ملی | C39: 1 | D39: 65000 | E39: 68914/870 | F39: 1403/05/08 | G39: 63831625000
B40: شهرهای جدید | C40: 1 | D40: 65000 | E40: 69425/870 | F40: 1403/05/09 | G40: 16145155000
I41: 185527814835
F43: جمع کل | G43: =SUM(G38:G40,G30,G7) -> 14791656370000 | I43: =I41-I36 -> 45882530205
I44: =I43/70000 -> 655464.72

Sheet گزارش نهایی بودجه 1402
A1: شركت پالايش نفت جي(سهامي عام)
A2: گزارش بودجه قيرهاي تهاتري از محل VB موضوع قانون بودجه سال 1402 تخصیص یافته به پالایش نفت جی
V3: مبالغ به ریال و مقادیر به کیلوگرم
A4: شرح | B4: مقدار قیرهای تحویلی نفت جی | K4: اعلام وصول در سامانه سبا | O4: معادل سازی وکیوم با قیر تحویل شده | T4: وضعیت وکیوم های جذب شده | Y4: مانده مطالبات وکیوم
B5: مقدار تحویل | C5: مبلغ فاکتور | D5: نرخ وکیوم 650000 | E5: مبلغ | F5: نرخ وکیوم 700000 | G5: مبلغ | I5: مقدار حواله | J5: مقدار تحویل | K5: مقدار اعلام وصول -رئیس | L5: مبلغ اعلام وصول | M5: میزان اختلاف تحویل | O5: مقدار وکیوم-65000 | P5: مبلغ وکیوم تخصیصی-65000 | Q5: مقدار وکیوم 70000 | R5: مبلغ وکیوم تخصیصی-70000 | T5: مقدار وکیوم-65000 | U5: مبلغ وکیوم تخصیصی-65000 | V5: مقدار وکیوم 70000 | W5: مبلغ وکیوم تخصیصی-70000 | Y5: مانده مطالبات وکیوم65000 | Z5: مبلغ مانده مطالبات 65000 | AA5: مانده مطالبات 70000 | AB5: مبلغ مانده مطالبات 70000
A6: بازآفرینی شهری | B6: 12624850 | C6: 1074734354727 | D6: 4789240 | E6: 389122397532 | F6: 7835610 | G6: 685611957195 | K6: 12624840 | L6: 1066772312500 | M6: =B6-K6 -> 10 | O6: 5986498 | P6: 389122397532 | Q6: 9794457 | R6: 685611957195 | T6: 0 | U6: 0 | V6: 0 | W6: 0 | Y6: =O6 -> 5986498 | Z6: =P6 -> 389122397532 | AA6: =Q6 -> 9794457 | AB6: =R6 -> 685611957195
A7: ساخت و توسعه | B7: 47624440 | C7: 3882716271679 | D7: 45504110 | E7: 3697188456844 | F7: 2120330 | G7: 185527814835 | K7: 47544670 | L7: 3863004437500 | M7: =B7-K7 -> 79770 | O7: 56879822 | P7: 3697188456844 | Q7: 2650397 | R7: 185527814835 | T7: =U7/65000 -> 57000000 | U7: =SUM(وکیوم!F7) -> 3705000000000 | V7: 0 | W7: 0 | Y7: =O7-T7 -> -120178 | Z7: =P7-U7 -> -7811543156 | AA7: =Q7-V7 -> 2650397 | AB7: =R7 -> 185527814835
A8: سازمان راهداری | B8: 120391700 | C8: 9823387579424 | D8: 113731910 | E8: 9240659284319 | F8: 6659790 | G8: 582728295105 | K8: 120390700 | L8: 9801420187500 | M8: =B8-K8 -> 1000 | O8: 142163989 | P8: 9240659284319 | Q8: 8324690 | R8: 582728295105 | T8: =U8/65000 -> 101731731 | U8: =SUM(وکیوم!F30) -> 6612562515000 | V8: 0 | W8: 0 | Y8: =O8-T8 -> 40432258 | Z8: =P8-U8 -> 2628096769319 | AA8: =Q8 -> 8324690 | AB8: =R8 -> 582728295105
A9: مسکن ملی | B9: 2347580 | C9: 191734763550 | D9: 2188300 | E9: 177797843190 | F9: 159280 | G9: 13936920360 | K9: 2347580 | L9: 191736375000 | M9: =B9-K9 -> 0 | O9: 2735351 | P9: 177797843190 | Q9: 199099 | R9: 13936920360 | T9: =U9/65000 -> 982025 | U9: =SUM(وکیوم!F109) -> 63831625000 | V9: =W9/70000 -> 0 | W9: 0 | Y9: =O9-T9 -> 1753326 | Z9: =P9-U9 -> 113966218190 | AA9: =Q9-V9 -> 199099 | AB9: =R9 -> 13936920360
A10: معاونت بودجه | B10: 6379470 | C10: 527070314606 | D10: 4980700 | E10: 404678638991 | F10: 1398770 | G10: 122391675615 | K10: 6379470 | L10: 527074250000 | M10: =B10-K10 -> 0 | O10: 6225825 | P10: 404678638991 | Q10: 1748453 | R10: 122391675615 | T10: =U10/65000 -> 55802825 | U10: 3627183627000 | V10: =W10/70000 -> 10956194 | W10: =SUM(وکیوم!G67:H68) -> 766933580000 | Y10: =O10-T10 -> -49577000 | Z10: =P10-U10 -> -3222504988009 | AA10: =Q10-V10 -> -9207741 | AB10: =R10-W10 -> -644541904385
A11: شهرهای جدید | B11: 1535620 | C11: 126955495062 | D11: 1185640 | E11: 96332420052 | F11: 349980 | G11: 30623075010 | K11: 1535530 | L11: 124761812500 | M11: =B11-K11 -> 90 | O11: 1482037 | P11: 96332420052 | Q11: 437473 | R11: 30623075010 | T11: =U11/65000 -> 248387 | U11: =SUM(وکیوم!F111) -> 16145155000 | V11: =W11/70000 -> 0 | W11: 0 | Y11: =O11-T11 -> 1233650 | Z11: =P11-U11 -> 80187265052 | AA11: =Q11-V11 -> 437473 | AB11: =R11 -> 30623075010
A12: جمع | B12: =SUM(B6:B11) -> 190903660 | C12: =SUM(C6:C11) -> 15626598779048 | D12: =SUM(D6:D11) -> 172379900 | E12: =SUM(E6:E11) -> 14005779040928 | F12: =SUM(F6:F11) -> 18523760 | G12: =SUM(G6:G11) -> 1620819738120 | I12: =SUM(I6:I11) -> 0 | J12: =SUM(J6:J11) -> 0 | K12: =SUM(K6:K11) -> 190822790 | L12: =SUM(L6:L11) -> 15574769375000 | M12: =SUM(M6:M11) -> 80870 | O12: =SUM(O6:O11) -> 215473522 | P12: =SUM(P6:P11) -> 14005779040928 | Q12: =SUM(Q6:Q11) -> 23154569 | R12: =SUM(R6:R11) -> 1620819738120 | T12: =SUM(T6:T11) -> 2.1576497e+08 | U12: =SUM(U6:U11) -> 14024722922000 | V12: =SUM(V6:V11) -> 10956194 | W12: =SUM(W6:W11) -> 766933580000 | Y12: =SUM(Y6:Y11) -> -291446.03 | Z12: =SUM(Z6:Z11) -> -18943881072 | AA12: =SUM(AA6:AA11) -> 12198375 | AB12: =SUM(AB6:AB11) -> 853886158120
Z15: تهیه گزارش: کتاب اللهی
Z16: 1403/10/15
A18: دلایل اختلاف تحویل در ردیف شماره 2:
A19: 1. حواله شماره 14021800020 - شرکت بهپویان صنعت ساختمان (چهارمحال و بختیاری) به میزان 50،150 کیلوگرم در سامانه سبا نیامده است
A20: 2. حواله شماره 14021800051 - شرکت کلهر غرب (کهگیلوی و بویراحمد) ه میزان 399،890 کیلوگرم که در سامانه 371 تن وارد شده است
A21: (ارزش فاکتورهای دو حواله فوق 36،565،610،488 ریال می باشد)

Sheet گزارش نهایی
A1: شركت پالايش نفت جي(سهامي عام)
A2: گزارش بودجه قيرهاي تهاتري از محل VB موضوع قانون بودجه سال 1402 تخصیص یافته به پالایش نفت جی
O3: مبالغ به ریال و مقادیر به کیلوگرم
A4: شرح | B4: مقدار قیرهای تحویلی نفت جی | G4: اعلام وصول در سامانه سبا | K4: وضعیت وکیوم باتوم اخذ شده توسط نفت جی- بودجه 1402
B5: مقدار تحویل | C5: مبلغ فاکتور | E5: مقدار حواله | F5: مقدار تحویل | G5: مقدار اعلام وصول -رئیس | H5: مبلغ اعلام وصول | I5: میزان اختلاف تحویل | K5: مبلغ وکیوم تخصیصی-65000 | L5: مقدار وکیوم-65000 | M5: مبلغ وکیوم تخصیصی-70000 | N5: مقدار وکیوم 70000 | O5: وکیوم جذب نشده | P5: مانده مطالبات
A6: بازآفرینی شهری | B6: 12624850 | C6: 1074734354727 | G6: 12624840 | H6: 1066772312500 | I6: =B6-G6 -> 10 | K6: 0 | L6: 0 | M6: 0 | N6: 0 | O6: 0 | P6: 0
A7: ساخت و توسعه | B7: 47624440 | C7: 3882716271679 | G7: 47544670 | H7: 3863004437500 | I7: =B7-G7 -> 79770 | K7: =SUM(وکیوم!F7) -> 3705000000000 | L7: =K7/65000 -> 57000000 | M7: 0 | N7: 0 | O7: 0 | P7: 0
A8: سازمان راهداری | B8: 120391700 | C8: 9823387579424 | G8: 120390700 | H8: 9801420187500 | I8: =B8-G8 -> 1000 | K8: =SUM(وکیوم!F30) -> 6612562515000 | L8: =K8/65000 -> 101731731 | M8: 0 | N8: 0 | O8: 0 | P8: 0
A9: مسکن ملی | B9: 2347580 | C9: 191734763550 | G9: 2347580 | H9: 191736375000 | I9: =B9-G9 -> 0 | K9: =SUM(وکیوم!F110) -> 63831625000 | L9: =K9/65000 -> 982025 | M9: 0 | N9: 0 | O9: 0 | P9: 0
A10: معاونت بودجه | B10: 6379470 | C10: 527070314606 | G10: 6379470 | H10: 527074250000 | I10: =B10-G10 -> 0 | K10: =SUM(وکیوم!G62:G66) -> 3627183495000 | L10: =K10/65000 -> 55802823 | M10: =SUM(وکیوم!G67:H68) -> 766933580000 | N10: =M10/70000 -> 10956194 | O10: 0 | P10: 0
A11: شهرهای جدید | B11: 1535620 | C11: 126955495062 | G11: 1535530 | H11: 124761812500 | I11: =B11-G11 -> 90 | K11: =SUM(وکیوم!F112) -> 16145155000 | L11: =K11/65000 -> 248387 | M11: 0 | N11: 0 | O11: 0 | P11: 0
A12: بنیاد | K12: =SUM(وکیوم!G37:H55) -> 2823599999000 | L12: =K12/65000 -> 43440000 | M12: =SUM(وکیوم!G56:G60) -> 1634912300000 | N12: =M12/70000 -> 23355890 | O12: 0 | P12: 0
A13: سازمان شهرداریها | K13: =SUM(وکیوم!G70:H100) -> 9302525000000 | L13: =K13/65000 -> 1.4311577e+08 | M13: =SUM(وکیوم!G101:H103) -> 2331525620000 | N13: =M13/70000 -> 33307509 | O13: 0 | P13: 0
A14: نوسازی مدارس | K14: =SUM(وکیوم!F31:F32) -> 99999900000 | L14: =K14/65000 -> 1538460 | M14: =SUM(وکیوم!F33:F35) -> 133380240000 | N14: =M14/70000 -> 1905432 | O14: 0 | P14: 0
A15: امور عشایر | K15: =SUM(وکیوم!G105:H107) -> 302250000000 | L15: =K15/65000 -> 4650000 | M15: 0 | N15: 0 | O15: 0 | P15: 0
A16: جمع | B16: =SUM(B6:B11) -> 190903660 | C16: =SUM(C6:C11) -> 15626598779048 | E16: =SUM(E6:E11) -> 0 | F16: =SUM(F6:F11) -> 0 | G16: =SUM(G6:G11) -> 190822790 | H16: =SUM(H6:H11) -> 15574769375000 | I16: =SUM(I6:I11) -> 80870 | K16: =SUM(K6:K15) -> 26553097689000 | L16: =SUM(L6:L15) -> 4.085092e+08 | M16: =SUM(M6:M15) -> 4866751740000 | N16: =SUM(N6:N15) -> 69525025 | O16: =SUM(O6:O11) -> 0 | P16: =SUM(P6:P11) -> 0
P19: تهیه گزارش: کتاب اللهی
P20: 1403/10/15
A21: دلایل اختلاف تحویل در ردیف شماره 2:
A22: 1. حواله شماره 14021800020 - شرکت بهپویان صنعت ساختمان (چهارمحال و بختیاری) به میزان 50،150 کیلوگرم در سامانه سبا نیامده است
A23: 2. حواله شماره 14021800051 - شرکت کلهر غرب (کهگیلوی و بویراحمد) ه میزان 399،890 کیلوگرم که در سامانه 371 تن وارد شده است

Sheet گزارش حواله 1402
A1: ش. سبا | B1: شماره حواله | C1: شماره درخواست | D1: تاریخ درخواست | E1: استان | F1: کد مرکز فروش | G1: تاریخ حواله | H1: کد مشتری | I1: نام مشتری | J1: نام کالا | K1: نرخ قرارداد | L1: مقدار حواله | M1: مقدار کل تحویل | N1: مبلغ تحویل | O1: ارزش افزوده | P1: ارزش فاکتور | Q1: نرخ وکیوم | R1: مقدار وکیوم | S1: ارزش وکیوم | T1: نام انبار | U1: تحویل- سبا | V1: مبلغ در سبا | W1: رئیس دستگاه- سبا | X1: مبلغ رئیس ستگاه- سبا | Y1: توضیحات
A2: 94757 | B2: 14031000001 | C2: 1403/ص/500/1839 | D2: 1403/04/19 | E2: استان کرمان | F2: 10 | G2: 1403/04/24 | H2: 7034 | I2: اداره کل راه وشهرسازی کرمان | J2: قیر PG 64-22 | K2: 73863 | L2: 408000 | M2: 407340 | N2: =M2*K2 -> 30087354420 | O2: =N2*10% -> 3008735442 | P2: =O2+N2 -> 33096089862 | Q2: 65000 | R2: =P2/Q2 -> 509170.61 | S2: =Q2*R2 -> 33096089862 | T2: مخازن قیر اصفهان | U2: 407340 | V2: 33096375000 | W2: 407340 | X2: 33096375000 | Y2: 0 | Z2: 0
A3: 93079 | B3: 14031000002 | C3: 1403/ص500/1837 | D3: 1403/04/19 | E3: استان کرمان | F3: 10 | G3: 1403/04/31 | H3: 7034 | I3: اداره کل راه وشهرسازی کرمان | J3: قیر PG 64-16 | K3: 73863 | L3: 451000 | M3: 450580 | N3: =M3*K3 -> 33281190540 | O3: =N3*10% -> 3328119054 | P3: =O3+N3 -> 36609309594 | Q3: 65000 | R3: =P3/Q3 -> 563220.15 | S3: =Q3*R3 -> 36609309594 | T3: انبار قیر بندرعباس(پلنت خلیج فارس) | U3: 450580 | V3: 36609625000 | W3: 450580 | X3: 36609625000 | Y3: 0 | Z3: 0
A4: 94159 | B4: 14031000003 | C4: 1403/ص/500/1629 | D4: 1403/04/19 | E4: استان چهارمحال بختیاری | F4: 10 | G4: 1403/05/03 | H4: 7190 | I4: اداره کل راه و شهرسازی چهارمحال وبختیاری | J4: قیر PG 58-22 | K4: 73863 | L4: 260000 | M4: 257610 | N4: =M4*K4 -> 19027847430 | O4: =N4*10% -> 1902784743 | P4: =O4+N4 -> 20930632173 | Q4: 65000 | R4: =P4/Q4 -> 322009.73 | S4: =Q4*R4 -> 20930632173 | T4: مخازن قیر اصفهان | U4: 257610 | V4: 20930812500 | W4: 257610 | X4: 20930812500 | Y4: 0 | Z4: 0
A5: 94552 | B5: 14031000004 | C5: 1403/ص/500/1630 | D5: 1403/04/19 | E5: استان چهارمحال بختیاری | F5: 10 | G5: 1403/05/03 | H5: 7190 | I5: اداره کل راه و شهرسازی چهارمحال وبختیاری | J5: قیر PG 58-22 | K5: 73863 | L5: 100000 | M5: 98460 | N5: =M5*K5 -> 7272550980 | O5: =N5*10% -> 727255098 | P5: =O5+N5 -> 7999806078 | Q5: 65000 | R5: =P5/Q5 -> 123073.94 | S5: =Q5*R5 -> 7999806078 | T5: مخازن قیر اصفهان | U5: 98460 | V5: 7999875000 | W5: 98460 | X5: 7999875000 | Y5: 0 | Z5: 0
A6: 95365 | B6: 14031000005 | C6: 1403/ص/500/1640 | D6: 1403/04/19 | E6: استان چهارمحال بختیاری | F6: 10 | G6: 1403/05/03 | H6: 7190 | I6: اداره کل راه و شهرسازی چهارمحال وبختیاری | J6: قیر PG 58-22 | K6: 73863 | L6: 125000 | M6: 124990 | N6: =M6*K6 -> 9232136370 | O6: =N6*10% -> 923213637 | P6: =O6+N6 -> 10155350007 | Q6: 65000 | R6: =P6/Q6 -> 156236.15 | S6: =Q6*R6 -> 10155350007 | T6: مخازن قیر اصفهان | U6: 124990 | V6: 10155437500 | W6: 124990 | X6: 10155437500 | Y6: 0 | Z6: 0
A7: 94267 | B7: 14031000006 | C7: 1403/ص/500/1631 | D7: 1403/04/19 | E7: استان چهارمحال بختیاری | F7: 10 | G7: 1403/05/04 | H7: 7190 | I7: اداره کل راه و شهرسازی چهارمحال وبختیاری | J7: قیر PG 58-22 | K7: 73863 | L7: 60000 | M7: 58370 | N7: =M7*K7 -> 4311383310 | O7: =N7*10% -> 431138331 | P7: =O7+N7 -> 4742521641 | Q7: 65000 | R7: =P7/Q7 -> 72961.871 | S7: =Q7*R7 -> 4742521641 | T7: مخازن قیر اصفهان | U7: 58370 | V7: 4742562500 | W7: 58370 | X7: 4742562500 | Y7: 0 | Z7: 0
A8: 94170 | B8: 14031000007 | C8: 1403/ص/500/1632 | D8: 1403/04/19 | E8: استان چهارمحال بختیاری | F8: 10 | G8: 1403/05/04 | H8: 7190 | I8: اداره کل راه و شهرسازی چهارمحال وبختیاری | J8: قیر PG 58-22 | K8: 73863 | L8: 208000 | M8: 207100 | N8: =M8*K8 -> 15297027300 | O8: =N8*10% -> 1529702730 | P8: =O8+N8 -> 16826730030 | Q8: 65000 | R8: =P8/Q8 -> 258872.77 | S8: =Q8*R8 -> 16826730030 | T8: مخازن قیر اصفهان | U8: 207100 | V8: 16826875000 | W8: 207090 | X8: 16826062500 | Y8: 0 | Z8: 0
A9: 94270 | B9: 14031000008 | C9: 1403/ص/500/1633 | D9: 1403/04/19 | E9: استان چهارمحال بختیاری | F9: 10 | G9: 1403/05/04 | H9: 7190 | I9: اداره کل راه و شهرسازی چهارمحال وبختیاری | J9: قیر PG 58-22 | K9: 73863 | L9: 65000 | M9: 64740 | N9: =M9*K9 -> 4781890620 | O9: =N9*10% -> 478189062 | P9: =O9+N9 -> 5260079682 | Q9: 65000 | R9: =P9/Q9 -> 80924.303 | S9: =Q9*R9 -> 5260079682 | T9: مخازن قیر اصفهان | U9: 64740 | V9: 5260125000 | W9: 64740 | X9: 5260125000 | Y9: 0 | Z9: 0
A10: 93781 | B10: 14031000009 | C10: 1403/ص/500/1634 | D10: 1403/04/19 | E10: استان چهارمحال بختیاری | F10: 10 | G10: 1403/05/04 | H10: 7190 | I10: اداره کل راه و شهرسازی چهارمحال وبختیاری | J10: قیر PG 58-22 | K10: 73863 | L10: 69000 | M10: 68170 | N10: =M10*K10 -> 5035240710 | O10: =N10*10% -> 503524071 | P10: =O10+N10 -> 5538764781 | Q10: 65000 | R10: =P10/Q10 -> 85211.766 | S10: =Q10*R10 -> 5538764781 | T10: مخازن قیر اصفهان | U10: 68170 | V10: 5538812500 | W10: 68170 | X10: 5538812500 | Y10: 0 | Z10: 0
A11: 94721 | B11: 14031000010 | C11: 1403/ص/500/1638 | D11: 1403/04/19 | E11: استان چهارمحال بختیاری | F11: 10 | G11: 1403/05/04 | H11: 7190 | I11: اداره کل راه و شهرسازی چهارمحال وبختیاری | J11: قیر PG 58-22 | K11: 73863 | L11: 48000 | M11: 46950 | N11: =M11*K11 -> 3467867850 | O11: =N11*10% -> 346786785 | P11: =O11+N11 -> 3814654635 | Q11: 65000 | R11: =P11/Q11 -> 58686.994 | S11: =Q11*R11 -> 3814654635 | T11: مخازن قیر اصفهان | U11: 46950 | V11: 3814687500 | W11: 46950 | X11: 3814687500 | Y11: 0 | Z11: 0
A12: 94303 | B12: 14031000011 | C12: 1403/ص/500/1641 | D12: 1403/04/19 | E12: استان چهارمحال بختیاری | F12: 10 | G12: 1403/05/04 | H12: 7190 | I12: اداره کل راه و شهرسازی چهارمحال وبختیاری | J12: قیر PG 58-22 | K12: 73863 | L12: 88000 | M12: 87010 | N12: =M12*K12 -> 6426819630 | O12: =N12*10% -> 642681963 | P12: =O12+N12 -> 7069501593 | Q12: 65000 | R12: =P12/Q12 -> 108761.56 | S12: =Q12*R12 -> 7069501593 | T12: مخازن قیر اصفهان | U12: 87010 | V12: 7069562500 | W12: 87010 | X12: 7069562500 | Y12: 0 | Z12: 0
A13: 94162 | B13: 14031000012 | C13: 1403/ص/500/1625 | D13: 1403/04/19 | E13: استان چهارمحال بختیاری | F13: 10 | G13: 1403/05/06 | H13: 7190 | I13: اداره کل راه و شهرسازی چهارمحال وبختیاری | J13: قیر PG 58-22 | K13: 73863 | L13: 90000 | M13: 89290 | N13: =M13*K13 -> 6595227270 | O13: =N13*10% -> 659522727 | P13: =O13+N13 -> 7254749997 | Q13: 65000 | R13: =P13/Q13 -> 111611.54 | S13: =Q13*R13 -> 7254749997 | T13: مخازن قیر اصفهان | U13: 89290 | V13: 7254812500 | W13: 89290 | X13: 7254812500 | Y13: 0 | Z13: 0
... A33: 96432 | B33: 14031000032 | C33: 1403/ص/500/2247 | D33: 1403/05/14 | E33: استان خراسان جنوبی | F33: 10 | G33: 1403/06/06 | H33: 4012 | I33: اداره کل راه و شهرسازی خراسان جنوبی | J33: قیر PG 64-22 | K33: 73863 | L33: 130000 | M33: 129570 | N33: =M33*K33 -> 9570428910 | O33: =N33*10% -> 957042891 | P33: =O33+N33 -> 10527471801 | Q33: 65000 | R33: =P33/Q33 -> 161961.1 | S33: =Q33*R33 -> 10527471801 | T33: مخازن قیر اصفهان | U33: 129570 | V33: 10527562500 | W33: 129570 | X33: 10527562500 | Y33: 0 | Z33: 0
A34: 98264 | B34: 14031000033 | C34: 1403/ص/500/2604 | D34: 1403/06/05 | E34: استان کرمان | F34: 10 | G34: 1403/06/10 | H34: 7034 | I34: اداره کل راه وشهرسازی کرمان | J34: قیر PG 64-22 | K34: 79545 | L34: 483000 | M34: 481790 | N34: =M34*K34 -> 38323985550 | O34: =N34*10% -> 3832398555 | P34: =O34+N34 -> 42156384105 | Q34: 70000 | R34: =P34/Q34 -> 602234.06 | S34: =Q34*R34 -> 42156384105 | T34: مخازن قیر اصفهان | U34: 481790 | V34: 39145437500 | W34: 481790 | X34: 39145437500 | Y34: 0 | Z34: =P34-V34 -> 3010946605
A35: 98266 | B35: 14031000034 | C35: 1403/ص/500/2605 | D35: 1403/06/05 | E35: استان کرمان | F35: 10 | G35: 1403/06/10 | H35: 7034 | I35: اداره کل راه وشهرسازی کرمان | J35: قیر PG 64-22 | K35: 79545 | L35: 396000 | M35: 395000 | N35: =M35*K35 -> 31420275000 | O35: =N35*10% -> 3142027500 | P35: =O35+N35 -> 34562302500 | Q35: 70000 | R35: =P35/Q35 -> 493747.18 | S35: =Q35*R35 -> 34562302500 | T35: مخازن قیر اصفهان | U35: 395000 | V35: 32093750000 | W35: 395000 | X35: 32093750000 | Y35: 0 | Z35: =P35-V35 -> 2468552500
A36: 95064 | B36: 14031000035 | C36: 1403/ص500/2610 | D36: 1403/06/05 | E36: استان کرمانشاه | F36: 10 | G36: 1403/06/18 | H36: 4109 | I36: اداره کل راه و شهرسازی کرمانشاه | J36: قیر PG 64-22 | K36: 79545 | L36: 200000 | M36: 199290 | N36: =M36*K36 -> 15852523050 | O36: =N36*10% -> 1585252305 | P36: =O36+N36 -> 17437775355 | Q36: 70000 | R36: =P36/Q36 -> 249111.08 | S36: =Q36*R36 -> 17437775355 | T36: مخازن قیر اصفهان | U36: 199290 | V36: 16192312500 | W36: 199290 | X36: 16192312500 | Y36: 0 | Z36: =P36-V36 -> 1245462855
A37: 99230 | B37: 14031000036 | C37: 1403/ص/500/2816 | D37: 1403/06/19 | E37: استان کرمان | F37: 10 | G37: 1403/06/21 | H37: 7034 | I37: اداره کل راه وشهرسازی کرمان | J37: قیر PG 64-22 | K37: 79545 | L37: 445000 | M37: 440490 | N37: =M37*K37 -> 35038777050 | O37: =N37*10% -> 3503877705 | P37: =O37+N37 -> 38542654755 | Q37: 70000 | R37: =P37/Q37 -> 550609.35 | S37: =Q37*R37 -> 38542654755 | T37: مخازن قیر اصفهان | U37: 440490 | V37: 38542875000 | W37: 440490 | X37: 38542875000 | Y37: 0 | Z37: 0
A38: 84131 | B38: 14021800004 | C38: 44027 | D38: 1402/03/27 | E38: استان کرمان | F38: 18 | G38: 1402/03/29 | H38: 4062 | I38: ناورود | J38: قیر PG 64-22 | K38: 74541 | L38: 400000 | M38: 399220 | N38: =M38*K38 -> 29758258020 | O38: =N38*9% -> 2.6782432e+09 | P38: =O38+N38 -> 3.2436501e+10 | Q38: 65000 | R38: =P38/Q38 -> 499023.1 | S38: =Q38*R38 -> 3.2436501e+10 | T38: مخازن قیر اصفهان | U38: 399220 | V38: 32436625000 | W38: 399220 | X38: 32436625000 | Y38: 0 | Z38: 0
A39: 84129 | B39: 14021800005 | C39: 1/45157 | D39: 1402/03/28 | E39: استان یزد | F39: 18 | G39: 1402/03/29 | H39: 7013 | I39: راه و ساختمان اسکان ده | J39: قیر PG 64-22 | K39: 74541 | L39: 500000 | M39: 497580 | N39: =M39*K39 -> 37090110780 | O39: =N39*9% -> 3.33811e+09 | P39: =O39+N39 -> 4.0428221e+10 | Q39: 65000 | R39: =P39/Q39 -> 621972.63 | S39: =Q39*R39 -> 4.0428221e+10 | T39: مخازن قیر اصفهان | U39: 497580 | V39: 40428375000 | W39: 497580 | X39: 40428375000 | Y39: 0 | Z39: 0
A40: 84285 | B40: 14021800006 | C40: 1/44061 | D40: 1402/03/27 | E40: استان خراسان رضوی | F40: 18 | G40: 1402/03/29 | H40: 9534 | I40: مهندسی آب وخاک قدس رضوی | J40: قیر PG 64-22 | K40: 74541 | L40: 500000 | M40: 500000 | N40: =M40*K40 -> 37270500000 | O40: =N40*9% -> 3354345000 | P40: =O40+N40 -> 40624845000 | Q40: 65000 | R40: =P40/Q40 -> 624997.62 | S40: =Q40*R40 -> 40624845000 | T40: مخازن قیر اصفهان | U40: 500000 | V40: 40625000000 | W40: 500000 | X40: 40625000000 | Y40: 0 | Z40: 0
A41: 84339 | B41: 14021800007 | C41: 1/45863 | D41: 1402/03/29 | E41: استان سیستان بلوچستان | F41: 18 | G41: 1402/03/30 | H41: 10164 | I41: ساختمانی گلومک سازه | J41: قیر PG 70-10 | K41: 74541 | L41: 500000 | M41: 500000 | N41: =M41*K41 -> 37270500000 | O41: =N41*9% -> 3354345000 | P41: =O41+N41 -> 40624845000 | Q41: 65000 | R41: =P41/Q41 -> 624997.62 | S41: =Q41*R41 -> 40624845000 | T41: مخازن قیر اصفهان | U41: 500000 | V41: 40625000000 | W41: 500000 | X41: 40625000000 | Y41: 0 | Z41: 0
A42: 84286 | B42: 14021800008 | C42: 1/43987 | D42: 1402/03/27 | E42: استان کرمان | F42: 18 | G42: 1402/03/31 | H42: 10161 | I42: محورگسترشرق | J42: قیر PG 64-16 | K42: 74541 | L42: 500000 | M42: 490340 | N42: =M42*K42 -> 36550433940 | O42: =N42*9% -> 3.2895391e+09 | P42: =O42+N42 -> 3.9839973e+10 | Q42: 65000 | R42: =P42/Q42 -> 612922.66 | S42: =Q42*R42 -> 3.9839973e+10 | T42: مخازن قیر اصفهان | U42: 490340 | V42: 39840125000 | W42: 490340 | X42: 39840125000 | Y42: 0 | Z42: 0
A43: 84340 | B43: 14021800009 | C43: 1/45720 | D43: 1402/03/29 | E43: استان سیستان بلوچستان | F43: 18 | G43: 1402/03/31 | H43: 8679 | I43: ساختمانی راهسازی کیهان راه شرق | J43: قیر PG 70-10 | K43: 74541 | L43: 500000 | M43: 498630 | N43: =M43*K43 -> 37168378830 | O43: =N43*9% -> 3.3451541e+09 | P43: =O43+N43 -> 4.0513533e+10 | Q43: 65000 | R43: =P43/Q43 -> 623285.12 | S43: =Q43*R43 -> 4.0513533e+10 | T43: مخازن قیر اصفهان | U43: 498630 | V43: 40513687500 | W43: 498630 | X43: 40513687500 | Y43: 0 | Z43: 0
A44: 84343 | B44: 14021800010 | C44: 1/45741 | D44: 1402/03/29 | E44: استان سیستان بلوچستان | F44: 18 | G44: 1402/03/31 | H44: 11026 | I44: جهادنصرسیستان وبلوچستان | J44: قیر PG 70-10 | K44: 74541 | L44: 500000 | M44: 488910 | N44: =M44*K44 -> 36443840310 | O44: =N44*9% -> 3.2799456e+09 | P44: =O44+N44 -> 3.9723786e+10 | Q44: 65000 | R44: =P44/Q44 -> 611135.17 | S44: =Q44*R44 -> 3.9723786e+10 | T44: مخازن قیر اصفهان | U44: 488910 | V44: 39723937500 | W44: 488910 | X44: 39723937500 | Y44: 0 | Z44: 0
A45: 84144 | B45: 14021800011 | C45: 1/44074 | D45: 1402/03/27 | E45: استان چهارمحال بختیاری | F45: 18 | G45: 1402/04/01 | H45: 1351 | I45: زرین استحکام | J45: قیر PG 58-22 | K45: 74541 | L45: 500000 | M45: 499000 | N45: =M45*K45 -> 37195959000 | O45: =N45*9% -> 3347636310 | P45: =O45+N45 -> 40543595310 | Q45: 65000 | R45: =P45/Q45 -> 623747.62 | S45: =Q45*R45 -> 40543595310 | T45: مخازن قیر اصفهان | U45: 499000 | V45: 40543750000 | W45: 499000 | X45: 40543750000 | Y45: 0 | Z45: 0
A46: 84344 | B46: 14021800012 | C46: 1/45725 | D46: 1402/03/29 | E46: استان سیستان بلوچستان | F46: 18 | G46: 1402/04/01 | H46: 11551 | I46: نازمکان جنوب | J46: قیر PG 70-10 | K46: 74541 | L46: 500000 | M46: 498880 | N46: =M46*K46 -> 37187014080 | O46: =N46*9% -> 3.3468313e+09 | P46: =O46+N46 -> 4.0533845e+10 | Q46: 65000 | R46: =P46/Q46 -> 623597.62 | S46: =Q46*R46 -> 4.0533845e+10 | T46: مخازن قیر اصفهان | U46: 498880 | V46: 40534000000 | W46: 498880 | X46: 40534000000 | Y46: 0 | Z46: 0
A47: 84338 | B47: 14021800013 | C47: 1/53066 | D47: 1402/04/07 | E47: استان سیستان بلوچستان | F47: 18 | G47: 1402/04/11 | H47: 10518 | I47: دنابنیان بیرجند | J47: قیر PG 70-10 | K47: 74541 | L47: 500000 | M47: 499280 | N47: =M47*K47 -> 37216830480 | O47: =N47*9% -> 3.3495147e+09 | P47: =O47+N47 -> 4.0566345e+10 | Q47: 65000 | R47: =P47/Q47 -> 624097.62 | S47: =Q47*R47 -> 4.0566345e+10 | T47: مخازن قیر اصفهان | U47: 499280 | V47: 40566500000 | W47: 499280 | X47: 40566500000 | Y47: 0 | Z47: 0
A48: 84312 | B48: 14021800014 | C48: 1/45090 | D48: 1402/03/28 | E48: استان چهارمحال بختیاری | F48: 18 | G48: 1402/04/18 | H48: 1351 | I48: زرین استحکام | J48: قیر PG 64-22 | K48: 74541 | L48: 500000 | M48: 498800 | N48: =M48*K48 -> 37181050800 | O48: =N48*9% -> 3346294572 | P48: =O48+N48 -> 40527345372 | Q48: 65000 | R48: =P48/Q48 -> 623497.62 | S48: =Q48*R48 -> 40527345372 | T48: مخازن قیر اصفهان | U48: 498800 | V48: 40527500000 | W48: 498800 | X48: 40527500000 | Y48: 0 | Z48: 0
A49: 84328 | B49: 14021800015 | C49: 1/53057 | D49: 1402/04/07 | E49: استان سیستان بلوچستان | F49: 18 | G49: 1402/04/19 | H49: 10164 | I49: ساختمانی گلومک سازه | J49: قیر PG 70-10 | K49: 74541 | L49: 64000 | M49: 55210 | N49: =M49*K49 -> 4115408610 | O49: =N49*9% -> 3.7038677e+08 | P49: =O49+N49 -> 4.4857954e+09 | Q49: 65000 | R49: =P49/Q49 -> 69012.237 | S49: =Q49*R49 -> 4.4857954e+09 | T49: مخازن قیر اصفهان | U49: 55210 | V49: 4485812500 | W49: 55210 | X49: 4485812500 | Y49: 0 | Z49: 0
... A53: 87419 | B53: 14021800019 | C53: 1/61744 | D53: 1402/04/20 | E53: استان خراسان شمالی | F53: 18 | G53: 1402/04/28 | H53: 4203 | I53: توس مسیر | J53: قیر PG 64-16 | K53: 74541 | L53: 250000 | M53: 249760 | N53: =M53*K53 -> 18617360160 | O53: =N53*9% -> 1.6755624e+09 | P53: =O53+N53 -> 2.0292923e+10 | Q53: 65000 | R53: =P53/Q53 -> 312198.81 | S53: =Q53*R53 -> 2.0292923e+10 | T53: مخازن قیر اصفهان | U53: 249760 | V53: 20293000000 | W53: 249760 | X53: 20293000000 | Y53: 0 | Z53: 0
A54: 84162 | B54: 14021800020 | C54: 1/55839 | D54: 1402/04/12 | E54: استان چهارمحال بختیاری | F54: 18 | G54: 1402/04/31 | H54: 12720 | I54: بهپویان صنعت ساختمان | J54: قیر PG 58-22 | K54: 74541 | L54: 52000 | M54: 50150 | N54: =M54*K54 -> 3738231150 | O54: =N54*9% -> 3.364408e+08 | P54: =O54+N54 -> 4.074672e+09 | Q54: 65000 | R54: =P54/Q54 -> 62687.261 | S54: =Q54*R54 -> 4.074672e+09 | T54: مخازن قیر اصفهان | V54: 0 | W54: 0 | X54: 0 | Y54: 0 | Z54: =P54-V54 -> 4.074672e+09
A55: 93239 | B55: 14021800021 | C55: 1/67753 | D55: 1402/04/31 | E55: استان کهکیلویه و بویر احمد | F55: 18 | G55: 1402/05/01 | H55: 10519 | I55: قبادبویردنا | J55: قیر PG 64-22 | K55: 74541 | L55: 500000 | M55: 499890 | N55: =M55*K55 -> 37262300490 | O55: =N55*9% -> 3.353607e+09 | P55: =O55+N55 -> 4.0615908e+10 | Q55: 65000 | R55: =P55/Q55 -> 624860.12 | S55: =Q55*R55 -> 4.0615908e+10 | T55: مخازن قیر اصفهان | U55: 499890 | V55: 40616062500 | W55: 499890 | X55: 40616062500 | Y55: 0 | Z55: 0
A56: 88853 | B56: 14021800022 | C56: 1/51420 | D56: 1402/04/05 | E56: استان چهارمحال بختیاری | F56: 18 | G56: 1402/05/03 | H56: 12787 | I56: سگال آذرخش باتیس | J56: قیر PG 58-22 | K56: 74541 | L56: 500000 | M56: 499700 | N56: =M56*K56 -> 37248137700 | O56: =N56*9% -> 3352332393 | P56: =O56+N56 -> 40600470093 | Q56: 65000 | R56: =P56/Q56 -> 624622.62 | S56: =Q56*R56 -> 40600470093 | T56: مخازن قیر اصفهان | U56: 499700 | V56: 40600625000 | W56: 499700 | X56: 40600625000 | Y56: 0 | Z56: 0
A57: 87824 | B57: 14021800023 | C57: 1/78232 | D57: 1402/05/16 | E57: استان یزد | F57: 18 | G57: 1402/05/16 | H57: 7013 | I57: راه و ساختمان اسکان ده | J57: قیر PG 64-22 | K57: 74541 | L57: 500000 | M57: 497650 | N57: =M57*K57 -> 37095328650 | O57: =N57*9% -> 3.3385796e+09 | P57: =O57+N57 -> 4.0433908e+10 | Q57: 65000 | R57: =P57/Q57 -> 622060.13 | S57: =Q57*R57 -> 4.0433908e+10 | T57: مخازن قیر اصفهان | U57: 497650 | V57: 40434062500 | W57: 497650 | X57: 40434062500 | Y57: 0 | Z57: 0
A58: 87447 | B58: 14021800024 | C58: 1/77630 | D58: 1402/05/15 | E58: استان کردستان | F58: 18 | G58: 1402/05/16 | H58: 4080 | I58: چاوش راه بنا | J58: قیر PG 64-22 | K58: 74541 | L58: 500000 | M58: 499830 | N58: =M58*K58 -> 37257828030 | O58: =N58*9% -> 3.3532045e+09 | P58: =O58+N58 -> 4.0611033e+10 | Q58: 65000 | R58: =P58/Q58 -> 624785.12 | S58: =Q58*R58 -> 4.0611033e+10 | T58: مخازن قیر اصفهان | U58: 499830 | V58: 40611187500 | W58: 499830 | X58: 40611187500 | Y58: 0 | Z58: 0
A59: 88675 | B59: 14021800025 | C59: 1/77386 | D59: 1402/05/15 | E59: استان خراسان رضوی | F59: 18 | G59: 1402/05/16 | H59: 4060 | I59: توس رادیه | J59: قیر PG 64-22 | K59: 74541 | L59: 500000 | M59: 499980 | N59: =M59*K59 -> 37269009180 | O59: =N59*9% -> 3.3542108e+09 | P59: =O59+N59 -> 4.062322e+10 | Q59: 65000 | R59: =P59/Q59 -> 624972.62 | S59: =Q59*R59 -> 4.062322e+10 | T59: مخازن قیر اصفهان | U59: 499980 | V59: 40623375000 | W59: 499980 | X59: 40623375000 | Y59: 0 | Z59: 0
A60: 90710 | B60: 14021800026 | C60: 1/78831 | D60: 1402/05/16 | E60: استان مرکزی | F60: 18 | G60: 1402/05/21 | H60: 9639 | I60: بهاران بتن فراگیران | J60: قیر PG 64-22 | K60: 74541 | L60: 500000 | M60: 499060 | N60: =M60*K60 -> 37200431460 | O60: =N60*9% -> 3.3480388e+09 | P60: =O60+N60 -> 4.054847e+10 | Q60: 65000 | R60: =P60/Q60 -> 623822.62 | S60: =Q60*R60 -> 4.054847e+10 | T60: مخازن قیر اصفهان | U60: 499060 | V60: 40548625000 | W60: 499060 | X60: 40548625000 | Y60: 0 | Z60: 0
A61: 87825 | B61: 14021800027 | C61: 1/81908 | D61: 1402/05/21 | E61: استان یزد | F61: 18 | G61: 1402/05/23 | H61: 4062 | I61: ناورود | J61: قیر PG 64-22 | K61: 74541 | L61: 400000 | M61: 398020 | N61: =M61*K61 -> 29668808820 | O61: =N61*9% -> 2.6701928e+09 | P61: =O61+N61 -> 3.2339002e+10 | Q61: 65000 | R61: =P61/Q61 -> 497523.1 | S61: =Q61*R61 -> 3.2339002e+10 | T61: مخازن قیر اصفهان | U61: 398020 | V61: 32339125000 | W61: 398020 | X61: 32339125000 | Y61: 0 | Z61: 0
A62: 87443 | B62: 14021800028 | C62: 1/77567 | D62: 1402/05/15 | E62: استان کردستان | F62: 18 | G62: 1402/05/23 | H62: 8380 | I62: عمران پویش کردستان | J62: قیر PG 64-22 | K62: 74541 | L62: 500000 | M62: 499100 | N62: =M62*K62 -> 37203413100 | O62: =N62*9% -> 3348307179 | P62: =O62+N62 -> 40551720279 | Q62: 65000 | R62: =P62/Q62 -> 623872.62 | S62: =Q62*R62 -> 40551720279 | T62: مخازن قیر اصفهان | U62: 499100 | V62: 40551875000 | W62: 499100 | X62: 40551875000 | Y62: 0 | Z62: 0
...

Sheet وکیوم
B1: مبلغ وکیوم باتوم تخصیصی ارگانهای دولتی از محل قانون بودجه سال 1402
B2: سازمان | C2: مراحل | D2: شماره نامه | E2: تاریخ نامه | F2: مبلغ وکیوم تخصیصی | G2: اصفهان | H2: بندرعباس | I2: توضیحات
B3: ساخت | C3: اول | D3: 182762/870 | E3: 1402/09/30 | F3: 1625000000000 | G3: =F3 -> 1625000000000 | H3: 0 | I3: آذرجذب شد
C4: دوم | D4: 188557/870 | E4: 1402/10/18 | F4: 650000000000 | G4: =F4 -> 650000000000 | H4: 0 | I4: دی جذب شد
C5: سوم | D5: 13007/870 | E5: 1403/02/03 | F5: 455000000000 | G5: =F5 -> 455000000000 | H5: 0 | I5: تیر جذب شد
C6: چهارم | D6: 66907/870 | E6: 1403/05/03 | F6: 975000000000 | G6: =F6 -> 975000000000 | H6: 0 | I6: مرداد جذب شد
C7: جمع | F7: =SUM(F3:F6) -> 3705000000000 | G7: =SUM(G3:G6) -> 3705000000000 | H7: =SUM(H3:H4) -> 0
B8: راهداری | C8: اول | D8: 182756/870 | E8: 1402/09/30 | F8: 975000000000 | G8: =F8 -> 975000000000 | H8: 0 | I8: آذرجذب شد
C9: دوم | D9: 185277/870 | E9: 1402/09/30 | F9: 533567125000 | G9: =F9 -> 533567125000 | H9: 0 | I9: دی جذب شد
C10: سوم | D10: 190922/870 | E10: 1402/10/20 | F10: 736060000000 | G10: =F10 -> 736060000000 | H10: 0 | I10: دی جذب شد
C11: چهارم | D11: 196858/870 | E11: 1402/10/30 | F11: 703495000000 | G11: =F11 -> 703495000000 | H11: 0 | I11: دی جذب شد
C12: پنجم | D12: 202774/870 | E12: 1402/11/08 | F12: 216093280000 | G12: =F12 -> 216093280000 | H12: 0 | I12: بهمن جذب شد
C13: ششم | D13: 222591/870 | E13: 1402/12/08 | F13: 263622125000 | G13: =F13 -> 263622125000 | H13: 0 | I13: اسفند جذب شد
C14: هفتم | D14: 212977/870 | E14: 1402/11/23 | F14: 28055625000 | G14: =F14 -> 28055625000 | H14: 0 | I14: اسفند جذب شد
C15: هشتم | D15: 213086/870 | E15: 1402/11/23 | F15: 40339780000 | G15: =F15 -> 40339780000 | H15: 0 | I15: اسفند جذب شد
C16: نهم | D16: 222578/870 | E16: 1402/12/08 | F16: 148590000000 | G16: =F16 -> 148590000000 | H16: 0 | I16: اسفند جذب شد
C17: دهم | D17: 32766/870 | E17: 1402/12/22 | F17: 128751155000 | G17: =F17 -> 128751155000 | H17: 0 | I17: اسفند جذب شد
C18: یازدهم | D18: 232902/870 | E18: 1402/12/22 | F18: 108612530000 | G18: =F18 -> 108612530000 | H18: 0 | I18: اسفند جذب شد
C19: دوازدهم | D19: 238446/870 | E19: 1402/12/28 | F19: 256927905000 | G19: =F19 -> 256927905000 | H19: 0 | I19: اسفند جذب شد
C20: سیزدهم | D20: 238737/870 | E20: 1402/12/28 | F20: 167705655000 | G20: =F20 -> 167705655000 | H20: 0 | I20: اسفند جذب شد
... C24: هفدهم | D24: 53843/870 | E24: 1403/04/10 | F24: 318390280000 | G24: =F24 -> 318390280000 | H24: 0 | I24: تیر جذب شد
C25: هجدهم | D25: 53485/870 | E25: 1403/04/10 | F25: 234823875000 | G25: 234823875000 | H25: 0 | I25: تیر جذب شد
C26: نوزدهم | D26: 60361/870 | E26: 1403/04/20 | F26: 478181405000 | G26: =F26 -> 478181405000 | H26: 0 | I26: تیر جذب شد
C27: بیستم | D27: 60418/870 | E27: 1403/04/20 | F27: 285767625000 | G27: =F27 -> 285767625000 | H27: 0 | I27: تیر جذب شد
C28: بیست و یک | D28: 68688/870 | E28: 1403/05/08 | F28: 488678905000 | G28: =F28 -> 488678905000 | H28: 0 | I28: مرداد جذب شد
C29: بیست و دو | D29: 68858/870 | E29: 1403/05/08 | F29: 314591875000 | G29: =F29 -> 314591875000 | H29: 0 | I29: مرداد جذب شد
C30: جمع | F30: =SUM(F8:F29) -> 6612562515000 | G30: =SUM(G8:G29) -> 6612562515000 | H30: 0
B31: نوسازی مدارس | C31: اول | D31: 195645/870 | E31: 1402/10/27 | F31: 49999950000 | G31: =F31 -> 49999950000 | H31: 0 | I31: بهمن جذب شد
C32: دوم | D32: 18947/870 | E32: 1403/02/10 | F32: 49999950000 | G32: =F32 -> 49999950000 | H32: 0 | I32: تیر جذب شد
C33: سوم | D33: 76218/870 | E33: 1403/05/21 | F33: 29999970000 | G33: =F33 -> 29999970000 | H33: 0 | I33: شهریور جذب شد | K33: 6500بود ولی 70000تومنی حساب شد
C34: چهارم | D34: 86218/870 | E34: 1403/06/10 | F34: 23999990000 | G34: =F34 -> 23999990000 | H34: 0 | I34: شهریور جذب شد | K34: وکیوم 7 تومنی
C35: پنجم | D35: 122307/870 | E35: 1403/08/07 | F35: 79380280000 | G35: =F35 -> 79380280000 | H35: 0 | I35: مهر جذب شد | K35: وکیوم 7 تومنی
C36: جمع | F36: =SUM(F31:F35) -> 233380140000 | G36: =SUM(G31:G35) -> 233380140000 | H36: 0
B37: بنیاد مسکن | C37: اول | D37: 208222/870 | E37: 1402/11/15 | F37: 284375000000 | G37: =F37 -> 284375000000 | H37: 0 | I37: بهمن جذب شد
C38: اول | D38: 208231/870 | E38: 1402/11/15 | F38: 142910000000 | G38: =F38 -> 142910000000 | H38: 0 | I38: بهمن جذب شد
C39: اول | D39: 208236/870 | E39: 1402/11/15 | F39: 43355000000 | G39: =F39 -> 43355000000 | H39: 0 | I39: بهمن جذب شد
C40: اول | D40: 208243/870 | E40: 1402/11/15 | F40: 80405000000 | G40: =F40 -> 80405000000 | H40: 0 | I40: بهمن جذب شد
C41: اول | D41: 208081/870 | E41: 1402/11/15 | F41: 313950000000 | G41: =F41 -> 313950000000 | H41: 0 | I41: بهمن جذب شد
C42: اول | D42: 208227/870 | E42: 1402/11/15 | F42: 389179999000 | G42: 0 | H42: =F42 -> 389179999000 | I42: اسفند جذب شد
C43: دوم | D43: 5813/870 | E43: 1403/01/21 | F43: 240500000000 | G43: =F43 -> 240500000000 | H43: 0 | I43: تیر جذب شد
...

Sheet سبا
A1: شماره بايگاني در شركت قيرساز | B1: شناسه | C1: دستگاه اجرايي طرح | D1: نام پيمانكار | E1: حواله صادره | F1: مبلغ (ريال) | G1: قيرتحويل شده | H1: مبلغ (ريال) | I1: پالايشگاه | J1: شركت قيرساز | K1: اعلام وصول كارشناس دستگاه قرارداد | L1: رئیس دستگاه | M1: مبلغ (ريال) | N1: نام پيمانكار حمل | O1: كارخانه تخليه آسفالت
A2: 14021900308 | B2: 87924 | C2: سازمان راهداري و حمل و نقل جاده اي | D2: فرحان سازان كرمان | E2: 300 | F2: 24375000000 | G2: 297.67 | H2: 24185687500 | I2: شرکت پالايش نفت اصفهان | J2: شركت نفت جي(اصفهان) | K2: 297670 | L2: 297670 | M2: 24185687500 | N2: شركت حمل قير مذاب و فرآورده هاي نفتي جم گستر ترابر يزد | O2: كارخانه عامريه( محور گستر)
A3: 14021900307 | B3: 87842 | C3: سازمان راهداري و حمل و نقل جاده اي | D3: فرحان سازان كرمان | E3: 125 | F3: 10156250000 | G3: 123.03 | H3: 9996187500 | I3: شرکت پالايش نفت اصفهان | J3: شركت نفت جي(اصفهان) | K3: 123030 | L3: 123030 | M3: 9996187500 | N3: شركت حمل قير مذاب و فرآورده هاي نفتي جم گستر ترابر يزد | O3: كارخانه عامريه( محور گستر)
A4: 14021900342 | B4: 87854 | C4: سازمان راهداري و حمل و نقل جاده اي | D4: راه باند كوير كرمان | E4: 150 | F4: 12187500000 | G4: 148.34 | H4: 12052625000 | I4: شرکت پالايش نفت اصفهان | J4: شركت نفت جي(اصفهان) | K4: 148340 | L4: 148340 | M4: 12052625000 | N4: پورباقري ترابر | O4: كارخانه آسفالت شركت راه باند كوير كرمان
A5: 14021800023 | B5: 87824 | C5: شركت ساخت و توسعه زيربناهاي حمل و نقل كشور | D5: راه و ساختمان اسكان ده | E5: 500 | F5: 40625000000 | G5: 497.65 | H5: 40434062500 | I5: شرکت پالايش نفت اصفهان | J5: شركت نفت جي(اصفهان) | K5: 497650 | L5: 497650 | M5: 40434062500 | N5: محمد رضا شهبازي | O5: راهسازي اسكان ده
A6: 14031900137 | B6: 93371 | C6: سازمان راهداري و حمل و نقل جاده اي | D6: تعاوني برآيند سازه اسپادانا | E6: 200 | F6: 16250000000 | G6: 199.11 | H6: 16177687500 | I6: شرکت پالايش نفت اصفهان | J6: شركت نفت جي(اصفهان) | K6: 199110 | L6: 199110 | M6: 16177687500 | N6: محمد رضا شهبازي | O6: كارخانه آسفالت نويد نور سپاهان
A7: 14031900138 | B7: 93382 | C7: سازمان راهداري و حمل و نقل جاده اي | D7: شركت نويد عمران نصف جهان | E7: 200 | F7: 16250000000 | G7: 198.78 | H7: 16150875000 | I7: شرکت پالايش نفت اصفهان | J7: شركت نفت جي(اصفهان) | K7: 198780 | L7: 198780 | M7: 16150875000 | N7: محمد رضا شهبازي | O7: كارخانه آسفالت نويد نور سپاهان
A8: 14021900350 | B8: 85669 | C8: سازمان راهداري و حمل و نقل جاده اي | D8: پارس ايوان پوريا | E8: 250 | F8: 20312500000 | G8: 247.39 | H8: 20100437500 | I8: شرکت پالايش نفت اصفهان | J8: شركت نفت جي(اصفهان) | K8: 247390 | L8: 247390 | M8: 20100437500 | N8: پورباقري ترابر | O8: كارخانه تخليه آسفالت شاداب
A9: 14031900334 | B9: 100319 | C9: سازمان راهداري _ راه روستايي | D9: ميناب سامان جنوب | E9: 300 | F9: 26250000000 | G9: 298.81 | H9: 26145875000 | I9: شرکت پالايش نفت بندرعباس | J9: شركت نفت جي(بندرعباس) | K9: 298810 | L9: 298810 | M9: 26145875000 | N9: حاصليان ترابر جنوب | O9: كارخانه آسفالت شركت پي و پل جنوب 2
A10: 14021900183 | B10: 85672 | C10: سازمان راهداري و حمل و نقل جاده اي | D10: نويد نور سپاهان | E10: 500 | F10: 40625000000 | G10: 499.26 | H10: 40564875000 | I10: شرکت پالايش نفت اصفهان | J10: شركت نفت جي(اصفهان) | K10: 499260 | L10: 499260 | M10: 40564875000 | N10: محمد رضا شهبازي | O10: كارخانه آسفالت نويد نور سپاهان
A11: 14021900176 | B11: 85655 | C11: سازمان راهداري و حمل و نقل جاده اي | D11: گل راه نقش جهان | E11: 400 | F11: 32500000000 | G11: 399.14 | H11: 32430125000 | I11: شرکت پالايش نفت اصفهان | J11: شركت نفت جي(اصفهان) | K11: 399140 | L11: 399140 | M11: 32430125000 | N11: پيمانكاري ابوالقاسم علي عابدي | O11: كارخانه گل راه نقش جهان
A12: 14021900216 | B12: 85662 | C12: سازمان راهداري و حمل و نقل جاده اي | D12: راهسازي راه كوب كرمان | E12: 200 | F12: 16250000000 | G12: 199.63 | H12: 16219937500 | I12: شرکت پالايش نفت اصفهان | J12: شركت نفت جي(اصفهان) | K12: 199630 | L12: 199630 | M12: 16219937500 | N12: محمد شهبا | O12: كرمان،كارخانه آسفالت راهداران راور
A13: 14031900041 | B13: 90876 | C13: سازمان راهداري _ راه روستايي | D13: شركت آرمه پي سپاهان | E13: 200 | F13: 16250000000 | G13: 198.04 | H13: 16090750000 | I13: شرکت پالايش نفت اصفهان | J13: شركت نفت جي(اصفهان) | K13: 198040 | L13: 198040 | M13: 16090750000 | N13: فريبرز مظلوم | O13: ياسين گنج فلارد
... A437: 14031000014 | B437: 94220 | C437: شركت بازآفريني شهري ايران | D437: اداره كل راه و شهرسازي چهارمحال‌وبختياري | E437: 50 | F437: 4062500000 | G437: 49.46 | H437: 4018625000 | I437: شرکت پالايش نفت اصفهان | J437: شركت نفت جي(اصفهان) | K437: 49460 | L437: 49460 | M437: 4018625000 | N437: حمل و نقل وطن ترابر پارسيان | O437: احمديه چليچه
B438: 94230 | C438: شركت مادرتخصصي عمران شهرهاي جديد | D438: توسعه خدمات مهندسي آب و خاك پارس | E438: 335 | F438: 27218750000 | G438: 0 | H438: 0 | I438: شرکت پالايش نفت اصفهان | J438: شركت نفت جي(اصفهان) | K438: 0 | L438: 0 | M438: 0 | N438: آزاد مهر | O438: اداره راهداري چابهار
A439: 14031000019 | B439: 94199 | C439: شركت بازآفريني شهري ايران | D439: اداره كل راه و شهرسازي چهارمحال‌وبختياري | E439: 55 | F439: 4468750000 | G439: 54.54 | H439: 4431375000 | I439: شرکت پالايش نفت اصفهان | J439: شركت نفت جي(اصفهان) | K439: 54540 | L439: 54540 | M439: 4431375000 | N439: فريبرز مظلوم | O439: احمديه چليچه
A440: 14031900153 | B440: 94219 | C440: سازمان راهداري _ راه روستايي | D440: احداث راه رامش | E440: 83 | F440: 6743750000 | G440: 82.4 | H440: 6695000000 | I440: شرکت پالايش نفت اصفهان | J440: شركت نفت جي(اصفهان) | K440: 82400 | L440: 82400 | M440: 6695000000 | N440: فريبرز مظلوم | O440: اتحاد زرين مهر
A441: 14031000013 | B441: 94165 | C441: شركت بازآفريني شهري ايران | D441: اداره كل راه و شهرسازي چهارمحال‌وبختياري | E441: 99 | F441: 8043750000 | G441: 98.21 | H441: 7979562500 | I441: شرکت پالايش نفت اصفهان | J441: شركت نفت جي(اصفهان) | K441: 98210 | L441: 98210 | M441: 7979562500 | N441: حمل و نقل وطن ترابر پارسيان | O441: احمديه چليچه
A442: 14031000007 | B442: 94170 | C442: شركت بازآفريني شهري ايران | D442: اداره كل راه و شهرسازي چهارمحال‌وبختياري | E442: 208 | F442: 16900000000 | G442: 207.1 | H442: 16826875000 | I442: شرکت پالايش نفت اصفهان | J442: شركت نفت جي(اصفهان) | K442: 207090 | L442: 207090 | M442: 16826062500 | N442: فريبرز مظلوم | O442: شهرداري شهركرد
A443: 14031000003 | B443: 94159 | C443: شركت بازآفريني شهري ايران | D443: اداره كل راه و شهرسازي چهارمحال‌وبختياري | E443: 260 | F443: 21125000000 | G443: 257.61 | H443: 20930812500 | I443: شرکت پالايش نفت اصفهان | J443: شركت نفت جي(اصفهان) | K443: 257610 | L443: 257610 | M443: 20930812500 | N443: فريبرز مظلوم | O443: ياسين گنج فلارد
A444: 14031000012 | B444: 94162 | C444: شركت بازآفريني شهري ايران | D444: اداره كل راه و شهرسازي چهارمحال‌وبختياري | E444: 90 | F444: 7312500000 | G444: 89.29 | H444: 7254812500 | I444: شرکت پالايش نفت اصفهان | J444: شركت نفت جي(اصفهان) | K444: 89290 | L444: 89290 | M444: 7254812500 | N444: فريبرز مظلوم | O444: كارخانه آسفالت شركت زرين استحكام
A445: 14031900195 | B445: 94122 | C445: سازمان راهداري و حمل و نقل جاده اي | D445: برج سازان شاهوار | E445: 400 | F445: 32500000000 | G445: 398.58 | H445: 32384625000 | I445: شرکت پالايش نفت اصفهان | J445: شركت نفت جي(اصفهان) | K445: 398580 | L445: 398580 | M445: 32384625000 | N445: شركت حمل قير مذاب و فرآورده هاي نفتي جم گستر ترابر يزد | O445: كارخانه آسفالت وليعصرتربت حيدريه
A446: 14031900170 | B446: 94098 | C446: سازمان راهداري و حمل و نقل جاده اي | D446: راهسازان فراز پي پايتخت | E446: 250 | F446: 20312500000 | G446: 249.91 | H446: 20305187500 | I446: شرکت پالايش نفت بندرعباس | J446: شركت نفت جي(بندرعباس) | K446: 249910 | L446: 249910 | M446: 20305187500 | N446: حاصليان ترابر جنوب | O446: كارخنه آسفالت شركت پي و پل جنوب
A447: 14031900163 | B447: 94113 | C447: سازمان راهداري و حمل و نقل جاده اي | D447: بهين راه گهر | E447: 178 | F447: 14462500000 | G447: 175.91 | H447: 14292687500 | I447: شرکت پالايش نفت اصفهان | J447: شركت نفت جي(اصفهان) | K447: 175910 | L447: 175910 | M447: 14292687500 | N447: محمدي راه ايرانيان | O447: سپند راه آداك
A448: 14021900336 | B448: 88797 | C448: سازمان راهداري _ راه روستايي | D448: آرشين سازه افلاك بوتيا | E448: 50 | F448: 4062500000 | G448: 49.2 | H448: 3997500000 | I448: شرکت پالايش نفت اصفهان | J448: شركت نفت جي(اصفهان) | K448: 49200 | L448: 49200 | M448: 3997500000 | N448: ايمان بريانيان | O448: كارخانه كرمان پتك
A449: 14021900118 | B449: 84308 | C449: سازمان راهداري و حمل و نقل جاده اي | D449: شركت پي تاك بنا | E449: 249 | F449: 20231250000 | G449: 244.86 | H449: 19894875000 | I449: شرکت پالايش نفت اصفهان | J449: شركت نفت جي(اصفهان) | K449: 244860 | L449: 244860 | M449: 19894875000 | N449: حسن محمدي | O449: كارخانه آسفالت پيرمحمدي
A450: 14021900161 | B450: 84250 | C450: سازمان راهداري و حمل و نقل جاده اي | D450: تعاوني برآيند سازه اسپادانا | E450: 80 | F450: 6500000000 | G450: 78.96 | H450: 6415500000 | I450: شرکت پالايش نفت اصفهان | J450: شركت نفت جي(اصفهان) | K450: 78960 | L450: 78960 | M450: 6415500000 | N450: محمد رضا شهبازي | O450: كارخانه آسفالت نويد نور سپاهان
... A599: 14031800026 | B599: 96515 | C599: شركت ساخت و توسعه زيربناهاي حمل و نقل كشور | D599: نازمكان جنوب | E599: 500 | F599: 40625000000 | G599: 499.88 | H599: 40615250000 | I599: شرکت پالايش نفت اصفهان | J599: شركت نفت جي(اصفهان) | K599: 499880 | L599: 499880 | M599: 40615250000 | N599: صفر عزيزي | O599: كارخانه آسفالت ناز مكان جنوب
B600: 96487 | C600: شركت مادرتخصصي عمران شهرهاي جديد | D600: ساختماني تيراژ | E600: 99.38 | F600: 8074625000 | G600: 0 | H600: 0 | I600: شرکت پالايش نفت بندرعباس | J600: شركت نفت جي(بندرعباس) | K600: 0 | L600: 0 | M600: 0 | N600: تدبير ترابر خليج فارس | O600: اداره راهداري چابهار
A601: 14031800018 | B601: 96489 | C601: شركت ساخت و توسعه زيربناهاي حمل و نقل كشور | D601: راه و ساختمان اسكان ده | E601: 1000 | F601: 81250000000 | G601: 995.82 | H601: 80910375000 | I601: شرکت پالايش نفت اصفهان | J601: شركت نفت جي(اصفهان) | K601: 995820 | L601: 995820 | M601: 80910375000 | N601: محمد رضا شهبازي | O601: كارخانه آسفلت شركت اسكان ده (كمشچه)
A602: 14031800029 | B602: 96498 | C602: شركت ساخت و توسعه زيربناهاي حمل و نقل كشور | D602: ساختماني تيراژ | E602: 435 | F602: 35343750000 | G602: 428.56 | H602: 34820500000 | I602: شرکت پالايش نفت اصفهان | J602: شركت نفت جي(اصفهان) | K602: 428560 | L602: 428560 | M602: 34820500000 | N602: حفاظ بار آذربايجان(فتاح زاده) | O602: اداره راهداري چابهار
A603: 14021900257 | B603: 86099 | C603: سازمان راهداري و حمل و نقل جاده اي | D603: پي و پل جنوب | E603: 100 | F603: 8125000000 | G603: 97.48 | H603: 7920250000 | I603: شرکت پالايش نفت اصفهان | J603: شركت نفت جي(اصفهان) | K603: 97480 | L603: 97480 | M603: 7920250000 | N603: حاصليان ترابر جنوب | O603: كارخنه آسفالت شركت پي و پل جنوب
A604: 14021900269 | B604: 86079 | C604: سازمان راهداري و حمل و نقل جاده اي | D604: سامان سازان راه دانش شرق | E604: 150 | F604: 12187500000 | G604: 149.51 | H604: 12147687500 | I604: شرکت پالايش نفت اصفهان | J604: شركت نفت جي(اصفهان) | K604: 149510 | L604: 149510 | M604: 12147687500 | N604: محمد رضا شهبازي | O604: كارخانه آسفالت هميار جي يزد
A605: 14021900255 | B605: 85965 | C605: سازمان راهداري و حمل و نقل جاده اي | D605: شركت آتيس عمران زاگرس | E605: 200 | F605: 16250000000 | G605: 199.25 | H605: 16189062500 | I605: شرکت پالايش نفت اصفهان | J605: شركت نفت جي(اصفهان) | K605: 199250 | L605: 199250 | M605: 16189062500 | N605: پيمانكاري مجيد پيرالي | O605: شركت دانه بندي همياران شهرداري هاي شازند
A606: 14031800014 | B606: 93745 | C606: شركت ساخت و توسعه زيربناهاي حمل و نقل كشور | D606: جهاد نصر سيستان و بلوچستان | E606: 500 | F606: 40625000000 | G606: 498.97 | H606: 40541312500 | I606: شرکت پالايش نفت اصفهان | J606: شركت نفت جي(اصفهان) | K606: 498970 | L606: 498970 | M606: 40541312500 | N606: فريدون خضرايي | O606: كارخانه آسفالت ناز مكان جنوب
A607: 14021900226 | B607: 85958 | C607: سازمان راهداري و حمل و نقل جاده اي | D607: ساخت راه سپاهان | E607: 150 | F607: 12187500000 | G607: 149.5 | H607: 12146875000 | I607: شرکت پالايش نفت اصفهان | J607: شركت نفت جي(اصفهان) | K607: 149500 | L607: 149500 | M607: 12146875000 | N607: پيمانكاري مجيد پيرالي | O607: كارخانه آسفالت پي سازه مهاجران
A608: 14021900228 | B608: 85950 | C608: سازمان راهداري و حمل و نقل جاده اي | D608: ساختماني اسكله دنا | E608: 300 | F608: 24375000000 | G608: 299.68 | H608: 24349000000 | I608: شرکت پالايش نفت اصفهان | J608: شركت نفت جي(اصفهان) | K608: 299680 | L608: 299680 | M608: 24349000000 | N608: سيامك نجفي | O608: كارخانه آسفالت نجيم محمدي _لار
A609: 14021900343 | B609: 85952 | C609: سازمان راهداري _ راه روستايي | D609: گسل سازان زاگرس | E609: 330 | F609: 26812500000 | G609: 328.07 | H609: 26655687500 | I609: شرکت پالايش نفت اصفهان | J609: شركت نفت جي(اصفهان) | K609: 328070 | L609: 328070 | M609: 26655687500 | N609: شركت تعاوني حمل و نقل ارم كوشا مهريزدان | O609: كارخانه شهرداري سعادت شهر
A610: 14021900245 | B610: 85955 | C610: سازمان راهداري و حمل و نقل جاده اي | D610: سيروان بتون غرب | E610: 250 | F610: 20312500000 | G610: 249.64 | H610: 20283250000 | I610: شرکت پالايش نفت اصفهان | J610: شركت نفت جي(اصفهان) | K610: 249640 | L610: 249640 | M610: 20283250000 | N610: پيمانكاري مجيد پيرالي | O610: شالوده راهان نويد
A611: 14021900212 | B611: 85938 | C611: سازمان راهداري و حمل و نقل جاده اي | D611: برش كوه آرياپارت | E611: 200 | F611: 16250000000 | G611: 199.88 | H611: 16240250000 | I611: شرکت پالايش نفت اصفهان | J611: شركت نفت جي(اصفهان) | K611: 199880 | L611: 199880 | M611: 16240250000 | N611: بلوچ پاسارگاد | O611: كارخانه آسفالت شركت دنا بنيان بيرجند(زابل_ زاهدان )
...

Sheet گزارش شریف
A1: استان | B1: شماره درخواست | C1: تاریخ درخواست | D1: کد مرکز فروش | E1: شماره حواله | G1: تاریخ حواله | H1: نام مشتری | I1: کد مشتری | J1: نام کالا | K1: نرخ قرارداد | L1: مقدار حواله | M1: مقدار کل تحویل | N1: مبلغ تحویل | O1: ارزش افزوده | P1: مبلغ تحویل وارزش افزوده | Q1: وضعیت حواله | R1: تاریخ اعتبار حواله | S1: شماره رسید وجه | T1: تاریخ رسید وجه | U1: نام انبار | V1: کد انبار | W1: تحویل گیرنده | X1: آدرس تخلیه | Y1: شناسه حواله وزارت راه | Z1: از محل | AA1: شناسه درخواست سبا
A2: استان کرمان | B2: 1403/ص/500/1839 | C2: 1403/04/19 | D2: 10 | E2: 14031000001 | F2: =COUNTIF(E:E,E2) -> 1 | G2: 1403/04/24 | H2: اداره کل راه وشهرسازی کرمان | I2: 7034 | J2: قیر PG 64-22 | K2: 73863 | L2: 408000 | M2: 407340 | N2: =M2*K2 -> 30087354420 | O2: =N2*10% -> 3008735442 | P2: =O2+N2 -> 33096089862 | Q2: بسته شده | R2: 1403/05/22 | S2: کمیسیون فروش 776 - از محل بند ک بودجه 1402 | T2: 1403/04/24 | U2: مخازن قیر اصفهان | V2: 100 | W2: محمدرضا(1011ج89) قانعی | X2: تخلیه : استان کرمان کیلومتر20 جاده رفسنجان - یزد کارخانه آسفالت سازمان عمران شهرداری رفسنجان - کدپستی 7714713451 | Y2: 947570604 | Z2: وزارت راه و شهرسازی | AA2: 94757
A3: استان کرمان | B3: 1403/ص500/1837 | C3: 1403/04/19 | D3: 10 | E3: 14031000002 | F3: =COUNTIF(E:E,E3) -> 1 | G3: 1403/04/31 | H3: اداره کل راه وشهرسازی کرمان | I3: 7034 | J3: قیر PG 64-16 | K3: 73863 | L3: 451000 | M3: 450580 | N3: =M3*K3 -> 33281190540 | O3: =N3*10% -> 3328119054 | P3: =O3+N3 -> 36609309594 | Q3: بسته شده | R3: 1403/05/31 | S3: کمیسیون فروش 776 - از محل بند ک بودجه 1402 | T3: 1403/04/31 | U3: انبار قیر بندرعباس(پلنت خلیج فارس) | V3: 214 | W3: ترابر (4914036) پورباقری | X3: تخلیه : استان کرمان کیلومتر 17 محور بافت - سیرجان دو راهی گوغر- ارکان کارخانه آسفالت سیرجان عمران تداوم -کدپستی 7853165967 | Y3: 930790204 | Z3: وزارت راه و شهرسازی | AA3: 93079
