Workbook

Sheet گزارش مالی
A1: شركت پالايش نفت جي(سهامي عام)
A2: گزارش قيرهاي تحویلی تهاتري از محل وکیوم باتوم موضوع قانون بند «ک» تبصره یک بودجه سال 1402
A3: شرح | B3: از محل حواله های صادر شده با وکیوم باتوم 65/000 ریالی | D3: از محل حواله های صادر شده با وکیوم باتوم 70/000 ریالی | F3: جمع کل | I3: وکیوم های جذب شده | N3: مانده مطالبات / (بدهی)
B4: مقدار برداشت شده (کیلوگرم) | C4: مبلغ فروش به همراه ارزش افزوده (ریال) | D4: مقدار برداشت شده (کیلوگرم) | E4: مبلغ فروش به همراه ارزش افزوده (ریال) | F4: مقدار برداشت شده (کیلوگرم) | G4: مبلغ فروش به همراه ارزش افزوده (ریال) | I4: وکیوم باتوم با نرخ 65/000 | K4: وکیوم باتوم با نرخ 70/000
I5: مقدار (کیلوگرم) | J5: مبلغ (ریال) | K5: مقدار (کیلوگرم) | L5: مبلغ (ریال)
A6: بازآفرینی شهری | B6: 4789240 | C6: 389122397532 | D6: 8777260 | E6: 768005861370 | F6: 13566500 | G6: 1157128258902 | I6: 0 | J6: 0 | K6: 0 | L6: 0 | N6: 1157128258902
A7: ساخت و توسعه زیربناهای حمل و نقل | B7: 45504110 | C7: 3697188457064 | D7: 2120330 | E7: 185527814835 | F7: 47624440 | G7: 3882716271899 | I7: 57000000 | J7: 3705000000000 | K7: 0 | L7: 0 | N7: 177716271899
A8: سازمان راهداری و حمل و نقل جاده ای | B8: 113731910 | C8: 9240659284754 | D8: 6659790 | E8: 582728295105 | F8: 120391700 | G8: 9823387579859 | I8: 101731731 | J8: 6612562515000 | K8: 0 | L8: 0 | N8: 3210825064859
A9: سازمان ملی زمین و مسکن | B9: 2188300 | C9: 177797843190 | D9: 159280 | E9: 13936920360 | F9: 2347580 | G9: 191734763550 | I9: 982025 | J9: 63831625000 | K9: 0 | L9: 0 | N9: 127903138550
A10: معاونت بودجه وزارت راه و شهرسازی | B10: 4980700 | C10: 404678638998 | D10: 1398770 | E10: 122391675615 | F10: 6379470 | G10: 527070314613 | I10: 55802823 | J10: 3627183495000 | K10: 10956194 | L10: 766933580000 | N10: -3867046760387
A11: مادر تخصصی عمران شهرهای جدید | B11: 1185640 | C11: 96332420052 | D11: 349980 | E11: 30623075010 | F11: 1535620 | G11: 126955495062 | I11: 248387 | J11: 16145155000 | K11: 0 | L11: 0 | N11: 110810340062
A12: جمع | B12: 172379900 | C12: 14005779041590 | D12: 19465410 | E12: 1703213642295 | F12: 191845310 | G12: 15708992683885 | I12: 215764966 | J12: 14024722790000 | K12: 10956194 | L12: 766933580000 | N12: 917336313885
A14: مطالبات وزارت راه و شهرسازی از سنوات 1400 و 1401 و 1402:
A15: سال بودجه | B15: مانده بودجه اعلامی واحد بازرگانی | D15: مانده بودجه مالی (طبق دفاتر در تاریخ 1403/11/13) | F15: نرخ وکیوم | G15: اختلاف
A16: 1400 | B16: 672506397500 | D16: 672507222500 | F16: 75000 | G16: -825000
A17: 1401 | B17: 343318793369 | D17: 410100143920 | F17: 75000 | G17: -66781350551
A18: 1402 | B18: 3222504856009 | D18: 3222504856002 | F18: 65000 | G18: 7
B19: 644541904385 | D19: 644541904385 | F19: 70000 | G19: 0
A20: جمع | B20: 4882871951263 | D20: 4949654126807 | F20: - | G20: -66782175544
A22: اختلاف سال 1401 ناشی از مانده بودجه وکیوم باتوم جذب شده 300 میلیارد ریالی وزارت راه جهت تسویه بدهی سنواتی می باشد.

Sheet گزارش نهایی بودجه 1402-1
B1: شركت پالايش نفت جي(سهامي عام)
B2: گزارش بودجه قيرهاي تهاتري از محل VB موضوع قانون بودجه سال 1402 تخصیص یافته به پالایش نفت جی
AF3: مبالغ به ریال و مقادیر به کیلوگرم
B4: شرح | C4: مقدار قیرهای تحویلی نفت جی | K4: اعلام وصول در سامانه سبا | Q4: معادل سازی وکیوم با قیر تحویل شده | V4: وضعیت وکیوم های جذب شده و تخصیص | AA4: مانده مطالبات وکیوم
C5: مقدار حواله | D5: مقدار تحویل | E5: مبلغ فاکتور | F5: تحویل 650000 | G5: مبلغ | H5: تحویل 700000 | I5: مبلغ | K5: مقدار تحویل | L5: اختلاف تحویل در سامانه | M5: مقدار اعلام وصول -رئیس | N5: مبلغ اعلام وصول | O5: اختلاف تحویل و رئیس دستگاه | Q5: مقدار وکیوم-65000 | R5: مبلغ وکیوم تخصیصی-65000 | S5: مقدار وکیوم 70000 | T5: مبلغ وکیوم تخصیصی-70000 | V5: مقدار وکیوم-65000 | W5: مبلغ وکیوم تخصیصی-65000 | X5: مقدار وکیوم 70000 | Y5: مبلغ وکیوم تخصیصی-70000 | AA5: مانده مطالبات وکیوم65000 | AB5: مبلغ مانده مطالبات 65000 | AC5: مانده مطالبات 70000 | AD5: مبلغ مانده مطالبات 70000 | AE5: تخصیصی از وزارت راه 65000 | AF5: مانده مطالبات پس از تخصیص 65000 | AG5: تخصیصی از وزارت راه 70000 | AH5: مانده مطالبات پس از تخصیص 7000
B6: بازآفرینی شهری | C6: 13907000 | D6: 13566500 | E6: 1157128259397 | F6: 4789240 | G6: 389122397532 | H6: 8777260 | I6: 768005861865 | K6: 13566500 | L6: =D6-K6 -> 0 | M6: 13566490 | N6: 1149166687500 | O6: =K6-M6 -> 10 | Q6: 5986498 | R6: 389122397532 | S6: 10971512 | T6: 768005861865 | V6: 0 | W6: 0 | X6: 0 | Y6: =X6*70000 -> 0 | AA6: =Q6-V6 -> 5986498 | AB6: =R6-W6 -> 389122397532 | AC6: =S6-X6 -> 10971512 | AD6: =T6-Y6 -> 768005861865 | AE6: =AA6 -> 5986498 | AF6: =AA6-AE6 -> 0 | AG6: 0 | AH6: =AC6 -> 10971512
B7: ساخت و توسعه | C7: 47801000 | D7: 47624440 | E7: 3882716271679 | F7: 45504110 | G7: 3697188456844 | H7: 2120330 | I7: 185527814835 | K7: 47545400 | L7: =D7-K7 -> 79040 | M7: 47544670 | N7: 3863004437500 | O7: =K7-M7 -> 730 | Q7: 56879822 | R7: 3697188456844 | S7: 2650397 | T7: 185527814835 | V7: =W7/65000 -> 57000000 | W7: =SUM(وکیوم!F7) -> 3705000000000 | X7: 0 | Y7: 0 | AA7: =Q7-V7 -> -120178 | AB7: =R7-W7 -> -7811543156 | AC7: =S7-X7 -> 2650397 | AD7: =T7-Y7 -> 185527814835 | AE7: 0 | AF7: =AA7 -> -120178 | AG7: 1994933 | AH7: =AC7-AG7 -> 655464
B8: سازمان راهداری | C8: 121267000 | D8: 120391700 | E8: 9823387579424 | F8: 113731910 | G8: 9240659284319 | H8: 6659790 | I8: 582728295105 | K8: 120391700 | L8: =D8-K8 -> 0 | M8: 120390700 | N8: 9801420187500 | O8: =K8-M8 -> 1000 | Q8: 142163989 | R8: 9240659284319 | S8: 8324690 | T8: 582728295105 | V8: =W8/65000 -> 101731731 | W8: =SUM(وکیوم!G30) -> 6612562515000 | X8: 0 | Y8: 0 | AA8: =Q8-V8 -> 40432258 | AB8: =R8-W8 -> 2628096769319 | AC8: =S8-X8 -> 8324690 | AD8: =T8-Y8 -> 582728295105 | AE8: =AA8 -> 40432258 | AF8: =AA8-AE8 -> 0 | AG8: =AC8 -> 8324690 | AH8: 0
B9: مسکن ملی | C9: 2367769 | D9: 2347580 | E9: 191734763550 | F9: 2188300 | G9: 177797843190 | H9: 159280 | I9: 13936920360 | K9: 2347580 | L9: =D9-K9 -> 0 | M9: 2347580 | N9: 191736375000 | O9: =K9-M9 -> 0 | Q9: 2735351 | R9: 177797843190 | S9: 199099 | T9: 13936920360 | V9: =W9/65000 -> 982025 | W9: =SUM(وکیوم!F109) -> 63831625000 | X9: =Y9/70000 -> 0 | Y9: 0 | AA9: =Q9-V9 -> 1753326 | AB9: =R9-W9 -> 113966218190 | AC9: =S9-X9 -> 199099 | AD9: =T9-Y9 -> 13936920360 | AE9: =AA9 -> 1753326 | AF9: =AA9-AE9 -> 0 | AG9: =AC9 -> 199099 | AH9: 0
B10: معاونت بودجه | C10: 6406690 | D10: 6379470 | E10: 527070314606 | F10: 4980700 | G10: 404678638991 | H10: 1398770 | I10: 122391675615 | K10: 6379470 | L10: =D10-K10 -> 0 | M10: 6379470 | N10: 527074250000 | O10: =K10-M10 -> 0 | Q10: 6225825 | R10: 404678638991 | S10: 1748453 | T10: 122391675615 | V10: =W10/65000 -> 55802823 | W10: =SUM(وکیوم!G62:G66) -> 3627183495000 | X10: =Y10/70000 -> 10956194 | Y10: =SUM(وکیوم!H67,وکیوم!G68) -> 766933580000 | AA10: =Q10-V10 -> -49576998 | AB10: =R10-W10 -> -3222504856009 | AC10: =S10-X10 -> -9207741 | AD10: =T10-Y10 -> -644541904385 | AE10: 0 | AF10: -151273 | AG10: 0 | AH10: 0
B11: شهرهای جدید | C11: 1542000 | D11: 1535620 | E11: 126955495062 | F11: 1185640 | G11: 96332420052 | H11: 349980 | I11: 30623075010 | K11: 1535620 | L11: =D11-K11 -> 0 | M11: 1535530 | N11: 124761812500 | O11: =K11-M11 -> 90 | Q11: 1482037 | R11: 96332420052 | S11: 437473 | T11: 30623075010 | V11: =W11/65000 -> 248387 | W11: =SUM(وکیوم!G111) -> 16145155000 | X11: =Y11/70000 -> 0 | Y11: 0 | AA11: =Q11-V11 -> 1233650 | AB11: =R11-W11 -> 80187265052 | AC11: =S11-X11 -> 437473 | AD11: =T11-Y11 -> 30623075010 | AE11: =AA11 -> 1233650 | AF11: =AA11-AE11 -> 0 | AG11: =AC11 -> 437473 | AH11: 0
B12: جمع | C12: =SUM(C6:C11) -> 193291459 | D12: =SUM(D6:D11) -> 191845310 | E12: =SUM(E6:E11) -> 15708992683718 | F12: =SUM(F6:F11) -> 172379900 | G12: =SUM(G6:G11) -> 14005779040928 | H12: =SUM(H6:H11) -> 19465410 | I12: =SUM(I6:I11) -> 1703213642790 | K12: =SUM(K6:K11) -> 191766270 | L12: =SUM(L6:L11) -> 79040 | M12: =SUM(M6:M11) -> 191764440 | N12: =SUM(N6:N11) -> 15657163750000 | O12: =SUM(O6:O11) -> 1830 | Q12: =SUM(Q6:Q11) -> 215473522 | R12: =SUM(R6:R11) -> 14005779040928 | S12: =SUM(S6:S11) -> 24331624 | T12: =SUM(T6:T11) -> 1703213642790 | V12: =SUM(V6:V11) -> 215764966 | W12: =SUM(W6:W11) -> 14024722790000 | X12: =SUM(X6:X11) -> 10956194 | Y12: =SUM(Y6:Y11) -> 766933580000 | AA12: =SUM(AA6:AA11) -> -291444 | AB12: =SUM(AB6:AB11) -> -18943749072 | AC12: =SUM(AC6:AC11) -> 13375430 | AD12: =SUM(AD6:AD11) -> 936280062790 | AE12: =SUM(AE6:AE11) -> 49405732 | AF12: =SUM(AF6:AF11) -> -271451 | AG12: =SUM(AG6:AG11) -> 10956195 | AH12: =SUM(AH6:AH11) -> 11626976
AE15: تهیه گزارش: کتاب اللهی
AE16: 1403/11/11
B17: دلایل اختلاف تحویل در ردیف شماره 2:
B18: 1. حواله شماره 14021800020 - شرکت بهپویان صنعت ساختمان (چهارمحال و بختیاری) به میزان 50،150 کیلوگرم در سامانه سبا نیامده است
B19: 2. حواله شماره 14021800051 - شرکت کلهر غرب (کهگیلوی و بویراحمد) ه میزان 399،890 کیلوگرم که در سامانه 371 تن وارد شده است (28،890)
B20: (ارزش فاکتورهای دو حواله فوق 36،565،610،488 ریال می باشد)
B24: مطالبات وزارت راه و شهرسازی از سنوات 1400 و 1401 :
B26: 1400 | D26: 672506397500
B27: 1401 | D27: 343318793369
B28: جمع | D28: =D26+D27 -> 1015825190869

Sheet نامه های وکیوم
B1: وکیوم باتوم جذب شده- بودجه 1402
B2: سازمان | C2: مراحل | D2: نرخ وکیوم | E2: شماره نامه | F2: تاریخ نامه | G2: مبلغ وکیوم جذب شده
B3: ساخت | C3: 1 | D3: 65000 | E3: 182762/870 | F3: 1402/09/30 | G3: 1625000000000
C4: 2 | D4: 65000 | E4: 188557/870 | F4: 1402/10/18 | G4: 650000000000
C5: 3 | D5: 65000 | E5: 13007/870 | F5: 1403/02/03 | G5: 455000000000
C6: 4 | D6: 65000 | E6: 66907/870 | F6: 1403/05/03 | G6: 975000000000
C7: جمع | G7: =SUM(G3:G6) -> 3705000000000
B8: راهداری | C8: 1 | D8: 65000 | E8: 182756/870 | F8: 1402/09/30 | G8: 975000000000
C9: 2 | D9: 65000 | E9: 185277/870 | F9: 1402/09/30 | G9: 533567125000
C10: 3 | D10: 65000 | E10: 190922/870 | F10: 1402/10/20 | G10: 736060000000
C11: 4 | D11: 65000 | E11: 196858/870 | F11: 1402/10/30 | G11: 703495000000
C12: 5 | D12: 65000 | E12: 202774/870 | F12: 1402/11/08 | G12: 216093280000
C13: 6 | D13: 65000 | E13: 222591/870 | F13: 1402/12/08 | G13: 263622125000
C14: 7 | D14: 65000 | E14: 212977/870 | F14: 1402/11/23 | G14: 28055625000
C15: 8 | D15: 65000 | E15: 213086/870 | F15: 1402/11/23 | G15: 40339780000
C16: 9 | D16: 65000 | E16: 222578/870 | F16: 1402/12/08 | G16: 148590000000
C17: 10 | D17: 65000 | E17: 32766/870 | F17: 1402/12/22 | G17: 128751155000
C18: 11 | D18: 65000 | E18: 232902/870 | F18: 1402/12/22 | G18: 108612530000
C19: 12 | D19: 65000 | E19: 238446/870 | F19: 1402/12/28 | G19: 256927905000
C20: 13 | D20: 65000 | E20: 238737/870 | F20: 1402/12/28 | G20: 167705655000
... C29: 22 | D29: 65000 | E29: 68858/870 | F29: 1403/05/08 | G29: 314591875000
C30: جمع | G30: =SUM(G8:G29) -> 6612562515000
B31: معاونت برنامه ریزی | C31: 1 | D31: 65000 | E31: 237778/870 | F31: 1402/12/28 | G31: 24734905000 | H31: تسویه حساب معاونت بودجه
C32: 2 | D32: 65000 | E32: 26014/870 | F32: 1403/02/24 | G32: 27448655000 | H32: تسویه حساب معاونت بودجه
C33: 3 | D33: 65000 | E33: 73726/870 | F33: 1403/05/16 | G33: 1725480575000 | I33: 91617476523 | J33: 1633863098477
C34: 4 | D34: 65000 | E34: 73685/870 | F34: 1403/05/16 | G34: 1199519360000 | J34: 994233670842 | K34: 113966218190 | L34: 80187265052 | M34: 11132205916
C35: 5 | D35: 65000 | E35: 73971/870 | F35: 1403/05/16 | G35: 650000000000 | H35: 352495078991 | I35: 297504921009
C36: 6 | D36: 70000-بندر | E36: 73979/870 | F36: 1403/05/16 | G36: 324999990000 | H36: 140794710000 | I36: 139645284630 | J36: 13936920360 | K36: 30623075010
C37: 7 | D37: 70000 | E37: 94457/870 | F37: 1403/06/25 | G37: 441933590000 | H37: =G37 -> 441933590000
C38: جمع | G38: =SUM(G31:G37) -> 4394117075000
B39: مسکن ملی | C39: 1 | D39: 65000 | E39: 68914/870 | F39: 1403/05/08 | G39: 63831625000
B40: شهرهای جدید | C40: 1 | D40: 65000 | E40: 69425/870 | F40: 1403/05/09 | G40: 16145155000
I41: 185527814835
F43: جمع کل | G43: =SUM(G38:G40,G30,G7) -> 14791656370000 | I43: =I41-I36 -> 45882530205
I44: =I43/70000 -> 655464.72

Sheet گزارش نهایی بودجه 1402
A1: شركت پالايش نفت جي(سهامي عام)
A2: گزارش بودجه قيرهاي تهاتري از محل VB موضوع قانون بودجه سال 1402 تخصیص یافته به پالایش نفت جی
V3: مبالغ به ریال و مقادیر به کیلوگرم
A4: شرح | B4: مقدار قیرهای تحویلی نفت جی | K4: اعلام وصول در سامانه سبا | O4: معادل سازی وکیوم با قیر تحویل شده | T4: وضعیت وکیوم های جذب شده | Y4: مانده مطالبات وکیوم
B5: مقدار تحویل | C5: مبلغ فاکتور | D5: نرخ وکیوم 650000 | E5: مبلغ | F5: نرخ وکیوم 700000 | G5: مبلغ | I5: مقدار حواله | J5: مقدار تحویل | K5: مقدار اعلام وصول -رئیس | L5: مبلغ اعلام وصول | M5: میزان اختلاف تحویل | O5: مقدار وکیوم-65000 | P5: مبلغ وکیوم تخصیصی-65000 | Q5: مقدار وکیوم 70000 | R5: مبلغ وکیوم تخصیصی-70000 | T5: مقدار وکیوم-65000 | U5: مبلغ وکیوم تخصیصی-65000 | V5: مقدار وکیوم 70000 | W5: مبلغ وکیوم تخصیصی-70000 | Y5: مانده مطالبات وکیوم65000 | Z5: مبلغ مانده مطالبات 65000 | AA5: مانده مطالبات 70000 | AB5: مبلغ مانده مطالبات 70000
A6: بازآفرینی شهری | B6: 12624850 | C6: 1074734354727 | D6: 4789240 | E6: 389122397532 | F6: 7835610 | G6: 685611957195 | K6: 12624840 | L6: 1066772312500 | M6: =B6-K6 -> 10 | O6: 5986498 | P6: 389122397532 | Q6: 9794457 | R6: 685611957195 | T6: 0 | U6: 0 | V6: 0 | W6: 0 | Y6: =O6 -> 5986498 | Z6: =P6 -> 389122397532 | AA6: =Q6 -> 9794457 | AB6: =R6 -> 685611957195
A7: ساخت و توسعه | B7: 47624440 | C7: 3882716271679 | D7: 45504110 | E7: 3697188456844 | F7: 2120330 | G7: 185527814835 | K7: 47544670 | L7: 3863004437500 | M7: =B7-K7 -> 79770 | O7: 56879822 | P7: 3697188456844 | Q7: 2650397 | R7: 185527814835 | T7: =U7/65000 -> 57000000 | U7: =SUM(وکیوم!F7) -> 3705000000000 | V7: 0 | W7: 0 | Y7: =O7-T7 -> -120178 | Z7: =P7-U7 -> -7811543156 | AA7: =Q7-V7 -> 2650397 | AB7: =R7 -> 185527814835
A8: سازمان راهداری | B8: 120391700 | C8: 9823387579424 | D8: 113731910 | E8: 9240659284319 | F8: 6659790 | G8: 582728295105 | K8: 120390700 | L8: 9801420187500 | M8: =B8-K8 -> 1000 | O8: 142163989 | P8: 9240659284319 | Q8: 8324690 | R8: 582728295105 | T8: =U8/65000 -> 101731731 | U8: =SUM(وکیوم!F30) -> 6612562515000 | V8: 0 | W8: 0 | Y8: =O8-T8 -> 40432258 | Z8: =P8-U8 -> 2628096769319 | AA8: =Q8 -> 8324690 | AB8: =R8 -> 582728295105
A9: مسکن ملی | B9: 2347580 | C9: 191734763550 | D9: 2188300 | E9: 177797843190 | F9: 159280 | G9: 13936920360 | K9: 2347580 | L9: 191736375000 | M9: =B9-K9 -> 0 | O9: 2735351 | P9: 177797843190 | Q9: 199099 | R9: 13936920360 | T9: =U9/65000 -> 982025 | U9: =SUM(وکیوم!F109) -> 63831625000 | V9: =W9/70000 -> 0 | W9: 0 | Y9: =O9-T9 -> 1753326 | Z9: =P9-U9 -> 113966218190 | AA9: =Q9-V9 -> 199099 | AB9: =R9 -> 13936920360
A10: معاونت بودجه | B10: 6379470 | C10: 527070314606 | D10: 4980700 | E10: 404678638991 | F10: 1398770 | G10: 122391675615 | K10: 6379470 | L10: 527074250000 | M10: =B10-K10 -> 0 | O10: 6225825 | P10: 404678638991 | Q10: 1748453 | R10: 122391675615 | T10: =U10/65000 -> 55802825 | U10: 3627183627000 | V10: =W10/70000 -> 10956194 | W10: =SUM(وکیوم!G67:H68) -> 766933580000 | Y10: =O10-T10 -> -49577000 | Z10: =P10-U10 -> -3222504988009 | AA10: =Q10-V10 -> -9207741 | AB10: =R10-W10 -> -644541904385
A11: شهرهای جدید | B11: 1535620 | C11: 126955495062 | D11: 1185640 | E11: 96332420052 | F11: 349980 | G11: 30623075010 | K11: 1535530 | L11: 124761812500 | M11: =B11-K11 -> 90 | O11: 1482037 | P11: 96332420052 | Q11: 437473 | R11: 30623075010 | T11: =U11/65000 -> 248387 | U11: =SUM(وکیوم!F111) -> 16145155000 | V11: =W11/70000 -> 0 | W11: 0 | Y11: =O11-T11 -> 1233650 | Z11: =P11-U11 -> 80187265052 | AA11: =Q11-V11 -> 437473 | AB11: =R11 -> 30623075010
A12: جمع | B12: =SUM(B6:B11) -> 190903660 | C12: =SUM(C6:C11) -> 15626598779048 | D12: =SUM(D6:D11) -> 172379900 | E12: =SUM(E6:E11) -> 14005779040928 | F12: =SUM(F6:F11) -> 18523760 | G12: =SUM(G6:G11) -> 1620819738120 | I12: =SUM(I6:I11) -> 0 | J12: =SUM(J6:J11) -> 0 | K12: =SUM(K6:K11) -> 190822790 | L12: =SUM(L6:L11) -> 15574769375000 | M12: =SUM(M6:M11) -> 80870 | O12: =SUM(O6:O11) -> 215473522 | P12: =SUM(P6:P11) -> 14005779040928 | Q12: =SUM(Q6:Q11) -> 23154569 | R12: =SUM(R6:R11) -> 1620819738120 | T12: =SUM(T6:T11) -> 2.1576497e+08 | U12: =SUM(U6:U11) -> 14024722922000 | V12: =SUM(V6:V11) -> 10956194 | W12: =SUM(W6:W11) -> 766933580000 | Y12: =SUM(Y6:Y11) -> -291446.03 | Z12: =SUM(Z6:Z11) -> -18943881072 | AA12: =SUM(AA6:AA11) -> 12198375 | AB12: =SUM(AB6:AB11) -> 853886158120
Z15: تهیه گزارش: کتاب اللهی
Z16: 1403/10/15
A18: دلایل اختلاف تحویل در ردیف شماره 2:
A19: 1. حواله شماره 14021800020 - شرکت بهپویان صنعت ساختمان (چهارمحال و بختیاری) به میزان 50،150 کیلوگرم در سامانه سبا نیامده است
A20: 2. حواله شماره 14021800051 - شرکت کلهر غرب (کهگیلوی و بویراحمد) ه میزان 399،890 کیلوگرم که در سامانه 371 تن وارد شده است
A21: (ارزش فاکتورهای دو حواله فوق 36،565،610،488 ریال می باشد)

Sheet گزارش نهایی
A1: شركت پالايش نفت جي(سهامي عام)
A2: گزارش بودجه قيرهاي تهاتري از محل VB موضوع قانون بودجه سال 1402 تخصیص یافته به پالایش نفت جی
O3: مبالغ به ریال و مقادیر به کیلوگرم
A4: شرح | B4: مقدار قیرهای تحویلی نفت جی | G4: اعلام وصول در سامانه سبا | K4: وضعیت وکیوم باتوم اخذ شده توسط نفت جی- بودجه 1402
B5: مقدار تحویل | C5: مبلغ فاکتور | E5: مقدار حواله | F5: مقدار تحویل | G5: مقدار اعلام وصول -رئیس | H5: مبلغ اعلام وصول | I5: میزان اختلاف تحویل | K5: مبلغ وکیوم تخصیصی-65000 | L5: مقدار وکیوم-65000 | M5: مبلغ وکیوم تخصیصی-70000 | N5: مقدار وکیوم 70000 | O5: وکیوم جذب نشده | P5: مانده مطالبات
A6: بازآفرینی شهری | B6: 12624850 | C6: 1074734354727 | G6: 12624840 | H6: 1066772312500 | I6: =B6-G6 -> 10 | K6: 0 | L6: 0 | M6: 0 | N6: 0 | O6: 0 | P6: 0
A7: ساخت و توسعه | B7: 47624440 | C7: 3882716271679 | G7: 47544670 | H7: 3863004437500 | I7: =B7-G7 -> 79770 | K7: =SUM(وکیوم!F7) -> 3705000000000 | L7: =K7/65000 -> 57000000 | M7: 0 | N7: 0 | O7: 0 | P7: 0
A8: سازمان راهداری | B8: 120391700 | C8: 9823387579424 | G8: 120390700 | H8: 9801420187500 | I8: =B8-G8 -> 1000 | K8: =SUM(وکیوم!F30) -> 6612562515000 | L8: =K8/65000 -> 101731731 | M8: 0 | N8: 0 | O8: 0 | P8: 0
A9: مسکن ملی | B9: 2347580 | C9: 191734763550 | G9: 2347580 | H9: 191736375000 | I9: =B9-G9 -> 0 | K9: =SUM(وکیوم!F110) -> 63831625000 | L9: =K9/65000 -> 982025 | M9: 0 | N9: 0 | O9: 0 | P9: 0
A10: معاونت بودجه | B10: 6379470 | C10: 527070314606 | G10: 6379470 | H10: 527074250000 | I10: =B10-G10 -> 0 | K10: =SUM(وکیوم!G62:G66) -> 3627183495000 | L10: =K10/65000 -> 55802823 | M10: =SUM(وکیوم!G67:H68) -> 766933580000 | N10: =M10/70000 -> 10956194 | O10: 0 | P10: 0
A11: شهرهای جدید | B11: 1535620 | C11: 126955495062 | G11: 1535530 | H11: 124761812500 | I11: =B11-G11 -> 90 | K11: =SUM(وکیوم!F112) -> 16145155000 | L11: =K11/65000 -> 248387 | M11: 0 | N11: 0 | O11: 0 | P11: 0
A12: بنیاد | K12: =SUM(وکیوم!G37:H55) -> 2823599999000 | L12: =K12/65000 -> 43440000 | M12: =SUM(وکیوم!G56:G60) -> 1634912300000 | N12: =M12/70000 -> 23355890 | O12: 0 | P12: 0
A13: سازمان شهرداریها | K13: =SUM(وکیوم!G70:H100) -> 9302525000000 | L13: =K13/65000 -> 1.4311577e+08 | M13: =SUM(وکیوم!G101:H103) -> 2331525620000 | N13: =M13/70000 -> 33307509 | O13: 0 | P13: 0
A14: نوسازی مدارس | K14: =SUM(وکیوم!F31:F32) -> 99999900000 | L14: =K14/65000 -> 1538460 | M14: =SUM(وکیوم!F33:F35) -> 133380240000 | N14: =M14/70000 -> 1905432 | O14: 0 | P14: 0
A15: امور عشایر | K15: =SUM(وکیوم!G105:H107) -> 302250000000 | L15: =K15/65000 -> 4650000 | M15: 0 | N15: 0 | O15: 0 | P15: 0
A16: جمع | B16: =SUM(B6:B11) -> 190903660 | C16: =SUM(C6:C11) -> 15626598779048 | E16: =SUM(E6:E11) -> 0 | F16: =SUM(F6:F11) -> 0 | G16: =SUM(G6:G11) -> 190822790 | H16: =SUM(H6:H11) -> 15574769375000 | I16: =SUM(I6:I11) -> 80870 | K16: =SUM(K6:K15) -> 26553097689000 | L16: =SUM(L6:L15) -> 4.085092e+08 | M16: =SUM(M6:M15) -> 4866751740000 | N16: =SUM(N6:N15) -> 69525025 | O16: =SUM(O6:O11) -> 0 | P16: =SUM(P6:P11) -> 0
P19: تهیه گزارش: کتاب اللهی
P20: 1403/10/15
A21: دلایل اختلاف تحویل در ردیف شماره 2:
A22: 1. حواله شماره 14021800020 - شرکت بهپویان صنعت ساختمان (چهارمحال و بختیاری) به میزان 50،150 کیلوگرم در سامانه سبا نیامده است
A23: 2. حواله شماره 14021800051 - شرکت کلهر غرب (کهگیلوی و بویراحمد) ه میزان 399،890 کیلوگرم که در سامانه 371 تن وارد شده است

Sheet گزارش حواله 1402
A1: ش. سبا | B1: شماره حواله | C1: شماره درخواست | D1: تاریخ درخواست | E1: استان | F1: کد مرکز فروش | G1: تاریخ حواله | H1: کد مشتری | I1: نام مشتری | J1: نام کالا | K1: نرخ قرارداد | L1: مقدار حواله | M1: مقدار کل تحویل | N1: مبلغ تحویل | O1: ارزش افزوده | P1: ارزش فاکتور | Q1: نرخ وکیوم | R1: مقدار وکیوم | S1: ارزش وکیوم | T1: نام انبار | U1: تحویل- سبا | V1: مبلغ در سبا | W1: رئیس دستگاه- سبا | X1: مبلغ رئیس ستگاه- سبا | Y1: توضیحات
A2: 94757 | B2: 14031000001 | C2: 1403/ص/500/1839 | D2: 1403/04/19 | E2: استان کرمان | F2: 10 | G2: 1403/04/24 | H2: 7034 | I2: اداره کل راه وشهرسازی کرمان | J2: قیر PG 64-22 | K2: 73863 | L2: 408000 | M2: 407340 | N2: =M2*K2 -> 30087354420 | O2: =N2*10% -> 3008735442 | P2: =O2+N2 -> 33096089862 | Q2: 65000 | R2: =P2/Q2 -> 509170.61 | S2: =Q2*R2 -> 33096089862 | T2: مخازن قیر اصفهان | U2: 407340 | V2: 33096375000 | W2: 407340 | X2: 33096375000 | Y2: 0 | Z2: 0
A3: 93079 | B3: 14031000002 | C3: 1403/ص500/1837 | D3: 1403/04/19 | E3: استان کرمان | F3: 10 | G3: 1403/04/31 | H3: 7034 | I3: اداره کل راه وشهرسازی کرمان | J3: قیر PG 64-16 | K3: 73863 | L3: 451000 | M3: 450580 | N3: =M3*K3 -> 33281190540 | O3: =N3*10% -> 3328119054 | P3: =O3+N3 -> 36609309594 | Q3: 65000 | R3: =P3/Q3 -> 563220.15 | S3: =Q3*R3 -> 36609309594 | T3: انبار قیر بندرعباس(پلنت خلیج فارس) | U3: 450580 | V3: 36609625000 | W3: 450580 | X3: 36609625000 | Y3: 0 | Z3: 0
A4: 94159 | B4: 14031000003 | C4: 1403/ص/500/1629 | D4: 1403/04/19 | E4: استان چهارمحال بختیاری | F4: 10 | G4: 1403/05/03 | H4: 7190 | I4: اداره کل راه و شهرسازی چهارمحال وبختیاری | J4: قیر PG 58-22 | K4: 73863 | L4: 260000 | M4: 257610 | N4: =M4*K4 -> 19027847430 | O4: =N4*10% -> 1902784743 | P4: =O4+N4 -> 20930632173 | Q4: 65000 | R4: =P4/Q4 -> 322009.73 | S4: =Q4*R4 -> 20930632173 | T4: مخازن قیر اصفهان | U4: 257610 | V4: 20930812500 | W4: 257610 | X4: 20930812500 | Y4: 0 | Z4: 0
A5: 94552 | B5: 14031000004 | C5: 1403/ص/500/1630 | D5: 1403/04/19 | E5: استان چهارمحال بختیاری | F5: 10 | G5: 1403/05/03 | H5: 7190 | I5: اداره کل راه و شهرسازی چهارمحال وبختیاری | J5: قیر PG 58-22 | K5: 73863 | L5: 100000 | M5: 98460 | N5: =M5*K5 -> 7272550980 | O5: =N5*10% -> 727255098 | P5: =O5+N5 -> 7999806078 | Q5: 65000 | R5: =P5/Q5 -> 123073.94 | S5: =Q5*R5 -> 7999806078 | T5: مخازن قیر اصفهان | U5: 98460 | V5: 7999875000 | W5: 98460 | X5: 7999875000 | Y5: 0 | Z5: 0
A6: 95365 | B6: 14031000005 | C6: 1403/ص/500/1640 | D6: 1403/04/19 | E6: استان چهارمحال بختیاری | F6: 10 | G6: 1403/05/03 | H6: 7190 | I6: اداره کل راه و شهرسازی چهارمحال وبختیاری | J6: قیر PG 58-22 | K6: 73863 | L6: 125000 | M6: 124990 | N6: =M6*K6 -> 9232136370 | O6: =N6*10% -> 923213637 | P6: =O6+N6 -> 10155350007 | Q6: 65000 | R6: =P6/Q6 -> 156236.15 | S6: =Q6*R6 -> 10155350007 | T6: مخازن قیر اصفهان | U6: 124990 | V6: 10155437500 | W6: 124990 | X6: 10155437500 | Y6: 0 | Z6: 0
A7: 94267 | B7: 14031000006 | C7: 1403/ص/500/1631 | D7: 1403/04/19 | E7: استان چهارمحال بختیاری | F7: 10 | G7: 1403/05/04 | H7: 7190 | I7: اداره کل راه و شهرسازی چهارمحال وبختیاری | J7: قیر PG 58-22 | K7: 73863 | L7: 60000 | M7: 58370 | N7: =M7*K7 -> 4311383310 | O7: =N7*10% -> 431138331 | P7: =O7+N7 -> 4742521641 | Q7: 65000 | R7: =P7/Q7 -> 72961.871 | S7: =Q7*R7 -> 4742521641 | T7: مخازن قیر اصفهان | U7: 58370 | V7: 4742562500 | W7: 58370 | X7: 4742562500 | Y7: 0 | Z7: 0
A8: 94170 | B8: 14031000007 | C8: 1403/ص/500/1632 | D8: 1403/04/19 | E8: استان چهارمحال بختیاری | F8: 10 | G8: 1403/05/04 | H8: 7190 | I8: اداره کل راه و شهرسازی چهارمحال وبختیاری | J8: قیر PG 58-22 | K8: 73863 | L8: 208000 | M8: 207100 | N8: =M8*K8 -> 15297027300 | O8: =N8*10% -> 1529702730 | P8: =O8+N8 -> 16826730030 | Q8: 65000 | R8: =P8/Q8 -> 258872.77 | S8: =Q8*R8 -> 16826730030 | T8: مخازن قیر اصفهان | U8: 207100 | V8: 16826875000 | W8: 207090 | X8: 16826062500 | Y8: 0 | Z8: 0
A9: 94270 | B9: 14031000008 | C9: 1403/ص/500/1633 | D9: 1403/04/19 | E9: استان چهارمحال بختیاری | F9: 10 | G9: 1403/05/04 | H9: 7190 | I9: اداره کل راه و شهرسازی چهارمحال وبختیاری | J9: قیر PG 58-22 | K9: 73863 | L9: 65000 | M9: 64740 | N9: =M9*K9 -> 4781890620 | O9: =N9*10% -> 478189062 | P9: =O9+N9 -> 5260079682 | Q9: 65000 | R9: =P9/Q9 -> 80924.303 | S9: =Q9*R9 -> 5260079682 | T9: مخازن قیر اصفهان | U9: 64740 | V9: 5260125000 | W9: 64740 | X9: 5260125000 | Y9: 0 | Z9: 0
A10: 93781 | B10: 14031000009 | C10: 1403/ص/500/1634 | D10: 1403/04/19 | E10: استان چهارمحال بختیاری | F10: 10 | G10: 1403/05/04 | H10: 7190 | I10: اداره کل راه و شهرسازی چهارمحال وبختیاری | J10: قیر PG 58-22 | K10: 73863 | L10: 69000 | M10: 68170 | N10: =M10*K10 -> 5035240710 | O10: =N10*10% -> 503524071 | P10: =O10+N10 -> 5538764781 | Q10: 65000 | R10: =P10/Q10 -> 85211.766 | S10: =Q10*R10 -> 5538764781 | T10: مخازن قیر اصفهان | U10: 68170 | V10: 5538812500 | W10: 68170 | X10: 5538812500 | Y10: 0 | Z10: 0
A11: 94721 | B11: 14031000010 | C11: 1403/ص/500/1638 | D11: 1403/04/19 | E11: استان چهارمحال بختیاری | F11: 10 | G11: 1403/05/04 | H11: 7190 | I11: اداره کل راه و شهرسازی چهارمحال وبختیاری | J11: قیر PG 58-22 | K11: 73863 | L11: 48000 | M11: 46950 | N11: =M11*K11 -> 3467867850 | O11: =N11*10% -> 346786785 | P11: =O11+N11 -> 3814654635 | Q11: 65000 | R11: =P11/Q11 -> 58686.994 | S11: =Q11*R11 -> 3814654635 | T11: مخازن قیر اصفهان | U11: 46950 | V11: 3814687500 | W11: 46950 | X11: 3814687500 | Y11: 0 | Z11: 0
A12: 94303 | B12: 14031000011 | C12: 1403/ص/500/1641 | D12: 1403/04/19 | E12: استان چهارمحال بختیاری | F12: 10 | G12: 1403/05/04 | H12: 7190 | I12: اداره کل راه و شهرسازی چهارمحال وبختیاری | J12: قیر PG 58-22 | K12: 73863 | L12: 88000 | M12: 87010 | N12: =M12*K12 -> 6426819630 | O12: =N12*10% -> 642681963 | P12: =O12+N12 -> 7069501593 | Q12: 65000 | R12: =P12/Q12 -> 108761.56 | S12: =Q12*R12 -> 7069501593 | T12: مخازن قیر اصفهان | U12: 87010 | V12: 7069562500 | W12: 87010 | X12: 7069562500 | Y12: 0 | Z12: 0
A13: 94162 | B13: 14031000012 | C13: 1403/ص/500/1625 | D13: 1403/04/19 | E13: استان چهارمحال بختیاری | F13: 10 | G13: 1403/05/06 | H13: 7190 | I13: اداره کل راه و شهرسازی چهارمحال وبختیاری | J13: قیر PG 58-22 | K13: 73863 | L13: 90000 | M13: 89290 | N13: =M13*K13 -> 6595227270 | O13: =N13*10% -> 659522727 | P13: =O13+N13 -> 7254749997 | Q13: 65000 | R13: =P13/Q13 -> 111611.54 | S13: =Q13*R13 -> 7254749997 | T13: مخازن قیر اصفهان | U13: 89290 | V13: 7254812500 | W13: 89290 | X13: 7254812500 | Y13: 0 | Z13: 0
... A33: 96432 | B33: 14031000032 | C33: 1403/ص/500/2247 | D33: 1403/05/14 | E33: استان خراسان جنوبی | F33: 10 | G33: 1403/06/06 | H33: 4012 | I33: اداره کل راه و شهرسازی خراسان جنوبی | J33: قیر PG 64-22 | K33: 73863 | L33: 130000 | M33: 129570 | N33: =M33*K33 -> 9570428910 | O33: =N33*10% -> 957042891 | P33: =O33+N33 -> 10527471801 | Q33: 65000 | R33: =P33/Q33 -> 161961.1 | S33: =Q33*R33 -> 10527471801 | T33: مخازن قیر اصفهان | U33: 129570 | V33: 10527562500 | W33: 129570 | X33: 10527562500 | Y33: 0 | Z33: 0
A34: 98264 | B34: 14031000033 | C34: 1403/ص/500/2604 | D34: 1403/06/05 | E34: استان کرمان | F34: 10 | G34: 1403/06/10 | H34: 7034 | I34: اداره کل راه وشهرسازی کرمان | J34: قیر PG 64-22 | K34: 79545 | L34: 483000 | M34: 481790 | N34: =M34*K34 -> 38323985550 | O34: =N34*10% -> 3832398555 | P34: =O34+N34 -> 42156384105 | Q34: 70000 | R34: =P34/Q34 -> 602234.06 | S34: =Q34*R34 -> 42156384105 | T34: مخازن قیر اصفهان | U34: 481790 | V34: 39145437500 | W34: 481790 | X34: 39145437500 | Y34: 0 | Z34: =P34-V34 -> 3010946605
A35: 98266 | B35: 14031000034 | C35: 1403/ص/500/2605 | D35: 1403/06/05 | E35: استان کرمان | F35: 10 | G35: 1403/06/10 | H35: 7034 | I35: اداره کل راه وشهرسازی کرمان | J35: قیر PG 64-22 | K35: 79545 | L35: 396000 | M35: 395000 | N35: =M35*K35 -> 31420275000 | O35: =N35*10% -> 3142027500 | P35: =O35+N35 -> 34562302500 | Q35: 70000 | R35: =P35/Q35 -> 493747.18 | S35: =Q35*R35 -> 34562302500 | T35: مخازن قیر اصفهان | U35: 395000 | V35: 32093750000 | W35: 395000 | X35: 32093750000 | Y35: 0 | Z35: =P35-V35 -> 2468552500
A36: 95064 | B36: 14031000035 | C36: 1403/ص500/2610 | D36: 1403/06/05 | E36: استان کرمانشاه | F36: 10 | G36: 1403/06/18 | H36: 4109 | I36: اداره کل راه و شهرسازی کرمانشاه | J36: قیر PG 64-22 | K36: 79545 | L36: 200000 | M36: 199290 | N36: =M36*K36 -> 15852523050 | O36: =N36*10% -> 1585252305 | P36: =O36+N36 -> 17437775355 | Q36: 70000 | R36: =P36/Q36 -> 249111.08 | S36: =Q36*R36 -> 17437775355 | T36: مخازن قیر اصفهان | U36: 199290 | V36: 16192312500 | W36: 199290 | X36: 16192312500 | Y36: 0 | Z36: =P36-V36 -> 1245462855
A37: 99230 | B37: 14031000036 | C37: 1403/ص/500/2816 | D37: 1403/06/19 | E37: استان کرمان | F37: 10 | G37: 1403/06/21 | H37: 7034 | I37: اداره کل راه وشهرسازی کرمان | J37: قیر PG 64-22 | K37: 79545 | L37: 445000 | M37: 440490 | N37: =M37*K37 -> 35038777050 | O37: =N37*10% -> 3503877705 | P37: =O37+N37 -> 38542654755 | Q37: 70000 | R37: =P37/Q37 -> 550609.35 | S37: =Q37*R37 -> 38542654755 | T37: مخازن قیر اصفهان | U37: 440490 | V37: 38542875000 | W37: 440490 | X37: 38542875000 | Y37: 0 | Z37: 0
A38: 84131 | B38: 14021800004 | C38: 44027 | D38: 1402/03/27 | E38: استان کرمان | F38: 18 | G38: 1402/03/29 | H38: 4062 | I38: ناورود | J38: قیر PG 64-22 | K38: 74541 | L38: 400000 | M38: 399220 | N38: =M38*K38 -> 29758258020 | O38: =N38*9% -> 2.6782432e+09 | P38: =O38+N38 -> 3.2436501e+10 | Q38: 65000 | R38: =P38/Q38 -> 499023.1 | S38: =Q38*R38 -> 3.2436501e+10 | T38: مخازن قیر اصفهان | U38: 399220 | V38: 32436625000 | W38: 399220 | X38: 32436625000 | Y38: 0 | Z38: 0
A39: 84129 | B39: 14021800005 | C39: 1/45157 | D39: 1402/03/28 | E39: استان یزد | F39: 18 | G39: 1402/03/29 | H39: 7013 | I39: راه و ساختمان اسکان ده | J39: قیر PG 64-22 | K39: 74541 | L39: 500000 | M39: 497580 | N39: =M39*K39 -> 37090110780 | O39: =N39*9% -> 3.33811e+09 | P39: =O39+N39 -> 4.0428221e+10 | Q39: 65000 | R39: =P39/Q39 -> 621972.63 | S39: =Q39*R39 -> 4.0428221e+10 | T39: مخازن قیر اصفهان | U39: 497580 | V39: 40428375000 | W39: 497580 | X39: 40428375000 | Y39: 0 | Z39: 0
A40: 84285 | B40: 14021800006 | C40: 1/44061 | D40: 1402/03/27 | E40: استان خراسان رضوی | F40: 18 | G40: 1402/03/29 | H40: 9534 | I40: مهندسی آب وخاک قدس رضوی | J40: قیر PG 64-22 | K40: 74541 | L40: 500000 | M40: 500000 | N40: =M40*K40 -> 37270500000 | O40: =N40*9% -> 3354345000 | P40: =O40+N40 -> 40624845000 | Q40: 65000 | R40: =P40/Q40 -> 624997.62 | S40: =Q40*R40 -> 40624845000 | T40: مخازن قیر اصفهان | U40: 500000 | V40: 40625000000 | W40: 500000 | X40: 40625000000 | Y40: 0 | Z40: 0
A41: 84339 | B41: 14021800007 | C41: 1/45863 | D41: 1402/03/29 | E41: استان سیستان بلوچستان | F41: 18 | G41: 1402/03/30 | H41: 10164 | I41: ساختمانی گلومک سازه | J41: قیر PG 70-10 | K41: 74541 | L41: 500000 | M41: 500000 | N41: =M41*K41 -> 37270500000 | O41: =N41*9% -> 3354345000 | P41: =O41+N41 -> 40624845000 | Q41: 65000 | R41: =P41/Q41 -> 624997.62 | S41: =Q41*R41 -> 40624845000 | T41: مخازن قیر اصفهان | U41: 500000 | V41: 40625000000 | W41: 500000 | X41: 40625000000 | Y41: 0 | Z41: 0
A42: 84286 | B42: 14021800008 | C42: 1/43987 | D42: 1402/03/27 | E42: استان کرمان | F42: 18 | G42: 1402/03/31 | H42: 10161 | I42: محورگسترشرق | J42: قیر PG 64-16 | K42: 74541 | L42: 500000 | M42: 490340 | N42: =M42*K42 -> 36550433940 | O42: =N42*9% -> 3.2895391e+09 | P42: =O42+N42 -> 3.9839973e+10 | Q42: 65000 | R42: =P42/Q42 -> 612922.66 | S42: =Q42*R42 -> 3.9839973e+10 | T42: مخازن قیر اصفهان | U42: 490340 | V42: 39840125000 | W42: 490340 | X42: 39840125000 | Y42: 0 | Z42: 0
A43: 84340 | B43: 14021800009 | C43: 1/45720 | D43: 1402/03/29 | E43: استان سیستان بلوچستان | F43: 18 | G43: 1402/03/31 | H43: 8679 | I43: ساختمانی راهسازی کیهان راه شرق | J43: قیر PG 70-10 | K43: 74541 | L43: 500000 | M43: 498630 | N43: =M43*K43 -> 37168378830 | O43: =N43*9% -> 3.3451541e+09 | P43: =O43+N43 -> 4.0513533e+10 | Q43: 65000 | R43: =P43/Q43 -> 623285.12 | S43: =Q43*R43 -> 4.0513533e+10 | T43: مخازن قیر اصفهان | U43: 498630 | V43: 40513687500 | W43: 498630 | X43: 40513687500 | Y43: 0 | Z43: 0
A44: 84343 | B44: 14021800010 | C44: 1/45741 | D44: 1402/03/29 | E44: استان سیستان بلوچستان | F44: 18 | G44: 1402/03/31 | H44: 11026 | I44: جهادنصرسیستان وبلوچستان | J44: قیر PG 70-10 | K44: 74541 | L44: 500000 | M44: 488910 | N44: =M44*K44 -> 36443840310 | O44: =N44*9% -> 3.2799456e+09 | P44: =O44+N44 -> 3.9723786e+10 | Q44: 65000 | R44: =P44/Q44 -> 611135.17 | S44: =Q44*R44 -> 3.9723786e+10 | T44: مخازن قیر اصفهان | U44: 488910 | V44: 39723937500 | W44: 488910 | X44: 39723937500 | Y44: 0 | Z44: 0
A45: 84144 | B45: 14021800011 | C45: 1/44074 | D45: 1402/03/27 | E45: استان چهارمحال بختیاری | F45: 18 | G45: 1402/04/01 | H45: 1351 | I45: زرین استحکام | J45: قیر PG 58-22 | K45: 74541 | L45: 500000 | M45: 499000 | N45: =M45*K45 -> 37195959000 | O45: =N45*9% -> 3347636310 | P45: =O45+N45 -> 40543595310 | Q45: 65000 | R45: =P45/Q45 -> 623747.62 | S45: =Q45*R45 -> 40543595310 | T45: مخازن قیر اصفهان | U45: 499000 | V45: 40543750000 | W45: 499000 | X45: 40543750000 | Y45: 0 | Z45: 0
A46: 84344 | B46: 14021800012 | C46: 1/45725 | D46: 1402/03/29 | E46: استان سیستان بلوچستان | F46: 18 | G46: 1402/04/01 | H46: 11551 | I46: نازمکان جنوب | J46: قیر PG 70-10 | K46: 74541 | L46: 500000 | M46: 498880 | N46: =M46*K46 -> 37187014080 | O46: =N46*9% -> 3.3468313e+09 | P46: =O46+N46 -> 4.0533845e+10 | Q46: 65000 | R46: =P46/Q46 -> 623597.62 | S46: =Q46*R46 -> 4.0533845e+10 | T46: مخازن قیر اصفهان | U46: 498880 | V46: 40534000000 | W46: 498880 | X46: 40534000000 | Y46: 0 | Z46: 0
A47: 84338 | B47: 14021800013 | C47: 1/53066 | D47: 1402/04/07 | E47: استان سیستان بلوچستان | F47: 18 | G47: 1402/04/11 | H47: 10518 | I47: دنابنیان بیرجند | J47: قیر PG 70-10 | K47: 74541 | L47: 500000 | M47: 499280 | N47: =M47*K47 -> 37216830480 | O47: =N47*9% -> 3.3495147e+09 | P47: =O47+N47 -> 4.0566345e+10 | Q47: 65000 | R47: =P47/Q47 -> 624097.62 | S47: =Q47*R47 -> 4.0566345e+10 | T47: مخازن قیر اصفهان | U47: 499280 | V47: 40566500000 | W47: 499280 | X47: 40566500000 | Y47: 0 | Z47: 0
A48: 84312 | B48: 14021800014 | C48: 1/45090 | D48: 1402/03/28 | E48: استان چهارمحال بختیاری | F48: 18 | G48: 1402/04/18 | H48: 1351 | I48: زرین استحکام | J48: قیر PG 64-22 | K48: 74541 | L48: 500000 | M48: 498800 | N48: =M48*K48 -> 37181050800 | O48: =N48*9% -> 3346294572 | P48: =O48+N48 -> 40527345372 | Q48: 65000 | R48: =P48/Q48 -> 623497.62 | S48: =Q48*R48 -> 40527345372 | T48: مخازن قیر اصفهان | U48: 498800 | V48: 40527500000 | W48: 498800 | X48: 40527500000 | Y48: 0 | Z48: 0
A49: 84328 | B49: 14021800015 | C49: 1/53057 | D49: 1402/04/07 | E49: استان سیستان بلوچستان | F49: 18 | G49: 1402/04/19 | H49: 10164 | I49: ساختمانی گلومک سازه | J49: قیر PG 70-10 | K49: 74541 | L49: 64000 | M49: 55210 | N49: =M49*K49 -> 4115408610 | O49: =N49*9% -> 3.7038677e+08 | P49: =O49+N49 -> 4.4857954e+09 | Q49: 65000 | R49: =P49/Q49 -> 69012.237 | S49: =Q49*R49 -> 4.4857954e+09 | T49: مخازن قیر اصفهان | U49: 55210 | V49: 4485812500 | W49: 55210 | X49: 4485812500 | Y49: 0 | Z49: 0
... A53: 87419 | B53: 14021800019 | C53: 1/61744 | D53: 1402/04/20 | E53: استان خراسان شمالی | F53: 18 | G53: 1402/04/28 | H53: 4203 | I53: توس مسیر | J53: قیر PG 64-16 | K53: 74541 | L53: 250000 | M53: 249760 | N53: =M53*K53 -> 18617360160 | O53: =N53*9% -> 1.6755624e+09 | P53: =O53+N53 -> 2.0292923e+10 | Q53: 65000 | R53: =P53/Q53 -> 312198.81 | S53: =Q53*R53 -> 2.0292923e+10 | T53: مخازن قیر اصفهان | U53: 249760 | V53: 20293000000 | W53: 249760 | X53: 20293000000 | Y53: 0 | Z53: 0
A54: 84162 | B54: 14021800020 | C54: 1/55839 | D54: 1402/04/12 | E54: استان چهارمحال بختیاری | F54: 18 | G54: 1402/04/31 | H54: 12720 | I54: بهپویان صنعت ساختمان | J54: قیر PG 58-22 | K54: 74541 | L54: 52000 | M54: 50150 | N54: =M54*K54 -> 3738231150 | O54: =N54*9% -> 3.364408e+08 | P54: =O54+N54 -> 4.074672e+09 | Q54: 65000 | R54: =P54/Q54 -> 62687.261 | S54: =Q54*R54 -> 4.074672e+09 | T54: مخازن قیر اصفهان | V54: 0 | W54: 0 | X54: 0 | Y54: 0 | Z54: =P54-V54 -> 4.074672e+09
A55: 93239 | B55: 14021800021 | C55: 1/67753 | D55: 1402/04/31 | E55: استان کهکیلویه و بویر احمد | F55: 18 | G55: 1402/05/01 | H55: 10519 | I55: قبادبویردنا | J55: قیر PG 64-22 | K55: 74541 | L55: 500000 | M55: 499890 | N55: =M55*K55 -> 37262300490 | O55: =N55*9% -> 3.353607e+09 | P55: =O55+N55 -> 4.0615908e+10 | Q55: 65000 | R55: =P55/Q55 -> 624860.12 | S55: =Q55*R55 -> 4.0615908e+10 | T55: مخازن قیر اصفهان | U55: 499890 | V55: 40616062500 | W55: 499890 | X55: 40616062500 | Y55: 0 | Z55: 0
A56: 88853 | B56: 14021800022 | C56: 1/51420 | D56: 1402/04/05 | E56: استان چهارمحال بختیاری | F56: 18 | G56: 1402/05/03 | H56: 12787 | I56: سگال آذرخش باتیس | J56: قیر PG 58-22 | K56: 74541 | L56: 500000 | M56: 499700 | N56: =M56*K56 -> 37248137700 | O56: =N56*9% -> 3352332393 | P56: =O56+N56 -> 40600470093 | Q56: 65000 | R56: =P56/Q56 -> 624622.62 | S56: =Q56*R56 -> 40600470093 | T56: مخازن قیر اصفهان | U56: 499700 | V56: 40600625000 | W56: 499700 | X56: 40600625000 | Y56: 0 | Z56: 0
A57: 87824 | B57: 14021800023 | C57: 1/78232 | D57: 1402/05/16 | E57: استان یزد | F57: 18 | G57: 1402/05/16 | H57: 7013 | I57: راه و ساختمان اسکان ده | J57: قیر PG 64-22 | K57: 74541 | L57: 500000 | M57: 497650 | N57: =M57*K57 -> 37095328650 | O57: =N57*9% -> 3.3385796e+09 | P57: =O57+N57 -> 4.0433908e+10 | Q57: 65000 | R57: =P57/Q57 -> 622060.13 | S57: =Q57*R57 -> 4.0433908e+10 | T57: مخازن قیر اصفهان | U57: 497650 | V57: 40434062500 | W57: 497650 | X57: 40434062500 | Y57: 0 | Z57: 0
A58: 87447 | B58: 14021800024 | C58: 1/77630 | D58: 1402/05/15 | E58: استان کردستان | F58: 18 | G58: 1402/05/16 | H58: 4080 | I58: چاوش راه بنا | J58: قیر PG 64-22 | K58: 74541 | L58: 500000 | M58: 499830 | N58: =M58*K58 -> 37257828030 | O58: =N58*9% -> 3.3532045e+09 | P58: =O58+N58 -> 4.0611033e+10 | Q58: 65000 | R58: =P58/Q58 -> 624785.12 | S58: =Q58*R58 -> 4.0611033e+10 | T58: مخازن قیر اصفهان | U58: 499830 | V58: 40611187500 | W58: 499830 | X58: 40611187500 | Y58: 0 | Z58: 0
A59: 88675 | B59: 14021800025 | C59: 1/77386 | D59: 1402/05/15 | E59: استان خراسان رضوی | F59: 18 | G59: 1402/05/16 | H59: 4060 | I59: توس رادیه | J59: قیر PG 64-22 | K59: 74541 | L59: 500000 | M59: 499980 | N59: =M59*K59 -> 37269009180 | O59: =N59*9% -> 3.3542108e+09 | P59: =O59+N59 -> 4.062322e+10 | Q59: 65000 | R59: =P59/Q59 -> 624972.62 | S59: =Q59*R59 -> 4.062322e+10 | T59: مخازن قیر اصفهان | U59: 499980 | V59: 40623375000 | W59: 499980 | X59: 40623375000 | Y59: 0 | Z59: 0
A60: 90710 | B60: 14021800026 | C60: 1/78831 | D60: 1402/05/16 | E60: استان مرکزی | F60: 18 | G60: 1402/05/21 | H60: 9639 | I60: بهاران بتن فراگیران | J60: قیر PG 64-22 | K60: 74541 | L60: 500000 | M60: 499060 | N60: =M60*K60 -> 37200431460 | O60: =N60*9% -> 3.3480388e+09 | P60: =O60+N60 -> 4.054847e+10 | Q60: 65000 | R60: =P60/Q60 -> 623822.62 | S60: =Q60*R60 -> 4.054847e+10 | T60: مخازن قیر اصفهان | U60: 499060 | V60: 40548625000 | W60: 499060 | X60: 40548625000 | Y60: 0 | Z60: 0
A61: 87825 | B61: 14021800027 | C61: 1/81908 | D61: 1402/05/21 | E61: استان یزد | F61: 18 | G61: 1402/05/23 | H61: 4062 | I61: ناورود | J61: قیر PG 64-22 | K61: 74541 | L61: 400000 | M61: 398020 | N61: =M61*K61 -> 29668808820 | O61: =N61*9% -> 2.6701928e+09 | P61: =O61+N61 -> 3.2339002e+10 | Q61: 65000 | R61: =P61/Q61 -> 497523.1 | S61: =Q61*R61 -> 3.2339002e+10 | T61: مخازن قیر اصفهان | U61: 398020 | V61: 32339125000 | W61: 398020 | X61: 32339125000 | Y61: 0 | Z61: 0
A62: 87443 | B62: 14021800028 | C62: 1/77567 | D62: 1402/05/15 | E62: استان کردستان | F62: 18 | G62: 1402/05/23 | H62: 8380 | I62: عمران پویش کردستان | J62: قیر PG 64-22 | K62: 74541 | L62: 500000 | M62: 499100 | N62: =M62*K62 -> 37203413100 | O62: =N62*9% -> 3348307179 | P62: =O62+N62 -> 40551720279 | Q62: 65000 | R62: =P62/Q62 -> 623872.62 | S62: =Q62*R62 -> 40551720279 | T62: مخازن قیر اصفهان | U62: 499100 | V62: 40551875000 | W62: 499100 | X62: 40551875000 | Y62: 0 | Z62: 0
A63: 97353-6 | B63: 14021800029 | C63: 1/88685 | D63: 1402/05/30 | E63: استان سیستان بلوچستان | F63: 18 | G63: 1402/06/05 | H63: 10518 | I63: دنابنیان بیرجند | J63: قیر PG 70-10 | K63: 74541 | L63: 500000 | M63: 498680 | N63: =M63*K63 -> 37172105880 | O63: =N63*9% -> 3.3454895e+09 | P63: =O63+N63 -> 4.0517595e+10 | Q63: 65000 | R63: =P63/Q63 -> 623347.62 | S63: =Q63*R63 -> 4.0517595e+10 | T63: مخازن قیر اصفهان | U63: 498680 | V63: 40517750000 | W63: 498680 | X63: 40517750000 | Y63: شناسه های 97353-97356 | Z63: 0
A64: 84408 | B64: 14021800030 | C64: 1/92255 | D64: 1402/06/05 | E64: استان فارس | F64: 18 | G64: 1402/06/08 | H64: 12815 | I64: آرمان راه دراک | J64: قیر PG 64-22 | K64: 74541 | L64: 269000 | M64: 267950 | N64: =M64*K64 -> 19973260950 | O64: =N64*9% -> 1.7975935e+09 | P64: =O64+N64 -> 2.1770854e+10 | Q64: 65000 | R64: =P64/Q64 -> 334936.22 | S64: =Q64*R64 -> 2.1770854e+10 | T64: مخازن قیر اصفهان | U64: 267950 | V64: 21770937500 | W64: 267950 | X64: 21770937500 | Y64: 0 | Z64: 0
A65: 87464 | B65: 14021800031 | C65: 1/78797 | D65: 1402/05/16 | E65: استان یزد | F65: 18 | G65: 1402/07/22 | H65: 12232 | I65: قرارگاه سازندگی خاتم الانبیاء-موسسه ریل گستر | J65: قیر PG 64-22 | K65: 74541 | L65: 430000 | M65: 424230 | N65: =M65*K65 -> 31622528430 | O65: =N65*9% -> 2.8460276e+09 | P65: =O65+N65 -> 3.4468556e+10 | Q65: 65000 | R65: =P65/Q65 -> 530285.48 | S65: =Q65*R65 -> 3.4468556e+10 | T65: مخازن قیر اصفهان | U65: 424230 | V65: 34468687500 | W65: 424230 | X65: 34468687500 | Y65: 0 | Z65: 0
A66: 87704 | B66: 14021800032 | C66: 1/132394 | D66: 1402/08/07 | E66: استان لرستان | F66: 18 | G66: 1402/08/08 | H66: 8305 | I66: سپهربستر | J66: قیر PG 58-22 | K66: 74541 | L66: 500000 | M66: 498820 | N66: =M66*K66 -> 37182541620 | O66: =N66*9% -> 3.3464287e+09 | P66: =O66+N66 -> 4.052897e+10 | Q66: 65000 | R66: =P66/Q66 -> 623522.62 | S66: =Q66*R66 -> 4.052897e+10 | T66: مخازن قیر اصفهان | U66: 498820 | V66: 40529125000 | W66: 498820 | X66: 40529125000 | Y66: 0 | Z66: 0
A67: 88009 | B67: 14021800033 | C67: 1/132346 | D67: 1402/08/07 | E67: استان لرستان | F67: 18 | G67: 1402/08/08 | H67: 10438 | I67: خدماتی ساختمانی و تاسیساتی سعادت هیوا | J67: قیر PG 64-22 | K67: 74541 | L67: 500000 | M67: 497930 | N67: =M67*K67 -> 37116200130 | O67: =N67*9% -> 3.340458e+09 | P67: =O67+N67 -> 4.0456658e+10 | Q67: 65000 | R67: =P67/Q67 -> 622410.13 | S67: =Q67*R67 -> 4.0456658e+10 | T67: مخازن قیر اصفهان | U67: 497930 | V67: 40456812500 | W67: 497930 | X67: 40456812500 | Y67: 0 | Z67: 0
A68: 87708 | B68: 14021800034 | C68: 1/132372 | D68: 1402/08/07 | E68: استان خراسان رضوی | F68: 18 | G68: 1402/08/08 | H68: 8049 | I68: ساختمانی آرادان | J68: قیر PG 64-22 | K68: 74541 | L68: 300000 | M68: 297100 | N68: =M68*K68 -> 22146131100 | O68: =N68*9% -> 1993151799 | P68: =O68+N68 -> 24139282899 | Q68: 65000 | R68: =P68/Q68 -> 371373.58 | S68: =Q68*R68 -> 24139282899 | T68: مخازن قیر اصفهان | U68: 297100 | V68: 24139375000 | W68: 297100 | X68: 24139375000 | Y68: 0 | Z68: 0
A69: 94670 | B69: 14021800035 | C69: 1/132338 | D69: 1402/08/07 | E69: استان سیستان بلوچستان | F69: 18 | G69: 1402/08/08 | H69: 8679 | I69: ساختمانی راهسازی کیهان راه شرق | J69: قیر PG 70-10 | K69: 74541 | L69: 500000 | M69: 499150 | N69: =M69*K69 -> 37207140150 | O69: =N69*9% -> 3.3486426e+09 | P69: =O69+N69 -> 4.0555783e+10 | Q69: 65000 | R69: =P69/Q69 -> 623935.12 | S69: =Q69*R69 -> 4.0555783e+10 | T69: مخازن قیر اصفهان | U69: 499150 | V69: 40555937500 | W69: 499150 | X69: 40555937500 | Y69: 0 | Z69: 0
A70: 88018 | B70: 14021800036 | C70: 1/150726 | D70: 1402/09/04 | E70: استان خراسان رضوی | F70: 18 | G70: 1402/09/07 | H70: 9534 | I70: مهندسی آب وخاک قدس رضوی | J70: قیر PG 64-22 | K70: 74541 | L70: 500000 | M70: 493740 | N70: =M70*K70 -> 36803873340 | O70: =N70*9% -> 3.3123486e+09 | P70: =O70+N70 -> 4.0116222e+10 | Q70: 65000 | R70: =P70/Q70 -> 617172.65 | S70: =Q70*R70 -> 4.0116222e+10 | T70: مخازن قیر اصفهان | U70: 493740 | V70: 40116375000 | W70: 493740 | X70: 40116375000 | Y70: 0 | Z70: 0
A71: 88019 | B71: 14021800037 | C71: 1/152599 | D71: 1402/09/06 | E71: استان اصفهان | F71: 18 | G71: 1402/09/08 | H71: 7013 | I71: راه و ساختمان اسکان ده | J71: قیر PG 64-22 | K71: 74541 | L71: 500000 | M71: 499580 | N71: =M71*K71 -> 37239192780 | O71: =N71*9% -> 3.3515274e+09 | P71: =O71+N71 -> 4.059072e+10 | Q71: 65000 | R71: =P71/Q71 -> 624472.62 | S71: =Q71*R71 -> 4.059072e+10 | T71: مخازن قیر اصفهان | U71: 499580 | V71: 40590875000 | W71: 499580 | X71: 40590875000 | Y71: 0 | Z71: 0
A72: 97357 | B72: 14021800038 | C72: 1/153736 | D72: 1402/09/07 | E72: استان سیستان بلوچستان | F72: 18 | G72: 1402/09/08 | H72: 10518 | I72: دنابنیان بیرجند | J72: قیر PG 70-10 | K72: 74541 | L72: 500000 | M72: 498880 | N72: =M72*K72 -> 37187014080 | O72: =N72*9% -> 3.3468313e+09 | P72: =O72+N72 -> 4.0533845e+10 | Q72: 65000 | R72: =P72/Q72 -> 623597.62 | S72: =Q72*R72 -> 4.0533845e+10 | T72: مخازن قیر اصفهان | U72: 498880 | V72: 40534000000 | W72: 498880 | X72: 40534000000 | Y72: 0 | Z72: 0
A73: 88020 | B73: 14021800039 | C73: 1/153623 | D73: 1402/09/07 | E73: استان یزد | F73: 18 | G73: 1402/09/11 | H73: 4062 | I73: ناورود | J73: قیر PG 64-22 | K73: 74541 | L73: 400000 | M73: 398880 | N73: =M73*K73 -> 29732914080 | O73: =N73*9% -> 2.6759623e+09 | P73: =O73+N73 -> 3.2408876e+10 | Q73: 65000 | R73: =P73/Q73 -> 498598.1 | S73: =Q73*R73 -> 3.2408876e+10 | T73: مخازن قیر اصفهان | U73: 398880 | V73: 32409000000 | W73: 398880 | X73: 32409000000 | Y73: 0 | Z73: 0
A74: 88099 | B74: 14021800040 | C74: 1/154016 | D74: 1402/09/08 | E74: استان یزد | F74: 18 | G74: 1402/09/11 | H74: 4062 | I74: ناورود | J74: قیر PG 64-22 | K74: 74541 | L74: 400000 | M74: 399320 | N74: =M74*K74 -> 29765712120 | O74: =N74*9% -> 2.6789141e+09 | P74: =O74+N74 -> 3.2444626e+10 | Q74: 65000 | R74: =P74/Q74 -> 499148.1 | S74: =Q74*R74 -> 3.2444626e+10 | T74: مخازن قیر اصفهان | U74: 399320 | V74: 32444750000 | W74: 399320 | X74: 32444750000 | Y74: 0 | Z74: 0
A75: 94644 | B75: 14021800041 | C75: 1/153720 | D75: 1402/09/07 | E75: استان سیستان بلوچستان | F75: 18 | G75: 1402/09/11 | H75: 11026 | I75: جهادنصرسیستان وبلوچستان | J75: قیر PG 70-10 | K75: 74541 | L75: 330150 | M75: 330150 | N75: =M75*K75 -> 24609711150 | O75: =N75*9% -> 2.214874e+09 | P75: =O75+N75 -> 2.6824585e+10 | Q75: 65000 | R75: =P75/Q75 -> 412685.93 | S75: =Q75*R75 -> 2.6824585e+10 | T75: مخازن قیر اصفهان | U75: 330150 | V75: 40296750000 | W75: 330150 | X75: 40296750000 | Y75: حواله های 14021800041-14021800060 | Z75: 0
A76: 94644 | B76: 14021800060 | C76: 1/153720 | D76: 1402/10/07 | E76: استان سیستان بلوچستان | F76: 18 | G76: 1402/10/13 | H76: 11026 | I76: جهادنصرسیستان وبلوچستان | J76: قیر PG 70-10 | K76: 74541 | L76: 169850 | M76: 165810 | N76: =M76*K76 -> 12359643210 | O76: =N76*9% -> 1.1123679e+09 | P76: =O76+N76 -> 1.3472011e+10 | Q76: 65000 | R76: =P76/Q76 -> 207261.71 | S76: =Q76*R76 -> 1.3472011e+10 | T76: مخازن قیر اصفهان | U76: 165810 | V76: 0 | W76: 165810 | X76: 0 | Y76: حواله های 14021800041-14021800060 | Z76: 0
A77: 89157 | B77: 14021800042 | C77: 1/153644 | D77: 1402/09/07 | E77: استان کردستان | F77: 18 | G77: 1402/09/11 | H77: 4080 | I77: چاوش راه بنا | J77: قیر PG 64-22 | K77: 74541 | L77: 500000 | M77: 500000 | N77: =M77*K77 -> 37270500000 | O77: =N77*9% -> 3354345000 | P77: =O77+N77 -> 40624845000 | Q77: 65000 | R77: =P77/Q77 -> 624997.62 | S77: =Q77*R77 -> 40624845000 | T77: مخازن قیر اصفهان | U77: 500000 | V77: 40625000000 | W77: 500000 | X77: 40625000000 | Y77: 0 | Z77: 0
A78: 88024 | B78: 14021800043 | C78: 1/153636 | D78: 1402/09/07 | E78: استان آذربایجان غربی | F78: 18 | G78: 1402/09/11 | H78: 9859 | I78: آوادژسنندج | J78: قیر PG 64-22 | K78: 74541 | L78: 500000 | M78: 499650 | N78: =M78*K78 -> 37244410650 | O78: =N78*9% -> 3.351997e+09 | P78: =O78+N78 -> 4.0596408e+10 | Q78: 65000 | R78: =P78/Q78 -> 624560.12 | S78: =Q78*R78 -> 4.0596408e+10 | T78: مخازن قیر اصفهان | U78: 499650 | V78: 40596562500 | W78: 499650 | X78: 40596562500 | Y78: 0 | Z78: 0
A79: 89122 | B79: 14021800044 | C79: 1/153655 | D79: 1402/09/07 | E79: استان کهکیلویه و بویر احمد | F79: 18 | G79: 1402/09/11 | H79: 10537 | I79: تنش یاب یاسوج | J79: قیر PG 64-22 | K79: 74541 | L79: 300000 | M79: 299120 | N79: =M79*K79 -> 22296703920 | O79: =N79*9% -> 2.0067034e+09 | P79: =O79+N79 -> 2.4303407e+10 | Q79: 65000 | R79: =P79/Q79 -> 373898.57 | S79: =Q79*R79 -> 2.4303407e+10 | T79: مخازن قیر اصفهان | U79: 299120 | V79: 24303500000 | W79: 299120 | X79: 24303500000 | Y79: 0 | Z79: 0
A80: 89114 | B80: 14021800045 | C80: 1/154659 | D80: 1402/09/08 | E80: استان همدان | F80: 18 | G80: 1402/09/12 | H80: 4080 | I80: چاوش راه بنا | J80: قیر PG 64-22 | K80: 74541 | L80: 400000 | M80: 398060 | N80: =M80*K80 -> 29671790460 | O80: =N80*9% -> 2.6704611e+09 | P80: =O80+N80 -> 3.2342252e+10 | Q80: 65000 | R80: =P80/Q80 -> 497573.1 | S80: =Q80*R80 -> 3.2342252e+10 | T80: مخازن قیر اصفهان | U80: 398060 | V80: 32342375000 | W80: 398060 | X80: 32342375000 | Y80: 0 | Z80: 0
A81: 94673 | B81: 14021800046 | C81: 1/155015 | D81: 1402/09/11 | E81: استان سیستان بلوچستان | F81: 18 | G81: 1402/09/12 | H81: 8679 | I81: ساختمانی راهسازی کیهان راه شرق | J81: قیر PG 70-10 | K81: 74541 | L81: 500000 | M81: 499970 | N81: =M81*K81 -> 37268263770 | O81: =N81*9% -> 3.3541437e+09 | P81: =O81+N81 -> 4.0622408e+10 | Q81: 65000 | R81: =P81/Q81 -> 624960.12 | S81: =Q81*R81 -> 4.0622408e+10 | T81: مخازن قیر اصفهان | U81: 499970 | V81: 40622562500 | W81: 499970 | X81: 40622562500 | Y81: 0 | Z81: 0
A82: 88103 | B82: 14021800047 | C82: 1/154644 | D82: 1402/09/08 | E82: استان فارس | F82: 18 | G82: 1402/09/12 | H82: 11293 | I82: هفت پیمان گچساران | J82: قیر PG 70-10 | K82: 74541 | L82: 500000 | M82: 498930 | N82: =M82*K82 -> 37190741130 | O82: =N82*9% -> 3.3471667e+09 | P82: =O82+N82 -> 4.0537908e+10 | Q82: 65000 | R82: =P82/Q82 -> 623660.12 | S82: =Q82*R82 -> 4.0537908e+10 | T82: مخازن قیر اصفهان | U82: 498930 | V82: 40538062500 | W82: 498930 | X82: 40538062500 | Y82: 0 | Z82: 0
A83: 88017 | B83: 14021800048 | C83: 1/150716 | D83: 1402/09/04 | E83: استان خراسان رضوی | F83: 18 | G83: 1402/09/13 | H83: 12895 | I83: آب و خاک پارس | J83: قیر PG 70-10 | K83: 74541 | L83: 290450 | M83: 290450 | N83: =M83*K83 -> 21650433450 | O83: =N83*9% -> 1.948539e+09 | P83: =O83+N83 -> 2.3598972e+10 | Q83: 65000 | R83: =P83/Q83 -> 363061.11 | S83: =Q83*R83 -> 2.3598972e+10 | T83: مخازن قیر اصفهان | U83: 290450 | V83: 40599812500 | W83: 290450 | X83: 40599812500 | Y83: حواله های 14021800048-14021800057-14031800023 | Z83: 0
A84: 88017 | B84: 14021800057 | C84: 1/150716 | D84: 1402/09/04 | E84: استان خراسان رضوی | F84: 18 | G84: 1402/10/06 | H84: 12895 | I84: آب و خاک پارس | J84: قیر PG 70-10 | K84: 74541 | L84: 73320 | M84: 73320 | N84: =M84*K84 -> 5465346120 | O84: =N84*9% -> 4.9188115e+08 | P84: =O84+N84 -> 5.9572273e+09 | Q84: 65000 | R84: =P84/Q84 -> 91649.65 | S84: =Q84*R84 -> 5.9572273e+09 | T84: مخازن قیر اصفهان | U84: 73320 | V84: 0 | W84: 73320 | X84: 0 | Y84: حواله های 14021800048-14021800057-14031800023 | Z84: 0
A85: 88017 | B85: 14031800023 | C85: 1/150716 | D85: 1402/09/04 | E85: استان خراسان رضوی | F85: 18 | G85: 1403/05/20 | H85: 12895 | I85: آب و خاک پارس | J85: قیر PG 70-10 | K85: 73863 | L85: 136230 | M85: 135920 | N85: =M85*K85 -> 10039458960 | O85: =N85*10% -> 1003945896 | P85: =O85+N85 -> 11043404856 | Q85: 65000 | R85: =P85/Q85 -> 169898.54 | S85: =Q85*R85 -> 11043404856 | T85: مخازن قیر اصفهان | U85: 135920 | V85: 0 | W85: 135920 | X85: 0 | Y85: حواله های 14021800048-14021800057-14031800023 | Z85: 0
A86: 88116 | B86: 14021800049 | C86: 1/156992 | D86: 1402/09/13 | E86: استان مرکزی | F86: 18 | G86: 1402/09/14 | H86: 8072 | I86: بنادر | J86: قیر PG 64-22 | K86: 74541 | L86: 500000 | M86: 498610 | N86: =M86*K86 -> 37166888010 | O86: =N86*9% -> 3.3450199e+09 | P86: =O86+N86 -> 4.0511908e+10 | Q86: 65000 | R86: =P86/Q86 -> 623260.12 | S86: =Q86*R86 -> 4.0511908e+10 | T86: مخازن قیر اصفهان | U86: 498610 | V86: 40512062500 | W86: 498610 | X86: 40512062500 | Y86: 0 | Z86: 0
A87: 88170 | B87: 14021800050 | C87: 1/154648 | D87: 1402/09/08 | E87: استان اصفهان | F87: 18 | G87: 1402/09/15 | H87: 10450 | I87: آفتاب چشمه آریانا | J87: قیر PG 64-16 | K87: 74541 | L87: 500000 | M87: 499440 | N87: =M87*K87 -> 37228757040 | O87: =N87*9% -> 3.3505881e+09 | P87: =O87+N87 -> 4.0579345e+10 | Q87: 65000 | R87: =P87/Q87 -> 624297.62 | S87: =Q87*R87 -> 4.0579345e+10 | T87: مخازن قیر اصفهان | U87: 499440 | V87: 40579500000 | W87: 499440 | X87: 40579500000 | Y87: 0 | Z87: 0
A88: 89137 | B88: 14021800051 | C88: 1/156981 | D88: 1402/09/13 | E88: استان کهکیلویه و بویر احمد | F88: 18 | G88: 1402/09/15 | H88: 12897 | I88: کلهر غرب | J88: قیر PG 70-10 | K88: 74541 | L88: 400000 | M88: 399890 | N88: =M88*K88 -> 29808200490 | O88: =N88*9% -> 2.682738e+09 | P88: =O88+N88 -> 3.2490939e+10 | Q88: 65000 | R88: =P88/Q88 -> 499860.59 | S88: =Q88*R88 -> 3.2490939e+10 | T88: مخازن قیر اصفهان | U88: 371000 | V88: 30143750000 | W88: 370270 | X88: 30084437500 | Y88: 0 | Z88: =P88-V88 -> 2.3471885e+09
A89: 88109 | B89: 14021800052 | C89: 1/155001 | D89: 1402/09/11 | E89: استان مرکزی | F89: 18 | G89: 1402/09/21 | H89: 8078 | I89: جهاد نصر استان مرکزی | J89: قیر PG 64-22 | K89: 74541 | L89: 500000 | M89: 496800 | N89: =M89*K89 -> 37031968800 | O89: =N89*9% -> 3332877192 | P89: =O89+N89 -> 40364845992 | Q89: 65000 | R89: =P89/Q89 -> 620997.63 | S89: =Q89*R89 -> 40364845992 | T89: مخازن قیر اصفهان | U89: 496800 | V89: 40365000000 | W89: 496800 | X89: 40365000000 | Y89: 0 | Z89: 0
A90: 88123 | B90: 14021800053 | C90: 1/162851 | D90: 1402/09/21 | E90: استان خراسان رضوی | F90: 18 | G90: 1402/09/25 | H90: 9935 | I90: عمرانی قدرت ایمان کویر | J90: قیر PG 64-16 | K90: 74541 | L90: 266590 | M90: 266590 | N90: =M90*K90 -> 19871885190 | O90: =N90*9% -> 1.7884697e+09 | P90: =O90+N90 -> 2.1660355e+10 | Q90: 65000 | R90: =P90/Q90 -> 333236.23 | S90: =Q90*R90 -> 2.1660355e+10 | T90: مخازن قیر اصفهان | U90: 266590 | V90: 40614437500 | W90: 266590 | X90: 40614437500 | Y90: حواله های 14021800053-14021800056 | Z90: 0
A91: 88123 | B91: 14021800056 | C91: 1/162851 | D91: 1402/09/21 | E91: استان خراسان رضوی | F91: 18 | G91: 1402/10/06 | H91: 9935 | I91: عمرانی قدرت ایمان کویر | J91: قیر PG 64-16 | K91: 74541 | L91: 233410 | M91: 233280 | N91: =M91*K91 -> 17388924480 | O91: =N91*9% -> 1.5650032e+09 | P91: =O91+N91 -> 1.8953928e+10 | Q91: 65000 | R91: =P91/Q91 -> 291598.89 | S91: =Q91*R91 -> 1.8953928e+10 | T91: مخازن قیر اصفهان | U91: 233280 | V91: 0 | W91: 233280 | X91: 0 | Y91: حواله های 14021800053-14021800056 | Z91: 0
A92: 88122 | B92: 14021800054 | C92: 1/162021 | D92: 1402/09/20 | E92: استان کردستان | F92: 18 | G92: 1402/09/30 | H92: 8380 | I92: عمران پویش کردستان | J92: قیر PG 64-22 | K92: 74541 | L92: 143420 | M92: 143420 | N92: =M92*K92 -> 10690670220 | O92: =N92*9% -> 9.6216032e+08 | P92: =O92+N92 -> 1.1652831e+10 | Q92: 65000 | R92: =P92/Q92 -> 179274.32 | S92: =Q92*R92 -> 1.1652831e+10 | T92: مخازن قیر اصفهان | U92: 143420 | V92: 40565687500 | W92: 143420 | X92: 40565687500 | Y92: حواله های 14021800054-14021800055 | Z92: 0
A93: 88122 | B93: 14021800055 | C93: 1/162021 | D93: 1402/09/20 | E93: استان کردستان | F93: 18 | G93: 1402/10/06 | H93: 8380 | I93: عمران پویش کردستان | J93: قیر PG 64-22 | K93: 74541 | L93: 356580 | M93: 355850 | N93: =M93*K93 -> 26525414850 | O93: =N93*9% -> 2.3872873e+09 | P93: =O93+N93 -> 2.8912702e+10 | Q93: 65000 | R93: =P93/Q93 -> 444810.8 | S93: =Q93*R93 -> 2.8912702e+10 | T93: مخازن قیر اصفهان | U93: 355850 | V93: 0 | W93: 355850 | X93: 0 | Y93: حواله های 14021800054-14021800055 | Z93: 0
A94: 88216 | B94: 14021800058 | C94: 1/172726 | D94: 1402/10/09 | E94: استان خوزستان | F94: 18 | G94: 1402/10/11 | H94: 1351 | I94: زرین استحکام | J94: قیر PG 70-10 | K94: 74541 | L94: 500000 | M94: 499250 | N94: =M94*K94 -> 37214594250 | O94: =N94*9% -> 3.3493135e+09 | P94: =O94+N94 -> 4.0563908e+10 | Q94: 65000 | R94: =P94/Q94 -> 624060.12 | S94: =Q94*R94 -> 4.0563908e+10 | T94: مخازن قیر اصفهان | U94: 499250 | V94: 40564062500 | W94: 499250 | X94: 40564062500 | Y94: 0 | Z94: 0
A95: 87744 | B95: 14021800059 | C95: 1/172802 | D95: 1402/10/09 | E95: استان سیستان بلوچستان | F95: 18 | G95: 1402/10/12 | H95: 10518 | I95: دنابنیان بیرجند | J95: قیر PG 70-10 | K95: 74541 | L95: 500000 | M95: 495860 | N95: =M95*K95 -> 36961900260 | O95: =N95*9% -> 3.326571e+09 | P95: =O95+N95 -> 4.0288471e+10 | Q95: 65000 | R95: =P95/Q95 -> 619822.64 | S95: =Q95*R95 -> 4.0288471e+10 | T95: مخازن قیر اصفهان | U95: 495860 | V95: 40288625000 | W95: 495860 | X95: 40288625000 | Y95: 0 | Z95: 0
A96: 87368 | B96: 14021800061 | C96: 1/182212 | D96: 1402/10/23 | E96: استان فارس | F96: 18 | G96: 1402/10/26 | H96: 10445 | I96: سیویل تونل | J96: قیر PG 64-22 | K96: 74541 | L96: 500000 | M96: 499620 | N96: =M96*K96 -> 37242174420 | O96: =N96*9% -> 3.3517957e+09 | P96: =O96+N96 -> 4.059397e+10 | Q96: 65000 | R96: =P96/Q96 -> 624522.62 | S96: =Q96*R96 -> 4.059397e+10 | T96: مخازن قیر اصفهان | U96: 499620 | V96: 40594125000 | W96: 499620 | X96: 40594125000 | Y96: 0 | Z96: 0
A97: 89031 | B97: 14021800062 | C97: 1/186183 | D97: 1402/10/27 | E97: استان مرکزی | F97: 18 | G97: 1402/10/30 | H97: 8072 | I97: بنادر | J97: قیر PG 64-22 | K97: 74541 | L97: 500000 | M97: 499520 | N97: =M97*K97 -> 37234720320 | O97: =N97*9% -> 3.3511248e+09 | P97: =O97+N97 -> 4.0585845e+10 | Q97: 65000 | R97: =P97/Q97 -> 624397.62 | S97: =Q97*R97 -> 4.0585845e+10 | T97: مخازن قیر اصفهان | U97: 499520 | V97: 40586000000 | W97: 499520 | X97: 40586000000 | Y97: 0 | Z97: 0
A98: 88174 | B98: 14021800063 | C98: 1/186196 | D98: 1402/10/27 | E98: استان مرکزی | F98: 18 | G98: 1402/11/02 | H98: 8078 | I98: جهاد نصر استان مرکزی | J98: قیر PG 64-22 | K98: 74541 | L98: 1000000 | M98: 990970 | N98: =M98*K98 -> 73867894770 | O98: =N98*9% -> 6.6481105e+09 | P98: =O98+N98 -> 8.0516005e+10 | Q98: 65000 | R98: =P98/Q98 -> 1238707.8 | S98: =Q98*R98 -> 8.0516005e+10 | T98: مخازن قیر اصفهان | U98: 990970 | V98: 80516312500 | W98: 990970 | X98: 80516312500 | Y98: 0 | Z98: 0
A99: 88060 | B99: 14021800064 | C99: 1/180500 | D99: 1402/10/19 | E99: استان مرکزی | F99: 18 | G99: 1402/11/03 | H99: 8078 | I99: جهاد نصر استان مرکزی | J99: قیر PG 64-22 | K99: 74541 | L99: 500000 | M99: 495890 | N99: =M99*K99 -> 36964136490 | O99: =N99*9% -> 3.3267723e+09 | P99: =O99+N99 -> 4.0290909e+10 | Q99: 65000 | R99: =P99/Q99 -> 619860.13 | S99: =Q99*R99 -> 4.0290909e+10 | T99: مخازن قیر اصفهان | U99: 495890 | V99: 40291062500 | W99: 495890 | X99: 40291062500 | Y99: 0 | Z99: 0
A100: 88384 | B100: 14021800065 | C100: 1/184517 | D100: 1402/10/25 | E100: استان سیستان بلوچستان | F100: 18 | G100: 1402/11/15 | H100: 8004 | I100: ساختمانی تیراژ | J100: قیر PG 70-10 | K100: 74541 | L100: 500000 | M100: 498170 | N100: =M100*K100 -> 37134089970 | O100: =N100*9% -> 3.3420681e+09 | P100: =O100+N100 -> 4.0476158e+10 | Q100: 65000 | R100: =P100/Q100 -> 622710.12 | S100: =Q100*R100 -> 4.0476158e+10 | T100: مخازن قیر اصفهان | U100: 498170 | V100: 40476312500 | W100: 498170 | X100: 40476312500 | Y100: 0 | Z100: 0
A101: 89712 | B101: 14021800066 | C101: 1/198465 | D101: 1402/11/16 | E101: استان اصفهان | F101: 18 | G101: 1402/11/16 | H101: 7013 | I101: راه و ساختمان اسکان ده | J101: قیر PG 64-22 | K101: 74541 | L101: 500000 | M101: 498450 | N101: =M101*K101 -> 37154961450 | O101: =N101*9% -> 3.3439465e+09 | P101: =O101+N101 -> 4.0498908e+10 | Q101: 65000 | R101: =P101/Q101 -> 623060.12 | S101: =Q101*R101 -> 4.0498908e+10 | T101: مخازن قیر اصفهان | U101: 498450 | V101: 40499062500 | W101: 498450 | X101: 40499062500 | Y101: 0 | Z101: 0
A102: 89030 | B102: 14021800067 | C102: 1/189154 | D102: 1402/11/02 | E102: استان سیستان بلوچستان | F102: 18 | G102: 1402/11/18 | H102: 8004 | I102: ساختمانی تیراژ | J102: قیر PG 70-10 | K102: 74541 | L102: 500000 | M102: 498900 | N102: =M102*K102 -> 37188504900 | O102: =N102*9% -> 3346965441 | P102: =O102+N102 -> 40535470341 | Q102: 65000 | R102: =P102/Q102 -> 623622.62 | S102: =Q102*R102 -> 40535470341 | T102: مخازن قیر اصفهان | U102: 498900 | V102: 40535625000 | W102: 498900 | X102: 40535625000 | Y102: 0 | Z102: 0
A103: 89609 | B103: 14021800068 | C103: 1/198553 | D103: 1402/11/16 | E103: استان چهارمحال بختیاری | F103: 18 | G103: 1402/11/28 | H103: 1351 | I103: زرین استحکام | J103: قیر PG 58-22 | K103: 74541 | L103: 500000 | M103: 498190 | N103: =M103*K103 -> 37135580790 | O103: =N103*9% -> 3.3422023e+09 | P103: =O103+N103 -> 4.0477783e+10 | Q103: 65000 | R103: =P103/Q103 -> 622735.12 | S103: =Q103*R103 -> 4.0477783e+10 | T103: مخازن قیر اصفهان | U103: 498190 | V103: 40477937500 | W103: 498190 | X103: 40477937500 | Y103: 0 | Z103: 0
A104: 89833 | B104: 14021800069 | C104: 1/203596 | D104: 1402/11/25 | E104: استان چهارمحال بختیاری | F104: 18 | G104: 1402/12/08 | H104: 9131 | I104: عمرانی و صنعتی پارس گرما | J104: قیر PG 64-22 | K104: 74541 | L104: 60000 | M104: 59330 | N104: =M104*K104 -> 4422517530 | O104: =N104*9% -> 3.9802658e+08 | P104: =O104+N104 -> 4.8205441e+09 | Q104: 65000 | R104: =P104/Q104 -> 74162.217 | S104: =Q104*R104 -> 4.8205441e+09 | T104: مخازن قیر اصفهان | U104: 59330 | V104: 4820562500 | W104: 59330 | X104: 4820562500 | Y104: 0 | Z104: 0
A105: 89233 | B105: 14021800070 | C105: 1/202788 | D105: 1402/11/24 | E105: استان یزد | F105: 18 | G105: 1402/12/08 | H105: 4062 | I105: ناورود | J105: قیر PG 64-22 | K105: 74541 | L105: 400000 | M105: 398940 | N105: =M105*K105 -> 29737386540 | O105: =N105*9% -> 2.6763648e+09 | P105: =O105+N105 -> 3.2413751e+10 | Q105: 65000 | R105: =P105/Q105 -> 498673.1 | S105: =Q105*R105 -> 3.2413751e+10 | T105: مخازن قیر اصفهان | U105: 398940 | V105: 32413875000 | W105: 398940 | X105: 32413875000 | Y105: 0 | Z105: 0
A106: 88966 | B106: 14021800071 | C106: 1/214063 | D106: 1402/12/12 | E106: استان لرستان | F106: 18 | G106: 1402/12/14 | H106: 9527 | I106: آبادگران راه خرم | J106: قیر PG 64-22 | K106: 74541 | L106: 350000 | M106: 348820 | N106: =M106*K106 -> 26001391620 | O106: =N106*9% -> 2.3401252e+09 | P106: =O106+N106 -> 2.8341517e+10 | Q106: 65000 | R106: =P106/Q106 -> 436023.34 | S106: =Q106*R106 -> 2.8341517e+10 | T106: مخازن قیر اصفهان | U106: 348820 | V106: 28341625000 | W106: 348820 | X106: 28341625000 | Y106: 0 | Z106: 0
A107: 90573 | B107: 14021800072 | C107: 1/223348 | D107: 1402/12/23 | E107: استان قزوین | F107: 18 | G107: 1402/12/26 | H107: 8072 | I107: بنادر | J107: قیر PG 64-22 | K107: 74541 | L107: 143440 | M107: 143440 | N107: =M107*K107 -> 10692161040 | O107: =N107*9% -> 9.6229449e+08 | P107: =O107+N107 -> 1.1654456e+10 | Q107: 65000 | R107: =P107/Q107 -> 179299.32 | S107: =Q107*R107 -> 1.1654456e+10 | T107: مخازن قیر اصفهان | U107: 143440 | V107: 40545375000 | W107: 143440 | X107: 40545375000 | Y107: ارزش افزوده 9% | Z107: 0
A108: 90573 | B108: 14021800072 | C108: 1/223348 | D108: 1402/12/23 | E108: استان قزوین | F108: 18 | G108: 1402/12/26 | H108: 8072 | I108: بنادر | J108: قیر PG 64-22 | K108: 73863 | L108: 356560 | M108: 355580 | N108: =M108*K108 -> 26264205540 | O108: =N108*10% -> 2626420554 | P108: =O108+N108 -> 28890626094 | Q108: 65000 | R108: =P108/Q108 -> 444471.17 | S108: =Q108*R108 -> 28890626094 | T108: مخازن قیر اصفهان | U108: 355580 | V108: 0 | W108: 355580 | X108: 0 | Y108: ارزش افزوده 10% | Z108: 0
A109: 90471 | B109: 14031800001 | C109: 1/224175 | D109: 1402/12/26 | E109: استان یزد | F109: 18 | G109: 1403/01/27 | H109: 4062 | I109: ناورود | J109: قیر PG 64-22 | K109: 73863 | L109: 400000 | M109: 399050 | N109: =M109*K109 -> 29475030150 | O109: =N109*10% -> 2947503015 | P109: =O109+N109 -> 32422533165 | Q109: 65000 | R109: =P109/Q109 -> 498808.2 | S109: =Q109*R109 -> 32422533165 | T109: مخازن قیر اصفهان | U109: 399050 | V109: 32422812500 | W109: 399050 | X109: 32422812500 | Y109: 0 | Z109: 0
A110: 89668 | B110: 14031800002 | C110: 1/224172 | D110: 1402/12/26 | E110: استان خراسان رضوی | F110: 18 | G110: 1403/01/27 | H110: 4060 | I110: توس رادیه | J110: قیر PG 64-22 | K110: 73863 | L110: 500000 | M110: 499600 | N110: =M110*K110 -> 36901954800 | O110: =N110*10% -> 3690195480 | P110: =O110+N110 -> 40592150280 | Q110: 65000 | R110: =P110/Q110 -> 624494.62 | S110: =Q110*R110 -> 40592150280 | T110: مخازن قیر اصفهان | U110: 499600 | V110: 40592500000 | W110: 499600 | X110: 40592500000 | Y110: 0 | Z110: 0
A111: 87619 | B111: 14031800003 | C111: 1/5357 | D111: 1403/01/25 | E111: استان سیستان بلوچستان | F111: 18 | G111: 1403/02/01 | H111: 8354 | I111: راهسازی فولاد راه زاهدان | J111: قیر PG 70-10 | K111: 73863 | L111: 250000 | M111: 248820 | N111: =M111*K111 -> 18378591660 | O111: =N111*10% -> 1837859166 | P111: =O111+N111 -> 20216450826 | Q111: 65000 | R111: =P111/Q111 -> 311022.32 | S111: =Q111*R111 -> 20216450826 | T111: مخازن قیر اصفهان | U111: 248820 | V111: 20216625000 | W111: 248820 | X111: 20216625000 | Y111: 0 | Z111: 0
A112: 90899 | B112: 14031800004 | C112: 1/12047 | D112: 1403/02/04 | E112: استان قزوین | F112: 18 | G112: 1403/02/08 | H112: 8072 | I112: بنادر | J112: قیر PG 64-22 | K112: 73863 | L112: 500000 | M112: 500000 | N112: =M112*K112 -> 36931500000 | O112: =N112*10% -> 3693150000 | P112: =O112+N112 -> 40624650000 | Q112: 65000 | R112: =P112/Q112 -> 624994.62 | S112: =Q112*R112 -> 40624650000 | T112: مخازن قیر اصفهان | U112: 500000 | V112: 40625000000 | W112: 500000 | X112: 40625000000 | Y112: 0 | Z112: 0
A113: 90356 | B113: 14031800005 | C113: 1/226879 | D113: 1402/12/28 | E113: استان اصفهان | F113: 18 | G113: 1403/02/10 | H113: 11083 | I113: تضامنی محمدعطاردیان وهمکاران | J113: قیر PG 64-22 | K113: 73863 | L113: 500000 | M113: 495620 | N113: =M113*K113 -> 36607980060 | O113: =N113*10% -> 3660798006 | P113: =O113+N113 -> 40268778066 | Q113: 65000 | R113: =P113/Q113 -> 619519.66 | S113: =Q113*R113 -> 40268778066 | T113: مخازن قیر اصفهان | U113: 495620 | V113: 40269125000 | W113: 495620 | X113: 40269125000 | Y113: 0 | Z113: 0
A114: 90358 | B114: 14031800006 | C114: 1/224171 | D114: 1402/12/26 | E114: استان کردستان | F114: 18 | G114: 1403/02/11 | H114: 8380 | I114: عمران پویش کردستان | J114: قیر PG 64-22 | K114: 73863 | L114: 500000 | M114: 499160 | N114: =M114*K114 -> 36869455080 | O114: =N114*10% -> 3686945508 | P114: =O114+N114 -> 40556400588 | Q114: 65000 | R114: =P114/Q114 -> 623944.62 | S114: =Q114*R114 -> 40556400588 | T114: مخازن قیر اصفهان | U114: 499160 | V114: 40556750000 | W114: 499160 | X114: 40556750000 | Y114: 0 | Z114: 0
A115: 92076 | B115: 14031800007 | C115: 1/23799 | D115: 1403/02/24 | E115: استان اصفهان | F115: 18 | G115: 1403/02/25 | H115: 7013 | I115: راه و ساختمان اسکان ده | J115: قیر PG 64-22 | K115: 73863 | L115: 500000 | M115: 499070 | N115: =M115*K115 -> 36862807410 | O115: =N115*10% -> 3686280741 | P115: =O115+N115 -> 40549088151 | Q115: 65000 | R115: =P115/Q115 -> 623832.13 | S115: =Q115*R115 -> 40549088151 | T115: مخازن قیر اصفهان | U115: 499070 | V115: 40549437500 | W115: 499070 | X115: 40549437500 | Y115: 0 | Z115: 0
A116: 91839 | B116: 14031800008 | C116: 1/23834 | D116: 1403/02/23 | E116: استان لرستان | F116: 18 | G116: 1403/02/26 | H116: 8072 | I116: بنادر | J116: قیر PG 64-22 | K116: 73863 | L116: 500000 | M116: 499190 | N116: =M116*K116 -> 36871670970 | O116: =N116*10% -> 3687167097 | P116: =O116+N116 -> 40558838067 | Q116: 65000 | R116: =P116/Q116 -> 623982.12 | S116: =Q116*R116 -> 40558838067 | T116: مخازن قیر اصفهان | U116: 499190 | V116: 40559187500 | W116: 499190 | X116: 40559187500 | Y116: 0 | Z116: 0
A117: 93613 | B117: 14031800009 | C117: 1/40620 | D117: 1403/03/22 | E117: استان کرمان | F117: 18 | G117: 1403/03/23 | H117: 10161 | I117: محورگسترشرق | J117: قیر PG 64-16 | K117: 73863 | L117: 1000000 | M117: 999890 | N117: =M117*K117 -> 73854875070 | O117: =N117*10% -> 7385487507 | P117: =O117+N117 -> 81240362577 | Q117: 65000 | R117: =P117/Q117 -> 1249851.7 | S117: =Q117*R117 -> 81240362577 | T117: مخازن قیر اصفهان | U117: 999890 | V117: 81241062500 | W117: 999890 | X117: 81241062500 | Y117: 0 | Z117: 0
A118: 92360 | B118: 14031800010 | C118: 1/30719 | D118: 1403/03/05 | E118: استان سیستان بلوچستان | F118: 18 | G118: 1403/04/02 | H118: 8004 | I118: ساختمانی تیراژ | J118: قیر PG 70-10 | K118: 73863 | L118: 500000 | M118: 499840 | N118: =M118*K118 -> 36919681920 | O118: =N118*10% -> 3691968192 | P118: =O118+N118 -> 40611650112 | Q118: 65000 | R118: =P118/Q118 -> 624794.62 | S118: =Q118*R118 -> 40611650112 | T118: انبار قیر بندرعباس(پلنت خلیج فارس) | U118: 499840 | V118: 40612000000 | W118: 499840 | X118: 40612000000 | Y118: 0 | Z118: 0
A119: 92408 | B119: 14031800011 | C119: 1/30736 | D119: 1403/03/05 | E119: استان سیستان بلوچستان | F119: 18 | G119: 1403/04/02 | H119: 8004 | I119: ساختمانی تیراژ | J119: قیر PG 70-10 | K119: 73863 | L119: 500000 | M119: 498950 | N119: =M119*K119 -> 36853943850 | O119: =N119*10% -> 3685394385 | P119: =O119+N119 -> 40539338235 | Q119: 65000 | R119: =P119/Q119 -> 623682.13 | S119: =Q119*R119 -> 40539338235 | T119: انبار قیر بندرعباس(پلنت خلیج فارس) | U119: 498950 | V119: 40539687500 | W119: 498950 | X119: 40539687500 | Y119: 0 | Z119: 0
A120: 95105 | B120: 14031800012 | C120: 1/48145 | D120: 1403/04/04 | E120: استان اصفهان | F120: 18 | G120: 1403/04/04 | H120: 7013 | I120: راه و ساختمان اسکان ده | J120: قیر PG 64-22 | K120: 73863 | L120: 500000 | M120: 497900 | N120: =M120*K120 -> 36776387700 | O120: =N120*10% -> 3677638770 | P120: =O120+N120 -> 40454026470 | Q120: 65000 | R120: =P120/Q120 -> 622369.64 | S120: =Q120*R120 -> 40454026470 | T120: مخازن قیر اصفهان | U120: 497900 | V120: 40454375000 | W120: 497900 | X120: 40454375000 | Y120: 0 | Z120: 0
... A138: 97701 | B138: 14031800031 | C138: 1/80984 | D138: 1403/05/29 | E138: استان کرمانشاه | F138: 18 | G138: 1403/06/17 | H138: 10626 | I138: ساختمانی بنا و تمدن پارت | J138: قیر PG 64-22 | K138: 73863 | L138: 300000 | M138: 297660 | N138: =M138*K138 -> 21986060580 | O138: =N138*10% -> 2198606058 | P138: =O138+N138 -> 24184666638 | Q138: 65000 | R138: =P138/Q138 -> 372071.79 | S138: =Q138*R138 -> 24184666638 | T138: مخازن قیر اصفهان | U138: 297660 | V138: 24184875000 | W138: 297660 | X138: 24184875000 | Y138: 0 | Z138: 0
A139: 90771 | B139: 14031800033 | C139: 1/84278 | D139: 1403/06/05 | E139: استان خراسان جنوبی | F139: 18 | G139: 1403/06/19 | H139: 8833 | I139: طاقدیس سازه توس | J139: قیر PG 64-22 | K139: 79545 | L139: 500000 | M139: 499420 | N139: =M139*K139 -> 39726363900 | O139: =N139*10% -> 3972636390 | P139: =O139+N139 -> 43699000290 | Q139: 70000 | R139: =P139/Q139 -> 624271.43 | S139: =Q139*R139 -> 43699000290 | T139: مخازن قیر اصفهان | U139: 499420 | V139: 40577875000 | W139: 499420 | X139: 40577875000 | Y139: 0 | Z139: =P139-V139 -> 3121125290
...

Sheet وکیوم
B1: مبلغ وکیوم باتوم تخصیصی ارگانهای دولتی از محل قانون بودجه سال 1402
B2: سازمان | C2: مراحل | D2: شماره نامه | E2: تاریخ نامه | F2: مبلغ وکیوم تخصیصی | G2: اصفهان | H2: بندرعباس | I2: توضیحات
B3: ساخت | C3: اول | D3: 182762/870 | E3: 1402/09/30 | F3: 1625000000000 | G3: =F3 -> 1625000000000 | H3: 0 | I3: آذرجذب شد
C4: دوم | D4: 188557/870 | E4: 1402/10/18 | F4: 650000000000 | G4: =F4 -> 650000000000 | H4: 0 | I4: دی جذب شد
C5: سوم | D5: 13007/870 | E5: 1403/02/03 | F5: 455000000000 | G5: =F5 -> 455000000000 | H5: 0 | I5: تیر جذب شد
C6: چهارم | D6: 66907/870 | E6: 1403/05/03 | F6: 975000000000 | G6: =F6 -> 975000000000 | H6: 0 | I6: مرداد جذب شد
C7: جمع | F7: =SUM(F3:F6) -> 3705000000000 | G7: =SUM(G3:G6) -> 3705000000000 | H7: =SUM(H3:H4) -> 0
B8: راهداری | C8: اول | D8: 182756/870 | E8: 1402/09/30 | F8: 975000000000 | G8: =F8 -> 975000000000 | H8: 0 | I8: آذرجذب شد
C9: دوم | D9: 185277/870 | E9: 1402/09/30 | F9: 533567125000 | G9: =F9 -> 533567125000 | H9: 0 | I9: دی جذب شد
C10: سوم | D10: 190922/870 | E10: 1402/10/20 | F10: 736060000000 | G10: =F10 -> 736060000000 | H10: 0 | I10: دی جذب شد
C11: چهارم | D11: 196858/870 | E11: 1402/10/30 | F11: 703495000000 | G11: =F11 -> 703495000000 | H11: 0 | I11: دی جذب شد
C12: پنجم | D12: 202774/870 | E12: 1402/11/08 | F12: 216093280000 | G12: =F12 -> 216093280000 | H12: 0 | I12: بهمن جذب شد
C13: ششم | D13: 222591/870 | E13: 1402/12/08 | F13: 263622125000 | G13: =F13 -> 263622125000 | H13: 0 | I13: اسفند جذب شد
C14: هفتم | D14: 212977/870 | E14: 1402/11/23 | F14: 28055625000 | G14: =F14 -> 28055625000 | H14: 0 | I14: اسفند جذب شد
C15: هشتم | D15: 213086/870 | E15: 1402/11/23 | F15: 40339780000 | G15: =F15 -> 40339780000 | H15: 0 | I15: اسفند جذب شد
C16: نهم | D16: 222578/870 | E16: 1402/12/08 | F16: 148590000000 | G16: =F16 -> 148590000000 | H16: 0 | I16: اسفند جذب شد
C17: دهم | D17: 32766/870 | E17: 1402/12/22 | F17: 128751155000 | G17: =F17 -> 128751155000 | H17: 0 | I17: اسفند جذب شد
C18: یازدهم | D18: 232902/870 | E18: 1402/12/22 | F18: 108612530000 | G18: =F18 -> 108612530000 | H18: 0 | I18: اسفند جذب شد
C19: دوازدهم | D19: 238446/870 | E19: 1402/12/28 | F19: 256927905000 | G19: =F19 -> 256927905000 | H19: 0 | I19: اسفند جذب شد
C20: سیزدهم | D20: 238737/870 | E20: 1402/12/28 | F20: 167705655000 | G20: =F20 -> 167705655000 | H20: 0 | I20: اسفند جذب شد
... C24: هفدهم | D24: 53843/870 | E24: 1403/04/10 | F24: 318390280000 | G24: =F24 -> 318390280000 | H24: 0 | I24: تیر جذب شد
C25: هجدهم | D25: 53485/870 | E25: 1403/04/10 | F25: 234823875000 | G25: 234823875000 | H25: 0 | I25: تیر جذب شد
C26: نوزدهم | D26: 60361/870 | E26: 1403/04/20 | F26: 478181405000 | G26: =F26 -> 478181405000 | H26: 0 | I26: تیر جذب شد
C27: بیستم | D27: 60418/870 | E27: 1403/04/20 | F27: 285767625000 | G27: =F27 -> 285767625000 | H27: 0 | I27: تیر جذب شد
C28: بیست و یک | D28: 68688/870 | E28: 1403/05/08 | F28: 488678905000 | G28: =F28 -> 488678905000 | H28: 0 | I28: مرداد جذب شد
C29: بیست و دو | D29: 68858/870 | E29: 1403/05/08 | F29: 314591875000 | G29: =F29 -> 314591875000 | H29: 0 | I29: مرداد جذب شد
C30: جمع | F30: =SUM(F8:F29) -> 6612562515000 | G30: =SUM(G8:G29) -> 6612562515000 | H30: 0
B31: نوسازی مدارس | C31: اول | D31: 195645/870 | E31: 1402/10/27 | F31: 49999950000 | G31: =F31 -> 49999950000 | H31: 0 | I31: بهمن جذب شد
C32: دوم | D32: 18947/870 | E32: 1403/02/10 | F32: 49999950000 | G32: =F32 -> 49999950000 | H32: 0 | I32: تیر جذب شد
C33: سوم | D33: 76218/870 | E33: 1403/05/21 | F33: 29999970000 | G33: =F33 -> 29999970000 | H33: 0 | I33: شهریور جذب شد | K33: 6500بود ولی 70000تومنی حساب شد
C34: چهارم | D34: 86218/870 | E34: 1403/06/10 | F34: 23999990000 | G34: =F34 -> 23999990000 | H34: 0 | I34: شهریور جذب شد | K34: وکیوم 7 تومنی
C35: پنجم | D35: 122307/870 | E35: 1403/08/07 | F35: 79380280000 | G35: =F35 -> 79380280000 | H35: 0 | I35: مهر جذب شد | K35: وکیوم 7 تومنی
C36: جمع | F36: =SUM(F31:F35) -> 233380140000 | G36: =SUM(G31:G35) -> 233380140000 | H36: 0
B37: بنیاد مسکن | C37: اول | D37: 208222/870 | E37: 1402/11/15 | F37: 284375000000 | G37: =F37 -> 284375000000 | H37: 0 | I37: بهمن جذب شد
C38: اول | D38: 208231/870 | E38: 1402/11/15 | F38: 142910000000 | G38: =F38 -> 142910000000 | H38: 0 | I38: بهمن جذب شد
C39: اول | D39: 208236/870 | E39: 1402/11/15 | F39: 43355000000 | G39: =F39 -> 43355000000 | H39: 0 | I39: بهمن جذب شد
C40: اول | D40: 208243/870 | E40: 1402/11/15 | F40: 80405000000 | G40: =F40 -> 80405000000 | H40: 0 | I40: بهمن جذب شد
C41: اول | D41: 208081/870 | E41: 1402/11/15 | F41: 313950000000 | G41: =F41 -> 313950000000 | H41: 0 | I41: بهمن جذب شد
C42: اول | D42: 208227/870 | E42: 1402/11/15 | F42: 389179999000 | G42: 0 | H42: =F42 -> 389179999000 | I42: اسفند جذب شد
C43: دوم | D43: 5813/870 | E43: 1403/01/21 | F43: 240500000000 | G43: =F43 -> 240500000000 | H43: 0 | I43: تیر جذب شد
C44: دوم | D44: 6393/870 | E44: 1403/01/25 | F44: 88140000000 | G44: =F44 -> 88140000000 | H44: 0 | I44: تیر جذب شد
C45: دوم | D45: 6308/870 | E45: 1403/01/25 | F45: 143000000000 | G45: =F45 -> 143000000000 | H45: 0 | I45: تیر جذب شد
C46: دوم | D46: 6394/870 | E46: 1403/01/25 | F46: 84500000000 | G46: =F46 -> 84500000000 | H46: 0 | I46: تیر جذب شد
C47: دوم | D47: 5808/870 | E47: 1403/01/21 | F47: 91130000000 | G47: =F47 -> 91130000000 | H47: 0 | I47: تیر جذب شد
C48: دوم | D48: 5804/870 | E48: 1403/01/21 | F48: 32500000000 | G48: =F48 -> 32500000000 | H48: 0 | I48: تیر جذب شد
C49: دوم | D49: 5733/870 | E49: 1403/01/21 | F49: 65000000000 | G49: =F49 -> 65000000000 | H49: 0 | I49: تیر جذب شد
C50: سوم | D50: 79067/870 | E50: 1403/05/27 | F50: 344500000000 | G50: =F50 -> 344500000000 | H50: 0 | I50: مرداد جذب شد
C51: سوم | D51: 79116/870 | E51: 1403/05/27 | F51: 83980000000 | G51: =F51 -> 83980000000 | H51: 0 | I51: مرداد جذب شد
C52: سوم | D52: 79080/870 | E52: 1403/05/27 | F52: 275860000000 | G52: =F52 -> 275860000000 | H52: 0 | I52: مرداد جذب شد
C53: سوم | D53: 79140/870 | E53: 1403/05/27 | F53: 65000000000 | G53: =F53 -> 65000000000 | H53: 0 | I53: مرداد جذب شد
C54: سوم | D54: 79149/870 | E54: 1403/05/27 | F54: 39520000000 | G54: =F54 -> 39520000000 | H54: 0 | I54: مرداد جذب شد
C55: سوم | D55: 79041/870 | E55: 1403/05/27 | F55: 15795000000 | G55: =F55 -> 15795000000 | H55: 0 | I55: مرداد جذب شد
C56: چهارم | D56: 86832/870 | E56: 1403/06/10 | F56: 28000000000 | G56: =F56 -> 28000000000 | H56: 0 | I56: شهریور جذب شد | K56: وکیوم 7 تومنی
C57: چهارم | D57: 86827/870 | E57: 1403/06/10 | F57: 49000000000 | G57: =F57 -> 49000000000 | H57: 0 | I57: شهریور جذب شد | K57: وکیوم 7 تومنی
C58: چهارم | D58: 86821/870 | E58: 1403/06/10 | F58: 60060000000 | G58: =F58 -> 60060000000 | H58: 0 | I58: شهریور جذب شد | K58: وکیوم 7 تومنی
C59: چهارم | D59: 86856/870 | E59: 1403/06/10 | F59: 38500000000 | G59: =F59 -> 38500000000 | H59: 0 | I59: شهریور جذب شد | K59: وکیوم 7 تومنی
C60: پنجم | D60: 119274/870 | E60: 1403/08/02 | F60: 1459352300000 | G60: =F60 -> 1459352300000 | H60: 0 | I60: مهر جذب شد | K60: وکیوم 7 تومنی
C61: جمع | F61: =SUM(F37:F60) -> 4458512299000 | G61: =SUM(G37:G60) -> 4069332300000 | H61: =SUM(H37:H60) -> 389179999000
B62: معاونت برنامه ریزی | C62: اول | D62: 237778/870 | E62: 1402/12/28 | F62: 24734905000 | G62: =F62 -> 24734905000 | H62: 0 | I62: اسفند جذب شد
C63: دوم | D63: 26014/870 | E63: 1403/02/24 | F63: 27448655000 | G63: =F63 -> 27448655000 | H63: 0 | I63: تیر جذب شد
C64: سوم | D64: 73726/870 | E64: 1403/05/16 | F64: 1725480575000 | G64: =F64 -> 1725480575000 | H64: 0 | I64: مرداد جذب شد
C65: چهارم | D65: 73685/870 | E65: 1403/05/16 | F65: 1199519360000 | G65: =F65 -> 1199519360000 | H65: 0 | I65: مرداد جذب شد
C66: پنجم | D66: 73971/870 | E66: 1403/05/16 | F66: 650000000000 | G66: =F66 -> 650000000000 | H66: 0 | I66: مرداد جذب شد
C67: ششم | D67: 73979/870 | E67: 1403/05/16 | F67: 324999990000 | G67: 0 | H67: =F67 -> 324999990000 | I67: مهر جذب شد | K67: وکیوم 7 تومنی
C68: هفتم | D68: 94457/870 | E68: 1403/06/25 | F68: 441933590000 | G68: =F68 -> 441933590000 | H68: 0 | I68: شهریور جذب شد | K68: وکیوم 7 تومنی
C69: جمع | F69: =SUM(F62:F68) -> 4394117075000 | G69: =SUM(G62:G68) -> 4069117085000 | H69: =SUM(H62:H68) -> 324999990000
B70: شهرداریها | C70: اول | D70: 2611/870 | E70: 1403/01/15 | F70: 28031250000 | G70: =F70 -> 28031250000 | H70: 0 | I70: فروردین جذب شد
C71: اول | D71: 2608/870 | E71: 1403/01/15 | F71: 170056250000 | G71: =F71 -> 170056250000 | H71: 0 | I71: فروردین جذب شد
C72: اول | D72: 2591/870 | E72: 1403/01/15 | F72: 297131250000 | G72: =F72 -> 297131250000 | H72: 0 | I72: فروردین جذب شد
C73: اول | D73: 2575/870 | E73: 1403/01/15 | F73: 156975000000 | G73: =F73 -> 156975000000 | H73: 0 | I73: فروردین جذب شد
C74: اول | D74: 2572/870 | E74: 1403/01/15 | F74: 682093750000 | G74: =F74 -> 682093750000 | H74: 0 | I74: فروردین جذب شد
C75: اول | D75: 2566/870 | E75: 1403/01/15 | F75: 226118750000 | G75: =F75 -> 226118750000 | H75: 0 | I75: تیر جذب شد
C76: اول | D76: 2545/870 | E76: 1403/01/15 | F76: 839068750000 | G76: =F76 -> 839068750000 | H76: 0 | I76: تیر جذب شد
C77: اول | D77: 2614/870 | E77: 1403/01/15 | F77: 222381250000 | G77: =F77 -> 222381250000 | H77: 0 | I77: فروردین جذب شد
C78: اول | D78: 2621/870 | E78: 1403/01/15 | F78: 198087500000 | G78: =F78 -> 198087500000 | H78: 0 | I78: تیر جذب شد
C79: اول | D79: 2653/870 | E79: 1403/01/15 | F79: 596131250000 | G79: 0 | H79: =F79 -> 596131250000 | I79: خردادوتیر جذب شد
C80: اول | D80: 2648/870 | E80: 1403/01/15 | F80: 848412500000 | G80: 0 | H80: =F80 -> 848412500000 | I80: تیرو مرداد جذب شد
C81: اول | D81: 2643/870 | E81: 1403/01/15 | F81: 278443750000 | G81: 0 | H81: =F81 -> 278443750000 | I81: اردیبهشت جذب شد
C82: اول | D82: 2669/870 | E82: 1403/01/15 | F82: 282181250000 | G82: 0 | H82: =F82 -> 282181250000 | I82: اردیبهشت جذب شد
C83: اول | D83: 2697/870 | E83: 1403/01/15 | F83: 185006250000 | G83: 0 | H83: =F83 -> 185006250000 | I83: خرداد جذب شد
C84: اول | D84: 2638/870 | E84: 1403/01/15 | F84: 299000000000 | G84: 0 | H84: =F84 -> 299000000000 | I84: اردیبهشت و خرداد جذب شد
C85: اول | D85: 12219/870 | E85: 1403/02/02 | F85: 9343750000 | G85: =F85 -> 9343750000 | H85: 0 | I85: تیر جذب شد
C86: اول | D86: 12216/870 | E86: 1403/02/02 | F86: 7475000000 | G86: =F86 -> 7475000000 | H86: 0 | I86: تیر جذب شد
C87: اول | D87: 12211/870 | E87: 1403/02/02 | F87: 5550000000 | G87: =F87 -> 5550000000 | H87: 0 | I87: تیر جذب شد
C88: اول | D88: 12208/870 | E88: 1403/02/02 | F88: 18687500000 | G88: =F88 -> 18687500000 | H88: 0 | I88: تیر جذب شد
C89: دوم | D89: 26092/870 | E89: 1403/02/24 | F89: 162581250000 | G89: =F89 -> 162581250000 | H89: 0 | I89: تیر جذب شد
C90: دوم | D90: 26087/870 | E90: 1403/02/24 | F90: 208243750000 | G90: =F90 -> 208243750000 | H90: 0 | I90: تیر جذب شد
C91: دوم | D91: 26082/870 | E91: 1403/02/24 | F91: 216775000000 | G91: =F91 -> 216775000000 | H91: 0 | I91: تیر جذب شد
C92: دوم | D92: 26076/870 | E92: 1403/02/24 | F92: 604606250000 | G92: =F92 -> 604606250000 | H92: 0 | I92: تیر جذب شد
C93: دوم | D93: 26058/870 | E93: 1403/02/24 | F93: 379356250000 | G93: =F93 -> 379356250000 | H93: 0 | I93: تیر جذب شد
C94: دوم | D94: 26120/870 | E94: 1403/02/24 | F94: 788612500000 | G94: =F94 -> 788612500000 | H94: 0 | I94: تیر جذب شد
C95: دوم | D95: 26019/870 | E95: 1403/02/24 | F95: 190612500000 | G95: =F95 -> 190612500000 | H95: 0 | I95: تیر جذب شد
C96: دوم | D96: 26101/870 | E96: 1403/02/24 | F96: 29900000000 | G96: =F96 -> 29900000000 | H96: 0 | I96: تیر جذب شد
C97: دوم | D97: 26103/870 | E97: 1403/02/24 | F97: 280312500000 | G97: =F97 -> 280312500000 | H97: 0 | I97: تیر جذب شد
C98: دوم | D98: 26184/870 | E98: 1403/02/24 | F98: 272837500000 | G98: 0 | H98: =F98 -> 272837500000 | I98: شهریور جذب شد
C99: دوم | D99: 26176/870 | E99: 1403/02/24 | F99: 57931250000 | G99: 0 | H99: =F99 -> 57931250000 | I99: شهریور جذب شد
C100: دوم | D100: 26180/870 | E100: 1403/02/24 | F100: 760581250000 | G100: 0 | H100: =F100 -> 760581250000 | I100: تیرمردادشهریورجذب شد
C101: دوم | D101: 26162/870 | E101: 1403/02/24 | F101: 70200000000 | G101: 0 | H101: =F101 -> 70200000000 | I101: مهر جذب شد | K101: ارجاع به تقوی مدیر تولید | M101: وکیوم 7 تومنی
C102: دوم | D102: 26170/870 | E102: 1403/02/24 | F102: 491481250000 | G102: 0 | H102: =F102 -> 491481250000 | I102: شهریور و مهر جذب شد | K102: ارجاع به تقوی مدیر تولید | M102: وکیوم 7 تومنی
C103: سوم و چهارم | D103: 136168/870 | E103: 1403/08/28 | F103: 1769844370000 | G103: =F103 -> 1769844370000 | H103: 0 | I103: آبان جذب شد | L103: وکیوم 7 تومنی
...

Sheet سبا
A1: شماره بايگاني در شركت قيرساز | B1: شناسه | C1: دستگاه اجرايي طرح | D1: نام پيمانكار | E1: حواله صادره | F1: مبلغ (ريال) | G1: قيرتحويل شده | H1: مبلغ (ريال) | I1: پالايشگاه | J1: شركت قيرساز | K1: اعلام وصول كارشناس دستگاه قرارداد | L1: رئیس دستگاه | M1: مبلغ (ريال) | N1: نام پيمانكار حمل | O1: كارخانه تخليه آسفالت
A2: 14021900308 | B2: 87924 | C2: سازمان راهداري و حمل و نقل جاده اي | D2: فرحان سازان كرمان | E2: 300 | F2: 24375000000 | G2: 297.67 | H2: 24185687500 | I2: شرکت پالايش نفت اصفهان | J2: شركت نفت جي(اصفهان) | K2: 297670 | L2: 297670 | M2: 24185687500 | N2: شركت حمل قير مذاب و فرآورده هاي نفتي جم گستر ترابر يزد | O2: كارخانه عامريه( محور گستر)
A3: 14021900307 | B3: 87842 | C3: سازمان راهداري و حمل و نقل جاده اي | D3: فرحان سازان كرمان | E3: 125 | F3: 10156250000 | G3: 123.03 | H3: 9996187500 | I3: شرکت پالايش نفت اصفهان | J3: شركت نفت جي(اصفهان) | K3: 123030 | L3: 123030 | M3: 9996187500 | N3: شركت حمل قير مذاب و فرآورده هاي نفتي جم گستر ترابر يزد | O3: كارخانه عامريه( محور گستر)
A4: 14021900342 | B4: 87854 | C4: سازمان راهداري و حمل و نقل جاده اي | D4: راه باند كوير كرمان | E4: 150 | F4: 12187500000 | G4: 148.34 | H4: 12052625000 | I4: شرکت پالايش نفت اصفهان | J4: شركت نفت جي(اصفهان) | K4: 148340 | L4: 148340 | M4: 12052625000 | N4: پورباقري ترابر | O4: كارخانه آسفالت شركت راه باند كوير كرمان
A5: 14021800023 | B5: 87824 | C5: شركت ساخت و توسعه زيربناهاي حمل و نقل كشور | D5: راه و ساختمان اسكان ده | E5: 500 | F5: 40625000000 | G5: 497.65 | H5: 40434062500 | I5: شرکت پالايش نفت اصفهان | J5: شركت نفت جي(اصفهان) | K5: 497650 | L5: 497650 | M5: 40434062500 | N5: محمد رضا شهبازي | O5: راهسازي اسكان ده
A6: 14031900137 | B6: 93371 | C6: سازمان راهداري و حمل و نقل جاده اي | D6: تعاوني برآيند سازه اسپادانا | E6: 200 | F6: 16250000000 | G6: 199.11 | H6: 16177687500 | I6: شرکت پالايش نفت اصفهان | J6: شركت نفت جي(اصفهان) | K6: 199110 | L6: 199110 | M6: 16177687500 | N6: محمد رضا شهبازي | O6: كارخانه آسفالت نويد نور سپاهان
A7: 14031900138 | B7: 93382 | C7: سازمان راهداري و حمل و نقل جاده اي | D7: شركت نويد عمران نصف جهان | E7: 200 | F7: 16250000000 | G7: 198.78 | H7: 16150875000 | I7: شرکت پالايش نفت اصفهان | J7: شركت نفت جي(اصفهان) | K7: 198780 | L7: 198780 | M7: 16150875000 | N7: محمد رضا شهبازي | O7: كارخانه آسفالت نويد نور سپاهان
A8: 14021900350 | B8: 85669 | C8: سازمان راهداري و حمل و نقل جاده اي | D8: پارس ايوان پوريا | E8: 250 | F8: 20312500000 | G8: 247.39 | H8: 20100437500 | I8: شرکت پالايش نفت اصفهان | J8: شركت نفت جي(اصفهان) | K8: 247390 | L8: 247390 | M8: 20100437500 | N8: پورباقري ترابر | O8: كارخانه تخليه آسفالت شاداب
A9: 14031900334 | B9: 100319 | C9: سازمان راهداري _ راه روستايي | D9: ميناب سامان جنوب | E9: 300 | F9: 26250000000 | G9: 298.81 | H9: 26145875000 | I9: شرکت پالايش نفت بندرعباس | J9: شركت نفت جي(بندرعباس) | K9: 298810 | L9: 298810 | M9: 26145875000 | N9: حاصليان ترابر جنوب | O9: كارخانه آسفالت شركت پي و پل جنوب 2
A10: 14021900183 | B10: 85672 | C10: سازمان راهداري و حمل و نقل جاده اي | D10: نويد نور سپاهان | E10: 500 | F10: 40625000000 | G10: 499.26 | H10: 40564875000 | I10: شرکت پالايش نفت اصفهان | J10: شركت نفت جي(اصفهان) | K10: 499260 | L10: 499260 | M10: 40564875000 | N10: محمد رضا شهبازي | O10: كارخانه آسفالت نويد نور سپاهان
A11: 14021900176 | B11: 85655 | C11: سازمان راهداري و حمل و نقل جاده اي | D11: گل راه نقش جهان | E11: 400 | F11: 32500000000 | G11: 399.14 | H11: 32430125000 | I11: شرکت پالايش نفت اصفهان | J11: شركت نفت جي(اصفهان) | K11: 399140 | L11: 399140 | M11: 32430125000 | N11: پيمانكاري ابوالقاسم علي عابدي | O11: كارخانه گل راه نقش جهان
A12: 14021900216 | B12: 85662 | C12: سازمان راهداري و حمل و نقل جاده اي | D12: راهسازي راه كوب كرمان | E12: 200 | F12: 16250000000 | G12: 199.63 | H12: 16219937500 | I12: شرکت پالايش نفت اصفهان | J12: شركت نفت جي(اصفهان) | K12: 199630 | L12: 199630 | M12: 16219937500 | N12: محمد شهبا | O12: كرمان،كارخانه آسفالت راهداران راور
A13: 14031900041 | B13: 90876 | C13: سازمان راهداري _ راه روستايي | D13: شركت آرمه پي سپاهان | E13: 200 | F13: 16250000000 | G13: 198.04 | H13: 16090750000 | I13: شرکت پالايش نفت اصفهان | J13: شركت نفت جي(اصفهان) | K13: 198040 | L13: 198040 | M13: 16090750000 | N13: فريبرز مظلوم | O13: ياسين گنج فلارد
... A437: 14031000014 | B437: 94220 | C437: شركت بازآفريني شهري ايران | D437: اداره كل راه و شهرسازي چهارمحال‌وبختياري | E437: 50 | F437: 4062500000 | G437: 49.46 | H437: 4018625000 | I437: شرکت پالايش نفت اصفهان | J437: شركت نفت جي(اصفهان) | K437: 49460 | L437: 49460 | M437: 4018625000 | N437: حمل و نقل وطن ترابر پارسيان | O437: احمديه چليچه
B438: 94230 | C438: شركت مادرتخصصي عمران شهرهاي جديد | D438: توسعه خدمات مهندسي آب و خاك پارس | E438: 335 | F438: 27218750000 | G438: 0 | H438: 0 | I438: شرکت پالايش نفت اصفهان | J438: شركت نفت جي(اصفهان) | K438: 0 | L438: 0 | M438: 0 | N438: آزاد مهر | O438: اداره راهداري چابهار
A439: 14031000019 | B439: 94199 | C439: شركت بازآفريني شهري ايران | D439: اداره كل راه و شهرسازي چهارمحال‌وبختياري | E439: 55 | F439: 4468750000 | G439: 54.54 | H439: 4431375000 | I439: شرکت پالايش نفت اصفهان | J439: شركت نفت جي(اصفهان) | K439: 54540 | L439: 54540 | M439: 4431375000 | N439: فريبرز مظلوم | O439: احمديه چليچه
A440: 14031900153 | B440: 94219 | C440: سازمان راهداري _ راه روستايي | D440: احداث راه رامش | E440: 83 | F440: 6743750000 | G440: 82.4 | H440: 6695000000 | I440: شرکت پالايش نفت اصفهان | J440: شركت نفت جي(اصفهان) | K440: 82400 | L440: 82400 | M440: 6695000000 | N440: فريبرز مظلوم | O440: اتحاد زرين مهر
A441: 14031000013 | B441: 94165 | C441: شركت بازآفريني شهري ايران | D441: اداره كل راه و شهرسازي چهارمحال‌وبختياري | E441: 99 | F441: 8043750000 | G441: 98.21 | H441: 7979562500 | I441: شرکت پالايش نفت اصفهان | J441: شركت نفت جي(اصفهان) | K441: 98210 | L441: 98210 | M441: 7979562500 | N441: حمل و نقل وطن ترابر پارسيان | O441: احمديه چليچه
A442: 14031000007 | B442: 94170 | C442: شركت بازآفريني شهري ايران | D442: اداره كل راه و شهرسازي چهارمحال‌وبختياري | E442: 208 | F442: 16900000000 | G442: 207.1 | H442: 16826875000 | I442: شرکت پالايش نفت اصفهان | J442: شركت نفت جي(اصفهان) | K442: 207090 | L442: 207090 | M442: 16826062500 | N442: فريبرز مظلوم | O442: شهرداري شهركرد
A443: 14031000003 | B443: 94159 | C443: شركت بازآفريني شهري ايران | D443: اداره كل راه و شهرسازي چهارمحال‌وبختياري | E443: 260 | F443: 21125000000 | G443: 257.61 | H443: 20930812500 | I443: شرکت پالايش نفت اصفهان | J443: شركت نفت جي(اصفهان) | K443: 257610 | L443: 257610 | M443: 20930812500 | N443: فريبرز مظلوم | O443: ياسين گنج فلارد
A444: 14031000012 | B444: 94162 | C444: شركت بازآفريني شهري ايران | D444: اداره كل راه و شهرسازي چهارمحال‌وبختياري | E444: 90 | F444: 7312500000 | G444: 89.29 | H444: 7254812500 | I444: شرکت پالايش نفت اصفهان | J444: شركت نفت جي(اصفهان) | K444: 89290 | L444: 89290 | M444: 7254812500 | N444: فريبرز مظلوم | O444: كارخانه آسفالت شركت زرين استحكام
A445: 14031900195 | B445: 94122 | C445: سازمان راهداري و حمل و نقل جاده اي | D445: برج سازان شاهوار | E445: 400 | F445: 32500000000 | G445: 398.58 | H445: 32384625000 | I445: شرکت پالايش نفت اصفهان | J445: شركت نفت جي(اصفهان) | K445: 398580 | L445: 398580 | M445: 32384625000 | N445: شركت حمل قير مذاب و فرآورده هاي نفتي جم گستر ترابر يزد | O445: كارخانه آسفالت وليعصرتربت حيدريه
A446: 14031900170 | B446: 94098 | C446: سازمان راهداري و حمل و نقل جاده اي | D446: راهسازان فراز پي پايتخت | E446: 250 | F446: 20312500000 | G446: 249.91 | H446: 20305187500 | I446: شرکت پالايش نفت بندرعباس | J446: شركت نفت جي(بندرعباس) | K446: 249910 | L446: 249910 | M446: 20305187500 | N446: حاصليان ترابر جنوب | O446: كارخنه آسفالت شركت پي و پل جنوب
A447: 14031900163 | B447: 94113 | C447: سازمان راهداري و حمل و نقل جاده اي | D447: بهين راه گهر | E447: 178 | F447: 14462500000 | G447: 175.91 | H447: 14292687500 | I447: شرکت پالايش نفت اصفهان | J447: شركت نفت جي(اصفهان) | K447: 175910 | L447: 175910 | M447: 14292687500 | N447: محمدي راه ايرانيان | O447: سپند راه آداك
A448: 14021900336 | B448: 88797 | C448: سازمان راهداري _ راه روستايي | D448: آرشين سازه افلاك بوتيا | E448: 50 | F448: 4062500000 | G448: 49.2 | H448: 3997500000 | I448: شرکت پالايش نفت اصفهان | J448: شركت نفت جي(اصفهان) | K448: 49200 | L448: 49200 | M448: 3997500000 | N448: ايمان بريانيان | O448: كارخانه كرمان پتك
A449: 14021900118 | B449: 84308 | C449: سازمان راهداري و حمل و نقل جاده اي | D449: شركت پي تاك بنا | E449: 249 | F449: 20231250000 | G449: 244.86 | H449: 19894875000 | I449: شرکت پالايش نفت اصفهان | J449: شركت نفت جي(اصفهان) | K449: 244860 | L449: 244860 | M449: 19894875000 | N449: حسن محمدي | O449: كارخانه آسفالت پيرمحمدي
A450: 14021900161 | B450: 84250 | C450: سازمان راهداري و حمل و نقل جاده اي | D450: تعاوني برآيند سازه اسپادانا | E450: 80 | F450: 6500000000 | G450: 78.96 | H450: 6415500000 | I450: شرکت پالايش نفت اصفهان | J450: شركت نفت جي(اصفهان) | K450: 78960 | L450: 78960 | M450: 6415500000 | N450: محمد رضا شهبازي | O450: كارخانه آسفالت نويد نور سپاهان
... A599: 14031800026 | B599: 96515 | C599: شركت ساخت و توسعه زيربناهاي حمل و نقل كشور | D599: نازمكان جنوب | E599: 500 | F599: 40625000000 | G599: 499.88 | H599: 40615250000 | I599: شرکت پالايش نفت اصفهان | J599: شركت نفت جي(اصفهان) | K599: 499880 | L599: 499880 | M599: 40615250000 | N599: صفر عزيزي | O599: كارخانه آسفالت ناز مكان جنوب
B600: 96487 | C600: شركت مادرتخصصي عمران شهرهاي جديد | D600: ساختماني تيراژ | E600: 99.38 | F600: 8074625000 | G600: 0 | H600: 0 | I600: شرکت پالايش نفت بندرعباس | J600: شركت نفت جي(بندرعباس) | K600: 0 | L600: 0 | M600: 0 | N600: تدبير ترابر خليج فارس | O600: اداره راهداري چابهار
A601: 14031800018 | B601: 96489 | C601: شركت ساخت و توسعه زيربناهاي حمل و نقل كشور | D601: راه و ساختمان اسكان ده | E601: 1000 | F601: 81250000000 | G601: 995.82 | H601: 80910375000 | I601: شرکت پالايش نفت اصفهان | J601: شركت نفت جي(اصفهان) | K601: 995820 | L601: 995820 | M601: 80910375000 | N601: محمد رضا شهبازي | O601: كارخانه آسفلت شركت اسكان ده (كمشچه)
A602: 14031800029 | B602: 96498 | C602: شركت ساخت و توسعه زيربناهاي حمل و نقل كشور | D602: ساختماني تيراژ | E602: 435 | F602: 35343750000 | G602: 428.56 | H602: 34820500000 | I602: شرکت پالايش نفت اصفهان | J602: شركت نفت جي(اصفهان) | K602: 428560 | L602: 428560 | M602: 34820500000 | N602: حفاظ بار آذربايجان(فتاح زاده) | O602: اداره راهداري چابهار
A603: 14021900257 | B603: 86099 | C603: سازمان راهداري و حمل و نقل جاده اي | D603: پي و پل جنوب | E603: 100 | F603: 8125000000 | G603: 97.48 | H603: 7920250000 | I603: شرکت پالايش نفت اصفهان | J603: شركت نفت جي(اصفهان) | K603: 97480 | L603: 97480 | M603: 7920250000 | N603: حاصليان ترابر جنوب | O603: كارخنه آسفالت شركت پي و پل جنوب
A604: 14021900269 | B604: 86079 | C604: سازمان راهداري و حمل و نقل جاده اي | D604: سامان سازان راه دانش شرق | E604: 150 | F604: 12187500000 | G604: 149.51 | H604: 12147687500 | I604: شرکت پالايش نفت اصفهان | J604: شركت نفت جي(اصفهان) | K604: 149510 | L604: 149510 | M604: 12147687500 | N604: محمد رضا شهبازي | O604: كارخانه آسفالت هميار جي يزد
A605: 14021900255 | B605: 85965 | C605: سازمان راهداري و حمل و نقل جاده اي | D605: شركت آتيس عمران زاگرس | E605: 200 | F605: 16250000000 | G605: 199.25 | H605: 16189062500 | I605: شرکت پالايش نفت اصفهان | J605: شركت نفت جي(اصفهان) | K605: 199250 | L605: 199250 | M605: 16189062500 | N605: پيمانكاري مجيد پيرالي | O605: شركت دانه بندي همياران شهرداري هاي شازند
A606: 14031800014 | B606: 93745 | C606: شركت ساخت و توسعه زيربناهاي حمل و نقل كشور | D606: جهاد نصر سيستان و بلوچستان | E606: 500 | F606: 40625000000 | G606: 498.97 | H606: 40541312500 | I606: شرکت پالايش نفت اصفهان | J606: شركت نفت جي(اصفهان) | K606: 498970 | L606: 498970 | M606: 40541312500 | N606: فريدون خضرايي | O606: كارخانه آسفالت ناز مكان جنوب
A607: 14021900226 | B607: 85958 | C607: سازمان راهداري و حمل و نقل جاده اي | D607: ساخت راه سپاهان | E607: 150 | F607: 12187500000 | G607: 149.5 | H607: 12146875000 | I607: شرکت پالايش نفت اصفهان | J607: شركت نفت جي(اصفهان) | K607: 149500 | L607: 149500 | M607: 12146875000 | N607: پيمانكاري مجيد پيرالي | O607: كارخانه آسفالت پي سازه مهاجران
A608: 14021900228 | B608: 85950 | C608: سازمان راهداري و حمل و نقل جاده اي | D608: ساختماني اسكله دنا | E608: 300 | F608: 24375000000 | G608: 299.68 | H608: 24349000000 | I608: شرکت پالايش نفت اصفهان | J608: شركت نفت جي(اصفهان) | K608: 299680 | L608: 299680 | M608: 24349000000 | N608: سيامك نجفي | O608: كارخانه آسفالت نجيم محمدي _لار
A609: 14021900343 | B609: 85952 | C609: سازمان راهداري _ راه روستايي | D609: گسل سازان زاگرس | E609: 330 | F609: 26812500000 | G609: 328.07 | H609: 26655687500 | I609: شرکت پالايش نفت اصفهان | J609: شركت نفت جي(اصفهان) | K609: 328070 | L609: 328070 | M609: 26655687500 | N609: شركت تعاوني حمل و نقل ارم كوشا مهريزدان | O609: كارخانه شهرداري سعادت شهر
A610: 14021900245 | B610: 85955 | C610: سازمان راهداري و حمل و نقل جاده اي | D610: سيروان بتون غرب | E610: 250 | F610: 20312500000 | G610: 249.64 | H610: 20283250000 | I610: شرکت پالايش نفت اصفهان | J610: شركت نفت جي(اصفهان) | K610: 249640 | L610: 249640 | M610: 20283250000 | N610: پيمانكاري مجيد پيرالي | O610: شالوده راهان نويد
A611: 14021900212 | B611: 85938 | C611: سازمان راهداري و حمل و نقل جاده اي | D611: برش كوه آرياپارت | E611: 200 | F611: 16250000000 | G611: 199.88 | H611: 16240250000 | I611: شرکت پالايش نفت اصفهان | J611: شركت نفت جي(اصفهان) | K611: 199880 | L611: 199880 | M611: 16240250000 | N611: بلوچ پاسارگاد | O611: كارخانه آسفالت شركت دنا بنيان بيرجند(زابل_ زاهدان )
A612: 14031900081 | B612: 85939 | C612: سازمان راهداري و حمل و نقل جاده اي | D612: برج سازان شاهوار | E612: 200 | F612: 16250000000 | G612: 198.35 | H612: 16115937500 | I612: شرکت پالايش نفت بندرعباس | J612: شركت نفت جي(بندرعباس) | K612: 198350 | L612: 198350 | M612: 16115937500 | N612: شركت حمل قير مذاب و فرآورده هاي نفتي جم گستر ترابر يزد | O612: كارخانه آسفالت شركت برج سازان شاهوار
... A789: 14031900211 | B789: 95303 | C789: سازمان راهداري _ راه روستايي | D789: سازمان همياري شهرداريهاي استان يزد | E789: 403 | F789: 32743750000 | G789: 400.82 | H789: 32566625000 | I789: شرکت پالايش نفت اصفهان | J789: شركت نفت جي(اصفهان) | K789: 400820 | L789: 400820 | M789: 32566625000 | N789: محمد رضا شهبازي | O789: كارخانه آسفالت سازمان همياري شهرداريهاي استان يزد

Sheet گزارش شریف
A1: استان | B1: شماره درخواست | C1: تاریخ درخواست | D1: کد مرکز فروش | E1: شماره حواله | G1: تاریخ حواله | H1: نام مشتری | I1: کد مشتری | J1: نام کالا | K1: نرخ قرارداد | L1: مقدار حواله | M1: مقدار کل تحویل | N1: مبلغ تحویل | O1: ارزش افزوده | P1: مبلغ تحویل وارزش افزوده | Q1: وضعیت حواله | R1: تاریخ اعتبار حواله | S1: شماره رسید وجه | T1: تاریخ رسید وجه | U1: نام انبار | V1: کد انبار | W1: تحویل گیرنده | X1: آدرس تخلیه | Y1: شناسه حواله وزارت راه | Z1: از محل | AA1: شناسه درخواست سبا
A2: استان کرمان | B2: 1403/ص/500/1839 | C2: 1403/04/19 | D2: 10 | E2: 14031000001 | F2: =COUNTIF(E:E,E2) -> 1 | G2: 1403/04/24 | H2: اداره کل راه وشهرسازی کرمان | I2: 7034 | J2: قیر PG 64-22 | K2: 73863 | L2: 408000 | M2: 407340 | N2: =M2*K2 -> 30087354420 | O2: =N2*10% -> 3008735442 | P2: =O2+N2 -> 33096089862 | Q2: بسته شده | R2: 1403/05/22 | S2: کمیسیون فروش 776 - از محل بند ک بودجه 1402 | T2: 1403/04/24 | U2: مخازن قیر اصفهان | V2: 100 | W2: محمدرضا(1011ج89) قانعی | X2: تخلیه : استان کرمان کیلومتر20 جاده رفسنجان - یزد کارخانه آسفالت سازمان عمران شهرداری رفسنجان - کدپستی 7714713451 | Y2: 947570604 | Z2: وزارت راه و شهرسازی | AA2: 94757
A3: استان کرمان | B3: 1403/ص500/1837 | C3: 1403/04/19 | D3: 10 | E3: 14031000002 | F3: =COUNTIF(E:E,E3) -> 1 | G3: 1403/04/31 | H3: اداره کل راه وشهرسازی کرمان | I3: 7034 | J3: قیر PG 64-16 | K3: 73863 | L3: 451000 | M3: 450580 | N3: =M3*K3 -> 33281190540 | O3: =N3*10% -> 3328119054 | P3: =O3+N3 -> 36609309594 | Q3: بسته شده | R3: 1403/05/31 | S3: کمیسیون فروش 776 - از محل بند ک بودجه 1402 | T3: 1403/04/31 | U3: انبار قیر بندرعباس(پلنت خلیج فارس) | V3: 214 | W3: ترابر (4914036) پورباقری | X3: تخلیه : استان کرمان کیلومتر 17 محور بافت - سیرجان دو راهی گوغر- ارکان کارخانه آسفالت سیرجان عمران تداوم -کدپستی 7853165967 | Y3: 930790204 | Z3: وزارت راه و شهرسازی | AA3: 93079
A4: استان چهارمحال بختیاری | B4: 1403/ص/500/1629 | C4: 1403/04/19 | D4: 10 | E4: 14031000003 | F4: =COUNTIF(E:E,E4) -> 1 | G4: 1403/05/03 | H4: اداره کل راه و شهرسازی چهارمحال وبختیاری | I4: 7190 | J4: قیر PG 58-22 | K4: 73863 | L4: 260000 | M4: 257610 | N4: =M4*K4 -> 19027847430 | O4: =N4*10% -> 1902784743 | P4: =O4+N4 -> 20930632173 | Q4: بسته شده | R4: 1403/05/27 | S4: کمیسیون فروش 776 - از محل بند ک بودجه 1402 | T4: 1403/05/03 | U4: مخازن قیر اصفهان | V4: 100 | W4: فریبرز(1008ج89) مظلوم | X4: تخلیه- چهارمحال و بختیاری- لردگان- مال خلیفه روستای گنج- کارخانه آسفالت یاسین گنج فلارد- کدپستی: 8895384440 | Y4: 941595704 | Z4: وزارت راه و شهرسازی | AA4: 94159
A5: استان چهارمحال بختیاری | B5: 1403/ص/500/1630 | C5: 1403/04/19 | D5: 10 | E5: 14031000004 | F5: =COUNTIF(E:E,E5) -> 1 | G5: 1403/05/03 | H5: اداره کل راه و شهرسازی چهارمحال وبختیاری | I5: 7190 | J5: قیر PG 58-22 | K5: 73863 | L5: 100000 | M5: 98460 | N5: =M5*K5 -> 7272550980 | O5: =N5*10% -> 727255098 | P5: =O5+N5 -> 7999806078 | Q5: بسته شده | R5: 1403/05/27 | S5: کمیسیون فروش 776 - از محل بند ک بودجه 1402 | T5: 1403/05/03 | U5: مخازن قیر اصفهان | V5: 100 | W5: فریبرز(1008ج89) مظلوم | X5: تخلیه- چهارمحال و بختیاری- شهرستان کیار- شهر ناغان- ایذه 100 متر بعد از تونل ناغان سمت راست- کارخانه آسفالت اتحاد ناغان- کدپستی: 8883133871 | Y5: 945525204 | Z5: وزارت راه و شهرسازی | AA5: 94552
A6: استان چهارمحال بختیاری | B6: 1403/ص/500/1640 | C6: 1403/04/19 | D6: 10 | E6: 14031000005 | F6: =COUNTIF(E:E,E6) -> 1 | G6: 1403/05/03 | H6: اداره کل راه و شهرسازی چهارمحال وبختیاری | I6: 7190 | J6: قیر PG 58-22 | K6: 73863 | L6: 125000 | M6: 124990 | N6: =M6*K6 -> 9232136370 | O6: =N6*10% -> 923213637 | P6: =O6+N6 -> 10155350007 | Q6: بسته شده | R6: 1403/05/22 | S6: کمیسیون فروش 776 - از محل بند ک بودجه 1402 | T6: 1403/05/03 | U6: مخازن قیر اصفهان | V6: 100 | W6: وطن ترابرپارسیان(1961106) | X6: تخلیه- چهارمحال و بختیاری- شهرستان کیار- شهر ناغان- ایذه 100 متر بعد از تونل ناغان سمت راست- کارخانه آسفالت اتحاد ناغان- کدپستی: 8883133871 | Y6: 953650204 | Z6: وزارت راه و شهرسازی | AA6: 95365
A7: استان چهارمحال بختیاری | B7: 1403/ص/500/1631 | C7: 1403/04/19 | D7: 10 | E7: 14031000006 | F7: =COUNTIF(E:E,E7) -> 1 | G7: 1403/05/04 | H7: اداره کل راه و شهرسازی چهارمحال وبختیاری | I7: 7190 | J7: قیر PG 58-22 | K7: 73863 | L7: 60000 | M7: 58370 | N7: =M7*K7 -> 4311383310 | O7: =N7*10% -> 431138331 | P7: =O7+N7 -> 4742521641 | Q7: بسته شده | R7: 1403/05/23 | S7: کمیسیون فروش 776 - از محل بند ک بودجه 1402 | T7: 1403/05/04 | U7: مخازن قیر اصفهان | V7: 100 | W7: فریبرز(1008ج89) مظلوم | X7: تخلیه- چهارمحال و بختیاری- شهرکرد- جاده دانشگاه آزاد اسلامی اراضی منصوریه- کارخانه آسفالت شهرداری شهرکرد- کدپستی: 8813733540 | Y7: 942677904 | Z7: وزارت راه و شهرسازی | AA7: 94267
A8: استان چهارمحال بختیاری | B8: 1403/ص/500/1632 | C8: 1403/04/19 | D8: 10 | E8: 14031000007 | F8: =COUNTIF(E:E,E8) -> 1 | G8: 1403/05/04 | H8: اداره کل راه و شهرسازی چهارمحال وبختیاری | I8: 7190 | J8: قیر PG 58-22 | K8: 73863 | L8: 208000 | M8: 207100 | N8: =M8*K8 -> 15297027300 | O8: =N8*10% -> 1529702730 | P8: =O8+N8 -> 16826730030 | Q8: بسته شده | R8: 1403/05/23 | S8: کمیسیون فروش 776 - از محل بند ک بودجه 1402 | T8: 1403/05/04 | U8: مخازن قیر اصفهان | V8: 100 | W8: فریبرز(1008ج89) مظلوم | X8: تخلیه- چهارمحال و بختیاری- شهرکرد- جاده دانشگاه آزاد اسلامی اراضی منصوریه- کارخانه آسفالت شهرداری شهرکرد- کدپستی: 8813733540 | Y8: 941702604 | Z8: وزارت راه و شهرسازی | AA8: 94170
A9: استان چهارمحال بختیاری | B9: 1403/ص/500/1633 | C9: 1403/04/19 | D9: 10 | E9: 14031000008 | F9: =COUNTIF(E:E,E9) -> 1 | G9: 1403/05/04 | H9: اداره کل راه و شهرسازی چهارمحال وبختیاری | I9: 7190 | J9: قیر PG 58-22 | K9: 73863 | L9: 65000 | M9: 64740 | N9: =M9*K9 -> 4781890620 | O9: =N9*10% -> 478189062 | P9: =O9+N9 -> 5260079682 | Q9: بسته شده | R9: 1403/05/29 | S9: کمیسیون فروش 776 - از محل بند ک بودجه 1402 | T9: 1403/05/04 | U9: مخازن قیر اصفهان | V9: 100 | W9: محمدرضا(1029ج89) شهبازی | X9: تخلیه- چهارمحال و بختیاری- شهرکرد- جاده دانشگاه آزاد اسلامی اراضی منصوریه- کارخانه آسفالت شهرداری شهرکرد- کدپستی: 8813733540 | Y9: 942707104 | Z9: وزارت راه و شهرسازی | AA9: 94270
A10: استان چهارمحال بختیاری | B10: 1403/ص/500/1634 | C10: 1403/04/19 | D10: 10 | E10: 14031000009 | F10: =COUNTIF(E:E,E10) -> 1 | G10: 1403/05/04 | H10: اداره کل راه و شهرسازی چهارمحال وبختیاری | I10: 7190 | J10: قیر PG 58-22 | K10: 73863 | L10: 69000 | M10: 68170 | N10: =M10*K10 -> 5035240710 | O10: =N10*10% -> 503524071 | P10: =O10+N10 -> 5538764781 | Q10: بسته شده | R10: 1403/05/23 | S10: کمیسیون فروش 776 - از محل بند ک بودجه 1402 | T10: 1403/05/04 | U10: مخازن قیر اصفهان | V10: 100 | W10: فریبرز(1008ج89) مظلوم | X10: تخلیه- چهارمحال و بختیاری- شهرکرد- جاده دانشگاه آزاد اسلامی اراضی منصوریه- کارخانه آسفالت شهرداری شهرکرد- کدپستی: 8813733540 | Y10: 937816004 | Z10: وزارت راه و شهرسازی | AA10: 93781
A11: استان چهارمحال بختیاری | B11: 1403/ص/500/1638 | C11: 1403/04/19 | D11: 10 | E11: 14031000010 | F11: =COUNTIF(E:E,E11) -> 1 | G11: 1403/05/04 | H11: اداره کل راه و شهرسازی چهارمحال وبختیاری | I11: 7190 | J11: قیر PG 58-22 | K11: 73863 | L11: 48000 | M11: 46950 | N11: =M11*K11 -> 3467867850 | O11: =N11*10% -> 346786785 | P11: =O11+N11 -> 3814654635 | Q11: بسته شده | R11: 1403/05/23 | S11: کمیسیون فروش 776 - از محل بند ک بودجه 1402 | T11: 1403/05/04 | U11: مخازن قیر اصفهان | V11: 100 | W11: فریبرز(1008ج89) مظلوم | X11: تخلیه- چهارمحال و بختیاری- شهرکرد- جاده دانشگاه آزاد اسلامی اراضی منصوریه- کارخانه آسفالت شهرداری شهرکرد- کدپستی: 8813733540 | Y11: 947213004 | Z11: وزارت راه و شهرسازی | AA11: 94721
A12: استان چهارمحال بختیاری | B12: 1403/ص/500/1641 | C12: 1403/04/19 | D12: 10 | E12: 14031000011 | F12: =COUNTIF(E:E,E12) -> 1 | G12: 1403/05/04 | H12: اداره کل راه و شهرسازی چهارمحال وبختیاری | I12: 7190 | J12: قیر PG 58-22 | K12: 73863 | L12: 88000 | M12: 87010 | N12: =M12*K12 -> 6426819630 | O12: =N12*10% -> 642681963 | P12: =O12+N12 -> 7069501593 | Q12: بسته شده | R12: 1403/05/23 | S12: کمیسیون فروش 776 - از محل بند ک بودجه 1402 | T12: 1403/05/04 | U12: مخازن قیر اصفهان | V12: 100 | W12: فریبرز(1008ج89) مظلوم | X12: تخلیه- چهارمحال و بختیاری- سامان- جاده شهرکرد به سامان نرسیده به پلیس راه سامان جاده طرح عمان- کارخانه آسفالت نسیم سامان- کدپستی: 8851679776 | Y12: 943031104 | Z12: وزارت راه و شهرسازی | AA12: 94303
A13: استان چهارمحال بختیاری | B13: 1403/ص/500/1625 | C13: 1403/04/19 | D13: 10 | E13: 14031000012 | F13: =COUNTIF(E:E,E13) -> 1 | G13: 1403/05/06 | H13: اداره کل راه و شهرسازی چهارمحال وبختیاری | I13: 7190 | J13: قیر PG 58-22 | K13: 73863 | L13: 90000 | M13: 89290 | N13: =M13*K13 -> 6595227270 | O13: =N13*10% -> 659522727 | P13: =O13+N13 -> 7254749997 | Q13: بسته شده | R13: 1403/05/25 | S13: کمیسیون فروش 776 - از محل بند ک بودجه 1402 | T13: 1403/05/06 | U13: مخازن قیر اصفهان | V13: 100 | W13: فریبرز(1008ج89) مظلوم | X13: تخلیه: چهارمحال و بختیاری- جاده اصفهان- شهرکرد قبل از تونل اول گردنه رخ- کارخانه آسفالت شرکت زرین استحکام- کدپستی: 8896174774 | Y13: 941623004 | Z13: وزارت راه و شهرسازی | AA13: 94162
... A36: استان کرمانشاه | B36: 1403/ص500/2610 | C36: 1403/06/05 | D36: 10 | E36: 14031000035 | F36: =COUNTIF(E:E,E36) -> 1 | G36: 1403/06/18 | H36: اداره کل راه و شهرسازی کرمانشاه | I36: 4109 | J36: قیر PG 64-22 | K36: 79545 | L36: 200000 | M36: 199290 | N36: =M36*K36 -> 15852523050 | O36: =N36*10% -> 1585252305 | P36: =O36+N36 -> 17437775355 | Q36: بسته شده | R36: 1403/06/27 | S36: کمیسیون فروش 776 - از محل بند ک بودجه 1402 | T36: 1403/06/18 | U36: مخازن قیر اصفهان | V36: 100 | W36: علی اصغر(2842019) حاجیلوئی | X36: تخلیه : استان کرمانشاه شهرصحنه کارخانه آسفالت شهرداری صحنه -کدپستی 6748134220 | Y36: 950645305 | Z36: وزارت راه و شهرسازی | AA36: 95064
A37: استان کرمان | B37: 1403/ص/500/2816 | C37: 1403/06/19 | D37: 10 | E37: 14031000036 | F37: =COUNTIF(E:E,E37) -> 1 | G37: 1403/06/21 | H37: اداره کل راه وشهرسازی کرمان | I37: 7034 | J37: قیر PG 64-22 | K37: 79545 | L37: 445000 | M37: 440490 | N37: =M37*K37 -> 35038777050 | O37: =N37*10% -> 3503877705 | P37: =O37+N37 -> 38542654755 | Q37: بسته شده | R37: 1403/06/30 | S37: کمیسیون فروش 776 - از محل بند ک بودجه 1402 | T37: 1403/06/21 | U37: مخازن قیر اصفهان | V37: 100 | W37: محمدرضا(1011ج89) قانعی | X37: تخلیه : استان کرمان کیلومتر20 جاده رفسنجان - یزد کارخانه آسفالت سازمان عمران شهرداری رفسنجان - کدپستی 7714713451 | Y37: 992302306 | AA37: 99230
A38: استان کرمان | B38: 44027 | C38: 1402/03/27 | D38: 18 | E38: 14021800004 | F38: =COUNTIF(E:E,E38) -> 1 | G38: 1402/03/29 | H38: ناورود | I38: 4062 | J38: قیر PG 64-22 | K38: 74541 | L38: 400000 | M38: 399220 | N38: =M38*K38 -> 29758258020 | O38: =N38*9% -> 2.6782432e+09 | P38: =O38+N38 -> 3.2436501e+10 | Q38: بسته شده | R38: 1402/04/22 | S38: از محل تفاهمنامه شماره 1/40251 مورخ 1402/03/21-بودجه 1402 | T38: 1402/03/29 | U38: مخازن قیر اصفهان | V38: 100 | W38: سیداحمد(3843011) فتاح زاده | X38: تخلیه-یزد-کارگاه هرات-هرابرجان-شرکت ناورود-کدپستی:8987163680 | Y38: بودجه 1402 | Z38: شرکت ساخت و توسعه راهها | AA38: 84131
A39: استان یزد | B39: 1/45157 | C39: 1402/03/28 | D39: 18 | E39: 14021800005 | F39: =COUNTIF(E:E,E39) -> 1 | G39: 1402/03/29 | H39: راه و ساختمان اسکان ده | I39: 7013 | J39: قیر PG 64-22 | K39: 74541 | L39: 500000 | M39: 497580 | N39: =M39*K39 -> 37090110780 | O39: =N39*9% -> 3.33811e+09 | P39: =O39+N39 -> 4.0428221e+10 | Q39: بسته شده | R39: 1402/04/22 | S39: از محل تفاهمنامه شماره 1/40251 مورخ 1402/03/21-بودجه 1402 | T39: 1402/03/29 | U39: مخازن قیر اصفهان | V39: 100 | W39: محمدرضا(1029ج89) شهبازی | X39: تخلیه-یزد-اردکان-کارخانه آسفالت شرکت اسکان ده-کدپستی:8959157369 | Y39: بودجه 1402 | Z39: شرکت ساخت و توسعه راهها | AA39: 84129
A40: استان خراسان رضوی | B40: 1/44061 | C40: 1402/03/27 | D40: 18 | E40: 14021800006 | F40: =COUNTIF(E:E,E40) -> 1 | G40: 1402/03/29 | H40: مهندسی آب وخاک قدس رضوی | I40: 9534 | J40: قیر PG 64-22 | K40: 74541 | L40: 500000 | M40: 500000 | N40: =M40*K40 -> 37270500000 | O40: =N40*9% -> 3354345000 | P40: =O40+N40 -> 40624845000 | Q40: بسته شده | R40: 1402/04/22 | S40: از محل تفاهمنامه شماره 1/40251 مورخ 1402/03/21-بودجه 1402 | T40: 1402/03/29 | U40: مخازن قیر اصفهان | V40: 100 | W40: جواد(1841072) حسینی پوریا | X40: تخلیه-خراسان رضوی-خواف-بخش سنگان-کارخانه آسفالت شرکت آب و خاک قدس رضوی-کد پستی9564130002 | Y40: بودجه 1402 | Z40: شرکت ساخت و توسعه راهها | AA40: 84285
A41: استان سیستان بلوچستان | B41: 1/45863 | C41: 1402/03/29 | D41: 18 | E41: 14021800007 | F41: =COUNTIF(E:E,E41) -> 1 | G41: 1402/03/30 | H41: ساختمانی گلومک سازه | I41: 10164 | J41: قیر PG 70-10 | K41: 74541 | L41: 500000 | M41: 500000 | N41: =M41*K41 -> 37270500000 | O41: =N41*9% -> 3354345000 | P41: =O41+N41 -> 40624845000 | Q41: بسته شده | R41: 1402/05/03 | S41: از محل تفاهمنامه شماره 1/40251 مورخ 1402/03/21-بودجه 1402 | T41: 1402/03/30 | U41: مخازن قیر اصفهان | V41: 100 | W41: ترابر (4914036) پورباقری | X41: تخلیه-کرمان-کیلومتر 70 جاده زاهدان-بم-شرکت گلومک سازه-کد پستی9831615741 | Y41: بودجه 1402 | Z41: شرکت ساخت و توسعه راهها | AA41: 84339
A42: استان کرمان | B42: 1/43987 | C42: 1402/03/27 | D42: 18 | E42: 14021800008 | F42: =COUNTIF(E:E,E42) -> 1 | G42: 1402/03/31 | H42: محورگسترشرق | I42: 10161 | J42: قیر PG 64-16 | K42: 74541 | L42: 500000 | M42: 490340 | N42: =M42*K42 -> 36550433940 | O42: =N42*9% -> 3.2895391e+09 | P42: =O42+N42 -> 3.9839973e+10 | Q42: بسته شده | R42: 1402/04/24 | S42: از محل تفاهمنامه شماره 1/40251 مورخ 1402/03/21-بودجه 1402 | T42: 1402/03/31 | U42: مخازن قیر اصفهان | V42: 100 | W42: فریدون(4844003) خضرائی | X42: تخلیه- کرمان کیلومتر 22 جاده سیرجان شیراز - شرکت محور گستر شرق-کدپستی 7814177001 | Y42: بودجه 1402 | Z42: شرکت ساخت و توسعه راهها | AA42: 84286
A43: استان سیستان بلوچستان | B43: 1/45720 | C43: 1402/03/29 | D43: 18 | E43: 14021800009 | F43: =COUNTIF(E:E,E43) -> 1 | G43: 1402/03/31 | H43: ساختمانی راهسازی کیهان راه شرق | I43: 8679 | J43: قیر PG 70-10 | K43: 74541 | L43: 500000 | M43: 498630 | N43: =M43*K43 -> 37168378830 | O43: =N43*9% -> 3.3451541e+09 | P43: =O43+N43 -> 4.0513533e+10 | Q43: بسته شده | R43: 1402/04/24 | S43: از محل تفاهمنامه شماره 1/40251 مورخ 1402/03/21-بودجه 1402 | T43: 1402/03/31 | U43: مخازن قیر اصفهان | V43: 100 | W43: امین (1911102) نظام دوست | X43: تخلیه-سیستان و بلوچستان-کارخانه آسفالت شرکت ساختمانی راهسازی کیهان راه شرق-کدپستی 9863110880 | Y43: بودجه 1402 | Z43: شرکت ساخت و توسعه راهها | AA43: 84340
A44: استان سیستان بلوچستان | B44: 1/45741 | C44: 1402/03/29 | D44: 18 | E44: 14021800010 | F44: =COUNTIF(E:E,E44) -> 1 | G44: 1402/03/31 | H44: جهادنصرسیستان وبلوچستان | I44: 11026 | J44: قیر PG 70-10 | K44: 74541 | L44: 500000 | M44: 488910 | N44: =M44*K44 -> 36443840310 | O44: =N44*9% -> 3.2799456e+09 | P44: =O44+N44 -> 3.9723786e+10 | Q44: بسته شده | R44: 1402/05/02 | S44: از محل تفاهمنامه شماره 1/40251 مورخ 1402/03/21-بودجه 1402 | T44: 1402/03/31 | U44: مخازن قیر اصفهان | V44: 100 | W44: فریدون(4844003) خضرائی | X44: تخلیه-سیستان و بلوچستان-کارخانه آسفالت جهاد نصر سیستان و بلوچستان-کدپستی 9839170004 | Y44: بودجه 1402 | Z44: شرکت ساخت و توسعه راهها | AA44: 84343
A45: استان چهارمحال بختیاری | B45: 1/44074 | C45: 1402/03/27 | D45: 18 | E45: 14021800011 | F45: =COUNTIF(E:E,E45) -> 1 | G45: 1402/04/01 | H45: زرین استحکام | I45: 1351 | J45: قیر PG 58-22 | K45: 74541 | L45: 500000 | M45: 499000 | N45: =M45*K45 -> 37195959000 | O45: =N45*9% -> 3347636310 | P45: =O45+N45 -> 40543595310 | Q45: بسته شده | R45: 1402/05/20 | S45: از محل تفاهمنامه شماره 1/40251 مورخ 1402/03/21-بودجه 1402 | T45: 1402/04/01 | U45: مخازن قیر اصفهان | V45: 100 | W45: فریبرز(1008ج89) مظلوم | X45: تخلیه-چهارمحال و بختیاری-شرکت زرین استحکام-کدپستی 8834199174 | Y45: بودجه 1402 | Z45: شرکت ساخت و توسعه راهها | AA45: 84144
A46: استان سیستان بلوچستان | B46: 1/45725 | C46: 1402/03/29 | D46: 18 | E46: 14021800012 | F46: =COUNTIF(E:E,E46) -> 1 | G46: 1402/04/01 | H46: نازمکان جنوب | I46: 11551 | J46: قیر PG 70-10 | K46: 74541 | L46: 500000 | M46: 498880 | N46: =M46*K46 -> 37187014080 | O46: =N46*9% -> 3.3468313e+09 | P46: =O46+N46 -> 4.0533845e+10 | Q46: بسته شده | R46: 1402/04/25 | S46: از محل تفاهمنامه شماره 1/40251 مورخ 1402/03/21-بودجه 1402 | T46: 1402/04/01 | U46: مخازن قیر اصفهان | V46: 100 | W46: صفر(1006ج 89) عزیزی | X46: تخلیه-سیستان و بلوچستان-بعداز پلیس راه خاش-کارخانه آسفالت شرکت نازمکان جنوب-کدپستی 9815663448 | Y46: بودجه 1402 | Z46: شرکت ساخت و توسعه راهها | AA46: 84344
A47: استان سیستان بلوچستان | B47: 1/53066 | C47: 1402/04/07 | D47: 18 | E47: 14021800013 | F47: =COUNTIF(E:E,E47) -> 1 | G47: 1402/04/11 | H47: دنابنیان بیرجند | I47: 10518 | J47: قیر PG 70-10 | K47: 74541 | L47: 500000 | M47: 499280 | N47: =M47*K47 -> 37216830480 | O47: =N47*9% -> 3.3495147e+09 | P47: =O47+N47 -> 4.0566345e+10 | Q47: بسته شده | R47: 1402/05/04 | S47: از محل تفاهمنامه شماره 1/40251 مورخ 1402/03/21- بودجه 1402 | T47: 1402/04/11 | U47: مخازن قیر اصفهان | V47: 100 | W47: بلوچ پاسارگاد(5965002) | X47: تخلیه-سیستان و بلوچستان-محور زابل-زاهدان-پل شیله-کارخانه آسفالت دنا بنیان بیرجند- کدپستی 9866182101 | Y47: بودجه 1402 | Z47: شرکت ساخت و توسعه راهها | AA47: 84338
A48: استان چهارمحال بختیاری | B48: 1/45090 | C48: 1402/03/28 | D48: 18 | E48: 14021800014 | F48: =COUNTIF(E:E,E48) -> 1 | G48: 1402/04/18 | H48: زرین استحکام | I48: 1351 | J48: قیر PG 64-22 | K48: 74541 | L48: 500000 | M48: 498800 | N48: =M48*K48 -> 37181050800 | O48: =N48*9% -> 3346294572 | P48: =O48+N48 -> 40527345372 | Q48: بسته شده | R48: 1402/05/11 | S48: از محل تفاهمنامه شماره 1/40251 مورخ 1402/03/21- بودجه 1402 | T48: 1402/04/18 | U48: مخازن قیر اصفهان | V48: 100 | W48: فریبرز(1008ج89) مظلوم | X48: تخلیه-چهارمحال و بختیاری-شرکت زرین استحکام-کدپستی 8834199174 | Y48: بودجه 1402 | Z48: شرکت ساخت و توسعه راهها | AA48: 84312
A49: استان سیستان بلوچستان | B49: 1/53057 | C49: 1402/04/07 | D49: 18 | E49: 14021800015 | F49: =COUNTIF(E:E,E49) -> 1 | G49: 1402/04/19 | H49: ساختمانی گلومک سازه | I49: 10164 | J49: قیر PG 70-10 | K49: 74541 | L49: 64000 | M49: 55210 | N49: =M49*K49 -> 4115408610 | O49: =N49*9% -> 3.7038677e+08 | P49: =O49+N49 -> 4.4857954e+09 | Q49: بسته شده | R49: 1402/05/12 | S49: از محل تفاهمنامه شماره 1/40251 مورخ 1402/03/21- بودجه 1402 | T49: 1402/04/19 | U49: مخازن قیر اصفهان | V49: 100 | W49: ترابر (4914036) پورباقری | X49: تخلیه-کرمان-کیلومتر 70 جاده زاهدان-بم-شرکت گلومک سازه-کد پستی9831615741 | Y49: بودجه 1402 | Z49: شرکت ساخت و توسعه راهها | AA49: 84328
... A53: استان خراسان شمالی | B53: 1/61744 | C53: 1402/04/20 | D53: 18 | E53: 14021800019 | F53: =COUNTIF(E:E,E53) -> 1 | G53: 1402/04/28 | H53: توس مسیر | I53: 4203 | J53: قیر PG 64-16 | K53: 74541 | L53: 250000 | M53: 249760 | N53: =M53*K53 -> 18617360160 | O53: =N53*9% -> 1.6755624e+09 | P53: =O53+N53 -> 2.0292923e+10 | Q53: بسته شده | R53: 1402/05/21 | S53: از محل تفاهمنامه شماره 1/40251 مورخ 1402/03/21- بودجه 1402 | T53: 1402/04/28 | U53: مخازن قیر اصفهان | V53: 100 | W53: حسن(1841075) حسینی | X53: تخلیه-خراسان شمالی-محور بجنورد-آشخانه-شهرپیش قلعه-کارخانه آسفالت توس مسیر-کدپستی : 9455168114 | Y53: بودجه 1402 | Z53: شرکت ساخت و توسعه راهها | AA53: 87419
A54: استان چهارمحال بختیاری | B54: 1/55839 | C54: 1402/04/12 | D54: 18 | E54: 14021800020 | F54: =COUNTIF(E:E,E54) -> 1 | G54: 1402/04/31 | H54: بهپویان صنعت ساختمان | I54: 12720 | J54: قیر PG 58-22 | K54: 74541 | L54: 52000 | M54: 50150 | N54: =M54*K54 -> 3738231150 | O54: =N54*9% -> 3.364408e+08 | P54: =O54+N54 -> 4.074672e+09 | Q54: بسته شده | R54: 1402/05/24 | S54: از محل تفاهمنامه شماره 1/40251 مورخ 1402/03/21- بودجه 1402 | T54: 1402/04/31 | U54: مخازن قیر اصفهان | V54: 100 | W54: فریبرز(1008ج89) مظلوم | X54: تخلیه-چهارمحال و بختیاری-کیلومتر چهار محور بلداجی-گندمان-کارخانه آسفالت شرکت بهپویان صنعت ساختمان-کدپستی : 8876140006 | Y54: بودجه 1402 | Z54: شرکت ساخت و توسعه راهها
A55: استان کهکیلویه و بویر احمد | B55: 1/67753 | C55: 1402/04/31 | D55: 18 | E55: 14021800021 | F55: =COUNTIF(E:E,E55) -> 1 | G55: 1402/05/01 | H55: قبادبویردنا | I55: 10519 | J55: قیر PG 64-22 | K55: 74541 | L55: 500000 | M55: 499890 | N55: =M55*K55 -> 37262300490 | O55: =N55*9% -> 3.353607e+09 | P55: =O55+N55 -> 4.0615908e+10 | Q55: بسته شده | R55: 1402/05/25 | S55: از محل تفاهمنامه شماره 1/40251 مورخ 1402/03/21- بودجه 1402 | T55: 1402/05/01 | U55: مخازن قیر اصفهان | V55: 100 | W55: سیامک (1881082) غلام نجفی | X55: تخلیه-کهگیلویه و بویراحمد-یاسوج-کیلومتر15جاده یاسوج-اصفهان-چهار دره-کارخانه آسفالت محبت گستر - کدپستی:7593780205 | Y55: بودجه 1402 | Z55: شرکت ساخت و توسعه راهها | AA55: 93239
A56: استان چهارمحال بختیاری | B56: 1/51420 | C56: 1402/04/05 | D56: 18 | E56: 14021800022 | F56: =COUNTIF(E:E,E56) -> 1 | G56: 1402/05/03 | H56: سگال آذرخش باتیس | I56: 12787 | J56: قیر PG 58-22 | K56: 74541 | L56: 500000 | M56: 499700 | N56: =M56*K56 -> 37248137700 | O56: =N56*9% -> 3352332393 | P56: =O56+N56 -> 40600470093 | Q56: بسته شده | R56: 1402/05/27 | S56: از محل تفاهمنامه شماره 1/40251 مورخ 1402/03/21- بودجه 1402 | T56: 1402/05/03 | U56: مخازن قیر اصفهان | V56: 100 | W56: وطن ترابرپارسیان(1961106) | X56: تخلیه-چهارمحال و بختیاری-دوراهی فارسان-جونقان-جنب کارخانه گچ-کارخانه آسفالت شرکت سگال آذرخش باتیس - کدپستی : 8867188769 | Y56: بودجه 1402 | Z56: شرکت ساخت و توسعه راهها | AA56: 88853
A57: استان یزد | B57: 1/78232 | C57: 1402/05/16 | D57: 18 | E57: 14021800023 | F57: =COUNTIF(E:E,E57) -> 1 | G57: 1402/05/16 | H57: راه و ساختمان اسکان ده | I57: 7013 | J57: قیر PG 64-22 | K57: 74541 | L57: 500000 | M57: 497650 | N57: =M57*K57 -> 37095328650 | O57: =N57*9% -> 3.3385796e+09 | P57: =O57+N57 -> 4.0433908e+10 | Q57: بسته شده | R57: 1402/06/09 | S57: از محل تفاهمنامه شماره 1/40251 مورخ 1402/03/21- بودجه 1402 | T57: 1402/05/16 | U57: مخازن قیر اصفهان | V57: 100 | W57: محمدرضا(1029ج89) شهبازی | X57: تخلیه-یزد-اردکان-کارخانه آسفالت شرکت اسکان ده-کدپستی:8959157369 | Y57: بودجه 1402 | Z57: شرکت ساخت و توسعه راهها | AA57: 87824
A58: استان کردستان | B58: 1/77630 | C58: 1402/05/15 | D58: 18 | E58: 14021800024 | F58: =COUNTIF(E:E,E58) -> 1 | G58: 1402/05/16 | H58: چاوش راه بنا | I58: 4080 | J58: قیر PG 64-22 | K58: 74541 | L58: 500000 | M58: 499830 | N58: =M58*K58 -> 37257828030 | O58: =N58*9% -> 3.3532045e+09 | P58: =O58+N58 -> 4.0611033e+10 | Q58: بسته شده | R58: 1402/06/09 | S58: از محل تفاهمنامه شماره 1/40251 مورخ 1402/03/21- بودجه 1402 | T58: 1402/05/16 | U58: مخازن قیر اصفهان | V58: 100 | W58: علی اصغر(2842019) حاجیلوئی | X58: تخلیه-همدان-کیلومتر 30 محور همدان سنندج-کارخانه آسفالت شرکت چاوش راه بنا-کدپستی : 6664157901 | Y58: بودجه 1402 | Z58: شرکت ساخت و توسعه راهها | AA58: 87447
A59: استان خراسان رضوی | B59: 1/77386 | C59: 1402/05/15 | D59: 18 | E59: 14021800025 | F59: =COUNTIF(E:E,E59) -> 1 | G59: 1402/05/16 | H59: توس رادیه | I59: 4060 | J59: قیر PG 64-22 | K59: 74541 | L59: 500000 | M59: 499980 | N59: =M59*K59 -> 37269009180 | O59: =N59*9% -> 3.3542108e+09 | P59: =O59+N59 -> 4.062322e+10 | Q59: بسته شده | R59: 1402/07/25 | S59: از محل تفاهمنامه شماره 1/40251 مورخ 1402/03/21- بودجه 1402 | T59: 1402/05/16 | U59: مخازن قیر اصفهان | V59: 100 | W59: مهدی(1022ج89) شاه سوندی | X59: تخلیه-خراسان جنوبی-کیلومتر10محور دیهوک طبس-سراهی پیکو-کارخانه آسفالت شرکت توس رادیه - کدپستی : 9793118991 | Y59: بودجه 1402 | Z59: شرکت ساخت و توسعه راهها | AA59: 88675
A60: استان مرکزی | B60: 1/78831 | C60: 1402/05/16 | D60: 18 | E60: 14021800026 | F60: =COUNTIF(E:E,E60) -> 1 | G60: 1402/05/21 | H60: بهاران بتن فراگیران | I60: 9639 | J60: قیر PG 64-22 | K60: 74541 | L60: 500000 | M60: 499060 | N60: =M60*K60 -> 37200431460 | O60: =N60*9% -> 3.3480388e+09 | P60: =O60+N60 -> 4.054847e+10 | Q60: بسته شده | R60: 1402/07/28 | S60: از محل تفاهمنامه شماره 1/40251 مورخ 1402/03/21- بودجه 1402 | T60: 1402/05/21 | U60: مخازن قیر اصفهان | V60: 100 | W60: محمدرضا(1029ج89) شهبازی | X60: تخلیه-مرکزی-محلات-جاده زیرآب-روبه روی شهرک صنعتی ارقده-کارخانه آسفالت شرکت بهاران بتن فراگیران-کدپستی :3787144584 | Y60: بودجه 1402 | Z60: شرکت ساخت و توسعه راهها | AA60: 90710
A61: استان یزد | B61: 1/81908 | C61: 1402/05/21 | D61: 18 | E61: 14021800027 | F61: =COUNTIF(E:E,E61) -> 1 | G61: 1402/05/23 | H61: ناورود | I61: 4062 | J61: قیر PG 64-22 | K61: 74541 | L61: 400000 | M61: 398020 | N61: =M61*K61 -> 29668808820 | O61: =N61*9% -> 2.6701928e+09 | P61: =O61+N61 -> 3.2339002e+10 | Q61: بسته شده | R61: 1402/06/16 | S61: از محل تفاهمنامه شماره 1/40251 مورخ 1402/03/21- بودجه 1402 | T61: 1402/05/23 | U61: مخازن قیر اصفهان | V61: 100 | W61: سیداحمد(3843011) فتاح زاده | X61: تخلیه-یزد-کارگاه هرات-هرابرجان-شرکت ناورود-کدپستی:8987163680 | Y61: بودجه 1402 | Z61: شرکت ساخت و توسعه راهها | AA61: 87825
A62: استان کردستان | B62: 1/77567 | C62: 1402/05/15 | D62: 18 | E62: 14021800028 | F62: =COUNTIF(E:E,E62) -> 1 | G62: 1402/05/23 | H62: عمران پویش کردستان | I62: 8380 | J62: قیر PG 64-22 | K62: 74541 | L62: 500000 | M62: 499100 | N62: =M62*K62 -> 37203413100 | O62: =N62*9% -> 3348307179 | P62: =O62+N62 -> 40551720279 | Q62: بسته شده | R62: 1402/07/25 | S62: از محل تفاهمنامه شماره 1/40251 مورخ 1402/03/21- بودجه 1402 | T62: 1402/05/23 | U62: مخازن قیر اصفهان | V62: 100 | W62: مرتضی(1044ج 94) میهن دوست | X62: تخلیه-کردستان-قروه-کارخانه آسفالت شرکت عمران پویش کردستان - کدپستی : 6669186334 | Y62: بودجه 1402 | Z62: شرکت ساخت و توسعه راهها | AA62: 87443
A63: استان سیستان بلوچستان | B63: 1/88685 | C63: 1402/05/30 | D63: 18 | E63: 14021800029 | F63: =COUNTIF(E:E,E63) -> 1 | G63: 1402/06/05 | H63: دنابنیان بیرجند | I63: 10518 | J63: قیر PG 70-10 | K63: 74541 | L63: 500000 | M63: 498680 | N63: =M63*K63 -> 37172105880 | O63: =N63*9% -> 3.3454895e+09 | P63: =O63+N63 -> 4.0517595e+10 | Q63: بسته شده | R63: 1402/07/26 | S63: از محل تفاهمنامه شماره 1/40251 مورخ 1402/03/21- بودجه 1402 | T63: 1402/06/05 | U63: مخازن قیر اصفهان | V63: 100 | W63: امین (1911102) نظام دوست | X63: تخلیه-سیستان و بلوچستان -نیمروز-کارخانه آسفالت کیهان راه شرق-کدپستی : 9863110880 | Y63: بودجه 1402 | Z63: شرکت ساخت و توسعه راهها
A64: استان فارس | B64: 1/92255 | C64: 1402/06/05 | D64: 18 | E64: 14021800030 | F64: =COUNTIF(E:E,E64) -> 1 | G64: 1402/06/08 | H64: آرمان راه دراک | I64: 12815 | J64: قیر PG 64-22 | K64: 74541 | L64: 269000 | M64: 267950 | N64: =M64*K64 -> 19973260950 | O64: =N64*9% -> 1.7975935e+09 | P64: =O64+N64 -> 2.1770854e+10 | Q64: بسته شده | R64: 1402/07/25 | S64: از محل تفاهمنامه شماره 1/40251 مورخ 1402/03/21- بودجه 1402 | T64: 1402/06/08 | U64: مخازن قیر اصفهان | V64: 100 | W64: مسعود(4844011) اژدری | X64: تخلیه-فارس-قیرو کارزین-کارخانه آسفالت رمضانی-کدپستی :7476133457 | Y64: بودجه 1402 | Z64: شرکت ساخت و توسعه راهها | AA64: 84408
A65: استان یزد | B65: 1/78797 | C65: 1402/05/16 | D65: 18 | E65: 14021800031 | F65: =COUNTIF(E:E,E65) -> 1 | G65: 1402/07/22 | H65: قرارگاه سازندگی خاتم الانبیاء-موسسه ریل گستر | I65: 12232 | J65: قیر PG 64-22 | K65: 74541 | L65: 430000 | M65: 424230 | N65: =M65*K65 -> 31622528430 | O65: =N65*9% -> 2.8460276e+09 | P65: =O65+N65 -> 3.4468556e+10 | Q65: بسته شده | R65: 1402/09/30 | S65: از محل تفاهمنامه شماره 1/40251 مورخ 1402/03/21- بودجه 1402 | T65: 1402/07/22 | U65: مخازن قیر اصفهان | V65: 100 | W65: سعید(4844002) افنانی اسفندآبادی | X65: تخلیه-فارس-کیلومتر7 جاده سورمق به سمت ابرکوه بعداز ایست و بازرسی سمت راست کارگاه شرکت ناورود - کدپستی : 8933133791 | Y65: بودجه 1402 | Z65: شرکت ساخت و توسعه راهها | AA65: 87464
A66: استان لرستان | B66: 1/132394 | C66: 1402/08/07 | D66: 18 | E66: 14021800032 | F66: =COUNTIF(E:E,E66) -> 1 | G66: 1402/08/08 | H66: سپهربستر | I66: 8305 | J66: قیر PG 58-22 | K66: 74541 | L66: 500000 | M66: 498820 | N66: =M66*K66 -> 37182541620 | O66: =N66*9% -> 3.3464287e+09 | P66: =O66+N66 -> 4.052897e+10 | Q66: بسته شده | R66: 1402/09/02 | S66: از محل تفاهمنامه شماره 1/40251 مورخ 1402/03/21- بودجه 1402 | T66: 1402/08/08 | U66: مخازن قیر اصفهان | V66: 100 | W66: حسن(1007ج89) ریسمانی | X66: تخلیه-لرستان-جاده الیگودرز به اصفهان-بعداز روستای دوزان-نرسیده به عسگران-کارخانه آسفالت شرکت سپهر بستر -کدپستی : 6864141030 | Y66: بودجه 1402 | Z66: شرکت ساخت و توسعه راهها | AA66: 87704
A67: استان لرستان | B67: 1/132346 | C67: 1402/08/07 | D67: 18 | E67: 14021800033 | F67: =COUNTIF(E:E,E67) -> 1 | G67: 1402/08/08 | H67: خدماتی ساختمانی و تاسیساتی سعادت هیوا | I67: 10438 | J67: قیر PG 64-22 | K67: 74541 | L67: 500000 | M67: 497930 | N67: =M67*K67 -> 37116200130 | O67: =N67*9% -> 3.340458e+09 | P67: =O67+N67 -> 4.0456658e+10 | Q67: بسته شده | R67: 1402/09/02 | S67: از محل تفاهمنامه شماره 1/40251 مورخ 1402/03/21- بودجه 1402 | T67: 1402/08/08 | U67: مخازن قیر اصفهان | V67: 100 | W67: سیامک (1881082) غلام نجفی | X67: تخلیه-لرستان-دورود-کارخانه آسفالت شهرداری - کدپستی : 6881748807 | Y67: بودجه 1402 | Z67: شرکت ساخت و توسعه راهها | AA67: 88009
A68: استان خراسان رضوی | B68: 1/132372 | C68: 1402/08/07 | D68: 18 | E68: 14021800034 | F68: =COUNTIF(E:E,E68) -> 1 | G68: 1402/08/08 | H68: ساختمانی آرادان | I68: 8049 | J68: قیر PG 64-22 | K68: 74541 | L68: 300000 | M68: 297100 | N68: =M68*K68 -> 22146131100 | O68: =N68*9% -> 1993151799 | P68: =O68+N68 -> 24139282899 | Q68: بسته شده | R68: 1402/09/02 | S68: از محل تفاهمنامه شماره 1/40251 مورخ 1402/03/21- بودجه 1402 | T68: 1402/08/08 | U68: مخازن قیر اصفهان | V68: 100 | W68: سیداحمد(3843011) فتاح زاده | X68: تخلیه -خراسان رضوی -پروژه بانددوم محوربجستان -فردوس -روستای آهنگ - کارگاه شرکت ساختمانی آرادان-کدپستی : 9699175901 | Y68: بودجه 1402 | Z68: شرکت ساخت و توسعه راهها | AA68: 87708
A69: استان سیستان بلوچستان | B69: 1/132338 | C69: 1402/08/07 | D69: 18 | E69: 14021800035 | F69: =COUNTIF(E:E,E69) -> 1 | G69: 1402/08/08 | H69: ساختمانی راهسازی کیهان راه شرق | I69: 8679 | J69: قیر PG 70-10 | K69: 74541 | L69: 500000 | M69: 499150 | N69: =M69*K69 -> 37207140150 | O69: =N69*9% -> 3.3486426e+09 | P69: =O69+N69 -> 4.0555783e+10 | Q69: بسته شده | R69: 1402/09/02 | S69: از محل تفاهمنامه شماره 1/40251 مورخ 1402/03/21- بودجه 1402 | T69: 1402/08/08 | U69: مخازن قیر اصفهان | V69: 100 | W69: امین (1911102) نظام دوست | X69: تخلیه-سیستان و بلوچستان-کارخانه آسفالت شرکت ساختمانی راهسازی کیهان راه شرق-کدپستی 9863110880 | Y69: بودجه 1402 | Z69: شرکت ساخت و توسعه راهها | AA69: 94670
A70: استان خراسان رضوی | B70: 1/150726 | C70: 1402/09/04 | D70: 18 | E70: 14021800036 | F70: =COUNTIF(E:E,E70) -> 1 | G70: 1402/09/07 | H70: مهندسی آب وخاک قدس رضوی | I70: 9534 | J70: قیر PG 64-22 | K70: 74541 | L70: 500000 | M70: 493740 | N70: =M70*K70 -> 36803873340 | O70: =N70*9% -> 3.3123486e+09 | P70: =O70+N70 -> 4.0116222e+10 | Q70: بسته شده | R70: 1402/10/06 | S70: از محل تفاهمنامه شماره 1/40251 مورخ 1402/03/21- بودجه 1402 | T70: 1402/09/07 | U70: مخازن قیر اصفهان | V70: 100 | W70: جواد(1841072) حسینی پوریا | X70: تخلیه-خراسان رضوی-خواف-بخش سنگان-کارخانه آسفالت شرکت آب و خاک قدس رضوی-کد پستی9564130002 | Y70: بودجه 1402 | Z70: شرکت ساخت و توسعه راهها | AA70: 88018
A71: استان اصفهان | B71: 1/152599 | C71: 1402/09/06 | D71: 18 | E71: 14021800037 | F71: =COUNTIF(E:E,E71) -> 1 | G71: 1402/09/08 | H71: راه و ساختمان اسکان ده | I71: 7013 | J71: قیر PG 64-22 | K71: 74541 | L71: 500000 | M71: 499580 | N71: =M71*K71 -> 37239192780 | O71: =N71*9% -> 3.3515274e+09 | P71: =O71+N71 -> 4.059072e+10 | Q71: بسته شده | R71: 1402/10/02 | S71: از محل تفاهمنامه شماره 1/40251 مورخ 1402/03/21- بودجه 1402 | T71: 1402/09/08 | U71: مخازن قیر اصفهان | V71: 100 | W71: محمدرضا(1029ج89) شهبازی | X71: تخلیه اصفهان جاده کمشچه اردستان کیلومتر7جاده مرغ دنبی کارخانه آسفالت شرکت اسکان ده - کدپستی : 8359183510 | Y71: بودجه 1402 | Z71: شرکت ساخت و توسعه راهها | AA71: 88019
A72: استان سیستان بلوچستان | B72: 1/153736 | C72: 1402/09/07 | D72: 18 | E72: 14021800038 | F72: =COUNTIF(E:E,E72) -> 1 | G72: 1402/09/08 | H72: دنابنیان بیرجند | I72: 10518 | J72: قیر PG 70-10 | K72: 74541 | L72: 500000 | M72: 498880 | N72: =M72*K72 -> 37187014080 | O72: =N72*9% -> 3.3468313e+09 | P72: =O72+N72 -> 4.0533845e+10 | Q72: بسته شده | R72: 1402/10/02 | S72: از محل تفاهمنامه شماره 1/40251 مورخ 1402/03/21- بودجه 1402 | T72: 1402/09/08 | U72: مخازن قیر اصفهان | V72: 100 | W72: امین (1911102) نظام دوست | X72: تخلیه-سیستان و بلوچستان -نیمروز-کارخانه آسفالت کیهان راه شرق-کدپستی : 9863110880 | Y72: بودجه 1402 | Z72: شرکت ساخت و توسعه راهها
A73: استان یزد | B73: 1/153623 | C73: 1402/09/07 | D73: 18 | E73: 14021800039 | F73: =COUNTIF(E:E,E73) -> 1 | G73: 1402/09/11 | H73: ناورود | I73: 4062 | J73: قیر PG 64-22 | K73: 74541 | L73: 400000 | M73: 398880 | N73: =M73*K73 -> 29732914080 | O73: =N73*9% -> 2.6759623e+09 | P73: =O73+N73 -> 3.2408876e+10 | Q73: بسته شده | R73: 1402/10/05 | S73: از محل تفاهمنامه شماره 1/40251 مورخ 1402/03/21- بودجه 1402 | T73: 1402/09/11 | U73: مخازن قیر اصفهان | V73: 100 | W73: سیداحمد(3843011) فتاح زاده | X73: تخلیه-یزد-کارگاه هرات-هرابرجان-شرکت ناورود-کدپستی:8987163680 | Y73: بودجه 1402 | Z73: شرکت ساخت و توسعه راهها | AA73: 88020
A74: استان یزد | B74: 1/154016 | C74: 1402/09/08 | D74: 18 | E74: 14021800040 | F74: =COUNTIF(E:E,E74) -> 1 | G74: 1402/09/11 | H74: ناورود | I74: 4062 | J74: قیر PG 64-22 | K74: 74541 | L74: 400000 | M74: 399320 | N74: =M74*K74 -> 29765712120 | O74: =N74*9% -> 2.6789141e+09 | P74: =O74+N74 -> 3.2444626e+10 | Q74: بسته شده | R74: 1402/10/05 | S74: از محل تفاهمنامه شماره 1/40251 مورخ 1402/03/21- بودجه 1402 | T74: 1402/09/11 | U74: مخازن قیر اصفهان | V74: 100 | W74: سیداحمد(3843011) فتاح زاده | X74: تخلیه-یزد-جاده تفت- ابرکوه-شرکت ناورود - کدپستی : 8993154510 | Y74: بودجه 1402 | Z74: شرکت ساخت و توسعه راهها | AA74: 88099
A75: استان سیستان بلوچستان | B75: 1/153720 | C75: 1402/09/07 | D75: 18 | E75: 14021800041 | F75: =COUNTIF(E:E,E75) -> 1 | G75: 1402/09/11 | H75: جهادنصرسیستان وبلوچستان | I75: 11026 | J75: قیر PG 70-10 | K75: 74541 | L75: 330150 | M75: 330150 | N75: =M75*K75 -> 24609711150 | O75: =N75*9% -> 2.214874e+09 | P75: =O75+N75 -> 2.6824585e+10 | Q75: بسته شده | R75: 1402/10/05 | S75: از محل تفاهمنامه شماره 1/40251 مورخ 1402/03/21- بودجه 1402 | T75: 1402/09/11 | U75: مخازن قیر اصفهان | V75: 100 | W75: فریدون(4844003) خضرائی | X75: تخلیه-سیستان و بلوچستان-کارخانه آسفالت جهاد نصر سیستان و بلوچستان-کدپستی 9839170004 | Y75: بودجه 1402 | Z75: شرکت ساخت و توسعه راهها | AA75: 94644
A76: استان کردستان | B76: 1/153644 | C76: 1402/09/07 | D76: 18 | E76: 14021800042 | F76: =COUNTIF(E:E,E76) -> 1 | G76: 1402/09/11 | H76: چاوش راه بنا | I76: 4080 | J76: قیر PG 64-22 | K76: 74541 | L76: 500000 | M76: 500000 | N76: =M76*K76 -> 37270500000 | O76: =N76*9% -> 3354345000 | P76: =O76+N76 -> 40624845000 | Q76: بسته شده | R76: 1402/10/05 | S76: از محل تفاهمنامه شماره 1/40251 مورخ 1402/03/21- بودجه 1402 | T76: 1402/09/11 | U76: مخازن قیر اصفهان | V76: 100 | W76: علی اصغر(2842019) حاجیلوئی | X76: تخلیه-همدان-کیلومتر 30 محور همدان سنندج-کارخانه آسفالت شرکت چاوش راه بنا-کدپستی : 6664157901 | Y76: بودجه 1402 | Z76: شرکت ساخت و توسعه راهها | AA76: 89157
A77: استان آذربایجان غربی | B77: 1/153636 | C77: 1402/09/07 | D77: 18 | E77: 14021800043 | F77: =COUNTIF(E:E,E77) -> 1 | G77: 1402/09/11 | H77: آوادژسنندج | I77: 9859 | J77: قیر PG 64-22 | K77: 74541 | L77: 500000 | M77: 499650 | N77: =M77*K77 -> 37244410650 | O77: =N77*9% -> 3.351997e+09 | P77: =O77+N77 -> 4.0596408e+10 | Q77: بسته شده | R77: 1402/10/05 | S77: از محل تفاهمنامه شماره 1/40251 مورخ 1402/03/21- بودجه 1402 | T77: 1402/09/11 | U77: مخازن قیر اصفهان | V77: 100 | W77: مرتضی(1044ج 94) میهن دوست | X77: تخلیه-آذربایجان غربی-کیلومتر20جاده بیجار دیواندره-کارخانه آسفالت قزل اوزن-کدپستی : 6658136185 | Y77: بودجه 1402 | Z77: شرکت ساخت و توسعه راهها | AA77: 88024
A78: استان کهکیلویه و بویر احمد | B78: 1/153655 | C78: 1402/09/07 | D78: 18 | E78: 14021800044 | F78: =COUNTIF(E:E,E78) -> 1 | G78: 1402/09/11 | H78: تنش یاب یاسوج | I78: 10537 | J78: قیر PG 64-22 | K78: 74541 | L78: 300000 | M78: 299120 | N78: =M78*K78 -> 22296703920 | O78: =N78*9% -> 2.0067034e+09 | P78: =O78+N78 -> 2.4303407e+10 | Q78: بسته شده | R78: 1402/10/05 | S78: از محل تفاهمنامه شماره 1/40251 مورخ 1402/03/21- بودجه 1402 | T78: 1402/09/11 | U78: مخازن قیر اصفهان | V78: 100 | W78: سیامک (1881082) غلام نجفی | X78: تخلیه -کهگیلویه وبویراحمد-یاسوج -کارخانه آسفالت دارشاهی- کدپستی : 7599342845 | Y78: بودجه 1402 | Z78: شرکت ساخت و توسعه راهها | AA78: 89122
A79: استان همدان | B79: 1/154659 | C79: 1402/09/08 | D79: 18 | E79: 14021800045 | F79: =COUNTIF(E:E,E79) -> 1 | G79: 1402/09/12 | H79: چاوش راه بنا | I79: 4080 | J79: قیر PG 64-22 | K79: 74541 | L79: 400000 | M79: 398060 | N79: =M79*K79 -> 29671790460 | O79: =N79*9% -> 2.6704611e+09 | P79: =O79+N79 -> 3.2342252e+10 | Q79: بسته شده | R79: 1402/10/06 | S79: از محل تفاهمنامه شماره 1/40251 مورخ 1402/03/21- بودجه 1402 | T79: 1402/09/12 | U79: مخازن قیر اصفهان | V79: 100 | W79: علی اصغر(2842019) حاجیلوئی | X79: تخلیه-همدان-کیلومتر 30 محور همدان سنندج-کارخانه آسفالت شرکت چاوش راه بنا-کدپستی : 6664157901 | Y79: بودجه 1402 | Z79: شرکت ساخت و توسعه راهها | AA79: 89114
A80: استان سیستان بلوچستان | B80: 1/155015 | C80: 1402/09/11 | D80: 18 | E80: 14021800046 | F80: =COUNTIF(E:E,E80) -> 1 | G80: 1402/09/12 | H80: ساختمانی راهسازی کیهان راه شرق | I80: 8679 | J80: قیر PG 70-10 | K80: 74541 | L80: 500000 | M80: 499970 | N80: =M80*K80 -> 37268263770 | O80: =N80*9% -> 3.3541437e+09 | P80: =O80+N80 -> 4.0622408e+10 | Q80: بسته شده | R80: 1402/10/06 | S80: از محل تفاهمنامه شماره 1/40251 مورخ 1402/03/21- بودجه 1402 | T80: 1402/09/12 | U80: مخازن قیر اصفهان | V80: 100 | W80: امین (1911102) نظام دوست | X80: تخلیه-سیستان و بلوچستان-کارخانه آسفالت شرکت ساختمانی راهسازی کیهان راه شرق-کدپستی 9863110880 | Y80: بودجه 1402 | Z80: شرکت ساخت و توسعه راهها | AA80: 94673
A81: استان فارس | B81: 1/154644 | C81: 1402/09/08 | D81: 18 | E81: 14021800047 | F81: =COUNTIF(E:E,E81) -> 1 | G81: 1402/09/12 | H81: هفت پیمان گچساران | I81: 11293 | J81: قیر PG 70-10 | K81: 74541 | L81: 500000 | M81: 498930 | N81: =M81*K81 -> 37190741130 | O81: =N81*9% -> 3.3471667e+09 | P81: =O81+N81 -> 4.0537908e+10 | Q81: بسته شده | R81: 1402/10/06 | S81: از محل تفاهمنامه شماره 1/40251 مورخ 1402/03/21- بودجه 1402 | T81: 1402/09/12 | U81: مخازن قیر اصفهان | V81: 100 | W81: مجید نادری(2922048) | X81: تخلیه-کهگیلویه و بویر احمد - کارخانه آسفالت رزمان - کدپستی : 7587141842 | Y81: بودجه 1402 | Z81: شرکت ساخت و توسعه راهها | AA81: 88103
A82: استان خراسان رضوی | B82: 1/150716 | C82: 1402/09/04 | D82: 18 | E82: 14021800048 | F82: =COUNTIF(E:E,E82) -> 1 | G82: 1402/09/13 | H82: آب و خاک پارس | I82: 12895 | J82: قیر PG 70-10 | K82: 74541 | L82: 290450 | M82: 290450 | N82: =M82*K82 -> 21650433450 | O82: =N82*9% -> 1.948539e+09 | P82: =O82+N82 -> 2.3598972e+10 | Q82: بسته شده | R82: 1402/10/07 | S82: از محل تفاهمنامه شماره 1/40251 مورخ 1402/03/21- بودجه 1402 | T82: 1402/09/13 | U82: مخازن قیر اصفهان | V82: 100 | W82: ابراهیم دشت بش پودنک(4974040) | X82: تخلیه-سیستان و بلوچستان -کیلومتر 20 جاده زاهدان - خارش-کارگاه قطعه دوم باند دوم بزرگراه زاهدان - کارخانه آسفالت شرکت آب و خاک پارس - کدپستی : 9839176801 | Y82: بودجه 1402 | Z82: شرکت ساخت و توسعه راهها | AA82: 88017
A83: استان مرکزی | B83: 1/156992 | C83: 1402/09/13 | D83: 18 | E83: 14021800049 | F83: =COUNTIF(E:E,E83) -> 1 | G83: 1402/09/14 | H83: بنادر | I83: 8072 | J83: قیر PG 64-22 | K83: 74541 | L83: 500000 | M83: 498610 | N83: =M83*K83 -> 37166888010 | O83: =N83*9% -> 3.3450199e+09 | P83: =O83+N83 -> 4.0511908e+10 | Q83: بسته شده | R83: 1402/10/08 | S83: از محل تفاهمنامه شماره 1/40251 مورخ 1402/03/21- بودجه 1402 | T83: 1402/09/14 | U83: مخازن قیر اصفهان | V83: 100 | W83: صفر(1006ج 89) عزیزی | X83: تخلیه-مرکزی-اراک-کیلومتر10جاده شازند-روبروی پالایشگاه شازند-بعداز تقاطع راه آهن-کارگاه راهسازی شرکت بنادر-کدپستی : 3867143302 | Y83: بودجه 1402 | Z83: شرکت ساخت و توسعه راهها | AA83: 88116
A84: استان اصفهان | B84: 1/154648 | C84: 1402/09/08 | D84: 18 | E84: 14021800050 | F84: =COUNTIF(E:E,E84) -> 1 | G84: 1402/09/15 | H84: آفتاب چشمه آریانا | I84: 10450 | J84: قیر PG 64-16 | K84: 74541 | L84: 500000 | M84: 499440 | N84: =M84*K84 -> 37228757040 | O84: =N84*9% -> 3.3505881e+09 | P84: =O84+N84 -> 4.0579345e+10 | Q84: بسته شده | R84: 1402/10/09 | S84: از محل تفاهمنامه شماره 1/40251 مورخ 1402/03/21- بودجه 1402 | T84: 1402/09/15 | U84: مخازن قیر اصفهان | V84: 100 | W84: محمدرضا(1029ج89) شهبازی | X84: تخلیه-اصفهان-کاشان-روبروی مسکن مهر-کارخانه آسفالت شرکت آفتاب چشمه آریانا-کدپستی : 8719137154 | Y84: بودجه 1402 | Z84: شرکت ساخت و توسعه راهها | AA84: 88170
... A106: استان قزوین | B106: 1/223348 | C106: 1402/12/23 | D106: 18 | E106: 14021800072 | F106: =COUNTIF(E:E,E106) -> 2 | G106: 1402/12/26 | H106: بنادر | I106: 8072 | J106: قیر PG 64-22 | K106: 74541 | L106: 143440 | M106: 143440 | N106: =M106*K106 -> 10692161040 | O106: =N106*9% -> 9.6229449e+08 | P106: =O106+N106 -> 1.1654456e+10 | Q106: بسته شده | R106: 1403/01/21 | S106: کمیسیون فروش 739 - از محل بند ک بودجه 1402 | T106: 1402/12/26 | U106: مخازن قیر اصفهان | V106: 100 | W106: صفر(1006ج 89) عزیزی | X106: تخلیه -قزوین -محورقزوین -بویین زهرا-میدان ورودی بویین زهرا-روبروی بیمارستان -کارگاه راهسازی شرکت بنادر-کدپستی : 3451773799 | Y106: 905737912 | Z106: شرکت ساخت و توسعه راهها | AA106: 90573
A107: استان قزوین | B107: 1/223348 | C107: 1402/12/23 | D107: 18 | E107: 14021800072 | F107: =COUNTIF(E:E,E107) -> 2 | G107: 1402/12/26 | H107: بنادر | I107: 8072 | J107: قیر PG 64-22 | K107: 73863 | L107: 356560 | M107: 355580 | N107: =M107*K107 -> 26264205540 | O107: =N107*10% -> 2626420554 | P107: =O107+N107 -> 28890626094 | Q107: بسته شده | R107: 1403/01/21 | S107: کمیسیون فروش 739 - از محل بند ک بودجه 1402 | T107: 1402/12/26 | U107: مخازن قیر اصفهان | V107: 100 | W107: صفر(1006ج 89) عزیزی | X107: تخلیه -قزوین -محورقزوین -بویین زهرا-میدان ورودی بویین زهرا-روبروی بیمارستان -کارگاه راهسازی شرکت بنادر-کدپستی : 3451773799 | Y107: 905737912 | Z107: شرکت ساخت و توسعه راهها | AA107: 90573
A108: استان یزد | B108: 1/224175 | C108: 1402/12/26 | D108: 18 | E108: 14031800001 | F108: =COUNTIF(E:E,E108) -> 1 | G108: 1403/01/27 | H108: ناورود | I108: 4062 | J108: قیر PG 64-22 | K108: 73863 | L108: 400000 | M108: 399050 | N108: =M108*K108 -> 29475030150 | O108: =N108*10% -> 2947503015 | P108: =O108+N108 -> 32422533165 | Q108: بسته شده | R108: 1403/02/20 | S108: کمیسیون فروش 776 - از محل بند ک بودجه 1402 | T108: 1403/01/27 | U108: مخازن قیر اصفهان | V108: 100 | W108: سیداحمد(3843011) فتاح زاده | X108: تخلیه-یزد-جاده تفت- ابرکوه-شرکت ناورود - کدپستی : 8993154510 | Y108: 904711712 | Z108: شرکت ساخت و توسعه راهها | AA108: 90471
A109: استان خراسان رضوی | B109: 1/224172 | C109: 1402/12/26 | D109: 18 | E109: 14031800002 | F109: =COUNTIF(E:E,E109) -> 1 | G109: 1403/01/27 | H109: توس رادیه | I109: 4060 | J109: قیر PG 64-22 | K109: 73863 | L109: 500000 | M109: 499600 | N109: =M109*K109 -> 36901954800 | O109: =N109*10% -> 3690195480 | P109: =O109+N109 -> 40592150280 | Q109: بسته شده | R109: 1403/02/20 | S109: کمیسیون فروش 776 - از محل بند ک بودجه 1402 | T109: 1403/01/27 | U109: مخازن قیر اصفهان | V109: 100 | W109: محمدی راه ایرانیان (1841082) | X109: تخلیه-خراسان جنوبی-کیلومتر10محور دیهوک طبس-سراهی پیکو-کارخانه آسفالت شرکت توس رادیه - کدپستی : 9793118991 | Y109: 896688812 | Z109: شرکت ساخت و توسعه راهها | AA109: 89668
A110: استان سیستان بلوچستان | B110: 1/5357 | C110: 1403/01/25 | D110: 18 | E110: 14031800003 | F110: =COUNTIF(E:E,E110) -> 1 | G110: 1403/02/01 | H110: راهسازی فولاد راه زاهدان | I110: 8354 | J110: قیر PG 70-10 | K110: 73863 | L110: 250000 | M110: 248820 | N110: =M110*K110 -> 18378591660 | O110: =N110*10% -> 1837859166 | P110: =O110+N110 -> 20216450826 | Q110: بسته شده | R110: 1403/02/29 | S110: کمیسیون فروش 776 - از محل بند ک بودجه 1402 | T110: 1403/02/01 | U110: مخازن قیر اصفهان | V110: 100 | W110: هادی(1001149) نادری | X110: تخلیه-سیستان و بلوچستان-کارخانه آسفالت شرکت فولاد راه-کدپستی : 9883131119 | Y110: 876195310 | Z110: شرکت ساخت و توسعه راهها | AA110: 87619
A111: استان قزوین | B111: 1/12047 | C111: 1403/02/04 | D111: 18 | E111: 14031800004 | F111: =COUNTIF(E:E,E111) -> 1 | G111: 1403/02/08 | H111: بنادر | I111: 8072 | J111: قیر PG 64-22 | K111: 73863 | L111: 500000 | M111: 500000 | N111: =M111*K111 -> 36931500000 | O111: =N111*10% -> 3693150000 | P111: =O111+N111 -> 40624650000 | Q111: بسته شده | R111: 1403/03/01 | S111: کمیسیون فروش 776 - از محل بند ک بودجه 1402 | T111: 1403/02/08 | U111: مخازن قیر اصفهان | V111: 100 | W111: صفر(1006ج 89) عزیزی | X111: تخلیه -قزوین -محورقزوین -بویین زهرا-میدان ورودی بویین زهرا-روبروی بیمارستان -کارگاه راهسازی شرکت بنادر-کدپستی : 3451773799 | Y111: 908995502 | Z111: شرکت ساخت و توسعه راهها | AA111: 90899
A112: استان اصفهان | B112: 1/226879 | C112: 1402/12/28 | D112: 18 | E112: 14031800005 | F112: =COUNTIF(E:E,E112) -> 1 | G112: 1403/02/10 | H112: تضامنی محمدعطاردیان وهمکاران | I112: 11083 | J112: قیر PG 64-22 | K112: 73863 | L112: 500000 | M112: 495620 | N112: =M112*K112 -> 36607980060 | O112: =N112*10% -> 3660798006 | P112: =O112+N112 -> 40268778066 | Q112: بسته شده | R112: 1403/03/10 | S112: کمیسیون فروش 776 - از محل بند ک بودجه 1402 | T112: 1403/02/10 | U112: مخازن قیر اصفهان | V112: 100 | W112: محمدرضا(1029ج89) شهبازی | X112: تخلیه-اصفهان-کارخانه آسفالت شرکت راهسازی واقع در اصفهان-سروش بادران رو به روی روستای کاج-کدپستی : 8167184002 | Y112: 903563312 | Z112: شرکت ساخت و توسعه راهها | AA112: 90356
A113: استان کردستان | B113: 1/224171 | C113: 1402/12/26 | D113: 18 | E113: 14031800006 | F113: =COUNTIF(E:E,E113) -> 1 | G113: 1403/02/11 | H113: عمران پویش کردستان | I113: 8380 | J113: قیر PG 64-22 | K113: 73863 | L113: 500000 | M113: 499160 | N113: =M113*K113 -> 36869455080 | O113: =N113*10% -> 3686945508 | P113: =O113+N113 -> 40556400588 | Q113: بسته شده | R113: 1403/03/04 | S113: کمیسیون فروش 776 - از محل بند ک بودجه 1402 | T113: 1403/02/11 | U113: مخازن قیر اصفهان | V113: 100 | W113: مرتضی(1044ج 94) میهن دوست | X113: تخلیه-کردستان-قروه-کارخانه آسفالت شرکت عمران پویش کردستان - کدپستی : 6669186334 | Y113: 903581512 | Z113: شرکت ساخت و توسعه راهها | AA113: 90358
A114: استان اصفهان | B114: 1/23799 | C114: 1403/02/24 | D114: 18 | E114: 14031800007 | F114: =COUNTIF(E:E,E114) -> 1 | G114: 1403/02/25 | H114: راه و ساختمان اسکان ده | I114: 7013 | J114: قیر PG 64-22 | K114: 73863 | L114: 500000 | M114: 499070 | N114: =M114*K114 -> 36862807410 | O114: =N114*10% -> 3686280741 | P114: =O114+N114 -> 40549088151 | Q114: بسته شده | R114: 1403/03/22 | S114: کمیسیون فروش 776 - از محل بند ک بودجه 1402 | T114: 1403/02/25 | U114: مخازن قیر اصفهان | V114: 100 | W114: محمدرضا(1029ج89) شهبازی | X114: تخلیه اصفهان جاده کمشچه اردستان کیلومتر7جاده مرغ دنبی کارخانه آسفالت شرکت اسکان ده - کدپستی : 8359183510 | Y114: 920769702 | Z114: شرکت ساخت و توسعه راهها | AA114: 92076
A115: استان لرستان | B115: 1/23834 | C115: 1403/02/23 | D115: 18 | E115: 14031800008 | F115: =COUNTIF(E:E,E115) -> 1 | G115: 1403/02/26 | H115: بنادر | I115: 8072 | J115: قیر PG 64-22 | K115: 73863 | L115: 500000 | M115: 499190 | N115: =M115*K115 -> 36871670970 | O115: =N115*10% -> 3687167097 | P115: =O115+N115 -> 40558838067 | Q115: بسته شده | R115: 1403/03/19 | S115: کمیسیون فروش 776 - از محل بند ک بودجه 1402 | T115: 1403/02/26 | U115: مخازن قیر اصفهان | V115: 100 | W115: صفر(1006ج 89) عزیزی | X115: تخلیه -قزوین -محورقزوین -بویین زهرا-میدان ورودی بویین زهرا-روبروی بیمارستان -کارگاه راهسازی شرکت بنادر-کدپستی : 3451773799 | Y115: 918393702 | Z115: شرکت ساخت و توسعه راهها | AA115: 91839
A116: استان کرمان | B116: 1/40620 | C116: 1403/03/22 | D116: 18 | E116: 14031800009 | F116: =COUNTIF(E:E,E116) -> 1 | G116: 1403/03/23 | H116: محورگسترشرق | I116: 10161 | J116: قیر PG 64-16 | K116: 73863 | L116: 1000000 | M116: 999890 | N116: =M116*K116 -> 73854875070 | O116: =N116*10% -> 7385487507 | P116: =O116+N116 -> 81240362577 | Q116: بسته شده | R116: 1403/06/18 | S116: کمیسیون فروش 776 - از محل بند ک بودجه 1402 | T116: 1403/03/23 | U116: مخازن قیر اصفهان | V116: 100 | W116: فریدون(4844003) خضرائی | X116: تخلیه- کرمان کیلومتر 22 جاده سیرجان شیراز - شرکت محور گستر شرق-کدپستی 7814177001 | Y116: بودجه 1402 | Z116: شرکت ساخت و توسعه راهها | AA116: 93613
A117: استان سیستان بلوچستان | B117: 1/30719 | C117: 1403/03/05 | D117: 18 | E117: 14031800010 | F117: =COUNTIF(E:E,E117) -> 1 | G117: 1403/04/02 | H117: ساختمانی تیراژ | I117: 8004 | J117: قیر PG 70-10 | K117: 73863 | L117: 500000 | M117: 499840 | N117: =M117*K117 -> 36919681920 | O117: =N117*10% -> 3691968192 | P117: =O117+N117 -> 40611650112 | Q117: بسته شده | R117: 1403/04/26 | S117: کمیسیون فروش 776 - از محل بند ک بودجه 1402 | T117: 1403/04/02 | U117: انبار قیر بندرعباس(پلنت خلیج فارس) | V117: 214 | W117: حفاظ بار آذربایجان(1068ج1403) | X117: تخلیه-سیستان-جاده چابهار به نیکشهر-کارخانه آسفالت شرکت تیراژ-کدپستی : 99817443076 | Y117: بودجه 1402 | Z117: شرکت ساخت و توسعه راهها | AA117: 92360
A118: استان سیستان بلوچستان | B118: 1/30736 | C118: 1403/03/05 | D118: 18 | E118: 14031800011 | F118: =COUNTIF(E:E,E118) -> 1 | G118: 1403/04/02 | H118: ساختمانی تیراژ | I118: 8004 | J118: قیر PG 70-10 | K118: 73863 | L118: 500000 | M118: 498950 | N118: =M118*K118 -> 36853943850 | O118: =N118*10% -> 3685394385 | P118: =O118+N118 -> 40539338235 | Q118: بسته شده | R118: 1403/05/31 | S118: کمیسیون فروش 776 - از محل بند ک بودجه 1402 | T118: 1403/04/02 | U118: انبار قیر بندرعباس(پلنت خلیج فارس) | V118: 214 | W118: حفاظ بار آذربایجان(1068ج1403) | X118: تخلیه-سیستان-جاده چابهار به نیکشهر-کارخانه آسفالت شرکت تیراژ-کدپستی : 99817443076 | Y118: بودجه 1402 | Z118: شرکت ساخت و توسعه راهها | AA118: 92408
... A140: استان خراسان جنوبی | B140: 1/84278 | C140: 1403/06/05 | D140: 18 | E140: 14031800033 | F140: =COUNTIF(E:E,E140) -> 1 | G140: 1403/06/19 | H140: طاقدیس سازه توس | I140: 8833 | J140: قیر PG 64-22 | K140: 79545 | L140: 500000 | M140: 499420 | N140: =M140*K140 -> 39726363900 | O140: =N140*10% -> 3972636390 | P140: =O140+N140 -> 43699000290 | Q140: بسته شده | R140: 1403/06/31 | S140: کمیسیون فروش 776 - از محل بند ک بودجه 1402 | T140: 1403/06/19 | U140: مخازن قیر اصفهان | V140: 100 | W140: محمدی راه ایرانیان (1841082) | X140: تخلیه : خراسان جنوبی فردوس کارخانه آسفالت توس رادیه (شهرستان فردوس) -کدپستی 9771615336 | Y140: بودجه 1402 | Z140: شرکت ساخت و توسعه راهها | AA140: 90771
A141: استان سیستان بلوچستان | B141: 34740/71 | C141: 1402/03/07 | D141: 19 | E141: 14021900066 | F141: =COUNTIF(E:E,E141) -> 1 | G141: 1402/03/13 | H141: صولت پارس آمود | I141: 12190 | J141: قیر PG 70-10 | K141: 74541 | L141: 500000 | M141: 493620 | N141: =M141*K141 -> 36794928420 | O141: =N141*9% -> 3.3115436e+09 | P141: =O141+N141 -> 4.0106472e+10 | Q141: بسته شده | R141: 1402/04/01 | S141: از محل تفاهم نامه 23666/71-بودجه 1402 | T141: 1402/03/13 | U141: مخازن قیر اصفهان | V141: 100 | W141: امین (1911102) نظام دوست | X141: تخلیه: سیستان و بلوچستان-شهرستان نیمروز- بخش صابری- دهستان سفیدآبه- جنب پاسگاه شهید نارویی- کارخانه آسفالت کیهان راه شرق- کدپستی 9863110880 | Y141: 837301203 | Z141: سازمان راهداری و حمل و نقل جاده ای | AA141: 83730
A142: استان کرمانشاه | B142: 40050/71 | C142: 1402/03/17 | D142: 19 | E142: 14021900067 | F142: =COUNTIF(E:E,E142) -> 1 | G142: 1402/03/17 | H142: فنی مهندسی عمران راه بازی دراز | I142: 11003 | J142: قیر PG 70-10 | K142: 74541 | L142: 500000 | M142: 492780 | N142: =M142*K142 -> 36732313980 | O142: =N142*9% -> 3.3059083e+09 | P142: =O142+N142 -> 4.0038222e+10 | Q142: بسته شده | R142: 1402/04/05 | S142: از محل تفاهم نامه 23666/71-بودجه 1402 | T142: 1402/03/17 | U142: مخازن قیر اصفهان | V142: 100 | W142: علی اصغر(2842019) حاجیلوئی | X142: تخلیه :کرمانشاه سرپل ذهاب سه راهی قره بلاغ بعداز یادمان شهیدشیرودی روستای کلاشی -کارگاه آسفالت راه قدس-کدپستی-6771933355 | Y142: 837318003 | Z142: سازمان راهداری و حمل و نقل جاده ای | AA142: 83731
A143: استان اصفهان | B143: 40256/71 | C143: 1402/03/17 | D143: 19 | E143: 14021900071 | F143: =COUNTIF(E:E,E143) -> 1 | G143: 1402/03/20 | H143: فنی مهندسی استحکام سازه ارمند | I143: 11115 | J143: قیر PG 64-16 | K143: 74541 | L143: 42000 | M143: 41180 | N143: =M143*K143 -> 3069598380 | O143: =N143*9% -> 2.7626385e+08 | P143: =O143+N143 -> 3.3458622e+09 | Q143: بسته شده | R143: 1402/04/08 | S143: از محل تفاهم نامه 23666/71-بودجه 1402 | T143: 1402/03/20 | U143: مخازن قیر اصفهان | V143: 100 | W143: صفر(1006ج 89) عزیزی | X143: تخلیه: پلیس راه اصفهان- تهران- جاده علویجه- کیلومتر 12 جاده علویجه- کارخانه آسفالت شرکت اصفهان مترو- کدپستی 8331116360 | Y143: 838228103 | Z143: سازمان راهداری و حمل و نقل جاده ای | AA143: 83822
A144: استان اصفهان | B144: 40258/71 | C144: 1402/03/17 | D144: 19 | E144: 14021900072 | F144: =COUNTIF(E:E,E144) -> 1 | G144: 1402/03/20 | H144: فنی ساختمانی فرد بتن سازان سپاهان | I144: 11929 | J144: قیر PG 70-10 | K144: 74541 | L144: 120000 | M144: 119380 | N144: =M144*K144 -> 8898704580 | O144: =N144*9% -> 8.0088341e+08 | P144: =O144+N144 -> 9.699588e+09 | Q144: بسته شده | R144: 1402/04/08 | S144: از محل تفاهم نامه 23666/71-بودجه 1402 | T144: 1402/03/20 | U144: مخازن قیر اصفهان | V144: 100 | W144: ابوالقاسم(1003ج89) علی عابدی | X144: تخلیه: اصفهان- نائین- شهر انارک- 5 کیلومتری شهرانارک- کارخانه آسفالت شرکت فرد سازه سپاهان- کدپستی 8397113116 | Y144: 835934703 | Z144: سازمان راهداری و حمل و نقل جاده ای | AA144: 83593
A145: استان سیستان بلوچستان | B145: 40247/71 | C145: 1402/03/17 | D145: 19 | E145: 14021900075 | F145: =COUNTIF(E:E,E145) -> 1 | G145: 1402/03/21 | H145: اطلس راه ایرانشهر | I145: 11061 | J145: قیر PG 70-10 | K145: 74541 | L145: 500000 | M145: 498700 | N145: =M145*K145 -> 37173596700 | O145: =N145*9% -> 3345623703 | P145: =O145+N145 -> 40519220403 | Q145: بسته شده | R145: 1402/04/21 | S145: از محل تفاهم نامه 23666/71-بودجه 1402 | T145: 1402/03/21 | U145: مخازن قیر اصفهان | V145: 100 | W145: ترابر (4914036) پورباقری | X145: تخلیه: کیلومتر صفر جاده خاش به ایرانشهر- اداره کل راهداری و حمل و نقل جاده ای جنوب استان سیستان و بلوچستان(خاش) کارخانه آسفالت اطلس راه ایرانشهر کدپستی 9891859436 | Y145: 838073703 | Z145: سازمان راهداری و حمل و نقل جاده ای | AA145: 83807
A146: استان کرمانشاه | B146: 42445/71 | C146: 1402/03/21 | D146: 19 | E146: 14021900078 | F146: =COUNTIF(E:E,E146) -> 1 | G146: 1402/03/23 | H146: تاج راه استقلال | I146: 12755 | J146: قیر PG 64-22 | K146: 74541 | L146: 250000 | M146: 249230 | N146: =M146*K146 -> 18577853430 | O146: =N146*9% -> 1.6720068e+09 | P146: =O146+N146 -> 2.024986e+10 | Q146: بسته شده | R146: 1402/04/11 | S146: از محل تفاهم نامه 23666/71-بودجه 1402 | T146: 1402/03/23 | U146: مخازن قیر اصفهان | V146: 100 | W146: محمد(2842015) عظیمی | X146: تخلیه: استان کرمانشاه- سرپل ذهاب- کارخانه آسفالت راه قدس- کدپستی 6771933355 | Y146: 838198303 | Z146: سازمان راهداری و حمل و نقل جاده ای | AA146: 83819
A147: استان اصفهان | B147: 40249/71 | C147: 1402/03/17 | D147: 19 | E147: 14021900080 | F147: =COUNTIF(E:E,E147) -> 1 | G147: 1402/03/27 | H147: زرین سپاهان | I147: 7140 | J147: قیر PG 64-22 | K147: 74541 | L147: 200000 | M147: 199480 | N147: =M147*K147 -> 14869438680 | O147: =N147*9% -> 1.3382495e+09 | P147: =O147+N147 -> 1.6207688e+10 | Q147: بسته شده | R147: 1402/04/15 | S147: از محل تفاهم نامه 23666/71-بودجه 1402 | T147: 1402/03/27 | U147: مخازن قیر اصفهان | V147: 100 | W147: نجاتعلی(1020ج89) مرادی | X147: تخلیه :اصفهان -کیلومتر30جاده اصفهان -تهران نرسیده به پلیس راه شاهین شهر- کاشان-جاده ضایعات سنگ بری ها-کیلومتر 2 - کارخانه آسفالت زرین سپاهان شاهین شهر -کدپستی 8337181312 | Y147: 838234403 | Z147: سازمان راهداری و حمل و نقل جاده ای | AA147: 83823
A148: استان مرکزی | B148: 46857/71 | C148: 1402/03/28 | D148: 19 | E148: 14021900083 | F148: =COUNTIF(E:E,E148) -> 1 | G148: 1402/03/30 | H148: رهک ساز راش | I148: 12574 | J148: قیر PG 64-22 | K148: 74541 | L148: 150000 | M148: 150000 | N148: =M148*K148 -> 11181150000 | O148: =N148*9% -> 1006303500 | P148: =O148+N148 -> 12187453500 | Q148: بسته شده | R148: 1402/04/18 | S148: از محل تفاهم نامه 23666/71-بودجه 1402 | T148: 1402/03/30 | U148: مخازن قیر اصفهان | V148: 100 | W148: محمد(2842015) عظیمی | X148: تخلیه :استان مرکزی-شازند- قدمگاه کارخانه آسفالت رهک ساز راش کدپستی 3863163836 | Y148: 840219103 | Z148: سازمان راهداری و حمل و نقل جاده ای | AA148: 84021
A149: استان جنوب کرمان | B149: 47810/71 | C149: 1402/03/29 | D149: 19 | E149: 14021900085 | F149: =COUNTIF(E:E,E149) -> 1 | G149: 1402/04/01 | H149: پی و پل جنوب | I149: 10547 | J149: قیر PG 70-10 | K149: 74541 | L149: 250000 | M149: 248220 | N149: =M149*K149 -> 18502567020 | O149: =N149*9% -> 1.665231e+09 | P149: =O149+N149 -> 2.0167798e+10 | Q149: بسته شده | R149: 1402/04/20 | S149: از محل تفاهم نامه 23666/71-بودجه 1402 | T149: 1402/04/01 | U149: مخازن قیر اصفهان | V149: 100 | W149: حسن(1841050) محمدی | X149: تخلیه : کرمان جنوب منوجان کیلومتر 15 جاده منوجان-کهنوج بعد از شهرک صنعتی منوجان- کارخانه آسفالت پی وپل جنوب 2 - کدپستی 7891490090 | Y149: 841960303 | Z149: سازمان راهداری و حمل و نقل جاده ای | AA149: 84196
A150: استان چهارمحال بختیاری | B150: 47853/71 | C150: 1402/03/29 | D150: 19 | E150: 14021900086 | F150: =COUNTIF(E:E,E150) -> 1 | G150: 1402/04/01 | H150: کوشا بنیان صدرا | I150: 12662 | J150: قیر PG 58-22 | K150: 74541 | L150: 30000 | M150: 29210 | N150: =M150*K150 -> 2177342610 | O150: =N150*9% -> 1.9596083e+08 | P150: =O150+N150 -> 2.3733034e+09 | Q150: بسته شده | R150: 1402/04/20 | S150: از محل تفاهم نامه 23666/71-بودجه 1402 | T150: 1402/04/01 | U150: مخازن قیر اصفهان | V150: 100 | W150: فریبرز(1008ج89) مظلوم | X150: تخلیه-چهارمحال و بختیاری-سفید دشت - کارخانه آسفالت قیراب سفیددشت- کد پستی 8857149319 | Y150: 840466203 | Z150: سازمان راهداری و حمل و نقل جاده ای | AA150: 84046
A151: استان جنوب کرمان | B151: 47805/71 | C151: 1402/03/29 | D151: 19 | E151: 14021900087 | F151: =COUNTIF(E:E,E151) -> 1 | G151: 1402/04/01 | H151: ایتوک سهند | I151: 12472 | J151: قیر PG 70-10 | K151: 74541 | L151: 250000 | M151: 249660 | N151: =M151*K151 -> 18609906060 | O151: =N151*9% -> 1.6748915e+09 | P151: =O151+N151 -> 2.0284798e+10 | Q151: بسته شده | R151: 1402/04/23 | S151: از محل تفاهم نامه 23666/71-بودجه 1402 | T151: 1402/04/01 | U151: مخازن قیر اصفهان | V151: 100 | W151: مرتضی حاصلی (4844006) حاصلیان ترابرجنوب | X151: تخلیه: استان کرمان جنوب-کیلومتر 12 محور جیرفت کهنوج- جنب کارخانه سنوس- راه و ساختمان ره یاد سازه جنوب- کدپستی 7867161872 | Y151: 839938303 | Z151: سازمان راهداری و حمل و نقل جاده ای | AA151: 83993
A152: استان سیستان بلوچستان | B152: 49028/71 | C152: 1402/03/30 | D152: 19 | E152: 14021900089 | F152: =COUNTIF(E:E,E152) -> 1 | G152: 1402/04/05 | H152: آبخیزراه ایرانشهر | I152: 8366 | J152: قیر PG 70-10 | K152: 74541 | L152: 400000 | M152: 399650 | N152: =M152*K152 -> 29790310650 | O152: =N152*9% -> 2.681128e+09 | P152: =O152+N152 -> 3.2471439e+10 | Q152: بسته شده | R152: 1402/05/30 | S152: از محل تفاهم نامه 23666/71-بودجه 1402 | T152: 1402/04/05 | U152: مخازن قیر اصفهان | V152: 100 | W152: ترابر (4914036) پورباقری | X152: تخلیه: سراوان- اداره کل راهداری و حمل و نقل جاده ای سراوان- کدپستی 9951613663 | Y152: 841934003 | Z152: سازمان راهداری و حمل و نقل جاده ای | AA152: 84193
... A380: استان کهکیلویه و بویر احمد | B380: 213252/71 | C380: 1402/12/05 | D380: 19 | E380: 14021900359 | F380: =COUNTIF(E:E,E380) -> 1 | G380: 1402/12/09 | H380: سیاه کوه دهدشت | I380: 12708 | J380: قیر PG 64-16 | K380: 74541 | L380: 200000 | M380: 196510 | N380: =M380*K380 -> 14648051910 | O380: =N380*9% -> 1.3183247e+09 | P380: =O380+N380 -> 1.5966377e+10 | Q380: بسته شده | R380: 1402/12/28 | S380: کمیسیون فروش 739- از محل بند ک بودجه 1402 | T380: 1402/12/09 | U380: مخازن قیر اصفهان | V380: 100 | W380: آسان رانان لوتوس (1070ج 1402) | X380: تخلیه: استان کهگیلویه و بویراحمد- شهرستان باشت-کارخانه آسفالت شرکت هفت پیمان- کدپستی 7587141842 | Y380: 896584012 | Z380: سازمان راهداری - راه و روستایی | AA380: 89658
A381: استان ایرانشهر | B381: 213687/71 | C381: 1402/12/07 | D381: 19 | E381: 14021900360 | F381: =COUNTIF(E:E,E381) -> 1 | G381: 1402/12/14 | H381: شاداب نیکشهر | I381: 8364 | J381: قیر PG 70-10 | K381: 73863 | L381: 97000 | M381: 96550 | N381: =M381*K381 -> 7131472650 | O381: =N381*10% -> 713147265 | P381: =O381+N381 -> 7844619915 | Q381: بسته شده | R381: 1403/01/27 | S381: کمیسیون فروش 739 - از محل بند ک بودجه 1402 | T381: 1402/12/14 | U381: مخازن قیر اصفهان | V381: 100 | W381: ترابر (4914036) پورباقری | X381: تخلیه : استان سیستان و بلوچستان شهرستان چابهار کارخانه اداره راهداری چابهار-کدپستی 9971858586 | Y381: 901707512 | Z381: سازمان راهداری - راه و روستایی | AA381: 90170
A382: استان ایرانشهر | B382: 213697/71 | C382: 1402/12/07 | D382: 19 | E382: 14021900361 | F382: =COUNTIF(E:E,E382) -> 1 | G382: 1402/12/14 | H382: دوز یول قیر | I382: 8753 | J382: قیر PG 70-10 | K382: 73863 | L382: 265000 | M382: 263610 | N382: =M382*K382 -> 19471025430 | O382: =N382*10% -> 1947102543 | P382: =O382+N382 -> 21418127973 | Q382: بسته شده | R382: 1403/01/25 | S382: کمیسیون فروش 739 - از محل بند ک بودجه 1402 | T382: 1402/12/14 | U382: مخازن قیر اصفهان | V382: 100 | W382: ترابر (4914036) پورباقری | X382: تخلیه : استان سیستان و بلوچستان شهرستان چابهار کارخانه اداره راهداری چابهار-کدپستی 9971858586 | Y382: 901749512 | Z382: سازمان راهداری - راه و روستایی | AA382: 90174
A383: استان ایرانشهر | B383: 213691/71 | C383: 1402/12/07 | D383: 19 | E383: 14021900362 | F383: =COUNTIF(E:E,E383) -> 1 | G383: 1402/12/14 | H383: عمران اختر فریدن | I383: 11316 | J383: قیر PG 70-10 | K383: 73863 | L383: 63000 | M383: 61350 | N383: =M383*K383 -> 4531495050 | O383: =N383*10% -> 453149505 | P383: =O383+N383 -> 4984644555 | Q383: بسته شده | R383: 1403/01/26 | S383: کمیسیون فروش 739 - از محل بند ک بودجه 1402 | T383: 1402/12/14 | U383: مخازن قیر اصفهان | V383: 100 | W383: ترابر (4914036) پورباقری | X383: تخلیه : استان سیستان و بلوچستان شهرستان چابهار کارخانه اداره راهداری چابهار-کدپستی 9971858586 | Y383: 901925512 | Z383: سازمان راهداری - راه و روستایی | AA383: 90192
A384: استان کردستان | B384: 215695/71 | C384: 1402/12/09 | D384: 19 | E384: 14021900363 | F384: =COUNTIF(E:E,E384) -> 1 | G384: 1402/12/15 | H384: راه پل سازان آسیا | I384: 12801 | J384: قیر PG 64-22 | K384: 74541 | L384: 100000 | M384: 95380 | N384: =M384*K384 -> 7109720580 | O384: =N384*9% -> 6.3987485e+08 | P384: =O384+N384 -> 7.7495954e+09 | Q384: بسته شده | R384: 1403/01/05 | S384: کمیسیون فروش 739 - از محل بند ک بودجه 1402 | T384: 1402/12/15 | U384: مخازن قیر اصفهان | V384: 100 | W384: مرتضی(1044ج 94) میهن دوست | X384: تخلیه : استان کردستان کیلومتر 38 محور سنندج دیواندره روستای عباس آباد کارخانه آسفالت راه پل سازان آسیا (عباس آباد ) - کدپستی 6619146158 | Y384: 900114212 | Z384: سازمان راهداری و حمل و نقل جاده ای | AA384: 90011
A385: استان چهارمحال بختیاری | B385: 211654/71 | C385: 1402/12/02 | D385: 19 | E385: 14021900364 | F385: =COUNTIF(E:E,E385) -> 1 | G385: 1402/12/15 | H385: آزمون فلز پارس | I385: 11124 | J385: قیر PG 58-22 | K385: 74541 | L385: 200000 | M385: 198930 | N385: =M385*K385 -> 14828441130 | O385: =N385*9% -> 1.3345597e+09 | P385: =O385+N385 -> 1.6163001e+10 | Q385: بسته شده | R385: 1403/01/05 | S385: کمیسیون فروش 739 - از محل بند ک بودجه 1402 | T385: 1402/12/15 | U385: مخازن قیر اصفهان | V385: 100 | W385: وطن ترابرپارسیان(1961106) | X385: تخلیه : استان چهارمحال و بختیاری کیار شهر ناغان نرسیده به پلیس راه ناغان کارخانه آسفالت اتحاد ناغان - کدپستی 8883113653 | Y385: 875725212 | Z385: سازمان راهداری - راه و روستایی | AA385: 87572
A386: استان اصفهان | B386: 219602/71 | C386: 1402/12/14 | D386: 19 | E386: 14021900365 | F386: =COUNTIF(E:E,E386) -> 1 | G386: 1402/12/15 | H386: فنی ساختمانی فرد بتن سازان سپاهان | I386: 11929 | J386: قیر PG 70-10 | K386: 74541 | L386: 200000 | M386: 198840 | N386: =M386*K386 -> 14821732440 | O386: =N386*9% -> 1.3339559e+09 | P386: =O386+N386 -> 1.6155688e+10 | Q386: بسته شده | R386: 1403/01/05 | S386: کمیسیون فروش 739 - از محل بند ک بودجه 1402 | T386: 1402/12/15 | U386: مخازن قیر اصفهان | V386: 100 | W386: ابوالقاسم(1003ج89) علی عابدی | X386: تخلیه : استان اصفهان شهرستان گلپایگان 10کیلومتربه سمت خم پیچ -کارخانه آسفالت شماره 2 شرکت فرد سازه سپاهان - کدپستی 8787141518 | Y386: 898580312 | Z386: سازمان راهداری و حمل و نقل جاده ای | AA386: 89858
A387: استان قم | B387: 220458/71 | C387: 1402/12/15 | D387: 19 | E387: 14021900366 | F387: =COUNTIF(E:E,E387) -> 1 | G387: 1402/12/16 | H387: تنش یاب یاسوج | I387: 10537 | J387: قیر PG 64-22 | K387: 74541 | L387: 270000 | M387: 268250 | N387: =M387*K387 -> 19995623250 | O387: =N387*9% -> 1.7996061e+09 | P387: =O387+N387 -> 2.1795229e+10 | Q387: بسته شده | R387: 1403/01/06 | S387: کمیسیون فروش 739 - از محل بند ک بودجه 1402 | T387: 1402/12/16 | U387: مخازن قیر اصفهان | V387: 100 | W387: آسان رانان لوتوس (1070ج 1402) | X387: تخلیه : استان قم کیلومتر 8 محور سلفچگان دلیجان کارخانه آسفالت راهداری قم (مستاجر : تنش یاب یاسوج) - کدپستی 3736165028 | Y387: 899778212 | Z387: سازمان راهداری و حمل و نقل جاده ای | AA387: 89977
A388: استان بوشهر | B388: 220453/71 | C388: 1402/12/15 | D388: 19 | E388: 14021900367 | F388: =COUNTIF(E:E,E388) -> 2 | G388: 1402/12/16 | H388: سامان سازان راه دانش شرق | I388: 7037 | J388: قیر PG 70-10 | K388: 74541 | L388: 47520 | M388: 47520 | N388: =M388*K388 -> 3542188320 | O388: =N388*9% -> 3.1879695e+08 | P388: =O388+N388 -> 3.8609853e+09 | Q388: بسته شده | R388: 1403/01/10 | S388: کمیسیون فروش 739 - از محل بند ک بودجه 1402 | T388: 1402/12/16 | U388: مخازن قیر اصفهان | V388: 100 | W388: محمدرضا(1029ج89) شهبازی | X388: تخلیه : استان بوشهر تنگستان سه راه گادوی کیلومتر 1 جاده شورکی کارخانه آسفالت کرم اهرم - کدپستی 7514893899 | Y388: 897380112 | Z388: سازمان راهداری و حمل و نقل جاده ای | AA388: 89738
A389: استان بوشهر | B389: 220453/71 | C389: 1402/12/15 | D389: 19 | E389: 14021900367 | F389: =COUNTIF(E:E,E389) -> 2 | G389: 1402/12/16 | H389: سامان سازان راه دانش شرق | I389: 7037 | J389: قیر PG 70-10 | K389: 73863 | L389: 39480 | M389: 38320 | N389: =M389*K389 -> 2830430160 | O389: =N389*10% -> 283043016 | P389: =O389+N389 -> 3113473176 | Q389: بسته شده | R389: 1403/01/10 | S389: کمیسیون فروش 739 - از محل بند ک بودجه 1402 | T389: 1402/12/16 | U389: مخازن قیر اصفهان | V389: 100 | W389: محمدرضا(1029ج89) شهبازی | X389: تخلیه : استان بوشهر تنگستان سه راه گادوی کیلومتر 1 جاده شورکی کارخانه آسفالت کرم اهرم - کدپستی 7514893899 | Y389: 897380112 | Z389: سازمان راهداری و حمل و نقل جاده ای | AA389: 89738
A390: استان کرمان | B390: 220634/71 | C390: 1402/12/15 | D390: 19 | E390: 14021900368 | F390: =COUNTIF(E:E,E390) -> 1 | G390: 1402/12/16 | H390: راه سازی راه کوب کرمان | I390: 10625 | J390: قیر PG 64-16 | K390: 74541 | L390: 49000 | M390: 48240 | N390: =M390*K390 -> 3595857840 | O390: =N390*9% -> 3.2362721e+08 | P390: =O390+N390 -> 3.919485e+09 | Q390: بسته شده | R390: 1403/01/06 | S390: کمیسیون فروش 739 - از محل بند ک بودجه 1402 | T390: 1402/12/16 | U390: مخازن قیر اصفهان | V390: 100 | W390: محمد(4844028) شهبا | X390: تخلیه : کرمان منطقه گلومک کارخانه آسفالت راه باند کویر کرمان - کدپستی 7631113927 | Y390: 899640912 | Z390: سازمان راهداری - راه و روستایی | AA390: 89964
A391: استان ایرانشهر | B391: 213689/71 | C391: 1402/12/07 | D391: 19 | E391: 14021900369 | F391: =COUNTIF(E:E,E391) -> 2 | G391: 1402/12/16 | H391: پناه سازه اقلیم | I391: 12945 | J391: قیر PG 70-10 | K391: 74541 | L391: 100720 | M391: 100720 | N391: =M391*K391 -> 7507769520 | O391: =N391*9% -> 6.7569926e+08 | P391: =O391+N391 -> 8.1834688e+09 | Q391: بسته شده | R391: 1403/01/14 | S391: کمیسیون فروش 739 - از محل بند ک بودجه 1402 | T391: 1402/12/16 | U391: مخازن قیر اصفهان | V391: 100 | W391: عماد(1901096) سلیمی پارساعارف | X391: تخلیه : استان سیستان و بلوچستان شهرستان چابهار کارخانه اداره راهداری چابهار-کدپستی 9971858586 | Y391: 901721512 | Z391: سازمان راهداری - راه و روستایی | AA391: 90172
A392: استان ایرانشهر | B392: 213689/71 | C392: 1402/12/07 | D392: 19 | E392: 14021900369 | F392: =COUNTIF(E:E,E392) -> 2 | G392: 1402/12/16 | H392: پناه سازه اقلیم | I392: 12945 | J392: قیر PG 70-10 | K392: 73863 | L392: 125280 | M392: 124250 | N392: =M392*K392 -> 9177477750 | O392: =N392*10% -> 917747775 | P392: =O392+N392 -> 10095225525 | Q392: بسته شده | R392: 1403/01/14 | S392: کمیسیون فروش 739 - از محل بند ک بودجه 1402 | T392: 1402/12/16 | U392: مخازن قیر اصفهان | V392: 100 | W392: عماد(1901096) سلیمی پارساعارف | X392: تخلیه : استان سیستان و بلوچستان شهرستان چابهار کارخانه اداره راهداری چابهار-کدپستی 9971858586 | Y392: 901721512 | Z392: سازمان راهداری - راه و روستایی | AA392: 90172
A393: استان چهارمحال بختیاری | B393: 212778/71 | C393: 1402/12/05 | D393: 19 | E393: 14021900370 | F393: =COUNTIF(E:E,E393) -> 1 | G393: 1402/12/20 | H393: آرین سازه نیکان شهرکرد | I393: 12946 | J393: قیر PG 64-22 | K393: 73863 | L393: 130000 | M393: 129980 | N393: =M393*K393 -> 9600712740 | O393: =N393*10% -> 960071274 | P393: =O393+N393 -> 10560784014 | Q393: بسته شده | R393: 1403/01/24 | S393: کمیسیون فروش 739 - از محل بند ک بودجه 1402 | T393: 1402/12/20 | U393: مخازن قیر اصفهان | V393: 100 | W393: حسن(1007ج89) ریسمانی | X393: استان چهارمحال و بختیاری شهرکرد کارخانه آسفالت زرین استحکام - کدپستی 8896174774 | Y393: 897530511 | Z393: سازمان راهداری و حمل و نقل جاده ای | AA393: 89753
A394: استان کهکیلویه و بویر احمد | B394: 213710/71 | C394: 1402/12/07 | D394: 19 | E394: 14021900371 | F394: =COUNTIF(E:E,E394) -> 1 | G394: 1402/12/21 | H394: فرداد برج آراز | I394: 12948 | J394: قیر PG 64-22 | K394: 74541 | L394: 69000 | M394: 68630 | N394: =M394*K394 -> 5115748830 | O394: =N394*9% -> 4.6041739e+08 | P394: =O394+N394 -> 5.5761662e+09 | Q394: بسته شده | R394: 1403/01/11 | S394: کمیسیون فروش 739 - از محل بند ک بودجه 1402 | T394: 1402/12/21 | U394: مخازن قیر اصفهان | V394: 100 | W394: آسان رانان لوتوس (1070ج 1402) | X394: تخلیه : استان کهگیلویه و بویراحمد شهرستان باشت کارخانه آسفالت هفت پیمان - کدپستی 7587141842 | Y394: 899793612 | Z394: سازمان راهداری - راه و روستایی | AA394: 89979
...
