Workbook

Sheet اصل
A1: گزارش جرائم و ابطال قراردادهای سال 1403-1402
A2: ردیف | B2: نام مشتری | C2: 1402 | H2: 1403 | M2: مجموع
C3: مقدار قرارداد | D3: مقدار قرارداد ابطالی | E3: مبلغ جرائم (ابطال-تاخیر) | F3: مبلغ بخشش (تاخیر) | G3: مبلغ عدم بخشش (ابطال - تاخیر) | H3: مقدار قرارداد | I3: مقدار قرارداد ابطالی | J3: مبلغ جرائم (ابطال-تاخیر) | K3: مبلغ بخشش (تاخیر) | L3: مبلغ عدم بخشش (ابطال - تاخیر) | M3: مقدار قرارداد | N3: مقدار قرارداد ابطالی | O3: مبلغ جرائم (ابطال-تاخیر) | P3: مبلغ بخشش (تاخیر) | Q3: مبلغ عدم بخشش (ابطال - تاخیر)
A4: 1 | B4: بیتو تار پارس | C4: 63380000 | D4: =SUMIF([1]Sheet4!A:A,اصل!B4,[1]Sheet4!B:B) -> 33280000 | E4: 190334342500 | F4: 43231812500 | G4: 147102530000 | H4: 114507000 | I4: =SUMIF([1]Sheet4!A:A,اصل!B4,[1]Sheet4!C:C) -> 5810000 | J4: 300303157250 | K4: 232750057250 | L4: 67553100000 | M4: 177887000 | N4: =D4+I4 -> 39090000 | O4: 490637499750 | P4: 275981869750 | Q4: 214655630000
A5: 2 | B5: تولیدی روان ساز آرین جم | C5: 18100000 | D5: =SUMIF([1]Sheet4!A:A,اصل!B5,[1]Sheet4!B:B) -> 8100000 | E5: 66234359000 | F5: 26715386000 | G5: 39518973000 | H5: 22720000 | I5: =SUMIF([1]Sheet4!A:A,اصل!B5,[1]Sheet4!C:C) -> 16360000 | J5: 87233100000 | K5: 14358225000 | L5: 72874875000 | M5: 40820000 | N5: =D5+I5 -> 24460000 | O5: 153467459000 | P5: 41073611000 | Q5: 112393848000
A6: 3 | B6: طلوع فردای ایرانیان | C6: 30400000 | D6: =SUMIF([1]Sheet4!A:A,اصل!B6,[1]Sheet4!B:B) -> 9500000 | E6: 108827000000 | F6: 56274400000 | G6: 52552600000 | H6: 0 | I6: =SUMIF([1]Sheet4!A:A,اصل!B6,[1]Sheet4!C:C) -> 0 | J6: 0 | K6: 0 | L6: 0 | M6: 30400000 | N6: =D6+I6 -> 9500000 | O6: 108827000000 | P6: 56274400000 | Q6: 52552600000
A7: 4 | B7: گروه پترو پالایشگاه اکسین خوزستان | C7: 30150000 | D7: =SUMIF([1]Sheet4!A:A,اصل!B7,[1]Sheet4!B:B) -> 10000000 | E7: 106479097000 | F7: 51752266125 | G7: 54726830875 | H7: 0 | I7: =SUMIF([1]Sheet4!A:A,اصل!B7,[1]Sheet4!C:C) -> 0 | J7: 0 | K7: 0 | L7: 0 | M7: 30150000 | N7: =D7+I7 -> 10000000 | O7: 106479097000 | P7: 51752266125 | Q7: 54726830875
A8: 5 | B8: گروه پیشگامان صنعت و تجارت رادمان | C8: 11100000 | D8: =SUMIF([1]Sheet4!A:A,اصل!B8,[1]Sheet4!B:B) -> 7000000 | E8: 39332000000 | F8: 10834250000 | G8: 28497750000 | H8: 15900000 | I8: =SUMIF([1]Sheet4!A:A,اصل!B8,[1]Sheet4!C:C) -> 6000000 | J8: 37326250000 | K8: 15366250000 | L8: 21960000000 | M8: 27000000 | N8: =D8+I8 -> 13000000 | O8: 76658250000 | P8: 26200500000 | Q8: 50457750000
A9: 6 | B9: آلما نوین تجارت روماک | C9: 24000000 | D9: =SUMIF([1]Sheet4!A:A,اصل!B9,[1]Sheet4!B:B) -> 7000000 | E9: 98220430000 | F9: 54283595000 | G9: 43936835000 | H9: 0 | I9: =SUMIF([1]Sheet4!A:A,اصل!B9,[1]Sheet4!C:C) -> 0 | J9: 0 | K9: 0 | L9: 0 | M9: 24000000 | N9: =D9+I9 -> 7000000 | O9: 98220430000 | P9: 54283595000 | Q9: 43936835000
A10: 7 | B10: سپاهان قیر جی | C10: 17000000 | D10: =SUMIF([1]Sheet4!A:A,اصل!B10,[1]Sheet4!B:B) -> 0 | E10: 23912500000 | F10: 23912500000 | G10: 0 | H10: 5000000 | I10: =SUMIF([1]Sheet4!A:A,اصل!B10,[1]Sheet4!C:C) -> 0 | J10: 1925000000 | K10: 1925000000 | L10: 0 | M10: 22000000 | N10: =D10+I10 -> 0 | O10: 25837500000 | P10: 25837500000 | Q10: 0
A11: 8 | B11: نفت البرز صنعت جی | C11: 20440000 | D11: =SUMIF([1]Sheet4!A:A,اصل!B11,[1]Sheet4!B:B) -> 8040000 | E11: 55924354000 | F11: 24667250000 | G11: 31257104000 | H11: 0 | I11: =SUMIF([1]Sheet4!A:A,اصل!B11,[1]Sheet4!C:C) -> 0 | J11: 0 | K11: 0 | L11: 0 | M11: 20440000 | N11: =D11+I11 -> 8040000 | O11: 55924354000 | P11: 24667250000 | Q11: 31257104000
A12: 9 | B12: بازرگانی نیک مهر عمرانی | C12: 0 | D12: =SUMIF([1]Sheet4!A:A,اصل!B12,[1]Sheet4!B:B) -> 0 | E12: 0 | F12: 0 | G12: 0 | H12: 19690000 | I12: =SUMIF([1]Sheet4!A:A,اصل!B12,[1]Sheet4!C:C) -> 0 | J12: 47472625000 | K12: 43239625000 | L12: 4233000000 | M12: 19690000 | N12: =D12+I12 -> 0 | O12: 47472625000 | P12: 43239625000 | Q12: 4233000000
A13: 10 | B13: پارس پردیس شهر | C13: 13150000 | D13: =SUMIF([1]Sheet4!A:A,اصل!B13,[1]Sheet4!B:B) -> 0 | E13: 24731022875 | F13: 23937022875 | G13: 794000000 | H13: 2250000 | I13: =SUMIF([1]Sheet4!A:A,اصل!B13,[1]Sheet4!C:C) -> 0 | J13: 6181875000 | K13: 6181875000 | L13: 0 | M13: 15400000 | N13: =D13+I13 -> 0 | O13: 30912897875 | P13: 30118897875 | Q13: 794000000
A14: 11 | B14: شهرآرا کارن پارس | C14: 3500000 | D14: =SUMIF([1]Sheet4!A:A,اصل!B14,[1]Sheet4!B:B) -> 0 | E14: 11387500000 | F14: 10806250000 | G14: 581250000 | H14: 10500000 | I14: =SUMIF([1]Sheet4!A:A,اصل!B14,[1]Sheet4!C:C) -> 4000000 | J14: 31357500000 | K14: 15697500000 | L14: 15660000000 | M14: 14000000 | N14: =D14+I14 -> 4000000 | O14: 42745000000 | P14: 26503750000 | Q14: 16241250000
A15: 12 | B15: افرا طب آوا | C15: 0 | D15: =SUMIF([1]Sheet4!A:A,اصل!B15,[1]Sheet4!B:B) -> 0 | E15: 0 | F15: 0 | G15: 0 | H15: 12500000 | I15: =SUMIF([1]Sheet4!A:A,اصل!B15,[1]Sheet4!C:C) -> 3000000 | J15: 37588125000 | K15: 20198125000 | L15: 17390000000 | M15: 12500000 | N15: =D15+I15 -> 3000000 | O15: 37588125000 | P15: 20198125000 | Q15: 17390000000
... A93: 90 | B93: پترو پالایش الف(پترو پالایش تار) | C93: 100000 | D93: =SUMIF([1]Sheet4!A:A,اصل!B93,[1]Sheet4!B:B) -> 100000 | E93: 341250000 | F93: 0 | G93: 341250000 | H93: 0 | I93: =SUMIF([1]Sheet4!A:A,اصل!B93,[1]Sheet4!C:C) -> 0 | J93: 0 | K93: 0 | L93: 0 | M93: 100000 | N93: =D93+I93 -> 100000 | O93: 341250000 | P93: 0 | Q93: 341250000
A94: مجموع | C94: =SUM(C4:C93) -> 386050000 | D94: =SUM(D4:D93) -> 134870000 | E94: =SUM(E4:E93) -> 1112102781450 | F94: =SUM(F4:F93) -> 490370607250 | G94: =SUM(G4:G93) -> 621766423475 | H94: =SUM(H4:H93) -> 289032000 | I94: =SUM(I4:I93) -> 57400000 | J94: =SUM(J4:J93) -> 808684549750 | ... Q94: =SUM(Q4:Q93) -> 926427970975
