Workbook

Sheet Sheet1
A1: ردیف | B1: کشتی | C1: خریدار | D1: وزن کشتی (کیلوگرم) | E1: شماره فاکتور | F1: تاریخ فاکتور | G1: مبلغ فاکتور | H1: قرارداد بورسی | I1: قرارداد بورسی فاکتورهای برگشت از فروش | J1: تاریخ قرارداد بورسی | K1: نرخ قرارداد بورسی | L1: شماره حواله | M1: تاریخ حواله | N1: نرخ حواله | O1: نرخ VB بندرعباس | P1: هزینه جاری
A2: 1 | B2: GLOBAL EVEREST | C2: جی پورنر پارس | D2: 8481887 | E2: 47 | F2: 04.04.99 | G2: =VLOOKUP(E:E,تحویلها!AJ:AX,15,0) -> 19023225000 | H2: =VLOOKUP(E:E,تحویلها!AJ:CF,49,0) -> 1399783081001 | J2: =VLOOKUP(H:H,تحویلها!Z:AA,2,0) -> 99/02/24 | K2: 17159 | L2: 994300043 | M2: 04.04.99 | N2: =VLOOKUP(L:L,'حواله ها'!F:N,9,0) -> 32500
E3: 46 | F3: 04.04.99 | G3: =VLOOKUP(E:E,تحویلها!AJ:AX,15,0) -> 211310125000 | H3: =VLOOKUP(E:E,تحویلها!AJ:CF,49,0) -> 1398765964001 | J3: =VLOOKUP(H:H,تحویلها!Z:AA,2,0) -> 98/12/21 | K3: 29840 | L3: 994300042 | M3: 04.04.99 | N3: =VLOOKUP(L:L,'حواله ها'!F:N,9,0) -> 32500
E4: 45 | F4: 04.04.99 | G4: =VLOOKUP(E:E,تحویلها!AJ:AX,15,0) -> 99119150000 | H4: =VLOOKUP(E:E,تحویلها!AJ:CF,49,0) -> 1399769067001 | J4: =VLOOKUP(H:H,تحویلها!Z:AA,2,0) -> 99/01/19 | K4: 19750 | L4: 994300041 | M4: 04.04.99 | N4: =VLOOKUP(L:L,'حواله ها'!F:N,9,0) -> 32500
E5: 44 | F5: 04.04.99 | G5: =VLOOKUP(E:E,تحویلها!AJ:AX,15,0) -> 17294485000 | H5: =VLOOKUP(E:E,تحویلها!AJ:CF,49,0) -> 1399793221001 | J5: =VLOOKUP(H:H,تحویلها!Z:AA,2,0) -> 99/03/21 | K5: 31733 | L5: 994300040 | M5: 04.04.99 | N5: =VLOOKUP(L:L,'حواله ها'!F:N,9,0) -> 31733
A6: 2 | B6: INFINITY | C6: جی پورنر پارس | D6: 1784391 | E6: 48 | F6: 09.04.99 | G6: =VLOOKUP(E:E,تحویلها!AJ:AX,15,0) -> 10297230000 | H6: =VLOOKUP(E:E,تحویلها!AJ:CF,49,0) -> 1398765963001 | J6: =VLOOKUP(H:H,تحویلها!Z:AA,2,0) -> 98/12/21 | K6: 28000 | L6: 994300044 | M6: 09.04.99 | N6: =VLOOKUP(L:L,'حواله ها'!F:N,9,0) -> 33500
G7: =VLOOKUP(E:E,تحویلها!AJ:AX,15,0) -> #N/A | H7: =VLOOKUP(E:E,تحویلها!AJ:CF,49,0) -> #N/A | J7: =VLOOKUP(H:H,تحویلها!Z:AA,2,0) -> #N/A | N7: =VLOOKUP(L:L,'حواله ها'!F:N,9,0) -> #N/A
A8: 3 | B8: ASPHALT PRINCESS | C8: جی پورنر پارس | D8: 4825119 | E8: 42 | F8: 27.03.99 | G8: =VLOOKUP(E:E,تحویلها!AJ:AX,15,0) -> 12261955000 | H8: =VLOOKUP(E:E,تحویلها!AJ:CF,49,0) -> 1399788732001 | J8: =VLOOKUP(H:H,تحویلها!Z:AA,2,0) -> 99/03/11 | K8: 22499 | L8: 994300038 | M8: 27.03.99 | N8: =VLOOKUP(L:L,'حواله ها'!F:N,9,0) -> 22499
E9: 43 | F9: 27.03.99 | G9: =VLOOKUP(E:E,تحویلها!AJ:AX,15,0) -> 155650365000 | H9: =VLOOKUP(E:E,تحویلها!AJ:CF,49,0) -> 1399793221001 | J9: =VLOOKUP(H:H,تحویلها!Z:AA,2,0) -> 99/03/21 | K9: 31733 | L9: 994300039 | M9: 27.03.99 | N9: =VLOOKUP(L:L,'حواله ها'!F:N,9,0) -> 31733
A10: 4 | B10: BITUMEN PRINCESS | C10: پالایش نفت جی ارس | D10: 4290801 | E10: 40 | F10: 25.03.99 | G10: =VLOOKUP(E:E,تحویلها!AJ:AX,15,0) -> 80928903000 | H10: =VLOOKUP(E:E,تحویلها!AJ:CF,49,0) -> 1399788731001 | J10: =VLOOKUP(H:H,تحویلها!Z:AA,2,0) -> 99/03/11 | K10: 22499 | L10: 994300036 | M10: 25.03.99 | N10: =VLOOKUP(L:L,'حواله ها'!F:N,9,0) -> 22499
E11: 41 | F11: 25.03.99 | G11: =VLOOKUP(E:E,تحویلها!AJ:AX,15,0) -> 34588970000 | H11: =VLOOKUP(E:E,تحویلها!AJ:CF,49,0) -> 1399793220001 | J11: =VLOOKUP(H:H,تحویلها!Z:AA,2,0) -> 99/03/21 | K11: 31733 | L11: 994300037 | M11: 25.03.99 | N11: =VLOOKUP(L:L,'حواله ها'!F:N,9,0) -> 31733
E12: 20 | F12: 27.03.99 | G12: 318183935 | I12: 1399793220001 | J12: 99/03/21 | K12: 31733
A13: 5 | B13: MIB 1 | C13: جی پورنر پارس | D13: 969805 | E13: 34 | F13: 18.03.99 | G13: =VLOOKUP(E:E,تحویلها!AJ:AX,15,0) -> 24523910000 | H13: =VLOOKUP(E:E,تحویلها!AJ:CF,49,0) -> 1399788732001 | J13: =VLOOKUP(H:H,تحویلها!Z:AA,2,0) -> 99/03/11 | K13: 22499 | L13: 994300031 | M13: 19.03.99 | N13: =VLOOKUP(L:L,'حواله ها'!F:N,9,0) -> 22499
E14: 18 | F14: 19.03.99 | G14: 740499462 | I14: 1399788732001 | J14: 99/03/11 | K14: 22499
A15: 6 | B15: GOLDEN LILY | C15: پالایش نفت جی ارس (اسپادانا قیر پاسارگاد) | D15: 5554195 | E15: 37 | F15: 19.03.99 | G15: =VLOOKUP(E:E,تحویلها!AJ:AX,15,0) -> 82458500000 | H15: =VLOOKUP(E:E,تحویلها!AJ:CF,49,0) -> 1399783087001 | J15: =VLOOKUP(H:H,تحویلها!Z:AA,2,0) -> 99/02/24 | K15: 17000 | L15: 994300034 | M15: 19.03.99 | N15: =VLOOKUP(L:L,'حواله ها'!F:N,9,0) -> 17000
E16: 36 | F16: 19.03.99 | G16: =VLOOKUP(E:E,تحویلها!AJ:AX,15,0) -> 13488150500 | H16: =VLOOKUP(E:E,تحویلها!AJ:CF,49,0) -> 1399788731001 | J16: =VLOOKUP(H:H,تحویلها!Z:AA,2,0) -> 99/03/11 | K16: 22499 | L16: 994300033 | M16: 19.03.99 | N16: =VLOOKUP(L:L,'حواله ها'!F:N,9,0) -> 22499
A17: 7 | B17: COURAGE 7 | C17: اسپادانا قیر پاسارگاد | D17: 3048739 | E17: 33 | F17: 18.03.99 | G17: =VLOOKUP(E:E,تحویلها!AJ:AX,15,0) -> 35762900000 | H17: =VLOOKUP(E:E,تحویلها!AJ:CF,49,0) -> 1399783085001 | J17: =VLOOKUP(H:H,تحویلها!Z:AA,2,0) -> 99/02/24 | K17: 17000 | L17: 994300030 | M17: 18.03.99 | N17: =VLOOKUP(L:L,'حواله ها'!F:N,9,0) -> 17000
E18: 19 | F18: 23.03.99 | G18: 579266330 | I18: 1399783085001 | J18: 99/02/24 | K18: 17000
C19: پالایش نفت جی ارس | E19: 35 | F19: 19.03.99 | G19: =VLOOKUP(E:E,تحویلها!AJ:AX,15,0) -> 15940541500 | H19: =VLOOKUP(E:E,تحویلها!AJ:CF,49,0) -> 1399788731001 | J19: =VLOOKUP(H:H,تحویلها!Z:AA,2,0) -> 99/03/11 | K19: 22499 | L19: 994300032 | M19: 18.03.99 | N19: =VLOOKUP(L:L,'حواله ها'!F:N,9,0) -> 22499
E20: 38 | F20: 21.03.99 | G20: =VLOOKUP(E:E,تحویلها!AJ:AX,15,0) -> 12261955000 | H20: =VLOOKUP(E:E,تحویلها!AJ:CF,49,0) -> 1399788731001 | J20: =VLOOKUP(H:H,تحویلها!Z:AA,2,0) -> 99/03/11 | K20: 22499 | L20: 994300035 | M20: 20.03.99 | N20: =VLOOKUP(L:L,'حواله ها'!F:N,9,0) -> 22499
A21: 8 | B21: VARDHMAN | C21: توسعه تجارت طلای سیاه | D21: 4157991 | E21: 14 | F21: 23.02.99 | G21: =VLOOKUP(E:E,تحویلها!AJ:AX,15,0) -> 11118000000 | H21: =VLOOKUP(E:E,تحویلها!AJ:CF,49,0) -> 1398731239001 | J21: =VLOOKUP(H:H,تحویلها!Z:AA,2,0) -> 98/09/13 | K21: 22000 | L21: 994300013 | M21: 23.02.99 | N21: =VLOOKUP(L:L,'حواله ها'!F:N,9,0) -> 17000
E22: 15 | F22: 23.02.99 | G22: =VLOOKUP(E:E,تحویلها!AJ:AX,15,0) -> 60222500000 | H22: =VLOOKUP(E:E,تحویلها!AJ:CF,49,0) -> 1398743512001 | J22: =VLOOKUP(H:H,تحویلها!Z:AA,2,0) -> 98/10/18 | K22: 26009 | L22: 99430014 | M22: 23.02.99
E23: 28 | F23: 12.03.99 | G23: =VLOOKUP(E:E,تحویلها!AJ:AX,15,0) -> 6114900000 | H23: =VLOOKUP(E:E,تحویلها!AJ:CF,49,0) -> 1399783086001 | J23: =VLOOKUP(H:H,تحویلها!Z:AA,2,0) -> 99/02/24 | K23: 17000 | L23: 994300026 | M23: 12.03.99 | N23: =VLOOKUP(L:L,'حواله ها'!F:N,9,0) -> 17000
E24: 17 | F24: 18.03.99 | G24: 407826770 | I24: 1399783086001 | J24: 99/02/24 | K24: 17000
A25: 9 | B25: ACE BITUMEN 4 | C25: آترا کران انرژی | D25: 1435844 | E25: 18 | F25: 27.02.99 | G25: =VLOOKUP(E:E,تحویلها!AJ:AX,15,0) -> 25288000000 | H25: =VLOOKUP(E:E,تحویلها!AJ:CF,49,0) -> 1398697892001 | J25: =VLOOKUP(H:H,تحویلها!Z:AA,2,0) -> 98/05/23 | K25: 27800 | L25: 994300021 | M25: 27.02.99 | N25: =VLOOKUP(L:L,'حواله ها'!F:N,9,0) -> 16000
E26: 11 | F26: 28.02.99 | G26: 246880640 | I26: 1398697892001 | J26: 98/05/23 | K26: 27800
A27: 10 | B27: SHIP | C27: اسپادانا قیر پاسارگاد | K27: 17000 | L27: 994300022 | N27: =VLOOKUP(L:L,'حواله ها'!F:N,9,0) -> 17000
E28: 12 | F28: 01.03.99 | G28: 203830 | I28: 1399783085001 | J28: 99/02/24 | K28: 17000
A29: 11 | B29: R OCEAN | C29: توسعه تجارت طلای سیاه | D29: 3091711 | E29: 30 | F29: 13.03.99 | G29: =VLOOKUP(E:E,تحویلها!AJ:AX,15,0) -> 52254600000 | H29: =VLOOKUP(E:E,تحویلها!AJ:CF,49,0) -> 1399783086001 | J29: =VLOOKUP(H:H,تحویلها!Z:AA,2,0) -> 99/02/24 | K29: 17000 | L29: 994300027 | M29: 13.03.99 | N29: =VLOOKUP(L:L,'حواله ها'!F:N,9,0) -> 17000
E30: 31 | F30: 13.03.99 | G30: =VLOOKUP(E:E,تحویلها!AJ:AX,15,0) -> 6867000000 | H30: =VLOOKUP(E:E,تحویلها!AJ:CF,49,0) -> 1398743512001 | J30: =VLOOKUP(H:H,تحویلها!Z:AA,2,0) -> 98/10/18 | K30: 26009 | L30: 994300029 | M30: 13.03.99 | N30: =VLOOKUP(L:L,'حواله ها'!F:N,9,0) -> 22500
E31: 16 | F31: 16.03.99 | G31: 203287725 | I31: 1398743512001 | J31: 98/10/18 | K31: 26009 | L31: 994300029 | M31: 13.03.99 | N31: =VLOOKUP(L:L,'حواله ها'!F:N,9,0) -> 22500
A32: 12 | B32: SIMRAN | C32: جی پورنر پارس | D32: 999905 | E32: 25 | F32: 11.03.99 | G32: =VLOOKUP(E:E,تحویلها!AJ:AX,15,0) -> 21582000000 | H32: =VLOOKUP(E:E,تحویلها!AJ:CF,49,0) -> 1398723571001 | J32: =VLOOKUP(H:H,تحویلها!Z:AA,2,0) -> 98/08/22 | K32: 23500 | L32: 994300023 | M32: 10.03.99 | N32: =VLOOKUP(L:L,'حواله ها'!F:N,9,0) -> 22500
E33: 26 | F33: 11.03.99 | G33: =VLOOKUP(E:E,تحویلها!AJ:AX,15,0) -> 2943000000 | H33: =VLOOKUP(E:E,تحویلها!AJ:CF,49,0) -> 1399775612001 | J33: =VLOOKUP(H:H,تحویلها!Z:AA,2,0) -> 99/02/06 | K33: 15559 | L33: 994300024 | M33: 10.03.99 | N33: =VLOOKUP(L:L,'حواله ها'!F:N,9,0) -> 22500
E34: 13 | F34: 12.03.99 | G34: 2329875 | I34: 1399775612001 | J34: 99/02/06 | K34: 15559
A35: 13 | B35: BITU GLORY | C35: پالایش نفت جی ارس | D35: 2532886 | E35: 27 | F35: 11.03.99 | G35: =VLOOKUP(E:E,تحویلها!AJ:AX,15,0) -> 47251500000 | H35: =VLOOKUP(E:E,تحویلها!AJ:CF,49,0) -> 1399783087001 | J35: =VLOOKUP(H:H,تحویلها!Z:AA,2,0) -> 99/02/24 | K35: 17000 | L35: 994300025 | M35: 11.03.99 | N35: =VLOOKUP(L:L,'حواله ها'!F:N,9,0) -> 17000
E36: 14 | F36: 13.03.99 | G36: 317122420 | I36: 1399783087001 | J36: 99/02/24 | K36: 17000 | L36: 994300025 | M36: 11.03.99 | N36: =VLOOKUP(L:L,'حواله ها'!F:N,9,0) -> 17000
A37: 14 | B37: OCEAN SAPPHIRE 1 | C37: جی پورنر پارس | D37: 978760 | E37: 29 | F37: 13.03.99 | G37: =VLOOKUP(E:E,تحویلها!AJ:AX,15,0) -> 24523910000 | H37: =VLOOKUP(E:E,تحویلها!AJ:CF,49,0) -> 1399788732001 | J37: =VLOOKUP(H:H,تحویلها!Z:AA,2,0) -> 99/03/11 | K37: 22499 | L37: 994300028 | M37: 13.03.99 | N37: =VLOOKUP(L:L,'حواله ها'!F:N,9,0) -> 22499
E38: 15 | F38: 14.03.99 | G38: 520887849 | I38: 1399788732001 | J38: 99/03/11 | K38: 22499 | L38: 994300028 | M38: 13.03.99 | N38: =VLOOKUP(L:L,'حواله ها'!F:N,9,0) -> 22499
A39: 15 | B39: SOL LETO | C39: آترا کران انرژی | D39: 2681729 | E39: 9 | F39: 18.02.99 | G39: =VLOOKUP(E:E,تحویلها!AJ:AX,15,0) -> 46769353760 | H39: =VLOOKUP(E:E,تحویلها!AJ:CF,49,0) -> 1398697876001 | J39: =VLOOKUP(H:H,تحویلها!Z:AA,2,0) -> 98/05/23 | K39: 31200 | L39: 994300008 | M39: 17.02.99 | N39: =VLOOKUP(L:L,'حواله ها'!F:N,9,0) -> 16000
A40: 16 | B40: MIB 1 | C40: جی پورنر پارس | D40: 966280 | E40: 10 | F40: 18.02.99 | G40: =VLOOKUP(E:E,تحویلها!AJ:AX,15,0) -> 17440000000 | H40: =VLOOKUP(E:E,تحویلها!AJ:CF,49,0) -> 1398765964001 | J40: =VLOOKUP(H:H,تحویلها!Z:AA,2,0) -> 98/12/21 | K40: 29840 | L40: 994300009 | M40: 18.02.99 | N40: =VLOOKUP(L:L,'حواله ها'!F:N,9,0) -> 16000
E41: 6 | F41: 20.02.99 | G41: 588076800 | I41: 1398765964001 | J41: 98/12/21 | K41: 29840
A42: 17 | B42: SEA PRINCESS | C42: جی پورنر پارس | D42: 1745688 | E42: 11 | F42: 20.02.99 | G42: =VLOOKUP(E:E,تحویلها!AJ:AX,15,0) -> 30520000000 | H42: =VLOOKUP(E:E,تحویلها!AJ:CF,49,0) -> 1398765964001 | J42: =VLOOKUP(H:H,تحویلها!Z:AA,2,0) -> 98/12/21 | K42: 29840 | L42: 994300011 | M42: 20.02.99 | N42: =VLOOKUP(L:L,'حواله ها'!F:N,9,0) -> 16000
E43: 7 | F43: 22.02.99 | G43: 75201280 | I43: 1398765964001 | J43: 98/12/21 | K43: 29840
A44: 18 | B44: ROYAL LADY | C44: پالایش نفت جی ارس | D44: 2648859 | E44: 13 | F44: 22.02.99 | G44: =VLOOKUP(E:E,تحویلها!AJ:AX,15,0) -> 49704000000 | H44: =VLOOKUP(E:E,تحویلها!AJ:CF,49,0) -> 1399775815001 | J44: =VLOOKUP(H:H,تحویلها!Z:AA,2,0) -> 99/02/07 | K44: 16000 | L44: 994300012 | M44: 22.02.99 | N44: =VLOOKUP(L:L,'حواله ها'!F:N,9,0) -> 16000
E45: 8 | F45: 24.02.99 | G45: 3507899040 | I45: 1399775815001 | J45: 99/02/07 | K45: 16000
A46: 19 | B46: NEPHEL | C46: اسپادانا قیر پاسارگاد | D46: 3069846 | E46: 16 | F46: 24.04.99 | G46: =VLOOKUP(E:E,تحویلها!AJ:AX,15,0) -> 53540800000 | H46: =VLOOKUP(E:E,تحویلها!AJ:CF,49,0) -> 1399775814001 | J46: =VLOOKUP(H:H,تحویلها!Z:AA,2,0) -> 99/02/07 | K46: 16000 | L46: 994300016 | M46: 24.02.99 | N46: =VLOOKUP(L:L,'حواله ها'!F:N,9,0) -> 16000
E47: 9 | F47: 25.02.99 | G47: 2685760 | I47: 1399775814001 | J47: 99/02/07 | K47: 16000
A48: 20 | B48: OCEAN SAPPHIRE 1 | C48: جی پورنر پارس | D48: 974829 | E48: 17 | F48: 24.02.99 | G48: =VLOOKUP(E:E,تحویلها!AJ:AX,15,0) -> 18530000000 | H48: =VLOOKUP(E:E,تحویلها!AJ:CF,49,0) -> 1398765964001 | J48: =VLOOKUP(H:H,تحویلها!Z:AA,2,0) -> 98/12/21 | K48: 29840 | L48: 994300019 | M48: 24.02.99 | N48: =VLOOKUP(L:L,'حواله ها'!F:N,9,0) -> 17000
E49: 10 | F49: 26.02.99 | G49: 466418630 | I49: 1398765964001 | J49: 98/12/21 | K49: 29840
A50: 21 | B50: MIB 1 | C50: توسعه تجارت طلای سیاه | D50: 926618 | E50: 6 | F50: 03.02.99 | G50: =VLOOKUP(E:E,تحویلها!AJ:AX,15,0) -> 17065040000 | H50: =VLOOKUP(E:E,تحویلها!AJ:CF,49,0) -> 1399769066001 | J50: =VLOOKUP(H:H,تحویلها!Z:AA,2,0) -> 99/01/19 | K50: 19750 | L50: 994300005 | M50: 03.02.99 | N50: =VLOOKUP(L:L,'حواله ها'!F:N,9,0) -> 16480
E51: 4 | F51: 04.02.99 | G51: 420015543 | I51: 1399769066001 | J51: 99/01/19 | K51: 19750
A52: 22 | B52: OCEAN TOPAZ 1 | C52: توسعه تجارت طلای سیاه | D52: 2261844 | E52: 7 | F52: 03.02.99 | G52: =VLOOKUP(E:E,تحویلها!AJ:AX,15,0) -> 36824560000 | H52: =VLOOKUP(E:E,تحویلها!AJ:CF,49,0) -> 1399769066001 | J52: =VLOOKUP(H:H,تحویلها!Z:AA,2,0) -> 99/01/19 | K52: 19750 | L52: 994300006 | M52: 03.02.99 | N52: =VLOOKUP(L:L,'حواله ها'!F:N,9,0) -> 16480
E53: 8 | F53: 04.02.99 | G53: =VLOOKUP(E:E,تحویلها!AJ:AX,15,0) -> 4185600000 | H53: =VLOOKUP(E:E,تحویلها!AJ:CF,49,0) -> 1398731239001 | J53: =VLOOKUP(H:H,تحویلها!Z:AA,2,0) -> 98/09/13 | K53: 22000 | L53: 994300007 | M53: 04.02.99 | N53: =VLOOKUP(L:L,'حواله ها'!F:N,9,0) -> 16000
E54: 5 | F54: 05.02.99 | G54: 491040640 | I54: 1398731239001 | J54: 98/09/13 | K54: 22000
A55: 23 | B55: ACE BITUMEN 3 | C55: آترا کران انرژی | D55: 1129812 | E55: 4 | F55: 27.01.99 | G55: =VLOOKUP(E:E,تحویلها!AJ:AX,15,0) -> 24322027830 | H55: =VLOOKUP(E:E,تحویلها!AJ:CF,49,0) -> 1398697876001 | J55: =VLOOKUP(H:H,تحویلها!Z:AA,2,0) -> 98/05/23 | L55: 994300004 | M55: 25.01.99 | N55: =VLOOKUP(L:L,'حواله ها'!F:N,9,0) -> 19750
A56: 24 | B56: GLOBAL QUEEN | C56: پالایش نفت جی ارس | D56: 1981487 | E56: 3 | F56: 24.01.99 | G56: =VLOOKUP(E:E,تحویلها!AJ:AX,15,0) -> 21527500000 | H56: =VLOOKUP(E:E,تحویلها!AJ:CF,49,0) -> 1399769068001 | J56: =VLOOKUP(H:H,تحویلها!Z:AA,2,0) -> 99/01/19 | K56: 19750 | L56: 994300002 | M56: 24.01.99 | N56: =VLOOKUP(L:L,'حواله ها'!F:N,9,0) -> 19750
E57: 2 | F57: 25.01.99 | G57: 185459413 | I57: 1399769068001 | J57: 99/01/19 | K57: 19750
E58: 2 | F58: 24.01.99 | G58: =VLOOKUP(E:E,تحویلها!AJ:AX,15,0) -> 21527500000 | H58: =VLOOKUP(E:E,تحویلها!AJ:CF,49,0) -> 1398723570001 | J58: =VLOOKUP(H:H,تحویلها!Z:AA,2,0) -> 98/08/22 | K58: 23500 | L58: 994300003 | M58: 24.01.99 | N58: =VLOOKUP(L:L,'حواله ها'!F:N,9,0) -> 19750
E59: 1 | F59: 25.01.99 | G59: 213079195 | I59: 1398723570001 | J59: 98/08/22 | K59: 23500
A60: 25 | B60: SEA PRINCESS | C60: پالایش نفت جی ارس | D60: 3545516 | E60: 1 | F60: 19.01.99 | G60: =VLOOKUP(E:E,تحویلها!AJ:AX,15,0) -> 90415500000 | H60: =VLOOKUP(E:E,تحویلها!AJ:CF,49,0) -> 1398760973001 | J60: =VLOOKUP(H:H,تحویلها!Z:AA,2,0) -> 98/12/07 | K60: 30339 | L60: 994300001 | M60: 19.01.99 | N60: =VLOOKUP(L:L,'حواله ها'!F:N,9,0) -> 19750
E61: 3 | F61: 26.01.99 | G61: 14089404310 | I61: 1398760973001 | J61: 98/12/07 | K61: 30339
A62: 26 | B62: GLOBAL PEAK | C62: جی پورنر پارس | D62: 9208048 | E62: 194 | F62: 21.12.98 | G62: 132234440000 | H62: 1398760972001 | J62: 98/12/07 | K62: 30329 | L62: 984300192 | M62: 20.12.98 | N62: =VLOOKUP(L:L,'حواله ها'!F:N,9,0) -> 30329
E63: 198 | F63: 22.12.98 | G63: 32525600000 | H63: 1398760966001 | J63: 98/12/07 | K63: 27959 | L63: 984300194 | M63: 22.12.98 | N63: =VLOOKUP(L:L,'حواله ها'!F:N,9,0) -> 29840
E64: 199 | F64: 22.12.98 | G64: 97576800000 | H64: 1398760972001 | J64: 98/12/07 | K64: 30329 | L64: 984300195 | M64: 22.12.98 | N64: =VLOOKUP(L:L,'حواله ها'!F:N,9,0) -> 29840
E65: 200 | F65: 25.12.98 | G65: 39292486029 | H65: 1398765964001 | J65: 98/12/21 | K65: 29840 | L65: 984300196 | M65: 24.12.98 | N65: =VLOOKUP(L:L,'حواله ها'!F:N,9,0) -> 29840
A66: 27 | B66: REEM 7 | C66: توسعه تجارت طلای سیاه | D66: 2595985 | E66: 201 | F66: 26.12.98 | G66: 74808880000 | H66: 1398760974001 | J66: 98/12/07 | K66: 30400 | L66: 984300197 | M66: 26.12.98 | N66: =VLOOKUP(L:L,'حواله ها'!F:N,9,0) -> 29840
E67: 202 | F67: 26.12.98 | G67: 9920308000 | H67: 1398731239001 | J67: 98/09/13 | K67: 22000 | L67: 984300198 | M67: 26.12.98 | N67: =VLOOKUP(L:L,'حواله ها'!F:N,9,0) -> 29840
E68: 75 | F68: 28.12.98 | G68: 293218284 | I68: 1398731239001 | J68: 98/09/13 | K68: 22000 | L68: 984300198 | M68: 26.12.98 | N68: =VLOOKUP(L:L,'حواله ها'!F:N,9,0) -> 29840

Sheet حواله ها
A1: استان | B1: شماره درخواست | C1: تاریخ درخواست | D1: کد مرکز فروش | E1: مرکز فروش | F1: شماره حواله | G1: تاریخ حواله | H1: نام مشتری | I1: کد مشتری | J1: شماره قرارداد بورسی | K1: تاریخ قرارداد بورسی | L1: مقدار قرارداد بورسی | M1: نام کالا | N1: نرخ قرارداد | O1: نرخ مظروف | P1: مقدار حواله | Q1: مقدار تحویل شده 97 | R1: مقدار تحویل شده 98 | S1: مقدار کل تحویل | T1: مانده حواله | U1: مقدار برگشت از فروش | V1: وضعیت حواله | W1: تاریخ اعتبار حواله | X1: گمرک خروج | Y1: مقصد | Z1: شماره رسید وجه | AA1: تاریخ رسید وجه | AB1: نام کشتی | AC1: شماره اعلامیه فروش | AD1: نام انبار | AE1: کد انبار | AF1: تحویل گیرنده | AG1: آدرس تخلیه | AH1: آدرس مشتری | AI1: فاکس مشتری | AJ1: تلفن مشتری | AK1: کدپستی مشتری | AL1: کد اقتصادی | AM1: کد ملی | AN1: سال بودجه | AO1: ماه نرخ | AP1: تاریخ قرارداد وزارت راه | AQ1: شماره قرارداد وزارت راه | AR1: شناسه حواله وزارت راه | AS1: شماره طرح وزارت راه | AT1: نوع مبنا | AU1: شناسه حواله دلفی | AV1: OrderID | AW1: CustomerID | AX1: SalesOfficeID | AY1: ProductID | AZ1: StoreID
B2: 1377-اق پ-98 | C2: 98/12/01 | D2: 43 | E2: فروش صادراتی غیر مستقیم - فله (انبارقیر بندرعباس) کد:43 | F2: 984300181 | G2: 98/12/03 | H2: اسپادانا قیر پاسارگاد | I2: 641 | J2: 1398749825001 | K2: 98/11/08 | L2: 3900000 | M2: قیر 60/70 - فله | N2: 28200 | P2: 3000000 | Q2: 0 | R2: 3000000 | S2: 2929701 | T2: 70299 | U2: -70299 | V2: بسته شده | W2: 98/12/08 | X2: بندر عباس | Y2: هند | Z2: 113476 | AA2: 98/11/16 | AB2: ALJABER | AC2: 984300181 | AD2: انبار قیر بندرعباس | AE2: 104 | AF2: -- | AG2: تهران- بخش مرکزی- محله ونک- خیابان آرارات جنوبی- خیابان ونک- پلاک 57-طبقه هفتم واحد29 | AH2: تهران- بخش مرکزی- محله ونک- خیابان آرارات جنوبی- خیابان ونک- پلاک 57-طبقه هفتم واحد29 | AI2: 88618842 | AJ2: 88618853 | AK2: 1994833416 | AL2: 411613664766 | AM2: 14007643340 | AT2: اعلاميه فروش | AU2: 5 | AV2: 27994 | AW2: 641 | AX2: 29 | AY2: 5000002 | AZ2: 50000002
B3: 9814689 | C3: 98/12/03 | D3: 43 | E3: فروش صادراتی غیر مستقیم - فله (انبارقیر بندرعباس) کد:43 | F3: 984300182 | G3: 98/12/03 | H3: توسعه تجارت طلای سیاه | I3: 628 | J3: 1398753049001 | K3: 98/11/16 | L3: 3000000 | M3: قیر 60/70 - فله | N3: 28200 | P3: 3000000 | Q3: 0 | R3: 3000000 | S3: 3000000 | T3: 0 | U3: 0 | V3: بسته شده | W3: 98/12/16 | X3: بندر عباس | Y3: امارات | Z3: 30490014 | AA3: 98/11/26 | AB3: ROYAL PRINCES | AC3: 984300182 | AD3: انبار قیر بندرعباس | AE3: 104 | AF3: -- | AG3: کیلومتر11جاده اصفهان تهران شمال مورچه خورت گردنه چاه سرخ | AH3: کیلومتر11جاده اصفهان تهران شمال مورچه خورت گردنه چاه سرخ | AI3: 03145463922 | AJ3: 03145463922 | AK3: 8173697516 | AL3: 411445863711 | AM3: 10260681156 | AT3: اعلاميه فروش | AU3: 5 | AV3: 27999 | AW3: 628 | AX3: 29 | AY3: 5000002 | AZ3: 50000002
B4: 9814689 | C4: 98/12/03 | D4: 43 | E4: فروش صادراتی غیر مستقیم - فله (انبارقیر بندرعباس) کد:43 | F4: 984300183 | G4: 98/12/03 | H4: توسعه تجارت طلای سیاه | I4: 628 | J4: 1398731239001 | K4: 98/09/13 | L4: 10000000 | M4: قیر 60/70 - فله | N4: 29200 | P4: 300000 | Q4: 0 | R4: 300000 | S4: 279689 | T4: 20311 | U4: -20311 | V4: بسته شده | W4: 98/12/09 | X4: بندر عباس | Y4: امارات | Z4: 154691 | AA4: 98/12/03 | AB4: ROYAL PRINCES | AC4: 984300183 | AD4: انبار قیر بندرعباس | AE4: 104 | AF4: -- | AG4: کیلومتر11جاده اصفهان تهران شمال مورچه خورت گردنه چاه سرخ | AH4: کیلومتر11جاده اصفهان تهران شمال مورچه خورت گردنه چاه سرخ | AI4: 03145463922 | AJ4: 03145463922 | AK4: 8173697516 | AL4: 411445863711 | AM4: 10260681156 | AT4: اعلاميه فروش | AU4: 5 | AV4: 28001 | AW4: 628 | AX4: 29 | AY4: 5000002 | AZ4: 50000002
B5: 1594/آ/ص/98 | C5: 98/12/06 | D5: 43 | E5: فروش صادراتی غیر مستقیم - فله (انبارقیر بندرعباس) کد:43 | F5: 984300184 | G5: 98/12/06 | H5: پالایش نفت جی ارس (آراز شیمی جلفا) | I5: 11916 | J5: 1398753797001 | K5: 98/11/21 | L5: 7500000 | M5: قیر 60/70 - فله | N5: 30000 | P5: 4500000 | Q5: 0 | R5: 4500000 | S5: 3963109 | T5: 536891 | U5: -536891 | V5: بسته شده | W5: 98/12/21 | X5: بندر عباس | Y5: عمان | Z5: اعتباری | AA5: 98/12/06 | AB5: ASPHALT PRINCESS | AC5: 984300184 | AD5: انبار قیر بندرعباس | AE5: 104 | AF5: -- | AG5: خیابان ولیعصر نرسیده به نیایش خیابان بابک بهرامی پلاک 74 ط5 | AH5: خیابان ولیعصر نرسیده به نیایش خیابان بابک بهرامی پلاک 74 ط5 | AI5: 88651707 | AJ5: 88651707 | AK5: 1968644181 | AL5: 411167397618 | AM5: 10860192520 | AT5: اعلاميه فروش | AU5: 5 | AV5: 28037 | AW5: 11916 | AX5: 29 | AY5: 5000002 | AZ5: 50000002
B6: 1594/آ/ص/98 | C6: 98/12/06 | D6: 43 | E6: فروش صادراتی غیر مستقیم - فله (انبارقیر بندرعباس) کد:43 | F6: 984300185 | G6: 98/12/06 | H6: پالایش نفت جی ارس (آراز شیمی جلفا) | I6: 11916 | J6: 1398753801001 | K6: 98/11/21 | L6: 2000000 | M6: قیر 60/70 - فله | N6: 29200 | P6: 2000000 | Q6: 0 | R6: 2000000 | S6: 2000000 | T6: 0 | U6: 0 | V6: بسته شده | W6: 98/12/21 | X6: بندر عباس | Y6: عمان | Z6: اعتباری | AA6: 98/12/06 | AB6: ASPHALT PRINCESS | AC6: 984300185 | AD6: انبار قیر بندرعباس | AE6: 104 | AF6: -- | AG6: خیابان ولیعصر نرسیده به نیایش خیابان بابک بهرامی پلاک 74 ط5 | AH6: خیابان ولیعصر نرسیده به نیایش خیابان بابک بهرامی پلاک 74 ط5 | AI6: 88651707 | AJ6: 88651707 | AK6: 1968644181 | AL6: 411167397618 | AM6: 10860192520 | AT6: اعلاميه فروش | AU6: 5 | AV6: 28038 | AW6: 11916 | AX6: 29 | AY6: 5000002 | AZ6: 50000002
B7: 1594/آ/ص/98 | C7: 98/12/06 | D7: 43 | E7: فروش صادراتی غیر مستقیم - فله (انبارقیر بندرعباس) کد:43 | F7: 984300186 | G7: 98/12/06 | H7: پالایش نفت جی ارس (آراز شیمی جلفا) | I7: 11916 | J7: 1398750912001 | K7: 98/11/08 | L7: 3100000 | M7: قیر 60/70 - فله | N7: 30000 | P7: 2030000 | Q7: 0 | R7: 2030000 | S7: 2030000 | T7: 0 | U7: 0 | V7: بسته شده | W7: 98/12/08 | X7: بندر عباس | Y7: عمان | Z7: اعتباری | AA7: 98/12/06 | AB7: ASPHALT PRINCESS | AC7: 984300186 | AD7: انبار قیر بندرعباس | AE7: 104 | AF7: -- | AG7: خیابان ولیعصر نرسیده به نیایش خیابان بابک بهرامی پلاک 74 ط5 | AH7: خیابان ولیعصر نرسیده به نیایش خیابان بابک بهرامی پلاک 74 ط5 | AI7: 88651707 | AJ7: 88651707 | AK7: 1968644181 | AL7: 411167397618 | AM7: 10860192520 | AT7: اعلاميه فروش | AU7: 5 | AV7: 28039 | AW7: 11916 | AX7: 29 | AY7: 5000002 | AZ7: 50000002
B8: 1601/آ/ص/98 | C8: 98/12/06 | D8: 43 | E8: فروش صادراتی غیر مستقیم - فله (انبارقیر بندرعباس) کد:43 | F8: 984300187 | G8: 98/12/06 | H8: پالایش نفت جی ارس (آراز شیمی جلفا) | I8: 11916 | J8: 1398717779001 | K8: 98/08/01 | L8: 3000000 | M8: قیر 60/70 - فله | N8: 30000 | P8: 470000 | Q8: 0 | R8: 470000 | S8: 470000 | T8: 0 | U8: 0 | V8: بسته شده | W8: 98/12/15 | X8: بندر عباس | Y8: عمان | Z8: اعتباری | AA8: 98/12/06 | AB8: ASPHALT PRINCESS | AC8: 984300187 | AD8: انبار قیر بندرعباس | AE8: 104 | AF8: -- | AG8: خیابان ولیعصر نرسیده به نیایش خیابان بابک بهرامی پلاک 74 ط5 | AH8: خیابان ولیعصر نرسیده به نیایش خیابان بابک بهرامی پلاک 74 ط5 | AI8: 88651707 | AJ8: 88651707 | AK8: 1968644181 | AL8: 411167397618 | AM8: 10860192520 | AT8: اعلاميه فروش | AU8: 5 | AV8: 28041 | AW8: 11916 | AX8: 29 | AY8: 5000002 | AZ8: 50000002
B9: 9814776 | C9: 98/12/10 | D9: 43 | E9: فروش صادراتی غیر مستقیم - فله (انبارقیر بندرعباس) کد:43 | F9: 984300188 | G9: 98/12/11 | H9: توسعه تجارت طلای سیاه | I9: 628 | J9: 1398753800001 | K9: 98/11/21 | L9: 3000000 | M9: قیر 60/70 - فله | N9: 29200 | P9: 3000000 | Q9: 0 | R9: 3000000 | S9: 3000000 | T9: 0 | U9: 0 | V9: بسته شده | W9: 98/12/21 | X9: بندر عباس | Y9: امارات | Z9: 38000014 | AA9: 98/12/04 | AB9: global queen | AC9: 984300188 | AD9: انبار قیر بندرعباس | AE9: 104 | AF9: -- | AG9: کیلومتر11جاده اصفهان تهران شمال مورچه خورت گردنه چاه سرخ | AH9: کیلومتر11جاده اصفهان تهران شمال مورچه خورت گردنه چاه سرخ | AI9: 03145463922 | AJ9: 03145463922 | AK9: 8173697516 | AL9: 411445863711 | AM9: 10260681156 | AT9: اعلاميه فروش | AU9: 5 | AV9: 28067 | AW9: 628 | AX9: 29 | AY9: 5000002 | AZ9: 50000002
B10: 9814776 | C10: 98/12/10 | D10: 43 | E10: فروش صادراتی غیر مستقیم - فله (انبارقیر بندرعباس) کد:43 | F10: 984300189 | G10: 98/12/11 | H10: توسعه تجارت طلای سیاه | I10: 628 | J10: 1398731239001 | K10: 98/09/13 | L10: 10000000 | M10: قیر 60/70 - فله | N10: 30345 | P10: 300000 | Q10: 0 | R10: 300000 | S10: 120973 | T10: 179027 | U10: -179027 | V10: بسته شده | W10: 98/12/17 | X10: بندر عباس | Y10: امارات | Z10: 346246 | AA10: 98/12/11 | AB10: global queen | AC10: 984300189 | AD10: انبار قیر بندرعباس | AE10: 104 | AF10: -- | AG10: کیلومتر11جاده اصفهان تهران شمال مورچه خورت گردنه چاه سرخ | AH10: کیلومتر11جاده اصفهان تهران شمال مورچه خورت گردنه چاه سرخ | AI10: 03145463922 | AJ10: 03145463922 | AK10: 8173697516 | AL10: 411445863711 | AM10: 10260681156 | AT10: اعلاميه فروش | AU10: 5 | AV10: 28069 | AW10: 628 | AX10: 29 | AY10: 5000002 | AZ10: 50000002
B11: 1657 / آ / ص /98 | C11: 98/12/14 | D11: 43 | E11: فروش صادراتی غیر مستقیم - فله (انبارقیر بندرعباس) کد:43 | F11: 984300190 | G11: 98/12/14 | H11: پالایش نفت جی ارس (آراز شیمی جلفا) | I11: 11916 | J11: 1398760973001 | K11: 98/12/07 | L11: 10000000 | M11: قیر 60/70 - فله | N11: 30339 | P11: 5000000 | Q11: 0 | R11: 5000000 | S11: 4868612 | T11: 131388 | U11: -131388 | V11: بسته شده | W11: 99/01/08 | X11: بندر عباس | Y11: عمان | Z11: اعتباری | AA11: 98/12/14 | AC11: 984300190 | AD11: انبار قیر بندرعباس | AE11: 104 | AF11: -- | AG11: خیابان ولیعصر نرسیده به نیایش خیابان بابک بهرامی پلاک 74 ط5 | AH11: خیابان ولیعصر نرسیده به نیایش خیابان بابک بهرامی پلاک 74 ط5 | AI11: 88651707 | AJ11: 88651707 | AK11: 1968644181 | AL11: 411167397618 | AM11: 10860192520 | AT11: اعلاميه فروش | AU11: 5 | AV11: 28100 | AW11: 11916 | AX11: 29 | AY11: 5000002 | AZ11: 50000002
B12: 98-1490 | C12: 98/12/17 | D12: 43 | E12: فروش صادراتی غیر مستقیم - فله (انبارقیر بندرعباس) کد:43 | F12: 984300191 | G12: 98/12/19 | H12: اسپادانا قیر پاسارگاد | I12: 641 | J12: 1398760963001 | K12: 98/12/07 | L12: 820000 | M12: قیر 60/70 - فله | N12: 30340 | P12: 270000 | Q12: 0 | R12: 258500 | S12: 258500 | T12: 11500 | U12: 0 | V12: بسته شده | W12: 99/01/08 | X12: بندر عباس | Y12: آفریقا | Z12: 9630014 | AA12: 98/12/13 | AC12: 984300191 | AD12: انبار قیر بندرعباس | AE12: 104 | AF12: پیشگامان اقیانوس آرام | AG12: تهران- بخش مرکزی- محله ونک- خیابان آرارات جنوبی- خیابان ونک- پلاک 57-طبقه هفتم واحد29 | AH12: تهران- بخش مرکزی- محله ونک- خیابان آرارات جنوبی- خیابان ونک- پلاک 57-طبقه هفتم واحد29 | AI12: 88618842 | AJ12: 88618853 | AK12: 1994833416 | AL12: 411613664766 | AM12: 14007643340 | AT12: اعلاميه فروش | AU12: 5 | AV12: 28118 | AW12: 641 | AX12: 29 | AY12: 5000002 | AZ12: 50000002
B13: 98 / د / 10 / 2372 | C13: 98/12/20 | D13: 43 | E13: فروش صادراتی غیر مستقیم - فله (انبارقیر بندرعباس) کد:43 | F13: 984300192 | G13: 98/12/20 | H13: جی پورنر پارس | I13: 461 | J13: 1398760972001 | K13: 98/12/07 | L13: 7000000 | M13: قیر 60/70 - فله | N13: 30329 | P13: 4000000 | Q13: 0 | R13: 4000000 | S13: 4000000 | T13: 0 | U13: 0 | V13: بسته شده | W13: 99/01/08 | X13: بندر عباس | Y13: عمان | Z13: اعتباری | AA13: 98/12/20 | AB13: global peak | AC13: 984300192 | AD13: انبار قیر بندرعباس | AE13: 104 | AF13: -- | AG13: توانیر خیابان نظامی گنجوی نبش پیوند پلاک 3واحد 3 | AH13: توانیر خیابان نظامی گنجوی نبش پیوند پلاک 3واحد 3 | AI13: 88628915 | AJ13: 88203711 | AK13: 1968644181 | AL13: 411334344958 | AM13: 10103697274 | AT13: اعلاميه فروش | AU13: 5 | AV13: 28124 | AW13: 461 | AX13: 29 | AY13: 5000002 | AZ13: 50000002
B14: 9814864 | C14: 98/12/21 | D14: 43 | E14: فروش صادراتی غیر مستقیم - فله (انبارقیر بندرعباس) کد:43 | F14: 984300193 | G14: 98/12/21 | H14: توسعه تجارت طلای سیاه | I14: 628 | J14: 1398760974001 | K14: 98/12/07 | L14: 3000000 | M14: قیر 60/70 - فله | N14: 29840 | P14: 700000 | Q14: 0 | R14: 700000 | S14: 700000 | T14: 0 | U14: 0 | V14: بسته شده | W14: 99/01/08 | X14: بندر عباس | Y14: امارات | Z14: 9740014 | AA14: 98/12/15 | AB14: global queen | AC14: 984300193 | AD14: انبار قیر بندرعباس | AE14: 104 | AF14: -- | AG14: کیلومتر11جاده اصفهان تهران شمال مورچه خورت گردنه چاه سرخ | AH14: کیلومتر11جاده اصفهان تهران شمال مورچه خورت گردنه چاه سرخ | AI14: 03145463922 | AJ14: 03145463922 | AK14: 8173697516 | AL14: 411445863711 | AM14: 10260681156 | AT14: اعلاميه فروش | AU14: 5 | AV14: 28134 | AW14: 628 | AX14: 29 | AY14: 5000002 | AZ14: 50000002
B15: 2386/10/د/98 | C15: 98/12/22 | D15: 43 | E15: فروش صادراتی غیر مستقیم - فله (انبارقیر بندرعباس) کد:43 | F15: 984300194 | G15: 98/12/22 | H15: جی پورنر پارس | I15: 461 | J15: 1398760966001 | K15: 98/12/07 | L15: 3000000 | M15: قیر 60/70 - فله | N15: 29840 | P15: 1000000 | Q15: 0 | R15: 1000000 | S15: 1000000 | T15: 0 | U15: 0 | V15: بسته شده | W15: 99/01/08 | X15: بندر عباس | Y15: عمان | Z15: اعتباری | AA15: 98/12/22 | AB15: GLOBAL PEAC | AC15: 984300194 | AD15: انبار قیر بندرعباس | AE15: 104 | AF15: -- | AG15: توانیر خیابان نظامی گنجوی نبش پیوند پلاک 3واحد 3 | AH15: توانیر خیابان نظامی گنجوی نبش پیوند پلاک 3واحد 3 | AI15: 88628915 | AJ15: 88203711 | AK15: 1968644181 | AL15: 411334344958 | AM15: 10103697274 | AT15: اعلاميه فروش | AU15: 5 | AV15: 28135 | AW15: 461 | AX15: 29 | AY15: 5000002 | AZ15: 50000002
B16: 2386/10د/98 | C16: 98/12/22 | D16: 43 | E16: فروش صادراتی غیر مستقیم - فله (انبارقیر بندرعباس) کد:43 | F16: 984300195 | G16: 98/12/22 | H16: جی پورنر پارس | I16: 461 | J16: 1398760972001 | K16: 98/12/07 | L16: 7000000 | M16: قیر 60/70 - فله | N16: 29840 | P16: 3000000 | Q16: 0 | R16: 3000000 | S16: 3000000 | T16: 0 | U16: 0 | V16: بسته شده | W16: 99/01/08 | X16: بندر عباس | Y16: عمان | Z16: اعتباری | AA16: 98/12/22 | AB16: GLOBAL PEAC | AC16: 984300195 | AD16: انبار قیر بندرعباس | AE16: 104 | AF16: -- | AG16: توانیر خیابان نظامی گنجوی نبش پیوند پلاک 3واحد 3 | AH16: توانیر خیابان نظامی گنجوی نبش پیوند پلاک 3واحد 3 | AI16: 88628915 | AJ16: 88203711 | AK16: 1968644181 | AL16: 411334344958 | AM16: 10103697274 | AT16: اعلاميه فروش | AU16: 5 | AV16: 28136 | AW16: 461 | AX16: 29 | AY16: 5000002 | AZ16: 50000002
B17: 2388 / 10 / د / 98 | C17: 98/12/22 | D17: 43 | E17: فروش صادراتی غیر مستقیم - فله (انبارقیر بندرعباس) کد:43 | F17: 984300196 | G17: 98/12/24 | H17: جی پورنر پارس | I17: 461 | J17: 1398765964001 | K17: 98/12/21 | L17: 11000000 | M17: قیر 60/70 - فله | N17: 29840 | P17: 2500000 | Q17: 0 | R17: 1208048 | S17: 1208048 | T17: 1291952 | U17: 0 | V17: بسته شده | W17: 99/01/22 | X17: بندر عباس | Y17: عمان | Z17: اعتباری | AA17: 98/12/24 | AC17: 984300196 | AD17: انبار قیر بندرعباس | AE17: 104 | AF17: -- | AG17: توانیر خیابان نظامی گنجوی نبش پیوند پلاک 3واحد 3 | AH17: توانیر خیابان نظامی گنجوی نبش پیوند پلاک 3واحد 3 | AI17: 88628915 | AJ17: 88203711 | AK17: 1968644181 | AL17: 411334344958 | AM17: 10103697274 | AT17: اعلاميه فروش | AU17: 5 | AV17: 28141 | AW17: 461 | AX17: 29 | AY17: 5000002 | AZ17: 50000002
B18: 9814892 | C18: 98/12/26 | D18: 43 | E18: فروش صادراتی غیر مستقیم - فله (انبارقیر بندرعباس) کد:43 | F18: 984300197 | G18: 98/12/26 | H18: توسعه تجارت طلای سیاه | I18: 628 | J18: 1398760974001 | K18: 98/12/07 | L18: 3000000 | M18: قیر 60/70 - فله | N18: 29840 | P18: 2300000 | Q18: 0 | R18: 2300000 | S18: 2300000 | T18: 0 | U18: 0 | V18: بسته شده | W18: 99/01/08 | X18: بندر عباس | Y18: امارات | Z18: از محل وجوه نزد شرکت | AA18: 98/12/26 | AB18: REEM 7 | AC18: 984300197 | AD18: انبار قیر بندرعباس | AE18: 104 | AF18: -- | AG18: کیلومتر11جاده اصفهان تهران شمال مورچه خورت گردنه چاه سرخ | AH18: کیلومتر11جاده اصفهان تهران شمال مورچه خورت گردنه چاه سرخ | AI18: 03145463922 | AJ18: 03145463922 | AK18: 8173697516 | AL18: 411445863711 | AM18: 10260681156 | AT18: اعلاميه فروش | AU18: 5 | AV18: 28155 | AW18: 628 | AX18: 29 | AY18: 5000002 | AZ18: 50000002
B19: 9814892 | C19: 98/12/26 | D19: 43 | E19: فروش صادراتی غیر مستقیم - فله (انبارقیر بندرعباس) کد:43 | F19: 984300198 | G19: 98/12/26 | H19: توسعه تجارت طلای سیاه | I19: 628 | J19: 1398731239001 | K19: 98/09/13 | L19: 10000000 | M19: قیر 60/70 - فله | N19: 29840 | P19: 305000 | Q19: 0 | R19: 305000 | S19: 295985 | T19: 9015 | U19: -9015 | V19: بسته شده | W19: 98/12/29 | X19: بندر عباس | Y19: امارات | Z19: 326032 | AA19: 98/12/26 | AB19: REEM 7 | AC19: 984300198 | AD19: انبار قیر بندرعباس | AE19: 104 | AF19: -- | AG19: کیلومتر11جاده اصفهان تهران شمال مورچه خورت گردنه چاه سرخ | AH19: کیلومتر11جاده اصفهان تهران شمال مورچه خورت گردنه چاه سرخ | AI19: 03145463922 | AJ19: 03145463922 | AK19: 8173697516 | AL19: 411445863711 | AM19: 10260681156 | AT19: اعلاميه فروش | AU19: 5 | AV19: 28156 | AW19: 628 | AX19: 29 | AY19: 5000002 | AZ19: 50000002
B20: 1742/آ/ص/99 | C20: 99/01/19 | D20: 43 | E20: فروش صادراتی غیر مستقیم - فله (انبارقیر بندرعباس) کد:43 | F20: 994300001 | G20: 99/01/19 | H20: پالایش نفت جی ارس (آراز شیمی جلفا) | I20: 11916 | J20: 1398760973001 | K20: 98/12/07 | L20: 10000000 | M20: قیر 60/70 - فله | N20: 19750 | P20: 4200000 | Q20: 0 | R20: 4200000 | S20: 3545516 | T20: 654484 | U20: -654484 | V20: بسته شده | W20: 99/01/28 | X20: بندر عباس | Y20: عمان | Z20: اعتباری | AA20: 99/01/19 | AB20: sea princess | AC20: 994300001 | AD20: انبار قیر بندرعباس | AE20: 104 | AF20: -- | AG20: خیابان ولیعصر نرسیده به نیایش خیابان بابک بهرامی پلاک 74 ط5 | AH20: خیابان ولیعصر نرسیده به نیایش خیابان بابک بهرامی پلاک 74 ط5 | AI20: 88651707 | AJ20: 88651707 | AK20: 1968644181 | AL20: 411167397618 | AM20: 10860192520 | AT20: اعلاميه فروش | AU20: 5 | AV20: 28210 | AW20: 11916 | AX20: 29 | AY20: 5000002 | AZ20: 50000002
B21: 1758/آ/ص/99 | C21: 99/01/24 | D21: 43 | E21: فروش صادراتی غیر مستقیم - فله (انبارقیر بندرعباس) کد:43 | F21: 994300003 | G21: 99/01/24 | H21: پالایش نفت جی ارس (آراز شیمی جلفا) | I21: 11916 | J21: 1398723570001 | K21: 98/08/22 | L21: 2000000 | M21: قیر 40/50 - فله | N21: 19750 | P21: 1000000 | Q21: 0 | R21: 1000000 | S21: 990102 | T21: 9898 | U21: -9898 | V21: بسته شده | W21: 99/01/31 | X21: بندر عباس | Y21: عمان | Z21: اعتباری | AA21: 99/01/24 | AB21: GLOBAL QUEEN 1 | AC21: 994300003 | AD21: انبار قیر بندرعباس | AE21: 104 | AF21: -- | AG21: خیابان ولیعصر نرسیده به نیایش خیابان بابک بهرامی پلاک 74 ط5 | AH21: خیابان ولیعصر نرسیده به نیایش خیابان بابک بهرامی پلاک 74 ط5 | AI21: 88651707 | AJ21: 88651707 | AK21: 1968644181 | AL21: 411167397618 | AM21: 10860192520 | AT21: اعلاميه فروش | AU21: 5 | AV21: 28267 | AW21: 11916 | AX21: 29 | AY21: 5000003 | AZ21: 50000002
B22: 1759/آ/ص/99 | C22: 99/01/24 | D22: 43 | E22: فروش صادراتی غیر مستقیم - فله (انبارقیر بندرعباس) کد:43 | F22: 994300002 | G22: 99/01/24 | H22: پالایش نفت جی ارس (آراز شیمی جلفا) | I22: 11916 | J22: 1399769068001 | K22: 99/01/19 | L22: 6000000 | M22: قیر 60/70 - فله | N22: 19750 | P22: 1000000 | Q22: 0 | R22: 1000000 | S22: 991385 | T22: 8615 | U22: -8615 | V22: بسته شده | W22: 99/02/02 | X22: بندر عباس | Y22: عمان | Z22: اعتباری | AA22: 99/01/24 | AB22: GLOBAL QUEEN 1 | AC22: 994300002 | AD22: انبار قیر بندرعباس | AE22: 104 | AF22: -- | AG22: خیابان ولیعصر نرسیده به نیایش خیابان بابک بهرامی پلاک 74 ط5 | AH22: خیابان ولیعصر نرسیده به نیایش خیابان بابک بهرامی پلاک 74 ط5 | AI22: 88651707 | AJ22: 88651707 | AK22: 1968644181 | AL22: 411167397618 | AM22: 10860192520 | AT22: اعلاميه فروش | AU22: 5 | AV22: 28266 | AW22: 11916 | AX22: 29 | AY22: 5000002 | AZ22: 50000002
B23: 2831-الف-99 | C23: 99/01/25 | D23: 43 | E23: فروش صادراتی غیر مستقیم - فله (انبارقیر بندرعباس) کد:43 | F23: 994300004 | G23: 99/01/25 | H23: آترا کران انرژی | I23: 638 | J23: 1398697876001 | K23: 98/05/23 | L23: 10000000 | M23: قیر 60/70 - فله | N23: 19750 | P23: 9000000 | Q23: 0 | R23: 4105462 | S23: 4105462 | T23: 4894538 | U23: 0 | V23: بسته شده | W23: 99/01/31 | X23: بندر عباس | Y23: هند-امارات | Z23: LC-63560/13995262/05 | AA23: 99/01/24 | AC23: 994300004 | AD23: انبار قیر بندرعباس | AE23: 104 | AF23: -- | AG23: پاسداران-کوچه نارنجستان چهارم-مجتمع اداری آرتمیس-طبقه 10واحد 5 50 | AH23: پاسداران-کوچه نارنجستان چهارم-مجتمع اداری آرتمیس-طبقه 10واحد 5 50 | AI23: 26253571 | AJ23: 26253561 | AK23: 1957917516 | AL23: 411448441147 | AM23: 14005230518 | AT23: اعلاميه فروش | AU23: 5 | AV23: 28299 | AW23: 638 | AX23: 29 | AY23: 5000002 | AZ23: 50000002
B24: 9900150 | C24: 99/02/03 | D24: 43 | E24: فروش صادراتی غیر مستقیم - فله (انبارقیر بندرعباس) کد:43 | F24: 994300005 | G24: 99/02/03 | H24: توسعه تجارت طلای سیاه | I24: 628 | J24: 1399769066001 | K24: 99/01/19 | L24: 3000000 | M24: قیر 60/70 - فله | N24: 16480 | P24: 950000 | Q24: 0 | R24: 950000 | S24: 926618 | T24: 23382 | U24: -23382 | V24: بسته شده | W24: 99/02/18 | X24: بندر عباس | Y24: امارات | Z24: LC-0244999416299280 | AA24: 99/01/28 | AB24: MIB 1 | AC24: 994300005 | AD24: انبار قیر بندرعباس | AE24: 104 | AF24: -- | AG24: کیلومتر11جاده اصفهان تهران شمال مورچه خورت گردنه چاه سرخ | AH24: کیلومتر11جاده اصفهان تهران شمال مورچه خورت گردنه چاه سرخ | AI24: 03145463922 | AJ24: 03145463922 | AK24: 8173697516 | AL24: 411445863711 | AM24: 10260681156 | AT24: اعلاميه فروش | AU24: 5 | AV24: 28443 | AW24: 628 | AX24: 29 | AY24: 5000002 | AZ24: 50000002
B25: 9900151 | C25: 99/02/03 | D25: 43 | E25: فروش صادراتی غیر مستقیم - فله (انبارقیر بندرعباس) کد:43 | F25: 994300006 | G25: 99/02/03 | H25: توسعه تجارت طلای سیاه | I25: 628 | J25: 1399769066001 | K25: 99/01/19 | L25: 3000000 | M25: قیر 60/70 - فله | N25: 16480 | P25: 2050000 | Q25: 0 | R25: 2050000 | S25: 2050000 | T25: 0 | U25: 0 | V25: بسته شده | W25: 99/02/18 | X25: بندر عباس | Y25: امارات | Z25: LC-0244999416299280 | AA25: 99/01/28 | AB25: Ocean Toopaz | AC25: 994300006 | AD25: انبار قیر بندرعباس | AE25: 104 | AF25: -- | AG25: کیلومتر11جاده اصفهان تهران شمال مورچه خورت گردنه چاه سرخ | AH25: کیلومتر11جاده اصفهان تهران شمال مورچه خورت گردنه چاه سرخ | AI25: 03145463922 | AJ25: 03145463922 | AK25: 8173697516 | AL25: 411445863711 | AM25: 10260681156 | AT25: اعلاميه فروش | AU25: 5 | AV25: 28445 | AW25: 628 | AX25: 29 | AY25: 5000002 | AZ25: 50000002
B26: 9900152 | C26: 99/02/03 | D26: 43 | E26: فروش صادراتی غیر مستقیم - فله (انبارقیر بندرعباس) کد:43 | F26: 994300007 | G26: 99/02/04 | H26: توسعه تجارت طلای سیاه | I26: 628 | J26: 1398731239001 | K26: 98/09/13 | L26: 10000000 | M26: قیر 60/70 - فله | N26: 16000 | P26: 240000 | Q26: 0 | R26: 240000 | S26: 211844 | T26: 28156 | U26: -28156 | V26: بسته شده | W26: 99/02/15 | X26: بندر عباس | Y26: امارات | Z26: 330289 | AA26: 99/02/04 | AB26: ocean toopaz | AC26: 994300007 | AD26: انبار قیر بندرعباس | AE26: 104 | AF26: -- | AG26: کیلومتر11جاده اصفهان تهران شمال مورچه خورت گردنه چاه سرخ | AH26: کیلومتر11جاده اصفهان تهران شمال مورچه خورت گردنه چاه سرخ | AI26: 03145463922 | AJ26: 03145463922 | AK26: 8173697516 | AL26: 411445863711 | AM26: 10260681156 | AT26: اعلاميه فروش | AU26: 5 | AV26: 28452 | AW26: 628 | AX26: 29 | AY26: 5000002 | AZ26: 50000002
B27: 152 - الف - 99 | C27: 99/02/17 | D27: 43 | E27: فروش صادراتی غیر مستقیم - فله (انبارقیر بندرعباس) کد:43 | F27: 994300008 | G27: 99/02/17 | H27: آترا کران انرژی | I27: 638 | J27: 1398697876001 | K27: 98/05/23 | L27: 10000000 | M27: قیر 60/70 - فله | N27: 16000 | P27: 2700000 | Q27: 0 | R27: 2681729 | S27: 2681729 | T27: 18271 | U27: 0 | V27: بسته شده | W27: 99/02/19 | X27: بندر عباس | Y27: هند-امارات | Z27: lc-63560/13995262/05 | AA27: 99/01/24 | AB27: sol leto | AC27: 994300008 | AD27: انبار قیر بندرعباس | AE27: 104 | AF27: -- | AG27: پاسداران-کوچه نارنجستان چهارم-مجتمع اداری آرتمیس-طبقه 10واحد 5 50 | AH27: پاسداران-کوچه نارنجستان چهارم-مجتمع اداری آرتمیس-طبقه 10واحد 5 50 | AI27: 26253571 | AJ27: 26253561 | AK27: 1957917516 | AL27: 411448441147 | AM27: 14005230518 | AT27: اعلاميه فروش | AU27: 5 | AV27: 28636 | AW27: 638 | AX27: 29 | AY27: 5000002 | AZ27: 50000002
B28: 156 - الف - 99 | C28: 99/02/18 | D28: 43 | E28: فروش صادراتی غیر مستقیم - فله (انبارقیر بندرعباس) کد:43 | F28: 994300010 | G28: 99/02/18 | H28: آترا کران انرژی | I28: 638 | J28: 1398697876001 | K28: 98/05/23 | L28: 10000000 | M28: قیر 60/70 - فله | N28: 16000 | P28: 2150000 | Q28: 0 | R28: 2146150 | S28: 2146150 | T28: 3850 | U28: 0 | V28: بسته شده | W28: 99/02/31 | X28: بندر عباس | Y28: هند-امارات | Z28: lc-63560/13995262/05 | AA28: 99/01/24 | AC28: 994300010 | AD28: مخازن قیر همیار جی یزد(بندرعباس) | AE28: 204 | AF28: -- | AG28: پاسداران-کوچه نارنجستان چهارم-مجتمع اداری آرتمیس-طبقه 10واحد 5 50 | AH28: پاسداران-کوچه نارنجستان چهارم-مجتمع اداری آرتمیس-طبقه 10واحد 5 50 | AI28: 26253571 | AJ28: 26253561 | AK28: 1957917516 | AL28: 411448441147 | AM28: 14005230518 | AT28: اعلاميه فروش | AU28: 5 | AV28: 28664 | AW28: 638 | AX28: 29 | AY28: 5000002 | AZ28: 50020016
B29: 257/10/د/99 | C29: 99/02/18 | D29: 43 | E29: فروش صادراتی غیر مستقیم - فله (انبارقیر بندرعباس) کد:43 | F29: 994300009 | G29: 99/02/18 | H29: جی پورنر پارس | I29: 461 | J29: 1398765964001 | K29: 98/12/21 | L29: 11000000 | M29: قیر 60/70 - فله | N29: 16000 | P29: 1000000 | Q29: 0 | R29: 1000000 | S29: 966280 | T29: 33720 | U29: -33720 | V29: بسته شده | W29: 99/02/26 | X29: بندر عباس | Y29: عمان | Z29: اعتباری | AC29: 994300009 | AD29: انبار قیر بندرعباس | AE29: 104 | AF29: -- | AG29: توانیر خیابان نظامی گنجوی نبش پیوند پلاک 3واحد 3 | AH29: توانیر خیابان نظامی گنجوی نبش پیوند پلاک 3واحد 3 | AI29: 88628915 | AJ29: 88203711 | AK29: 1968644181 | AL29: 411334344958 | AM29: 10103697274 | AT29: اعلاميه فروش | AU29: 5 | AV29: 28647 | AW29: 461 | AX29: 29 | AY29: 5000002 | AZ29: 50000002
B30: 277/10/د/99 | C30: 99/02/20 | D30: 43 | E30: فروش صادراتی غیر مستقیم - فله (انبارقیر بندرعباس) کد:43 | F30: 994300011 | G30: 99/02/20 | H30: جی پورنر پارس | I30: 461 | J30: 1398765964001 | K30: 98/12/21 | L30: 11000000 | M30: قیر 60/70 - فله | N30: 16000 | P30: 1750000 | Q30: 0 | R30: 1750000 | S30: 1745688 | T30: 4312 | U30: -4312 | V30: بسته شده | W30: 99/02/29 | X30: بندر عباس | Y30: عمان | Z30: اعتباری | AB30: Sea Princess | AC30: 994300011 | AD30: انبار قیر بندرعباس | AE30: 104 | AF30: -- | AG30: توانیر خیابان نظامی گنجوی نبش پیوند پلاک 3واحد 3 | AH30: توانیر خیابان نظامی گنجوی نبش پیوند پلاک 3واحد 3 | AI30: 88628915 | AJ30: 88203711 | AK30: 1968644181 | AL30: 411334344958 | AM30: 10103697274 | AT30: اعلاميه فروش | AU30: 5 | AV30: 28684 | AW30: 461 | AX30: 29 | AY30: 5000002 | AZ30: 50000002
B31: 1953/آ/ص/99 | C31: 99/02/22 | D31: 43 | E31: فروش صادراتی غیر مستقیم - فله (انبارقیر بندرعباس) کد:43 | F31: 994300012 | G31: 99/02/22 | H31: پالایش نفت جی ارس (آراز شیمی جلفا) | I31: 11916 | J31: 1399775815001 | K31: 99/02/07 | L31: 3000000 | M31: قیر 60/70 - فله | N31: 16000 | P31: 2850000 | Q31: 0 | R31: 2850000 | S31: 2648859 | T31: 201141 | U31: -201141 | V31: بسته شده | W31: 99/02/31 | X31: بندر عباس | Y31: عمان | Z31: اعتباری | AB31: royal lady | AC31: 994300012 | AD31: انبار قیر بندرعباس | AE31: 104 | AF31: -- | AG31: خیابان ولیعصر نرسیده به نیایش خیابان بابک بهرامی پلاک 74 ط5 | AH31: خیابان ولیعصر نرسیده به نیایش خیابان بابک بهرامی پلاک 74 ط5 | AI31: 88651707 | AJ31: 88651707 | AK31: 1968644181 | AL31: 411167397618 | AM31: 10860192520 | AT31: اعلاميه فروش | AU31: 5 | AV31: 28768 | AW31: 11916 | AX31: 29 | AY31: 5000002 | AZ31: 50000002
B32: 1952 / آ ص . 99 | C32: 99/02/22 | D32: 43 | E32: فروش صادراتی غیر مستقیم - فله (انبارقیر بندرعباس) کد:43 | F32: 994300015 | G32: 99/02/23 | H32: پالایش نفت جی ارس (آراز شیمی جلفا) | I32: 11916 | J32: 1399778394001 | K32: 99/02/14 | L32: 8000000 | M32: قیر 60/70 - فله | N32: 15300 | P32: 3000000 | Q32: 0 | R32: 2994410 | S32: 2994410 | T32: 5590 | U32: 0 | V32: بسته شده | W32: 99/03/31 | X32: بندر عباس | Y32: امارات | Z32: اعتباری | AC32: 994300015 | AD32: مخازن قیر همیار جی یزد(بندرعباس) | AE32: 204 | AF32: بهینه صنعت اسدی | AG32: خیابان ولیعصر نرسیده به نیایش خیابان بابک بهرامی پلاک 74 ط5 | AH32: خیابان ولیعصر نرسیده به نیایش خیابان بابک بهرامی پلاک 74 ط5 | AI32: 88651707 | AJ32: 88651707 | AK32: 1968644181 | AL32: 411167397618 | AM32: 10860192520 | AT32: اعلاميه فروش | AU32: 5 | AV32: 28806 | AW32: 11916 | AX32: 29 | AY32: 5000002 | AZ32: 50020016
B33: 9900267 | C33: 99/02/22 | D33: 43 | E33: فروش صادراتی غیر مستقیم - فله (انبارقیر بندرعباس) کد:43 | F33: 994300013 | G33: 99/02/23 | H33: توسعه تجارت طلای سیاه | I33: 628 | J33: 1398731239001 | K33: 98/09/13 | L33: 10000000 | M33: قیر 60/70 - فله | N33: 17000 | P33: 600000 | Q33: 0 | R33: 600000 | S33: 600000 | T33: 0 | U33: 0 | V33: بسته شده | W33: 99/02/31 | X33: بندر عباس | Y33: هند | Z33: 121951 | AA33: 99/02/23 | AC33: 994300013 | AD33: انبار قیر بندرعباس | AE33: 104 | AF33: -- | AG33: کیلومتر11جاده اصفهان تهران شمال مورچه خورت گردنه چاه سرخ | AH33: کیلومتر11جاده اصفهان تهران شمال مورچه خورت گردنه چاه سرخ | AI33: 03145463922 | AJ33: 03145463922 | AK33: 8173697516 | AL33: 411445863711 | AM33: 10260681156 | AT33: اعلاميه فروش | AU33: 5 | AV33: 28789 | AW33: 628 | AX33: 29 | AY33: 5000002 | AZ33: 50000002
B34: 9900267 | C34: 99/02/22 | D34: 43 | E34: فروش صادراتی غیر مستقیم - فله (انبارقیر بندرعباس) کد:43 | F34: 994300014 | G34: 99/02/23 | H34: توسعه تجارت طلای سیاه | I34: 628 | J34: 1398743512001 | K34: 98/10/18 | L34: 12000000 | M34: قیر 60/70 - فله | N34: 17000 | P34: 3250000 | Q34: 0 | R34: 3250000 | S34: 3250000 | T34: 0 | U34: 0 | V34: بسته شده | W34: 99/02/31 | X34: بندر عباس | Y34: هند | Z34: 121952 | AA34: 99/02/23 | AC34: 994300014 | AD34: انبار قیر بندرعباس | AE34: 104 | AF34: -- | AG34: کیلومتر11جاده اصفهان تهران شمال مورچه خورت گردنه چاه سرخ | AH34: کیلومتر11جاده اصفهان تهران شمال مورچه خورت گردنه چاه سرخ | AI34: 03145463922 | AJ34: 03145463922 | AK34: 8173697516 | AL34: 411445863711 | AM34: 10260681156 | AT34: اعلاميه فروش | AU34: 5 | AV34: 28791 | AW34: 628 | AX34: 29 | AY34: 5000002 | AZ34: 50000002
B35: 0249-اق پ-99 | C35: 99/02/23 | D35: 43 | E35: فروش صادراتی غیر مستقیم - فله (انبارقیر بندرعباس) کد:43 | F35: 994300016 | G35: 99/02/24 | H35: اسپادانا قیر پاسارگاد | I35: 641 | J35: 1399775814001 | K35: 99/02/07 | L35: 4000000 | M35: قیر 60/70 - فله | N35: 16000 | P35: 3070000 | Q35: 0 | R35: 3070000 | S35: 3069846 | T35: 154 | U35: -154 | V35: بسته شده | W35: 99/03/05 | X35: بندر عباس | Y35: امارات | Z35: LC-0363499415569771 | AA35: 99/02/21 | AB35: NEPHAL | AC35: 994300016 | AD35: انبار قیر بندرعباس | AE35: 104 | AF35: -- | AG35: تهران- بخش مرکزی- محله ونک- خیابان آرارات جنوبی- خیابان ونک- پلاک 57-طبقه هفتم واحد29 | AH35: تهران- بخش مرکزی- محله ونک- خیابان آرارات جنوبی- خیابان ونک- پلاک 57-طبقه هفتم واحد29 | AI35: 88618842 | AJ35: 88618853 | AK35: 1994833416 | AL35: 411613664766 | AM35: 14007643340 | AT35: اعلاميه فروش | AU35: 5 | AV35: 28817 | AW35: 641 | AX35: 29 | AY35: 5000002 | AZ35: 50000002
B36: 10/300/د/99 | C36: 99/02/23 | D36: 43 | E36: فروش صادراتی غیر مستقیم - فله (انبارقیر بندرعباس) کد:43 | F36: 994300019 | G36: 99/02/24 | H36: جی پورنر پارس | I36: 461 | J36: 1398765964001 | K36: 98/12/21 | L36: 11000000 | M36: قیر 60/70 - فله | N36: 17000 | P36: 1000000 | Q36: 0 | R36: 1000000 | S36: 974829 | T36: 25171 | U36: -25171 | V36: بسته شده | W36: 99/02/31 | X36: بندر عباس | Y36: عمان | Z36: اعتباری | AB36: OCEAN SAPPHIRE 1 | AC36: 994300019 | AD36: انبار قیر بندرعباس | AE36: 104 | AF36: -- | AG36: توانیر خیابان نظامی گنجوی نبش پیوند پلاک 3واحد 3 | AH36: توانیر خیابان نظامی گنجوی نبش پیوند پلاک 3واحد 3 | AI36: 88628915 | AJ36: 88203711 | AK36: 1968644181 | AL36: 411334344958 | AM36: 10103697274 | AT36: اعلاميه فروش | AU36: 5 | AV36: 28822 | AW36: 461 | AX36: 29 | AY36: 5000002 | AZ36: 50000002
B37: 99- الف - 176 | C37: 99/02/23 | D37: 43 | E37: فروش صادراتی غیر مستقیم - فله (انبارقیر بندرعباس) کد:43 | F37: 994300018 | G37: 99/02/24 | H37: آترا کران انرژی | I37: 638 | J37: 1398697892001 | K37: 98/05/23 | L37: 5000000 | M37: قیر 60/70 - فله | N37: 16000 | P37: 3550000 | Q37: 0 | R37: 3546430 | S37: 3546430 | T37: 3570 | U37: 0 | V37: بسته شده | W37: 99/02/31 | X37: بندر عباس | Y37: هند- امارات | Z37: LC- 63560/13994442518/84 | AA37: 99/02/23 | AC37: 994300018 | AD37: مخازن قیر همیار جی یزد(بندرعباس) | AE37: 204 | AF37: -- | AG37: پاسداران-کوچه نارنجستان چهارم-مجتمع اداری آرتمیس-طبقه 10واحد 5 50 | AH37: پاسداران-کوچه نارنجستان چهارم-مجتمع اداری آرتمیس-طبقه 10واحد 5 50 | AI37: 26253571 | AJ37: 26253561 | AK37: 1957917516 | AL37: 411448441147 | AM37: 14005230518 | AT37: اعلاميه فروش | AU37: 5 | AV37: 28889 | AW37: 638 | AX37: 29 | AY37: 5000002 | AZ37: 50020016
B38: 99- الف- 175 | C38: 99/02/23 | D38: 43 | E38: فروش صادراتی غیر مستقیم - فله (انبارقیر بندرعباس) کد:43 | F38: 994300017 | G38: 99/02/24 | H38: آترا کران انرژی | I38: 638 | J38: 1398697876001 | K38: 98/05/23 | L38: 10000000 | M38: قیر 60/70 - فله | N38: 16000 | P38: 1000000 | Q38: 0 | R38: 1000000 | S38: 1000000 | T38: 0 | U38: 0 | V38: بسته شده | W38: 99/02/31 | X38: بندر عباس | Y38: هند- امارات | Z38: LC-63560/13994443288/87 | AA38: 99/02/23 | AC38: 994300017 | AD38: مخازن قیر همیار جی یزد(بندرعباس) | AE38: 204 | AF38: -- | AG38: پاسداران-کوچه نارنجستان چهارم-مجتمع اداری آرتمیس-طبقه 10واحد 5 50 | AH38: پاسداران-کوچه نارنجستان چهارم-مجتمع اداری آرتمیس-طبقه 10واحد 5 50 | AI38: 26253571 | AJ38: 26253561 | AK38: 1957917516 | AL38: 411448441147 | AM38: 14005230518 | AT38: اعلاميه فروش | AU38: 5 | AV38: 28818 | AW38: 638 | AX38: 29 | AY38: 5000002 | AZ38: 50020016
B39: 179 - الف - 99 | C39: 99/02/24 | D39: 43 | E39: فروش صادراتی غیر مستقیم - فله (انبارقیر بندرعباس) کد:43 | F39: 994300020 | G39: 99/02/25 | H39: آترا کران انرژی | I39: 638 | J39: 1398697876001 | K39: 98/05/23 | L39: 10000000 | M39: قیر 60/70 - فله | N39: 17000 | P39: 65000 | Q39: 0 | R39: 65000 | S39: 65000 | T39: 0 | U39: 0 | V39: بسته شده | W39: 99/02/31 | X39: بندر عباس | Y39: هند-امارات | Z39: lc-63560/13995262/05 | AA39: 99/01/24 | AC39: 994300020 | AD39: مخازن قیر همیار جی یزد(بندرعباس) | AE39: 204 | AF39: -- | AG39: پاسداران-کوچه نارنجستان چهارم-مجتمع اداری آرتمیس-طبقه 10واحد 5 50 | AH39: پاسداران-کوچه نارنجستان چهارم-مجتمع اداری آرتمیس-طبقه 10واحد 5 50 | AI39: 26253571 | AJ39: 26253561 | AK39: 1957917516 | AL39: 411448441147 | AM39: 14005230518 | AT39: اعلاميه فروش | AU39: 5 | AV39: 28920 | AW39: 638 | AX39: 29 | AY39: 5000002 | AZ39: 50020016
B40: 184-الف-99 | C40: 99/02/25 | D40: 43 | E40: فروش صادراتی غیر مستقیم - فله (انبارقیر بندرعباس) کد:43 | F40: 994300021 | G40: 99/02/27 | H40: آترا کران انرژی | I40: 638 | J40: 1398697892001 | K40: 98/05/23 | L40: 5000000 | M40: قیر 60/70 - فله | N40: 16000 | P40: 1450000 | Q40: 0 | R40: 1450000 | S40: 1435844 | T40: 14156 | U40: -14156 | V40: بسته شده | W40: 99/02/31 | X40: بندر عباس | Y40: امارات | Z40: LC- 63560/13994442518/84 | AA40: 99/02/23 | AB40: ACE BITUMEN 4 | AC40: 994300021 | AD40: انبار قیر بندرعباس | AE40: 104 | AF40: -- | AG40: پاسداران-کوچه نارنجستان چهارم-مجتمع اداری آرتمیس-طبقه 10واحد 5 50 | AH40: پاسداران-کوچه نارنجستان چهارم-مجتمع اداری آرتمیس-طبقه 10واحد 5 50 | AI40: 26253571 | AJ40: 26253561 | AK40: 1957917516 | AL40: 411448441147 | AM40: 14005230518 | AT40: اعلاميه فروش | AU40: 5 | AV40: 28891 | AW40: 638 | AX40: 29 | AY40: 5000002 | AZ40: 50000002
B41: 0346-ا ق پ-99 | C41: 99/02/31 | D41: 43 | E41: فروش صادراتی غیر مستقیم - فله (انبارقیر بندرعباس) کد:43 | F41: 994300022 | G41: 99/02/31 | H41: اسپادانا قیر پاسارگاد | I41: 641 | J41: 1399783085001 | K41: 99/02/24 | L41: 5000000 | M41: قیر 60/70 - فله | N41: 17000 | P41: 3070000 | Q41: 0 | R41: 3070000 | S41: 3069989 | T41: 11 | U41: -11 | V41: بسته شده | W41: 99/03/23 | X41: بندر عباس | Y41: امارات | Z41: 30850014 | AA41: 99/02/31 | AB41: nephal | AC41: 994300022 | AD41: انبار قیر بندرعباس | AE41: 104 | AF41: -- | AG41: تهران- بخش مرکزی- محله ونک- خیابان آرارات جنوبی- خیابان ونک- پلاک 57-طبقه هفتم واحد29 | AH41: تهران- بخش مرکزی- محله ونک- خیابان آرارات جنوبی- خیابان ونک- پلاک 57-طبقه هفتم واحد29 | AI41: 88618842 | AJ41: 88618853 | AK41: 1994833416 | AL41: 411613664766 | AM41: 14007643340 | AT41: اعلاميه فروش | AU41: 5 | AV41: 29005 | AW41: 641 | AX41: 29 | AY41: 5000002 | AZ41: 50000002
B42: 426/10/د/99 | C42: 99/03/10 | D42: 43 | E42: فروش صادراتی غیر مستقیم - فله (انبارقیر بندرعباس) کد:43 | F42: 994300023 | G42: 99/03/10 | H42: جی پورنر پارس | I42: 461 | J42: 1398723571001 | K42: 98/08/22 | L42: 3880000 | M42: قیر 40/50 - فله | N42: 22500 | P42: 880000 | Q42: 0 | R42: 880000 | S42: 880000 | T42: 0 | U42: 0 | V42: بسته شده | W42: 99/03/15 | X42: بندر عباس | Y42: عمان | Z42: اعتباری | AB42: simran 1 | AC42: 994300023 | AD42: انبار قیر بندرعباس | AE42: 104 | AF42: -- | AG42: توانیر خیابان نظامی گنجوی نبش پیوند پلاک 3واحد 3 | AH42: توانیر خیابان نظامی گنجوی نبش پیوند پلاک 3واحد 3 | AI42: 88628915 | AJ42: 88203711 | AK42: 1968644181 | AL42: 411334344958 | AM42: 10103697274 | AT42: اعلاميه فروش | AU42: 5 | AV42: 29091 | AW42: 461 | AX42: 29 | AY42: 5000003 | AZ42: 50000002
B43: 428/10/د/99 | C43: 99/03/10 | D43: 43 | E43: فروش صادراتی غیر مستقیم - فله (انبارقیر بندرعباس) کد:43 | F43: 994300024 | G43: 99/03/10 | H43: جی پورنر پارس | I43: 461 | J43: 1399775612001 | K43: 99/02/06 | L43: 300000 | M43: قیر 40/50 - فله | N43: 22500 | P43: 120000 | Q43: 0 | R43: 120000 | S43: 119905 | T43: 95 | U43: -95 | V43: بسته شده | W43: 99/03/15 | X43: بندر عباس | Y43: عمان | Z43: اعتباری | AB43: simran 2 | AC43: 994300024 | AD43: انبار قیر بندرعباس | AE43: 104 | AF43: -- | AG43: توانیر خیابان نظامی گنجوی نبش پیوند پلاک 3واحد 3 | AH43: توانیر خیابان نظامی گنجوی نبش پیوند پلاک 3واحد 3 | AI43: 88628915 | AJ43: 88203711 | AK43: 1968644181 | AL43: 411334344958 | AM43: 10103697274 | AT43: اعلاميه فروش | AU43: 5 | AV43: 29092 | AW43: 461 | AX43: 29 | AY43: 5000003 | AZ43: 50000002
B44: 99/ص/آ/2063 | C44: 99/03/11 | D44: 43 | E44: فروش صادراتی غیر مستقیم - فله (انبارقیر بندرعباس) کد:43 | F44: 994300025 | G44: 99/03/11 | H44: پالایش نفت جی ارس (آراز شیمی جلفا) | I44: 11916 | J44: 1399783087001 | K44: 99/02/24 | L44: 7000000 | M44: قیر 60/70 - فله | N44: 17000 | P44: 2550000 | Q44: 0 | R44: 2550000 | S44: 2532886 | T44: 17114 | U44: -17114 | V44: بسته شده | W44: 99/03/23 | X44: بندر عباس | Y44: هند | Z44: اعتباری | AB44: Bitu Glory | AC44: 994300025 | AD44: انبار قیر بندرعباس | AE44: 104 | AF44: -- | AG44: خیابان ولیعصر نرسیده به نیایش خیابان بابک بهرامی پلاک 74 ط5 | AH44: خیابان ولیعصر نرسیده به نیایش خیابان بابک بهرامی پلاک 74 ط5 | AI44: 88651707 | AJ44: 88651707 | AK44: 1968644181 | AL44: 411167397618 | AM44: 10860192520 | AT44: اعلاميه فروش | AU44: 5 | AV44: 29122 | AW44: 11916 | AX44: 29 | AY44: 5000002 | AZ44: 50000002
B45: 9900404 | C45: 99/03/10 | D45: 43 | E45: فروش صادراتی غیر مستقیم - فله (انبارقیر بندرعباس) کد:43 | F45: 994300026 | G45: 99/03/12 | H45: توسعه تجارت طلای سیاه | I45: 628 | J45: 1399783086001 | K45: 99/02/24 | L45: 7000000 | M45: قیر 60/70 - فله | N45: 17000 | P45: 330000 | Q45: 0 | R45: 330000 | S45: 307991 | T45: 22009 | U45: -22009 | V45: بسته شده | W45: 99/03/24 | X45: بندر عباس | Y45: هند | Z45: ازمحل وجوه نزدشرکت | AA45: 99/03/12 | AB45: vardhman | AC45: 994300026 | AD45: انبار قیر بندرعباس | AE45: 104 | AF45: -- | AG45: کیلومتر11جاده اصفهان تهران شمال مورچه خورت گردنه چاه سرخ | AH45: کیلومتر11جاده اصفهان تهران شمال مورچه خورت گردنه چاه سرخ | AI45: 03145463922 | AJ45: 03145463922 | AK45: 8173697516 | AL45: 411445863711 | AM45: 10260681156 | AT45: اعلاميه فروش | AU45: 5 | AV45: 29141 | AW45: 628 | AX45: 29 | AY45: 5000002 | AZ45: 50000002
B46: 10/456/د/99 | C46: 99/03/13 | D46: 43 | E46: فروش صادراتی غیر مستقیم - فله (انبارقیر بندرعباس) کد:43 | F46: 994300028 | G46: 99/03/13 | H46: جی پورنر پارس | I46: 461 | J46: 1399788732001 | K46: 99/03/11 | L46: 2500000 | M46: قیر 60/70 - فله | N46: 22499 | P46: 1000000 | Q46: 0 | R46: 1000000 | S46: 978760 | T46: 21240 | U46: -21240 | V46: بسته شده | W46: 99/03/23 | X46: بندر عباس | Y46: عمان | Z46: اعتباری | AB46: OCEAN SAPPHIRE | AC46: 994300028 | AD46: انبار قیر بندرعباس | AE46: 104 | AF46: -- | AG46: توانیر خیابان نظامی گنجوی نبش پیوند پلاک 3واحد 3 | AH46: توانیر خیابان نظامی گنجوی نبش پیوند پلاک 3واحد 3 | AI46: 88628915 | AJ46: 88203711 | AK46: 1968644181 | AL46: 411334344958 | AM46: 10103697274 | AT46: اعلاميه فروش | AU46: 5 | AV46: 29152 | AW46: 461 | AX46: 29 | AY46: 5000002 | AZ46: 50000002
B47: 9900418 | C47: 99/03/13 | D47: 43 | E47: فروش صادراتی غیر مستقیم - فله (انبارقیر بندرعباس) کد:43 | F47: 994300027 | G47: 99/03/13 | H47: توسعه تجارت طلای سیاه | I47: 628 | J47: 1399783086001 | K47: 99/02/24 | L47: 7000000 | M47: قیر 60/70 - فله | N47: 17000 | P47: 2820000 | Q47: 0 | R47: 2820000 | S47: 2820000 | T47: 0 | U47: 0 | V47: بسته شده | W47: 99/03/23 | X47: بندر عباس | Y47: هند | Z47: ازمحل وجوه نزدشرکت | AA47: 99/03/13 | AB47: R OCEAN | AC47: 994300027 | AD47: انبار قیر بندرعباس | AE47: 104 | AF47: -- | AG47: کیلومتر11جاده اصفهان تهران شمال مورچه خورت گردنه چاه سرخ | AH47: کیلومتر11جاده اصفهان تهران شمال مورچه خورت گردنه چاه سرخ | AI47: 03145463922 | AJ47: 03145463922 | AK47: 8173697516 | AL47: 411445863711 | AM47: 10260681156 | AT47: اعلاميه فروش | AU47: 5 | AV47: 29151 | AW47: 628 | AX47: 29 | AY47: 5000002 | AZ47: 50000002
B48: 9900418 | C48: 99/03/13 | D48: 43 | E48: فروش صادراتی غیر مستقیم - فله (انبارقیر بندرعباس) کد:43 | F48: 994300029 | G48: 99/03/13 | H48: توسعه تجارت طلای سیاه | I48: 628 | J48: 1398743512001 | K48: 98/10/18 | L48: 12000000 | M48: قیر 60/70 - فله | N48: 22500 | P48: 280000 | Q48: 0 | R48: 280000 | S48: 271711 | T48: 8289 | U48: -8289 | V48: بسته شده | W48: 99/03/31 | X48: بندر عباس | Y48: هند | Z48: 121758 | AA48: 99/03/13 | AB48: R OCEAN | AC48: 994300029 | AD48: انبار قیر بندرعباس | AE48: 104 | AF48: -- | AG48: کیلومتر11جاده اصفهان تهران شمال مورچه خورت گردنه چاه سرخ | AH48: کیلومتر11جاده اصفهان تهران شمال مورچه خورت گردنه چاه سرخ | AI48: 03145463922 | AJ48: 03145463922 | AK48: 8173697516 | AL48: 411445863711 | AM48: 10260681156 | AT48: اعلاميه فروش | AU48: 5 | AV48: 29157 | AW48: 628 | AX48: 29 | AY48: 5000002 | AZ48: 50000002
B49: 0437-اق پ-99 | C49: 99/03/17 | D49: 43 | E49: فروش صادراتی غیر مستقیم - فله (انبارقیر بندرعباس) کد:43 | F49: 994300030 | G49: 99/03/18 | H49: اسپادانا قیر پاسارگاد | I49: 641 | J49: 1399783085001 | K49: 99/02/24 | L49: 5000000 | M49: قیر 60/70 - فله | N49: 17000 | P49: 1930000 | Q49: 0 | R49: 1930000 | S49: 1898739 | T49: 31261 | U49: -31261 | V49: بسته شده | W49: 99/03/23 | X49: بندر عباس | Y49: شارجه | Z49: ازمحل وجوه نزدشرکت | AA49: 99/03/18 | AB49: Courage 7 | AC49: 994300030 | AD49: انبار قیر بندرعباس | AE49: 104 | AF49: -- | AG49: تهران- بخش مرکزی- محله ونک- خیابان آرارات جنوبی- خیابان ونک- پلاک 57-طبقه هفتم واحد29 | AH49: تهران- بخش مرکزی- محله ونک- خیابان آرارات جنوبی- خیابان ونک- پلاک 57-طبقه هفتم واحد29 | AI49: 88618842 | AJ49: 88618853 | AK49: 1994833416 | AL49: 411613664766 | AM49: 14007643340 | AT49: اعلاميه فروش | AU49: 5 | AV49: 29172 | AW49: 641 | AX49: 29 | AY49: 5000002 | AZ49: 50000002
B50: 10/494/د/99 | C50: 99/03/18 | D50: 43 | E50: فروش صادراتی غیر مستقیم - فله (انبارقیر بندرعباس) کد:43 | F50: 994300031 | G50: 99/03/18 | H50: جی پورنر پارس | I50: 461 | J50: 1399788732001 | K50: 99/03/11 | L50: 2500000 | M50: قیر 60/70 - فله | N50: 22499 | P50: 1000000 | Q50: 0 | R50: 1000000 | S50: 969805 | T50: 30195 | U50: -30195 | V50: بسته شده | W50: 99/03/25 | X50: بندر عباس | Y50: عمان | Z50: اعتباری | AB50: MIB 1 | AC50: 994300031 | AD50: انبار قیر بندرعباس | AE50: 104 | AF50: -- | AG50: توانیر خیابان نظامی گنجوی نبش پیوند پلاک 3واحد 3 | AH50: توانیر خیابان نظامی گنجوی نبش پیوند پلاک 3واحد 3 | AI50: 88628915 | AJ50: 88203711 | AK50: 1968644181 | AL50: 411334344958 | AM50: 10103697274 | AT50: اعلاميه فروش | AU50: 5 | AV50: 29173 | AW50: 461 | AX50: 29 | AY50: 5000002 | AZ50: 50000002
B51: 2097/آ/ص/99 | C51: 99/03/18 | D51: 43 | E51: فروش صادراتی غیر مستقیم - فله (انبارقیر بندرعباس) کد:43 | F51: 994300032 | G51: 99/03/18 | H51: پالایش نفت جی ارس (آراز شیمی جلفا) | I51: 11916 | J51: 1399788731001 | K51: 99/03/11 | L51: 5000000 | M51: قیر 60/70 - فله | N51: 22499 | P51: 650000 | Q51: 0 | R51: 650000 | S51: 650000 | T51: 0 | U51: 0 | V51: بسته شده | W51: 99/03/25 | X51: بندر عباس | Y51: شارجه | Z51: اعتباری | AB51: Courage 7 | AC51: 994300032 | AD51: انبار قیر بندرعباس | AE51: 104 | AF51: -- | AG51: خیابان ولیعصر نرسیده به نیایش خیابان بابک بهرامی پلاک 74 ط5 | AH51: خیابان ولیعصر نرسیده به نیایش خیابان بابک بهرامی پلاک 74 ط5 | AI51: 88651707 | AJ51: 88651707 | AK51: 1968644181 | AL51: 411167397618 | AM51: 10860192520 | AT51: اعلاميه فروش | AU51: 5 | AV51: 29177 | AW51: 11916 | AX51: 29 | AY51: 5000002 | AZ51: 50000002
B52: 2096/آ/ص/99 | C52: 99/03/18 | D52: 43 | E52: فروش صادراتی غیر مستقیم - فله (انبارقیر بندرعباس) کد:43 | F52: 994300033 | G52: 99/03/19 | H52: پالایش نفت جی ارس (آراز شیمی جلفا) | I52: 11916 | J52: 1399788731001 | K52: 99/03/11 | L52: 5000000 | M52: قیر 60/70 - فله | N52: 22499 | P52: 550000 | Q52: 0 | R52: 550000 | S52: 550000 | T52: 0 | U52: 0 | V52: بسته شده | W52: 99/03/28 | X52: بندر عباس | Y52: هند | Z52: اعتباری | AB52: Golden Lily | AC52: 994300033 | AD52: انبار قیر بندرعباس | AE52: 104 | AF52: -- | AG52: خیابان ولیعصر نرسیده به نیایش خیابان بابک بهرامی پلاک 74 ط5 | AH52: خیابان ولیعصر نرسیده به نیایش خیابان بابک بهرامی پلاک 74 ط5 | AI52: 88651707 | AJ52: 88651707 | AK52: 1968644181 | AL52: 411167397618 | AM52: 10860192520 | AT52: اعلاميه فروش | AU52: 5 | AV52: 29184 | AW52: 11916 | AX52: 29 | AY52: 5000002 | AZ52: 50000002
B53: 90051/ا.ج.ن/ص/99 | C53: 99/03/17 | D53: 43 | E53: فروش صادراتی غیر مستقیم - فله (انبارقیر بندرعباس) کد:43 | F53: 994300034 | G53: 99/03/19 | H53: پالایش نفت جی ارس (آراز شیمی جلفا) | I53: 11916 | J53: 1399783087001 | K53: 99/02/24 | L53: 7000000 | M53: قیر 60/70 - فله | N53: 17000 | P53: 4450000 | Q53: 0 | R53: 4450000 | S53: 4450000 | T53: 0 | U53: 0 | V53: بسته شده | W53: 99/03/23 | X53: بندر عباس | Y53: هند | Z53: اعتباری | AB53: Golden Lily | AC53: 994300034 | AD53: انبار قیر بندرعباس | AE53: 104 | AF53: -- | AG53: خیابان ولیعصر نرسیده به نیایش خیابان بابک بهرامی پلاک 74 ط5 | AH53: خیابان ولیعصر نرسیده به نیایش خیابان بابک بهرامی پلاک 74 ط5 | AI53: 88651707 | AJ53: 88651707 | AK53: 1968644181 | AL53: 411167397618 | AM53: 10860192520 | AT53: اعلاميه فروش | AU53: 5 | AV53: 29186 | AW53: 11916 | AX53: 29 | AY53: 5000002 | AZ53: 50000002
B54: 2032/آ/ص/99 | C54: 99/03/20 | D54: 43 | E54: فروش صادراتی غیر مستقیم - فله (انبارقیر بندرعباس) کد:43 | F54: 994300035 | G54: 99/03/20 | H54: پالایش نفت جی ارس (آراز شیمی جلفا) | I54: 11916 | J54: 1399788731001 | K54: 99/03/11 | L54: 5000000 | M54: قیر 60/70 - فله | N54: 22499 | P54: 500000 | Q54: 0 | R54: 500000 | S54: 500000 | T54: 0 | U54: 0 | V54: بسته شده | W54: 99/03/29 | X54: بندر عباس | Y54: هند | Z54: اعتباری | AB54: Courage 7 | AC54: 994300035 | AD54: انبار قیر بندرعباس | AE54: 104 | AF54: -- | AG54: خیابان ولیعصر نرسیده به نیایش خیابان بابک بهرامی پلاک 74 ط5 | AH54: خیابان ولیعصر نرسیده به نیایش خیابان بابک بهرامی پلاک 74 ط5 | AI54: 88651707 | AJ54: 88651707 | AK54: 1968644181 | AL54: 411167397618 | AM54: 10860192520 | AT54: اعلاميه فروش | AU54: 5 | AV54: 29193 | AW54: 11916 | AX54: 29 | AY54: 5000002 | AZ54: 50000002
B55: 2051/آ/ص/99 | C55: 99/03/24 | D55: 43 | E55: فروش صادراتی غیر مستقیم - فله (انبارقیر بندرعباس) کد:43 | F55: 994300036 | G55: 99/03/25 | H55: پالایش نفت جی ارس (آراز شیمی جلفا) | I55: 11916 | J55: 1399788731001 | K55: 99/03/11 | L55: 5000000 | M55: قیر 60/70 - فله | N55: 22499 | P55: 3300000 | Q55: 0 | R55: 3300000 | S55: 3300000 | T55: 0 | U55: 0 | V55: بسته شده | W55: 99/04/10 | X55: بندر عباس | Y55: هند | Z55: اعتباری | AB55: Bitumen Princess 2 | AC55: 994300036 | AD55: انبار قیر بندرعباس | AE55: 104 | AF55: -- | AG55: خیابان ولیعصر نرسیده به نیایش خیابان بابک بهرامی پلاک 74 ط5 | AH55: خیابان ولیعصر نرسیده به نیایش خیابان بابک بهرامی پلاک 74 ط5 | AI55: 88651707 | AJ55: 88651707 | AK55: 1968644181 | AL55: 411167397618 | AM55: 10860192520 | AT55: اعلاميه فروش | AU55: 5 | AV55: 29219 | AW55: 11916 | AX55: 29 | AY55: 5000002 | AZ55: 50000002
B56: 2053/آ/ص/99 | C56: 99/03/24 | D56: 43 | E56: فروش صادراتی غیر مستقیم - فله (انبارقیر بندرعباس) کد:43 | F56: 994300037 | G56: 99/03/25 | H56: پالایش نفت جی ارس (آراز شیمی جلفا) | I56: 11916 | J56: 1399793220001 | K56: 99/03/21 | L56: 2500000 | M56: قیر 60/70 - فله | N56: 31733 | P56: 1000000 | Q56: 0 | R56: 1000000 | S56: 990801 | T56: 9199 | U56: -9199 | V56: بسته شده | W56: 99/04/20 | X56: بندر عباس | Y56: هند | Z56: اعتباری | AB56: Bitumen Princess 2 | AC56: 994300037 | AD56: انبار قیر بندرعباس | AE56: 104 | AF56: -- | AG56: خیابان ولیعصر نرسیده به نیایش خیابان بابک بهرامی پلاک 74 ط5 | AH56: خیابان ولیعصر نرسیده به نیایش خیابان بابک بهرامی پلاک 74 ط5 | AI56: 88651707 | AJ56: 88651707 | AK56: 1968644181 | AL56: 411167397618 | AM56: 10860192520 | AT56: اعلاميه فروش | AU56: 5 | AV56: 29220 | AW56: 11916 | AX56: 29 | AY56: 5000002 | AZ56: 50000002
B57: 582/10/د/99 | C57: 99/03/27 | D57: 43 | E57: فروش صادراتی غیر مستقیم - فله (انبارقیر بندرعباس) کد:43 | F57: 994300038 | G57: 99/03/27 | H57: جی پورنر پارس | I57: 461 | J57: 1399788732001 | K57: 99/03/11 | L57: 2500000 | M57: قیر 60/70 - فله | N57: 22499 | P57: 500000 | Q57: 0 | R57: 500000 | S57: 500000 | T57: 0 | U57: 0 | V57: بسته شده | W57: 99/04/10 | X57: بندر عباس | Y57: عمان | Z57: اعتباری | AB57: ASPHALT princess | AC57: 994300038 | AD57: انبار قیر بندرعباس | AE57: 104 | AF57: -- | AG57: توانیر خیابان نظامی گنجوی نبش پیوند پلاک 3واحد 3 | AH57: توانیر خیابان نظامی گنجوی نبش پیوند پلاک 3واحد 3 | AI57: 88628915 | AJ57: 88203711 | AK57: 1968644181 | AL57: 411334344958 | AM57: 10103697274 | AT57: اعلاميه فروش | AU57: 5 | AV57: 29231 | AW57: 461 | AX57: 29 | AY57: 5000002 | AZ57: 50000002
B58: 582/10/د/99 | C58: 99/03/27 | D58: 43 | E58: فروش صادراتی غیر مستقیم - فله (انبارقیر بندرعباس) کد:43 | F58: 994300039 | G58: 99/03/27 | H58: جی پورنر پارس | I58: 461 | J58: 1399793221001 | K58: 99/03/21 | L58: 5000000 | M58: قیر 60/70 - فله | N58: 31733 | P58: 4500000 | Q58: 0 | R58: 4500000 | S58: 4500000 | T58: 0 | U58: 0 | V58: بسته شده | W58: 99/04/20 | X58: بندر عباس | Y58: عمان | Z58: اعتباری | AB58: ASPHALT princess | AC58: 994300039 | AD58: انبار قیر بندرعباس | AE58: 104 | AF58: -- | AG58: توانیر خیابان نظامی گنجوی نبش پیوند پلاک 3واحد 3 | AH58: توانیر خیابان نظامی گنجوی نبش پیوند پلاک 3واحد 3 | AI58: 88628915 | AJ58: 88203711 | AK58: 1968644181 | AL58: 411334344958 | AM58: 10103697274 | AT58: اعلاميه فروش | AU58: 5 | AV58: 29232 | AW58: 461 | AX58: 29 | AY58: 5000002 | AZ58: 50000002
B59: 99/10/د/623 | C59: 99/04/04 | D59: 43 | E59: فروش صادراتی غیر مستقیم - فله (انبارقیر بندرعباس) کد:43 | F59: 994300040 | G59: 99/04/04 | H59: جی پورنر پارس | I59: 461 | J59: 1399793221001 | K59: 99/03/21 | L59: 5000000 | M59: قیر 60/70 - فله | N59: 31733 | P59: 500000 | Q59: 0 | R59: 500000 | S59: 500000 | T59: 0 | U59: 0 | V59: بسته شده | W59: 99/04/20 | X59: بندر عباس | Y59: عمان | Z59: اعتباری | AB59: Global Everest | AC59: 994300040 | AD59: انبار قیر بندرعباس | AE59: 104 | AF59: -- | AG59: توانیر خیابان نظامی گنجوی نبش پیوند پلاک 3واحد 3 | AH59: توانیر خیابان نظامی گنجوی نبش پیوند پلاک 3واحد 3 | AI59: 88628915 | AJ59: 88203711 | AK59: 1968644181 | AL59: 411334344958 | AM59: 10103697274 | AT59: اعلاميه فروش | AU59: 5 | AV59: 29268 | AW59: 461 | AX59: 29 | AY59: 5000002 | AZ59: 50000002
B60: 99/10/د/623 | C60: 99/04/04 | D60: 43 | E60: فروش صادراتی غیر مستقیم - فله (انبارقیر بندرعباس) کد:43 | F60: 994300041 | G60: 99/04/04 | H60: جی پورنر پارس | I60: 461 | J60: 1399769067001 | K60: 99/01/19 | L60: 3000000 | M60: قیر 60/70 - فله | N60: 32500 | P60: 2798000 | Q60: 0 | R60: 2798000 | S60: 2798000 | T60: 0 | U60: 0 | V60: بسته شده | W60: 99/04/13 | X60: بندر عباس | Y60: عمان | Z60: اعتباری | AB60: Global Everest | AC60: 994300041 | AD60: انبار قیر بندرعباس | AE60: 104 | AF60: -- | AG60: توانیر خیابان نظامی گنجوی نبش پیوند پلاک 3واحد 3 | AH60: توانیر خیابان نظامی گنجوی نبش پیوند پلاک 3واحد 3 | AI60: 88628915 | AJ60: 88203711 | AK60: 1968644181 | AL60: 411334344958 | AM60: 10103697274 | AT60: اعلاميه فروش | AU60: 5 | AV60: 29275 | AW60: 461 | AX60: 29 | AY60: 5000002 | AZ60: 50000002
B61: 99/10/د/623 | C61: 99/04/04 | D61: 43 | E61: فروش صادراتی غیر مستقیم - فله (انبارقیر بندرعباس) کد:43 | F61: 994300042 | G61: 99/04/04 | H61: جی پورنر پارس | I61: 461 | J61: 1398765964001 | K61: 98/12/21 | L61: 11000000 | M61: قیر 60/70 - فله | N61: 32500 | P61: 5965000 | Q61: 0 | R61: 5965000 | S61: 5965000 | T61: 0 | U61: 0 | V61: بسته شده | W61: 99/04/13 | X61: بندر عباس | Y61: عمان | Z61: اعتباری | AB61: Global Everest | AC61: 994300042 | AD61: انبار قیر بندرعباس | AE61: 104 | AF61: -- | AG61: توانیر خیابان نظامی گنجوی نبش پیوند پلاک 3واحد 3 | AH61: توانیر خیابان نظامی گنجوی نبش پیوند پلاک 3واحد 3 | AI61: 88628915 | AJ61: 88203711 | AK61: 1968644181 | AL61: 411334344958 | AM61: 10103697274 | AT61: اعلاميه فروش | AU61: 5 | AV61: 29274 | AW61: 461 | AX61: 29 | AY61: 5000002 | AZ61: 50000002
B62: 99/10/د/623 | C62: 99/04/04 | D62: 43 | E62: فروش صادراتی غیر مستقیم - فله (انبارقیر بندرعباس) کد:43 | F62: 994300043 | G62: 99/04/04 | H62: جی پورنر پارس | I62: 461 | J62: 1399783081001 | K62: 99/02/24 | L62: 6000000 | M62: قیر 60/70 - فله | N62: 32500 | P62: 537000 | Q62: 0 | R62: 537000 | S62: 537000 | T62: 0 | U62: 0 | V62: بسته شده | W62: 99/04/13 | X62: بندر عباس | Y62: عمان | Z62: اعتباری | AB62: Global Everest | AC62: 994300043 | AD62: انبار قیر بندرعباس | AE62: 104 | AF62: -- | AG62: توانیر خیابان نظامی گنجوی نبش پیوند پلاک 3واحد 3 | AH62: توانیر خیابان نظامی گنجوی نبش پیوند پلاک 3واحد 3 | AI62: 88628915 | AJ62: 88203711 | AK62: 1968644181 | AL62: 411334344958 | AM62: 10103697274 | AT62: اعلاميه فروش | AU62: 5 | AV62: 29276 | AW62: 461 | AX62: 29 | AY62: 5000002 | AZ62: 50000002
B63: 652/10/د/99 | C63: 99/04/09 | D63: 43 | E63: فروش صادراتی غیر مستقیم - فله (انبارقیر بندرعباس) کد:43 | F63: 994300044 | G63: 99/04/09 | H63: جی پورنر پارس | I63: 461 | J63: 1398765963001 | K63: 98/12/21 | L63: 4000000 | M63: قیر 60/70 - فله | N63: 33500 | P63: 282000 | Q63: 0 | R63: 282000 | S63: 282000 | T63: 0 | U63: 0 | V63: بسته شده | W63: 99/04/15 | X63: بندر عباس | Y63: عمان | Z63: اعتباری | AC63: 994300044 | AD63: انبار قیر بندرعباس | AE63: 104 | AF63: -- | AG63: توانیر خیابان نظامی گنجوی نبش پیوند پلاک 3واحد 3 | AH63: توانیر خیابان نظامی گنجوی نبش پیوند پلاک 3واحد 3 | AI63: 88628915 | AJ63: 88203711 | AK63: 1968644181 | AL63: 411334344958 | AM63: 10103697274 | AT63: اعلاميه فروش | AU63: 5 | AV63: 29327 | AW63: 461 | AX63: 29 | AY63: 5000002 | AZ63: 50000002
B64: 2164 / آ / ص /99 | C64: 99/04/15 | D64: 43 | E64: فروش صادراتی غیر مستقیم - فله (انبارقیر بندرعباس) کد:43 | F64: 994300045 | G64: 99/04/15 | H64: پالایش نفت جی ارس (آراز شیمی جلفا) | I64: 11916 | J64: 1399793220001 | K64: 99/03/21 | L64: 2500000 | M64: قیر 60/70 - فله | N64: 31733 | P64: 1000000 | Q64: 0 | R64: 1000000 | S64: 1000000 | T64: 0 | U64: 0 | V64: بسته شده | W64: 99/04/20 | X64: بندر عباس | Y64: عمان | Z64: اعتباری | AB64: simran | AC64: 994300045 | AD64: انبار قیر بندرعباس | AE64: 104 | AF64: -- | AG64: خیابان ولیعصر نرسیده به نیایش خیابان بابک بهرامی پلاک 74 ط5 | AH64: خیابان ولیعصر نرسیده به نیایش خیابان بابک بهرامی پلاک 74 ط5 | AI64: 88651707 | AJ64: 88651707 | AK64: 1968644181 | AL64: 411167397618 | AM64: 10860192520 | AT64: اعلاميه فروش | AU64: 5 | AV64: 29356 | AW64: 11916 | AX64: 29 | AY64: 5000002 | AZ64: 50000002
B65: 687/10/د/99 | C65: 99/04/16 | D65: 43 | E65: فروش صادراتی غیر مستقیم - فله (انبارقیر بندرعباس) کد:43 | F65: 994300047 | G65: 99/04/16 | H65: جی پورنر پارس | I65: 461 | J65: 1399799289001 | K65: 99/04/08 | L65: 2500000 | M65: قیر 60/70 - فله | N65: 31733 | P65: 2500000 | Q65: 0 | R65: 2500000 | S65: 2500000 | T65: 0 | U65: 0 | V65: بسته شده | W65: 99/05/07 | X65: بندر عباس | Y65: عمان | Z65: اعتباری | AB65: GLOBAL RANI | AC65: 994300047 | AD65: انبار قیر بندرعباس | AE65: 104 | AF65: -- | AG65: توانیر خیابان نظامی گنجوی نبش پیوند پلاک 3واحد 3 | AH65: توانیر خیابان نظامی گنجوی نبش پیوند پلاک 3واحد 3 | AI65: 88628915 | AJ65: 88203711 | AK65: 1968644181 | AL65: 411334344958 | AM65: 10103697274 | AT65: اعلاميه فروش | AU65: 5 | AV65: 29358 | AW65: 461 | AX65: 29 | AY65: 5000002 | AZ65: 50000002
B66: 99/د/10/687 | C66: 99/04/16 | D66: 43 | E66: فروش صادراتی غیر مستقیم - فله (انبارقیر بندرعباس) کد:43 | F66: 994300046 | G66: 99/04/16 | H66: جی پورنر پارس | I66: 461 | J66: 1399783081001 | K66: 99/02/24 | L66: 6000000 | M66: قیر 60/70 - فله | N66: 33888 | P66: 1500000 | Q66: 0 | R66: 1500000 | S66: 1500000 | T66: 0 | U66: 0 | V66: بسته شده | W66: 99/04/20 | X66: بندر عباس | Y66: عمان | Z66: اعتباری | AB66: global rani | AC66: 994300046 | AD66: انبار قیر بندرعباس | AE66: 104 | AF66: -- | AG66: توانیر خیابان نظامی گنجوی نبش پیوند پلاک 3واحد 3 | AH66: توانیر خیابان نظامی گنجوی نبش پیوند پلاک 3واحد 3 | AI66: 88628915 | AJ66: 88203711 | AK66: 1968644181 | AL66: 411334344958 | AM66: 10103697274 | AT66: اعلاميه فروش | AU66: 5 | AV66: 29357 | AW66: 461 | AX66: 29 | AY66: 5000002 | AZ66: 50000002

Sheet تحویلها
A1: ID | B1: SalesOrganization | C1: ReferenceType | D1: سال حواله | E1: ماه حواله | F1: شماره حواله | G1: تاریخ حواله | H1: مقدار حواله | I1: وضعیت حواله | J1: کد مرکز فروش | K1: نام مرکز فروش | L1: کد مشتری | M1: نام مشتری | N1: کد تفصیلی | O1: کد کالا | P1: نام کالا | Q1: کد انبار | R1: نام انبار | S1: واحد سنجش | T1: تحویل گیرنده | U1: آدرس تحویل گیرنده | V1: تلفن تحویل گیرنده | W1: مقدار قرارداد | X1: شماره قرارداد | Y1: تاریخ قرارداد | Z1: شماره قرارداد بورسی | AA1: تاریخ قرارداد بورسی | AB1: مقدار قرارداد بورسی | AC1: نحوه فروش | AD1: مقدار تحویل | AE1: شماره بارنامه | AF1: تاریخ تحویل | AG1: شماره مجوز بارگیری | AH1: شماره برگ توزین | AI1: تاریخ برگ توزین | AJ1: شماره فاکتور | AK1: تاریخ فاکتور | AL1: سال فاکتور | AM1: ماه فاکتور | AN1: مقدار فاکتور | AO1: وضعیت فاکتور | AP1: فی فاکتور | AQ1: مبلغ اولیه فاکتور | AR1: عوارض پرداختنی | AS1: مالیات بر ارزش افزوده | AT1: مظروف | AU1: هزینه استافینگ | AV1: هزینه حمل | AW1: تخفیف | AX1: مبلغ نهایی فاکتور | AY1: شماره پلاک ماشین | AZ1: نام راننده | BA1: تلفن راننده | BB1: محل تخلیه | BC1: استان تخلیه | BD1: تلفن محل تخلیه | BE1: کدپستی محل تخلیه | BF1: استان | BG1: استان دفتر مرکزی | BH1: تاریخ درخواست | BI1: شماره درخواست | BJ1: Rah | BK1: OrderID | BL1: InvoiceID | BM1: SalesOrganizationID | BN1: ProductID | BO1: InventoryVoucherID | BP1: Customerid | BQ1: storeid | BR1: SalesOfficeid | BS1: شماره مجوز برگشتی | BT1: شماره برگشت به انبار | BU1: مقدار برگشت به انبار | BV1: شماره فاکتور برگشتی | BW1: تاریخ فاکتور برگشتی | BX1: نام مدیر عامل | BY1: شناسه واریز1 | BZ1: شناسه واریز2 | CA1: شناسه حواله دلفی | CB1: شماره رسید وجه | CC1: تاریخ رسید وجه | CD1: گمرک خروج | CE1: مقصد | CF1: شماره قرارداد بورسی
A2: 29 | B2: صادرات | C2: کشتي | D2: 99 | E2: 99/01/25 | F2: 994300004 | G2: 99/01/25 | H2: 9000000 | I2: بسته شده | J2: 43 | K2: فروش صادراتی غیر مستقیم - فله (انبارقیر بندرعباس) کد:43 | L2: 638 | M2: آترا کران انرژی | N2: 33720 | O2: 0000000076 | P2: قیر 60/70 - فله | Q2: 104 | R2: انبار قیر بندرعباس | S2: کیلوگرم | T2: -- | W2: 9000000 | X2: 994300004 | Y2: 99/01/25 | Z2: 1398697876001 | AA2: 98/05/23 | AB2: 10000000 | AC2: اعتباری | AD2: 1129812 | AE2: 9900004 | AF2: 99/01/27 | AJ2: 4 | AK2: 99/01/27 | AL2: 99 | AM2: 99/01/27 | AN2: 1129812 | AP2: 19750 | AQ2: 22313787000 | AR2: 669413610 | AS2: 1338827220 | AX2: 24322027830 | BB2: پاسداران-کوچه نارنجستان چهارم-مجتمع اداری آرتمیس-طبقه 10واحد 5 50 | BC2: تهران | BD2: 26253561 | BE2: 1957917516 | BG2: استان تهران | BJ2: No | BK2: 28299 | BL2: 20371 | BM2: 5 | BN2: 5000002 | BO2: 88769 | BP2: 638 | BQ2: 50000002 | BR2: 29 | CB2: LC-63560/13995262/05 | CC2: 99/01/24 | CD2: بندر عباس | CE2: هند-امارات | CF2: 1398697876001
A3: 29 | B3: صادرات | C3: کشتي | D3: 99 | E3: 99/01/25 | F3: 994300004 | G3: 99/01/25 | H3: 9000000 | I3: بسته شده | J3: 43 | K3: فروش صادراتی غیر مستقیم - فله (انبارقیر بندرعباس) کد:43 | L3: 638 | M3: آترا کران انرژی | N3: 33720 | O3: 0000000076 | P3: قیر 60/70 - فله | Q3: 104 | R3: انبار قیر بندرعباس | S3: کیلوگرم | T3: -- | W3: 9000000 | X3: 994300004 | Y3: 99/01/25 | Z3: 1398697876001 | AA3: 98/05/23 | AB3: 10000000 | AC3: اعتباری | AD3: 2975650 | AE3: 9900005 | AF3: 99/01/31 | AJ3: 5 | AK3: 99/01/31 | AL3: 99 | AM3: 99/01/31 | AN3: 2975650 | AP3: 19750 | AQ3: 58769087500 | AR3: 1763072625 | AS3: 3526145250 | AX3: 64058305375 | BB3: پاسداران-کوچه نارنجستان چهارم-مجتمع اداری آرتمیس-طبقه 10واحد 5 50 | BC3: تهران | BD3: 26253561 | BE3: 1957917516 | BG3: استان تهران | BJ3: No | BK3: 28299 | BL3: 20471 | BM3: 5 | BN3: 5000002 | BO3: 89100 | BP3: 638 | BQ3: 50000002 | BR3: 29 | CB3: LC-63560/13995262/05 | CC3: 99/01/24 | CD3: بندر عباس | CE3: هند-امارات | CF3: 1398697876001
A4: 29 | B4: صادرات | C4: کشتي | D4: 99 | E4: 99/02/17 | F4: 994300008 | G4: 99/02/17 | H4: 2700000 | I4: بسته شده | J4: 43 | K4: فروش صادراتی غیر مستقیم - فله (انبارقیر بندرعباس) کد:43 | L4: 638 | M4: آترا کران انرژی | N4: 33720 | O4: 0000000076 | P4: قیر 60/70 - فله | Q4: 104 | R4: انبار قیر بندرعباس | S4: کیلوگرم | T4: -- | W4: 2700000 | X4: 994300008 | Y4: 99/02/17 | Z4: 1398697876001 | AA4: 98/05/23 | AB4: 10000000 | AC4: اعتباری | AD4: 2681729 | AE4: 9900009 | AF4: 99/02/18 | AJ4: 9 | AK4: 99/02/18 | AL4: 99 | AM4: 99/02/18 | AN4: 2681729 | AP4: 16000 | AQ4: 42907664000 | AR4: 1287229920 | AS4: 2574459840 | AX4: 46769353760 | BB4: پاسداران-کوچه نارنجستان چهارم-مجتمع اداری آرتمیس-طبقه 10واحد 5 50 | BC4: تهران | BD4: 26253561 | BE4: 1957917516 | BG4: استان تهران | BJ4: No | BK4: 28636 | BL4: 21021 | BM4: 5 | BN4: 5000002 | BO4: 91680 | BP4: 638 | BQ4: 50000002 | BR4: 29 | CB4: lc-63560/13995262/05 | CC4: 99/01/24 | CD4: بندر عباس | CE4: هند-امارات | CF4: 1398697876001
A5: 29 | B5: صادرات | C5: کشتي | D5: 99 | E5: 99/02/18 | F5: 994300010 | G5: 99/02/18 | H5: 2150000 | I5: بسته شده | J5: 43 | K5: فروش صادراتی غیر مستقیم - فله (انبارقیر بندرعباس) کد:43 | L5: 638 | M5: آترا کران انرژی | N5: 33720 | O5: 0000000076 | P5: قیر 60/70 - فله | Q5: 204 | R5: مخازن قیر همیار جی یزد(بندرعباس) | S5: کیلوگرم | T5: -- | W5: 2150000 | X5: 994300010 | Y5: 99/02/18 | Z5: 1398697876001 | AA5: 98/05/23 | AB5: 10000000 | AC5: اعتباری | AD5: 2146150 | AE5: 9900001 | AF5: 99/02/21 | AJ5: 12 | AK5: 99/02/21 | AL5: 99 | AM5: 99/02/21 | AN5: 2146150 | AP5: 16000 | AQ5: 34338400000 | AR5: 1030152000 | AS5: 2060304000 | AX5: 37428856000 | BB5: پاسداران-کوچه نارنجستان چهارم-مجتمع اداری آرتمیس-طبقه 10واحد 5 50 | BC5: تهران | BD5: 26253561 | BE5: 1957917516 | BG5: استان تهران | BJ5: No | BK5: 28664 | BL5: 21271 | BM5: 5 | BN5: 5000002 | BO5: 92588 | BP5: 638 | BQ5: 50020016 | BR5: 29 | CB5: lc-63560/13995262/05 | CC5: 99/01/24 | CD5: بندر عباس | CE5: هند-امارات | CF5: 1398697876001
A6: 29 | B6: صادرات | C6: کشتي | D6: 99 | E6: 99/02/24 | F6: 994300017 | G6: 99/02/24 | H6: 1000000 | I6: بسته شده | J6: 43 | K6: فروش صادراتی غیر مستقیم - فله (انبارقیر بندرعباس) کد:43 | L6: 638 | M6: آترا کران انرژی | N6: 33720 | O6: 0000000076 | P6: قیر 60/70 - فله | Q6: 204 | R6: مخازن قیر همیار جی یزد(بندرعباس) | S6: کیلوگرم | T6: -- | W6: 1000000 | X6: 994300017 | Y6: 99/02/24 | Z6: 1398697876001 | AA6: 98/05/23 | AB6: 10000000 | AC6: اعتباری | AD6: 1000000 | AE6: 9900002 | AF6: 99/02/27 | AJ6: 19 | AK6: 99/02/27 | AL6: 99 | AM6: 99/02/27 | AN6: 1000000 | AP6: 16000 | AQ6: 16000000000 | AR6: 480000000 | AS6: 960000000 | AX6: 17440000000 | BB6: پاسداران-کوچه نارنجستان چهارم-مجتمع اداری آرتمیس-طبقه 10واحد 5 50 | BC6: تهران | BD6: 26253561 | BE6: 1957917516 | BG6: استان تهران | BJ6: No | BK6: 28818 | BL6: 21636 | BM6: 5 | BN6: 5000002 | BO6: 94343 | BP6: 638 | BQ6: 50020016 | BR6: 29 | CB6: LC-63560/13994443288/87 | CC6: 99/02/23 | CD6: بندر عباس | CE6: هند- امارات | CF6: 1398697876001
A7: 29 | B7: صادرات | C7: کشتي | D7: 99 | E7: 99/02/25 | F7: 994300020 | G7: 99/02/25 | H7: 65000 | I7: بسته شده | J7: 43 | K7: فروش صادراتی غیر مستقیم - فله (انبارقیر بندرعباس) کد:43 | L7: 638 | M7: آترا کران انرژی | N7: 33720 | O7: 0000000076 | P7: قیر 60/70 - فله | Q7: 204 | R7: مخازن قیر همیار جی یزد(بندرعباس) | S7: کیلوگرم | T7: -- | W7: 65000 | X7: 994300020 | Y7: 99/02/25 | Z7: 1398697876001 | AA7: 98/05/23 | AB7: 10000000 | AC7: اعتباری | AD7: 65000 | AE7: 9900005 | AF7: 99/02/31 | AJ7: 23 | AK7: 99/02/31 | AL7: 99 | AM7: 99/02/31 | AN7: 65000 | AP7: 17000 | AQ7: 1105000000 | AR7: 33150000 | AS7: 66300000 | AX7: 1204450000 | BB7: پاسداران-کوچه نارنجستان چهارم-مجتمع اداری آرتمیس-طبقه 10واحد 5 50 | BC7: تهران | BD7: 26253561 | BE7: 1957917516 | BG7: استان تهران | BJ7: No | BK7: 28920 | BL7: 22182 | BM7: 5 | BN7: 5000002 | BO7: 97234 | BP7: 638 | BQ7: 50020016 | BR7: 29 | CB7: lc-63560/13995262/05 | CC7: 99/01/24 | CD7: بندر عباس | CE7: هند-امارات | CF7: 1398697876001
A8: 29 | B8: صادرات | C8: کشتي | D8: 99 | E8: 99/02/24 | F8: 994300018 | G8: 99/02/24 | H8: 3550000 | I8: بسته شده | J8: 43 | K8: فروش صادراتی غیر مستقیم - فله (انبارقیر بندرعباس) کد:43 | L8: 638 | M8: آترا کران انرژی | N8: 33720 | O8: 0000000076 | P8: قیر 60/70 - فله | Q8: 204 | R8: مخازن قیر همیار جی یزد(بندرعباس) | S8: کیلوگرم | T8: -- | W8: 3550000 | X8: 994300018 | Y8: 99/02/24 | Z8: 1398697892001 | AA8: 98/05/23 | AB8: 5000000 | AC8: اعتباری | AD8: 1522600 | AE8: 9900003 | AF8: 99/02/27 | AJ8: 20 | AK8: 99/02/27 | AL8: 99 | AM8: 99/02/27 | AN8: 1522600 | AP8: 16000 | AQ8: 24361600000 | AR8: 730848000 | AS8: 1461696000 | AX8: 26554144000 | BB8: پاسداران-کوچه نارنجستان چهارم-مجتمع اداری آرتمیس-طبقه 10واحد 5 50 | BC8: تهران | BD8: 26253561 | BE8: 1957917516 | BG8: استان تهران | BJ8: No | BK8: 28889 | BL8: 21644 | BM8: 5 | BN8: 5000002 | BO8: 94352 | BP8: 638 | BQ8: 50020016 | BR8: 29 | CB8: LC- 63560/13994442518/84 | CC8: 99/02/23 | CD8: بندر عباس | CE8: هند- امارات | CF8: 1398697892001
A9: 29 | B9: صادرات | C9: کشتي | D9: 99 | E9: 99/02/24 | F9: 994300018 | G9: 99/02/24 | H9: 3550000 | I9: بسته شده | J9: 43 | K9: فروش صادراتی غیر مستقیم - فله (انبارقیر بندرعباس) کد:43 | L9: 638 | M9: آترا کران انرژی | N9: 33720 | O9: 0000000076 | P9: قیر 60/70 - فله | Q9: 204 | R9: مخازن قیر همیار جی یزد(بندرعباس) | S9: کیلوگرم | T9: -- | W9: 3550000 | X9: 994300018 | Y9: 99/02/24 | Z9: 1398697892001 | AA9: 98/05/23 | AB9: 5000000 | AC9: اعتباری | AD9: 2023830 | AE9: 9900004 | AF9: 99/02/31 | AJ9: 22 | AK9: 99/02/31 | AL9: 99 | AM9: 99/02/31 | AN9: 2023830 | AP9: 16000 | AQ9: 32381280000 | AR9: 971438400 | AS9: 1942876800 | AX9: 35295595200 | BB9: پاسداران-کوچه نارنجستان چهارم-مجتمع اداری آرتمیس-طبقه 10واحد 5 50 | BC9: تهران | BD9: 26253561 | BE9: 1957917516 | BG9: استان تهران | BJ9: No | BK9: 28889 | BL9: 22181 | BM9: 5 | BN9: 5000002 | BO9: 97232 | BP9: 638 | BQ9: 50020016 | BR9: 29 | CB9: LC- 63560/13994442518/84 | CC9: 99/02/23 | CD9: بندر عباس | CE9: هند- امارات | CF9: 1398697892001
A10: 29 | B10: صادرات | C10: کشتي | D10: 99 | E10: 99/02/27 | F10: 994300021 | G10: 99/02/27 | H10: 1450000 | I10: بسته شده | J10: 43 | K10: فروش صادراتی غیر مستقیم - فله (انبارقیر بندرعباس) کد:43 | L10: 638 | M10: آترا کران انرژی | N10: 33720 | O10: 0000000076 | P10: قیر 60/70 - فله | Q10: 104 | R10: انبار قیر بندرعباس | S10: کیلوگرم | T10: -- | W10: 1450000 | X10: 994300021 | Y10: 99/02/27 | Z10: 1398697892001 | AA10: 98/05/23 | AB10: 5000000 | AC10: اعتباری | AD10: -14156 | AE10: 9900017 | AF10: 99/02/27 | AJ10: 18 | AK10: 99/02/27 | AL10: 99 | AM10: 99/02/27 | AN10: -14156 | AP10: 16000 | AQ10: 23200000000 | AR10: 696000000 | AS10: 1392000000 | AX10: 25288000000 | BB10: پاسداران-کوچه نارنجستان چهارم-مجتمع اداری آرتمیس-طبقه 10واحد 5 50 | BC10: تهران | BD10: 26253561 | BE10: 1957917516 | BG10: استان تهران | BJ10: No | BK10: 28891 | BL10: 21589 | BM10: 5 | BN10: 5000002 | BO10: 94155 | BP10: 638 | BQ10: 50000002 | BR10: 29 | BS10: 11 | BT10: 9900009 | BU10: -14156 | BV10: 11 | BW10: 99/02/28 | CB10: LC- 63560/13994442518/84 | CC10: 99/02/23 | CD10: بندر عباس | CE10: امارات | CF10: 1398697892001
A11: 29 | B11: صادرات | C11: کشتي | D11: 99 | E11: 99/02/27 | F11: 994300021 | G11: 99/02/27 | H11: 1450000 | I11: بسته شده | J11: 43 | K11: فروش صادراتی غیر مستقیم - فله (انبارقیر بندرعباس) کد:43 | L11: 638 | M11: آترا کران انرژی | N11: 33720 | O11: 0000000076 | P11: قیر 60/70 - فله | Q11: 104 | R11: انبار قیر بندرعباس | S11: کیلوگرم | T11: -- | W11: 1450000 | X11: 994300021 | Y11: 99/02/27 | Z11: 1398697892001 | AA11: 98/05/23 | AB11: 5000000 | AC11: اعتباری | AD11: 1450000 | AE11: 9900017 | AF11: 99/02/27 | AJ11: 18 | AK11: 99/02/27 | AL11: 99 | AM11: 99/02/27 | AN11: 1450000 | AP11: 16000 | AQ11: 23200000000 | AR11: 696000000 | AS11: 1392000000 | AX11: 25288000000 | BB11: پاسداران-کوچه نارنجستان چهارم-مجتمع اداری آرتمیس-طبقه 10واحد 5 50 | BC11: تهران | BD11: 26253561 | BE11: 1957917516 | BG11: استان تهران | BJ11: No | BK11: 28891 | BL11: 21589 | BM11: 5 | BN11: 5000002 | BO11: 94155 | BP11: 638 | BQ11: 50000002 | BR11: 29 | CB11: LC- 63560/13994442518/84 | CC11: 99/02/23 | CD11: بندر عباس | CE11: امارات | CF11: 1398697892001
A12: 29 | B12: صادرات | C12: کشتي | D12: 99 | E12: 99/01/24 | F12: 994300003 | G12: 99/01/24 | H12: 1000000 | I12: بسته شده | J12: 43 | K12: فروش صادراتی غیر مستقیم - فله (انبارقیر بندرعباس) کد:43 | L12: 11916 | M12: پالایش نفت جی ارس (آراز شیمی جلفا) | N12: 10118 | O12: 1000000004 | P12: قیر 40/50 - فله | Q12: 104 | R12: انبار قیر بندرعباس | S12: کیلوگرم | T12: -- | W12: 1000000 | X12: 994300003 | Y12: 99/01/24 | Z12: 1398723570001 | AA12: 98/08/22 | AB12: 2000000 | AC12: اعتباری | AD12: -9898 | AE12: 9900002 | AF12: 99/01/24 | AJ12: 2 | AK12: 99/01/24 | AL12: 99 | AM12: 99/01/24 | AN12: -9898 | AP12: 19750 | AQ12: 19750000000 | AR12: 592500000 | AS12: 1185000000 | AX12: 21527500000 | BB12: خیابان ولیعصر نرسیده به نیایش خیابان بابک بهرامی پلاک 74 ط5 | BC12: تهران | BD12: 88651707 | BE12: 1968644181 | BG12: استان تهران | BJ12: No | BK12: 28267 | BL12: 20056 | BM12: 5 | BN12: 5000003 | BO12: 86584 | BP12: 11916 | BQ12: 50000002 | BR12: 29 | BS12: 1 | BT12: 9900001 | BU12: -9898 | BV12: 1 | BW12: 99/01/25 | CB12: اعتباری | CC12: 99/01/24 | CD12: بندر عباس | CE12: عمان | CF12: 1398723570001
A13: 29 | B13: صادرات | C13: کشتي | D13: 99 | E13: 99/01/24 | F13: 994300003 | G13: 99/01/24 | H13: 1000000 | I13: بسته شده | J13: 43 | K13: فروش صادراتی غیر مستقیم - فله (انبارقیر بندرعباس) کد:43 | L13: 11916 | M13: پالایش نفت جی ارس (آراز شیمی جلفا) | N13: 10118 | O13: 1000000004 | P13: قیر 40/50 - فله | Q13: 104 | R13: انبار قیر بندرعباس | S13: کیلوگرم | T13: -- | W13: 1000000 | X13: 994300003 | Y13: 99/01/24 | Z13: 1398723570001 | AA13: 98/08/22 | AB13: 2000000 | AC13: اعتباری | AD13: 1000000 | AE13: 9900002 | AF13: 99/01/24 | AJ13: 2 | AK13: 99/01/24 | AL13: 99 | AM13: 99/01/24 | AN13: 1000000 | AP13: 19750 | AQ13: 19750000000 | AR13: 592500000 | AS13: 1185000000 | AX13: 21527500000 | BB13: خیابان ولیعصر نرسیده به نیایش خیابان بابک بهرامی پلاک 74 ط5 | BC13: تهران | BD13: 88651707 | BE13: 1968644181 | BG13: استان تهران | BJ13: No | BK13: 28267 | BL13: 20056 | BM13: 5 | BN13: 5000003 | BO13: 86584 | BP13: 11916 | BQ13: 50000002 | BR13: 29 | CB13: اعتباری | CC13: 99/01/24 | CD13: بندر عباس | CE13: عمان | CF13: 1398723570001
A14: 29 | B14: صادرات | C14: کشتي | D14: 99 | E14: 99/03/10 | F14: 994300023 | G14: 99/03/10 | H14: 880000 | I14: بسته شده | J14: 43 | K14: فروش صادراتی غیر مستقیم - فله (انبارقیر بندرعباس) کد:43 | L14: 461 | M14: جی پورنر پارس | N14: 05674 | O14: 1000000004 | P14: قیر 40/50 - فله | Q14: 104 | R14: انبار قیر بندرعباس | S14: کیلوگرم | T14: -- | W14: 880000 | X14: 994300023 | Y14: 99/03/10 | Z14: 1398723571001 | AA14: 98/08/22 | AB14: 3880000 | AC14: اعتباری | AD14: 880000 | AE14: 9900019 | AF14: 99/03/11 | AJ14: 25 | AK14: 99/03/11 | AL14: 99 | AM14: 99/03/11 | AN14: 880000 | AP14: 22500 | AQ14: 19800000000 | AR14: 594000000 | AS14: 1188000000 | AX14: 21582000000 | BB14: توانیر خیابان نظامی گنجوی نبش پیوند پلاک 3واحد 3 | BC14: تهران | BD14: 88203711 | BE14: 1968644181 | BG14: استان تهران | BJ14: No | BK14: 29091 | BL14: 22428 | BM14: 5 | BN14: 5000003 | BO14: 98383 | BP14: 461 | BQ14: 50000002 | BR14: 29 | CB14: اعتباری | CD14: بندر عباس | CE14: عمان | CF14: 1398723571001
A15: 29 | B15: صادرات | C15: کشتي | D15: 99 | E15: 99/02/04 | F15: 994300007 | G15: 99/02/04 | H15: 240000 | I15: بسته شده | J15: 43 | K15: فروش صادراتی غیر مستقیم - فله (انبارقیر بندرعباس) کد:43 | L15: 628 | M15: توسعه تجارت طلای سیاه | N15: 30763 | O15: 0000000076 | P15: قیر 60/70 - فله | Q15: 104 | R15: انبار قیر بندرعباس | S15: کیلوگرم | T15: -- | W15: 240000 | X15: 994300007 | Y15: 99/02/04 | Z15: 1398731239001 | AA15: 98/09/13 | AB15: 10000000 | AC15: نقدی-نقد | AD15: -28156 | AE15: 9900008 | AF15: 99/02/04 | AJ15: 8 | AK15: 99/02/04 | AL15: 99 | AM15: 99/02/04 | AN15: -28156 | AP15: 16000 | AQ15: 3840000000 | AR15: 115200000 | AS15: 230400000 | AX15: 4185600000 | BB15: کیلومتر11جاده اصفهان تهران شمال مورچه خورت گردنه چاه سرخ | BC15: اصفهان | BD15: 03145463922 | BE15: 8173697516 | BG15: استان اصفهان | BJ15: No | BK15: 28452 | BL15: 20554 | BM15: 5 | BN15: 5000002 | BO15: 89609 | BP15: 628 | BQ15: 50000002 | BR15: 29 | BS15: 5 | BT15: 9900005 | BU15: -28156 | BV15: 5 | BW15: 99/02/05 | CB15: 330289 | CC15: 99/02/04 | CD15: بندر عباس | CE15: امارات | CF15: 1398731239001
A16: 29 | B16: صادرات | C16: کشتي | D16: 99 | E16: 99/02/04 | F16: 994300007 | G16: 99/02/04 | H16: 240000 | I16: بسته شده | J16: 43 | K16: فروش صادراتی غیر مستقیم - فله (انبارقیر بندرعباس) کد:43 | L16: 628 | M16: توسعه تجارت طلای سیاه | N16: 30763 | O16: 0000000076 | P16: قیر 60/70 - فله | Q16: 104 | R16: انبار قیر بندرعباس | S16: کیلوگرم | T16: -- | W16: 240000 | X16: 994300007 | Y16: 99/02/04 | Z16: 1398731239001 | AA16: 98/09/13 | AB16: 10000000 | AC16: نقدی-نقد | AD16: 240000 | AE16: 9900008 | AF16: 99/02/04 | AJ16: 8 | AK16: 99/02/04 | AL16: 99 | AM16: 99/02/04 | AN16: 240000 | AP16: 16000 | AQ16: 3840000000 | AR16: 115200000 | AS16: 230400000 | AX16: 4185600000 | BB16: کیلومتر11جاده اصفهان تهران شمال مورچه خورت گردنه چاه سرخ | BC16: اصفهان | BD16: 03145463922 | BE16: 8173697516 | BG16: استان اصفهان | BJ16: No | BK16: 28452 | BL16: 20554 | BM16: 5 | BN16: 5000002 | BO16: 89609 | BP16: 628 | BQ16: 50000002 | BR16: 29 | CB16: 330289 | CC16: 99/02/04 | CD16: بندر عباس | CE16: امارات | CF16: 1398731239001
A17: 29 | B17: صادرات | C17: کشتي | D17: 99 | E17: 99/02/23 | F17: 994300013 | G17: 99/02/23 | H17: 600000 | I17: بسته شده | J17: 43 | K17: فروش صادراتی غیر مستقیم - فله (انبارقیر بندرعباس) کد:43 | L17: 628 | M17: توسعه تجارت طلای سیاه | N17: 30763 | O17: 0000000076 | P17: قیر 60/70 - فله | Q17: 104 | R17: انبار قیر بندرعباس | S17: کیلوگرم | T17: -- | W17: 600000 | X17: 994300013 | Y17: 99/02/23 | Z17: 1398731239001 | AA17: 98/09/13 | AB17: 10000000 | AC17: نقدی-نقد | AD17: 600000 | AE17: 9900013 | AF17: 99/02/23 | AJ17: 14 | AK17: 99/02/23 | AL17: 99 | AM17: 99/02/23 | AN17: 600000 | AP17: 17000 | AQ17: 10200000000 | AR17: 306000000 | AS17: 612000000 | AX17: 11118000000 | BB17: کیلومتر11جاده اصفهان تهران شمال مورچه خورت گردنه چاه سرخ | BC17: اصفهان | BD17: 03145463922 | BE17: 8173697516 | BG17: استان اصفهان | BJ17: No | BK17: 28789 | BL17: 21302 | BM17: 5 | BN17: 5000002 | BO17: 92809 | BP17: 628 | BQ17: 50000002 | BR17: 29 | CB17: 121951 | CC17: 99/02/23 | CD17: بندر عباس | CE17: هند | CF17: 1398731239001
A18: 29 | B18: صادرات | C18: کشتي | D18: 99 | E18: 99/02/23 | F18: 994300014 | G18: 99/02/23 | H18: 3250000 | I18: بسته شده | J18: 43 | K18: فروش صادراتی غیر مستقیم - فله (انبارقیر بندرعباس) کد:43 | L18: 628 | M18: توسعه تجارت طلای سیاه | N18: 30763 | O18: 0000000076 | P18: قیر 60/70 - فله | Q18: 104 | R18: انبار قیر بندرعباس | S18: کیلوگرم | T18: -- | W18: 3250000 | X18: 994300014 | Y18: 99/02/23 | Z18: 1398743512001 | AA18: 98/10/18 | AB18: 12000000 | AC18: نقدی-نقد | AD18: 3250000 | AE18: 9900014 | AF18: 99/02/23 | AJ18: 15 | AK18: 99/02/23 | AL18: 99 | AM18: 99/02/23 | AN18: 3250000 | AP18: 17000 | AQ18: 55250000000 | AR18: 1657500000 | AS18: 3315000000 | AX18: 60222500000 | BB18: کیلومتر11جاده اصفهان تهران شمال مورچه خورت گردنه چاه سرخ | BC18: اصفهان | BD18: 03145463922 | BE18: 8173697516 | BG18: استان اصفهان | BJ18: No | BK18: 28791 | BL18: 21304 | BM18: 5 | BN18: 5000002 | BO18: 92884 | BP18: 628 | BQ18: 50000002 | BR18: 29 | CB18: 121952 | CC18: 99/02/23 | CD18: بندر عباس | CE18: هند | CF18: 1398743512001
A19: 29 | B19: صادرات | C19: کشتي | D19: 99 | E19: 99/03/13 | F19: 994300029 | G19: 99/03/13 | H19: 280000 | I19: بسته شده | J19: 43 | K19: فروش صادراتی غیر مستقیم - فله (انبارقیر بندرعباس) کد:43 | L19: 628 | M19: توسعه تجارت طلای سیاه | N19: 30763 | O19: 0000000076 | P19: قیر 60/70 - فله | Q19: 104 | R19: انبار قیر بندرعباس | S19: کیلوگرم | T19: -- | W19: 280000 | X19: 994300029 | Y19: 99/03/13 | Z19: 1398743512001 | AA19: 98/10/18 | AB19: 12000000 | AC19: نقدی-نقد | AD19: -8289 | AE19: 9900025 | AF19: 99/03/13 | AJ19: 31 | AK19: 99/03/13 | AL19: 99 | AM19: 99/03/13 | AN19: -8289 | AP19: 22500 | AQ19: 6300000000 | AR19: 189000000 | AS19: 378000000 | AX19: 6867000000 | BB19: کیلومتر11جاده اصفهان تهران شمال مورچه خورت گردنه چاه سرخ | BC19: اصفهان | BD19: 03145463922 | BE19: 8173697516 | BG19: استان اصفهان | BJ19: No | BK19: 29157 | BL19: 22517 | BM19: 5 | BN19: 5000002 | BO19: 99057 | BP19: 628 | BQ19: 50000002 | BR19: 29 | BS19: 16 | BT19: 9900016 | BU19: -8289 | BV19: 16 | BW19: 99/03/16 | CB19: 121758 | CC19: 99/03/13 | CD19: بندر عباس | CE19: هند | CF19: 1398743512001
A20: 29 | B20: صادرات | C20: کشتي | D20: 99 | E20: 99/03/13 | F20: 994300029 | G20: 99/03/13 | H20: 280000 | I20: بسته شده | J20: 43 | K20: فروش صادراتی غیر مستقیم - فله (انبارقیر بندرعباس) کد:43 | L20: 628 | M20: توسعه تجارت طلای سیاه | N20: 30763 | O20: 0000000076 | P20: قیر 60/70 - فله | Q20: 104 | R20: انبار قیر بندرعباس | S20: کیلوگرم | T20: -- | W20: 280000 | X20: 994300029 | Y20: 99/03/13 | Z20: 1398743512001 | AA20: 98/10/18 | AB20: 12000000 | AC20: نقدی-نقد | AD20: 280000 | AE20: 9900025 | AF20: 99/03/13 | AJ20: 31 | AK20: 99/03/13 | AL20: 99 | AM20: 99/03/13 | AN20: 280000 | AP20: 22500 | AQ20: 6300000000 | AR20: 189000000 | AS20: 378000000 | AX20: 6867000000 | BB20: کیلومتر11جاده اصفهان تهران شمال مورچه خورت گردنه چاه سرخ | BC20: اصفهان | BD20: 03145463922 | BE20: 8173697516 | BG20: استان اصفهان | BJ20: No | BK20: 29157 | BL20: 22517 | BM20: 5 | BN20: 5000002 | BO20: 99057 | BP20: 628 | BQ20: 50000002 | BR20: 29 | CB20: 121758 | CC20: 99/03/13 | CD20: بندر عباس | CE20: هند | CF20: 1398743512001
A21: 29 | B21: صادرات | C21: کشتي | D21: 99 | E21: 99/01/19 | F21: 994300001 | G21: 99/01/19 | H21: 4200000 | I21: بسته شده | J21: 43 | K21: فروش صادراتی غیر مستقیم - فله (انبارقیر بندرعباس) کد:43 | L21: 11916 | M21: پالایش نفت جی ارس (آراز شیمی جلفا) | N21: 10118 | O21: 0000000076 | P21: قیر 60/70 - فله | Q21: 104 | R21: انبار قیر بندرعباس | S21: کیلوگرم | T21: -- | W21: 4200000 | X21: 994300001 | Y21: 99/01/19 | Z21: 1398760973001 | AA21: 98/12/07 | AB21: 10000000 | AC21: اعتباری | AD21: -654484 | AE21: 9900001 | AF21: 99/01/19 | AJ21: 1 | AK21: 99/01/19 | AL21: 99 | AM21: 99/01/19 | AN21: -654484 | AP21: 19750 | AQ21: 82950000000 | AR21: 2488500000 | AS21: 4977000000 | AX21: 90415500000 | BB21: خیابان ولیعصر نرسیده به نیایش خیابان بابک بهرامی پلاک 74 ط5 | BC21: تهران | BD21: 88651707 | BE21: 1968644181 | BG21: استان تهران | BJ21: No | BK21: 28210 | BL21: 20022 | BM21: 5 | BN21: 5000002 | BO21: 85967 | BP21: 11916 | BQ21: 50000002 | BR21: 29 | BS21: 3 | BT21: 9900003 | BU21: -654484 | BV21: 3 | BW21: 99/01/26 | CB21: اعتباری | CC21: 99/01/19 | CD21: بندر عباس | CE21: عمان | CF21: 1398760973001
A22: 29 | B22: صادرات | C22: کشتي | D22: 99 | E22: 99/01/19 | F22: 994300001 | G22: 99/01/19 | H22: 4200000 | I22: بسته شده | J22: 43 | K22: فروش صادراتی غیر مستقیم - فله (انبارقیر بندرعباس) کد:43 | L22: 11916 | M22: پالایش نفت جی ارس (آراز شیمی جلفا) | N22: 10118 | O22: 0000000076 | P22: قیر 60/70 - فله | Q22: 104 | R22: انبار قیر بندرعباس | S22: کیلوگرم | T22: -- | W22: 4200000 | X22: 994300001 | Y22: 99/01/19 | Z22: 1398760973001 | AA22: 98/12/07 | AB22: 10000000 | AC22: اعتباری | AD22: 4200000 | AE22: 9900001 | AF22: 99/01/19 | AJ22: 1 | AK22: 99/01/19 | AL22: 99 | AM22: 99/01/19 | AN22: 4200000 | AP22: 19750 | AQ22: 82950000000 | AR22: 2488500000 | AS22: 4977000000 | AX22: 90415500000 | BB22: خیابان ولیعصر نرسیده به نیایش خیابان بابک بهرامی پلاک 74 ط5 | BC22: تهران | BD22: 88651707 | BE22: 1968644181 | BG22: استان تهران | BJ22: No | BK22: 28210 | BL22: 20022 | BM22: 5 | BN22: 5000002 | BO22: 85967 | BP22: 11916 | BQ22: 50000002 | BR22: 29 | CB22: اعتباری | CC22: 99/01/19 | CD22: بندر عباس | CE22: عمان | CF22: 1398760973001
A23: 29 | B23: صادرات | C23: کشتي | D23: 99 | E23: 99/04/09 | F23: 994300044 | G23: 99/04/09 | H23: 282000 | I23: بسته شده | J23: 43 | K23: فروش صادراتی غیر مستقیم - فله (انبارقیر بندرعباس) کد:43 | L23: 461 | M23: جی پورنر پارس | N23: 05674 | O23: 0000000076 | P23: قیر 60/70 - فله | Q23: 104 | R23: انبار قیر بندرعباس | S23: کیلوگرم | T23: -- | W23: 282000 | X23: 994300044 | Y23: 99/04/09 | Z23: 1398765963001 | AA23: 98/12/21 | AB23: 4000000 | AC23: اعتباری | AD23: 282000 | AE23: 9900040 | AF23: 99/04/09 | AJ23: 48 | AK23: 99/04/09 | AL23: 99 | AM23: 99/04/09 | AN23: 282000 | AP23: 33500 | AQ23: 9447000000 | AR23: 283410000 | AS23: 566820000 | AX23: 10297230000 | BB23: توانیر خیابان نظامی گنجوی نبش پیوند پلاک 3واحد 3 | BC23: تهران | BD23: 88203711 | BE23: 1968644181 | BG23: استان تهران | BJ23: No | BK23: 29327 | BL23: 23764 | BM23: 5 | BN23: 5000002 | BO23: 106585 | BP23: 461 | BQ23: 50000002 | BR23: 29 | CB23: اعتباری | CD23: بندر عباس | CE23: عمان | CF23: 1398765963001
A24: 29 | B24: صادرات | C24: کشتي | D24: 99 | E24: 99/02/18 | F24: 994300009 | G24: 99/02/18 | H24: 1000000 | I24: بسته شده | J24: 43 | K24: فروش صادراتی غیر مستقیم - فله (انبارقیر بندرعباس) کد:43 | L24: 461 | M24: جی پورنر پارس | N24: 05674 | O24: 0000000076 | P24: قیر 60/70 - فله | Q24: 104 | R24: انبار قیر بندرعباس | S24: کیلوگرم | T24: -- | W24: 1000000 | X24: 994300009 | Y24: 99/02/18 | Z24: 1398765964001 | AA24: 98/12/21 | AB24: 11000000 | AC24: اعتباری | AD24: -33720 | AE24: 9900010 | AF24: 99/02/18 | AJ24: 10 | AK24: 99/02/18 | AL24: 99 | AM24: 99/02/18 | AN24: -33720 | AP24: 16000 | AQ24: 16000000000 | AR24: 480000000 | AS24: 960000000 | AX24: 17440000000 | BB24: توانیر خیابان نظامی گنجوی نبش پیوند پلاک 3واحد 3 | BC24: تهران | BD24: 88203711 | BE24: 1968644181 | BG24: استان تهران | BJ24: No | BK24: 28647 | BL24: 21022 | BM24: 5 | BN24: 5000002 | BO24: 91691 | BP24: 461 | BQ24: 50000002 | BR24: 29 | BS24: 6 | BT24: 9900006 | BU24: -33720 | BV24: 6 | BW24: 99/02/20 | CB24: اعتباری | CD24: بندر عباس | CE24: عمان | CF24: 1398765964001
A25: 29 | B25: صادرات | C25: کشتي | D25: 99 | E25: 99/02/18 | F25: 994300009 | G25: 99/02/18 | H25: 1000000 | I25: بسته شده | J25: 43 | K25: فروش صادراتی غیر مستقیم - فله (انبارقیر بندرعباس) کد:43 | L25: 461 | M25: جی پورنر پارس | N25: 05674 | O25: 0000000076 | P25: قیر 60/70 - فله | Q25: 104 | R25: انبار قیر بندرعباس | S25: کیلوگرم | T25: -- | W25: 1000000 | X25: 994300009 | Y25: 99/02/18 | Z25: 1398765964001 | AA25: 98/12/21 | AB25: 11000000 | AC25: اعتباری | AD25: 1000000 | AE25: 9900010 | AF25: 99/02/18 | AJ25: 10 | AK25: 99/02/18 | AL25: 99 | AM25: 99/02/18 | AN25: 1000000 | AP25: 16000 | AQ25: 16000000000 | AR25: 480000000 | AS25: 960000000 | AX25: 17440000000 | BB25: توانیر خیابان نظامی گنجوی نبش پیوند پلاک 3واحد 3 | BC25: تهران | BD25: 88203711 | BE25: 1968644181 | BG25: استان تهران | BJ25: No | BK25: 28647 | BL25: 21022 | BM25: 5 | BN25: 5000002 | BO25: 91691 | BP25: 461 | BQ25: 50000002 | BR25: 29 | CB25: اعتباری | CD25: بندر عباس | CE25: عمان | CF25: 1398765964001
A26: 29 | B26: صادرات | C26: کشتي | D26: 99 | E26: 99/02/20 | F26: 994300011 | G26: 99/02/20 | H26: 1750000 | I26: بسته شده | J26: 43 | K26: فروش صادراتی غیر مستقیم - فله (انبارقیر بندرعباس) کد:43 | L26: 461 | M26: جی پورنر پارس | N26: 05674 | O26: 0000000076 | P26: قیر 60/70 - فله | Q26: 104 | R26: انبار قیر بندرعباس | S26: کیلوگرم | T26: -- | W26: 1750000 | X26: 994300011 | Y26: 99/02/20 | Z26: 1398765964001 | AA26: 98/12/21 | AB26: 11000000 | AC26: اعتباری | AD26: -4312 | AE26: 9900011 | AF26: 99/02/20 | AJ26: 11 | AK26: 99/02/20 | AL26: 99 | AM26: 99/02/20 | AN26: -4312 | AP26: 16000 | AQ26: 28000000000 | AR26: 840000000 | AS26: 1680000000 | AX26: 30520000000 | BB26: توانیر خیابان نظامی گنجوی نبش پیوند پلاک 3واحد 3 | BC26: تهران | BD26: 88203711 | BE26: 1968644181 | BG26: استان تهران | BJ26: No | BK26: 28684 | BL26: 21152 | BM26: 5 | BN26: 5000002 | BO26: 92059 | BP26: 461 | BQ26: 50000002 | BR26: 29 | BS26: 7 | BT26: 9900007 | BU26: -4312 | BV26: 7 | BW26: 99/02/22 | CB26: اعتباری | CD26: بندر عباس | CE26: عمان | CF26: 1398765964001
A27: 29 | B27: صادرات | C27: کشتي | D27: 99 | E27: 99/02/20 | F27: 994300011 | G27: 99/02/20 | H27: 1750000 | I27: بسته شده | J27: 43 | K27: فروش صادراتی غیر مستقیم - فله (انبارقیر بندرعباس) کد:43 | L27: 461 | M27: جی پورنر پارس | N27: 05674 | O27: 0000000076 | P27: قیر 60/70 - فله | Q27: 104 | R27: انبار قیر بندرعباس | S27: کیلوگرم | T27: -- | W27: 1750000 | X27: 994300011 | Y27: 99/02/20 | Z27: 1398765964001 | AA27: 98/12/21 | AB27: 11000000 | AC27: اعتباری | AD27: 1750000 | AE27: 9900011 | AF27: 99/02/20 | AJ27: 11 | AK27: 99/02/20 | AL27: 99 | AM27: 99/02/20 | AN27: 1750000 | AP27: 16000 | AQ27: 28000000000 | AR27: 840000000 | AS27: 1680000000 | AX27: 30520000000 | BB27: توانیر خیابان نظامی گنجوی نبش پیوند پلاک 3واحد 3 | BC27: تهران | BD27: 88203711 | BE27: 1968644181 | BG27: استان تهران | BJ27: No | BK27: 28684 | BL27: 21152 | BM27: 5 | BN27: 5000002 | BO27: 92059 | BP27: 461 | BQ27: 50000002 | BR27: 29 | CB27: اعتباری | CD27: بندر عباس | CE27: عمان | CF27: 1398765964001
A28: 29 | B28: صادرات | C28: کشتي | D28: 99 | E28: 99/02/24 | F28: 994300019 | G28: 99/02/24 | H28: 1000000 | I28: بسته شده | J28: 43 | K28: فروش صادراتی غیر مستقیم - فله (انبارقیر بندرعباس) کد:43 | L28: 461 | M28: جی پورنر پارس | N28: 05674 | O28: 0000000076 | P28: قیر 60/70 - فله | Q28: 104 | R28: انبار قیر بندرعباس | S28: کیلوگرم | T28: -- | W28: 1000000 | X28: 994300019 | Y28: 99/02/24 | Z28: 1398765964001 | AA28: 98/12/21 | AB28: 11000000 | AC28: اعتباری | AD28: -25171 | AE28: 9900016 | AF28: 99/02/24 | AJ28: 17 | AK28: 99/02/24 | AL28: 99 | AM28: 99/02/24 | AN28: -25171 | AP28: 17000 | AQ28: 17000000000 | AR28: 510000000 | AS28: 1020000000 | AX28: 18530000000 | BB28: توانیر خیابان نظامی گنجوی نبش پیوند پلاک 3واحد 3 | BC28: تهران | BD28: 88203711 | BE28: 1968644181 | BG28: استان تهران | BJ28: No | BK28: 28822 | BL28: 21345 | BM28: 5 | BN28: 5000002 | BO28: 93223 | BP28: 461 | BQ28: 50000002 | BR28: 29 | BS28: 10 | BT28: 9900011 | BU28: -25171 | BV28: 10 | BW28: 99/02/26 | CB28: اعتباری | CD28: بندر عباس | CE28: عمان | CF28: 1398765964001
A29: 29 | B29: صادرات | C29: کشتي | D29: 99 | E29: 99/02/24 | F29: 994300019 | G29: 99/02/24 | H29: 1000000 | I29: بسته شده | J29: 43 | K29: فروش صادراتی غیر مستقیم - فله (انبارقیر بندرعباس) کد:43 | L29: 461 | M29: جی پورنر پارس | N29: 05674 | O29: 0000000076 | P29: قیر 60/70 - فله | Q29: 104 | R29: انبار قیر بندرعباس | S29: کیلوگرم | T29: -- | W29: 1000000 | X29: 994300019 | Y29: 99/02/24 | Z29: 1398765964001 | AA29: 98/12/21 | AB29: 11000000 | AC29: اعتباری | AD29: 1000000 | AE29: 9900016 | AF29: 99/02/24 | AJ29: 17 | AK29: 99/02/24 | AL29: 99 | AM29: 99/02/24 | AN29: 1000000 | AP29: 17000 | AQ29: 17000000000 | AR29: 510000000 | AS29: 1020000000 | AX29: 18530000000 | BB29: توانیر خیابان نظامی گنجوی نبش پیوند پلاک 3واحد 3 | BC29: تهران | BD29: 88203711 | BE29: 1968644181 | BG29: استان تهران | BJ29: No | BK29: 28822 | BL29: 21345 | BM29: 5 | BN29: 5000002 | BO29: 93223 | BP29: 461 | BQ29: 50000002 | BR29: 29 | CB29: اعتباری | CD29: بندر عباس | CE29: عمان | CF29: 1398765964001
A30: 29 | B30: صادرات | C30: کشتي | D30: 99 | E30: 99/04/04 | F30: 994300042 | G30: 99/04/04 | H30: 5965000 | I30: بسته شده | J30: 43 | K30: فروش صادراتی غیر مستقیم - فله (انبارقیر بندرعباس) کد:43 | L30: 461 | M30: جی پورنر پارس | N30: 05674 | O30: 0000000076 | P30: قیر 60/70 - فله | Q30: 104 | R30: انبار قیر بندرعباس | S30: کیلوگرم | T30: -- | W30: 5965000 | X30: 994300042 | Y30: 99/04/04 | Z30: 1398765964001 | AA30: 98/12/21 | AB30: 11000000 | AC30: اعتباری | AD30: 5965000 | AE30: 9900038 | AF30: 99/04/04 | AJ30: 46 | AK30: 99/04/04 | AL30: 99 | AM30: 99/04/04 | AN30: 5965000 | AP30: 32500 | AQ30: 193862500000 | AR30: 5815875000 | AS30: 11631750000 | AX30: 211310125000 | BB30: توانیر خیابان نظامی گنجوی نبش پیوند پلاک 3واحد 3 | BC30: تهران | BD30: 88203711 | BE30: 1968644181 | BG30: استان تهران | BJ30: No | BK30: 29274 | BL30: 23607 | BM30: 5 | BN30: 5000002 | BO30: 105096 | BP30: 461 | BQ30: 50000002 | BR30: 29 | CB30: اعتباری | CD30: بندر عباس | CE30: عمان | CF30: 1398765964001
A31: 29 | B31: صادرات | C31: کشتي | D31: 99 | E31: 99/02/03 | F31: 994300005 | G31: 99/02/03 | H31: 950000 | I31: بسته شده | J31: 43 | K31: فروش صادراتی غیر مستقیم - فله (انبارقیر بندرعباس) کد:43 | L31: 628 | M31: توسعه تجارت طلای سیاه | N31: 30763 | O31: 0000000076 | P31: قیر 60/70 - فله | Q31: 104 | R31: انبار قیر بندرعباس | S31: کیلوگرم | T31: -- | W31: 950000 | X31: 994300005 | Y31: 99/02/03 | Z31: 1399769066001 | AA31: 99/01/19 | AB31: 3000000 | AC31: اعتباری | AD31: -23382 | AE31: 9900006 | AF31: 99/02/03 | AJ31: 6 | AK31: 99/02/03 | AL31: 99 | AM31: 99/02/03 | AN31: -23382 | AP31: 16480 | AQ31: 15656000000 | AR31: 469680000 | AS31: 939360000 | AX31: 17065040000 | BB31: کیلومتر11جاده اصفهان تهران شمال مورچه خورت گردنه چاه سرخ | BC31: اصفهان | BD31: 03145463922 | BE31: 8173697516 | BG31: استان اصفهان | BJ31: No | BK31: 28443 | BL31: 20540 | BM31: 5 | BN31: 5000002 | BO31: 89499 | BP31: 628 | BQ31: 50000002 | BR31: 29 | BS31: 4 | BT31: 9900004 | BU31: -23382 | BV31: 4 | BW31: 99/02/04 | CB31: LC-0244999416299280 | CC31: 99/01/28 | CD31: بندر عباس | CE31: امارات | CF31: 1399769066001
A32: 29 | B32: صادرات | C32: کشتي | D32: 99 | E32: 99/02/03 | F32: 994300005 | G32: 99/02/03 | H32: 950000 | I32: بسته شده | J32: 43 | K32: فروش صادراتی غیر مستقیم - فله (انبارقیر بندرعباس) کد:43 | L32: 628 | M32: توسعه تجارت طلای سیاه | N32: 30763 | O32: 0000000076 | P32: قیر 60/70 - فله | Q32: 104 | R32: انبار قیر بندرعباس | S32: کیلوگرم | T32: -- | W32: 950000 | X32: 994300005 | Y32: 99/02/03 | Z32: 1399769066001 | AA32: 99/01/19 | AB32: 3000000 | AC32: اعتباری | AD32: 950000 | AE32: 9900006 | AF32: 99/02/03 | AJ32: 6 | AK32: 99/02/03 | AL32: 99 | AM32: 99/02/03 | AN32: 950000 | AP32: 16480 | AQ32: 15656000000 | AR32: 469680000 | AS32: 939360000 | AX32: 17065040000 | BB32: کیلومتر11جاده اصفهان تهران شمال مورچه خورت گردنه چاه سرخ | BC32: اصفهان | BD32: 03145463922 | BE32: 8173697516 | BG32: استان اصفهان | BJ32: No | BK32: 28443 | BL32: 20540 | BM32: 5 | BN32: 5000002 | BO32: 89499 | BP32: 628 | BQ32: 50000002 | BR32: 29 | CB32: LC-0244999416299280 | CC32: 99/01/28 | CD32: بندر عباس | CE32: امارات | CF32: 1399769066001
A33: 29 | B33: صادرات | C33: کشتي | D33: 99 | E33: 99/02/03 | F33: 994300006 | G33: 99/02/03 | H33: 2050000 | I33: بسته شده | J33: 43 | K33: فروش صادراتی غیر مستقیم - فله (انبارقیر بندرعباس) کد:43 | L33: 628 | M33: توسعه تجارت طلای سیاه | N33: 30763 | O33: 0000000076 | P33: قیر 60/70 - فله | Q33: 104 | R33: انبار قیر بندرعباس | S33: کیلوگرم | T33: -- | W33: 2050000 | X33: 994300006 | Y33: 99/02/03 | Z33: 1399769066001 | AA33: 99/01/19 | AB33: 3000000 | AC33: اعتباری | AD33: 2050000 | AE33: 9900007 | AF33: 99/02/03 | AJ33: 7 | AK33: 99/02/03 | AL33: 99 | AM33: 99/02/03 | AN33: 2050000 | AP33: 16480 | AQ33: 33784000000 | AR33: 1013520000 | AS33: 2027040000 | AX33: 36824560000 | BB33: کیلومتر11جاده اصفهان تهران شمال مورچه خورت گردنه چاه سرخ | BC33: اصفهان | BD33: 03145463922 | BE33: 8173697516 | BG33: استان اصفهان | BJ33: No | BK33: 28445 | BL33: 20541 | BM33: 5 | BN33: 5000002 | BO33: 89503 | BP33: 628 | BQ33: 50000002 | BR33: 29 | CB33: LC-0244999416299280 | CC33: 99/01/28 | CD33: بندر عباس | CE33: امارات | CF33: 1399769066001
A34: 29 | B34: صادرات | C34: کشتي | D34: 99 | E34: 99/04/04 | F34: 994300041 | G34: 99/04/04 | H34: 2798000 | I34: بسته شده | J34: 43 | K34: فروش صادراتی غیر مستقیم - فله (انبارقیر بندرعباس) کد:43 | L34: 461 | M34: جی پورنر پارس | N34: 05674 | O34: 0000000076 | P34: قیر 60/70 - فله | Q34: 104 | R34: انبار قیر بندرعباس | S34: کیلوگرم | T34: -- | W34: 2798000 | X34: 994300041 | Y34: 99/04/04 | Z34: 1399769067001 | AA34: 99/01/19 | AB34: 3000000 | AC34: اعتباری | AD34: 2798000 | AE34: 9900037 | AF34: 99/04/04 | AJ34: 45 | AK34: 99/04/04 | AL34: 99 | AM34: 99/04/04 | AN34: 2798000 | AP34: 32500 | AQ34: 90935000000 | AR34: 2728050000 | AS34: 5456100000 | AX34: 99119150000 | BB34: توانیر خیابان نظامی گنجوی نبش پیوند پلاک 3واحد 3 | BC34: تهران | BD34: 88203711 | BE34: 1968644181 | BG34: استان تهران | BJ34: No | BK34: 29275 | BL34: 23606 | BM34: 5 | BN34: 5000002 | BO34: 105094 | BP34: 461 | BQ34: 50000002 | BR34: 29 | CB34: اعتباری | CD34: بندر عباس | CE34: عمان | CF34: 1399769067001
A35: 29 | B35: صادرات | C35: کشتي | D35: 99 | E35: 99/01/24 | F35: 994300002 | G35: 99/01/24 | H35: 1000000 | I35: بسته شده | J35: 43 | K35: فروش صادراتی غیر مستقیم - فله (انبارقیر بندرعباس) کد:43 | L35: 11916 | M35: پالایش نفت جی ارس (آراز شیمی جلفا) | N35: 10118 | O35: 0000000076 | P35: قیر 60/70 - فله | Q35: 104 | R35: انبار قیر بندرعباس | S35: کیلوگرم | T35: -- | W35: 1000000 | X35: 994300002 | Y35: 99/01/24 | Z35: 1399769068001 | AA35: 99/01/19 | AB35: 6000000 | AC35: اعتباری | AD35: -8615 | AE35: 9900003 | AF35: 99/01/24 | AJ35: 3 | AK35: 99/01/24 | AL35: 99 | AM35: 99/01/24 | AN35: -8615 | AP35: 19750 | AQ35: 19750000000 | AR35: 592500000 | AS35: 1185000000 | AX35: 21527500000 | BB35: خیابان ولیعصر نرسیده به نیایش خیابان بابک بهرامی پلاک 74 ط5 | BC35: تهران | BD35: 88651707 | BE35: 1968644181 | BG35: استان تهران | BJ35: No | BK35: 28266 | BL35: 20057 | BM35: 5 | BN35: 5000002 | BO35: 86600 | BP35: 11916 | BQ35: 50000002 | BR35: 29 | BS35: 2 | BT35: 9900002 | BU35: -8615 | BV35: 2 | BW35: 99/01/25 | CB35: اعتباری | CC35: 99/01/24 | CD35: بندر عباس | CE35: عمان | CF35: 1399769068001
A36: 29 | B36: صادرات | C36: کشتي | D36: 99 | E36: 99/01/24 | F36: 994300002 | G36: 99/01/24 | H36: 1000000 | I36: بسته شده | J36: 43 | K36: فروش صادراتی غیر مستقیم - فله (انبارقیر بندرعباس) کد:43 | L36: 11916 | M36: پالایش نفت جی ارس (آراز شیمی جلفا) | N36: 10118 | O36: 0000000076 | P36: قیر 60/70 - فله | Q36: 104 | R36: انبار قیر بندرعباس | S36: کیلوگرم | T36: -- | W36: 1000000 | X36: 994300002 | Y36: 99/01/24 | Z36: 1399769068001 | AA36: 99/01/19 | AB36: 6000000 | AC36: اعتباری | AD36: 1000000 | AE36: 9900003 | AF36: 99/01/24 | AJ36: 3 | AK36: 99/01/24 | AL36: 99 | AM36: 99/01/24 | AN36: 1000000 | AP36: 19750 | AQ36: 19750000000 | AR36: 592500000 | AS36: 1185000000 | AX36: 21527500000 | BB36: خیابان ولیعصر نرسیده به نیایش خیابان بابک بهرامی پلاک 74 ط5 | BC36: تهران | BD36: 88651707 | BE36: 1968644181 | BG36: استان تهران | BJ36: No | BK36: 28266 | BL36: 20057 | BM36: 5 | BN36: 5000002 | BO36: 86600 | BP36: 11916 | BQ36: 50000002 | BR36: 29 | CB36: اعتباری | CC36: 99/01/24 | CD36: بندر عباس | CE36: عمان | CF36: 1399769068001
A37: 29 | B37: صادرات | C37: کشتي | D37: 99 | E37: 99/03/10 | F37: 994300024 | G37: 99/03/10 | H37: 120000 | I37: بسته شده | J37: 43 | K37: فروش صادراتی غیر مستقیم - فله (انبارقیر بندرعباس) کد:43 | L37: 461 | M37: جی پورنر پارس | N37: 05674 | O37: 1000000004 | P37: قیر 40/50 - فله | Q37: 104 | R37: انبار قیر بندرعباس | S37: کیلوگرم | T37: -- | W37: 120000 | X37: 994300024 | Y37: 99/03/10 | Z37: 1399775612001 | AA37: 99/02/06 | AB37: 300000 | AC37: اعتباری | AD37: -95 | AE37: 9900020 | AF37: 99/03/11 | AJ37: 26 | AK37: 99/03/11 | AL37: 99 | AM37: 99/03/11 | AN37: -95 | AP37: 22500 | AQ37: 2700000000 | AR37: 81000000 | AS37: 162000000 | AX37: 2943000000 | BB37: توانیر خیابان نظامی گنجوی نبش پیوند پلاک 3واحد 3 | BC37: تهران | BD37: 88203711 | BE37: 1968644181 | BG37: استان تهران | BJ37: No | BK37: 29092 | BL37: 22429 | BM37: 5 | BN37: 5000003 | BO37: 98400 | BP37: 461 | BQ37: 50000002 | BR37: 29 | BS37: 13 | BT37: 9900013 | BU37: -95 | BV37: 13 | BW37: 99/03/12 | CB37: اعتباری | CD37: بندر عباس | CE37: عمان | CF37: 1399775612001
A38: 29 | B38: صادرات | C38: کشتي | D38: 99 | E38: 99/03/10 | F38: 994300024 | G38: 99/03/10 | H38: 120000 | I38: بسته شده | J38: 43 | K38: فروش صادراتی غیر مستقیم - فله (انبارقیر بندرعباس) کد:43 | L38: 461 | M38: جی پورنر پارس | N38: 05674 | O38: 1000000004 | P38: قیر 40/50 - فله | Q38: 104 | R38: انبار قیر بندرعباس | S38: کیلوگرم | T38: -- | W38: 120000 | X38: 994300024 | Y38: 99/03/10 | Z38: 1399775612001 | AA38: 99/02/06 | AB38: 300000 | AC38: اعتباری | AD38: 120000 | AE38: 9900020 | AF38: 99/03/11 | AJ38: 26 | AK38: 99/03/11 | AL38: 99 | AM38: 99/03/11 | AN38: 120000 | AP38: 22500 | AQ38: 2700000000 | AR38: 81000000 | AS38: 162000000 | AX38: 2943000000 | BB38: توانیر خیابان نظامی گنجوی نبش پیوند پلاک 3واحد 3 | BC38: تهران | BD38: 88203711 | BE38: 1968644181 | BG38: استان تهران | BJ38: No | BK38: 29092 | BL38: 22429 | BM38: 5 | BN38: 5000003 | BO38: 98400 | BP38: 461 | BQ38: 50000002 | BR38: 29 | CB38: اعتباری | CD38: بندر عباس | CE38: عمان | CF38: 1399775612001
A39: 29 | B39: صادرات | C39: کشتي | D39: 99 | E39: 99/02/24 | F39: 994300016 | G39: 99/02/24 | H39: 3070000 | I39: بسته شده | J39: 43 | K39: فروش صادراتی غیر مستقیم - فله (انبارقیر بندرعباس) کد:43 | L39: 641 | M39: اسپادانا قیر پاسارگاد | N39: 33876 | O39: 0000000076 | P39: قیر 60/70 - فله | Q39: 104 | R39: انبار قیر بندرعباس | S39: کیلوگرم | T39: -- | W39: 3070000 | X39: 994300016 | Y39: 99/02/24 | Z39: 1399775814001 | AA39: 99/02/07 | AB39: 4000000 | AC39: اعتباری | AD39: -154 | AE39: 9900015 | AF39: 99/02/24 | AJ39: 16 | AK39: 99/02/24 | AL39: 99 | AM39: 99/02/24 | AN39: -154 | AP39: 16000 | AQ39: 49120000000 | AR39: 1473600000 | AS39: 2947200000 | AX39: 53540800000 | BB39: تهران- بخش مرکزی- محله ونک- خیابان آرارات جنوبی- خیابان ونک- پلاک 57-طبقه هفتم واحد29 | BC39: تهران | BD39: 88618853 | BE39: 1994833416 | BG39: استان تهران | BJ39: No | BK39: 28817 | BL39: 21344 | BM39: 5 | BN39: 5000002 | BO39: 93222 | BP39: 641 | BQ39: 50000002 | BR39: 29 | BS39: 9 | BT39: 9900010 | BU39: -154 | BV39: 9 | BW39: 99/02/25 | CB39: LC-0363499415569771 | CC39: 99/02/21 | CD39: بندر عباس | CE39: امارات | CF39: 1399775814001
A40: 29 | B40: صادرات | C40: کشتي | D40: 99 | E40: 99/02/24 | F40: 994300016 | G40: 99/02/24 | H40: 3070000 | I40: بسته شده | J40: 43 | K40: فروش صادراتی غیر مستقیم - فله (انبارقیر بندرعباس) کد:43 | L40: 641 | M40: اسپادانا قیر پاسارگاد | N40: 33876 | O40: 0000000076 | P40: قیر 60/70 - فله | Q40: 104 | R40: انبار قیر بندرعباس | S40: کیلوگرم | T40: -- | W40: 3070000 | X40: 994300016 | Y40: 99/02/24 | Z40: 1399775814001 | AA40: 99/02/07 | AB40: 4000000 | AC40: اعتباری | AD40: 3070000 | AE40: 9900015 | AF40: 99/02/24 | AJ40: 16 | AK40: 99/02/24 | AL40: 99 | AM40: 99/02/24 | AN40: 3070000 | AP40: 16000 | AQ40: 49120000000 | AR40: 1473600000 | AS40: 2947200000 | AX40: 53540800000 | BB40: تهران- بخش مرکزی- محله ونک- خیابان آرارات جنوبی- خیابان ونک- پلاک 57-طبقه هفتم واحد29 | BC40: تهران | BD40: 88618853 | BE40: 1994833416 | BG40: استان تهران | BJ40: No | BK40: 28817 | BL40: 21344 | BM40: 5 | BN40: 5000002 | BO40: 93222 | BP40: 641 | BQ40: 50000002 | BR40: 29 | CB40: LC-0363499415569771 | CC40: 99/02/21 | CD40: بندر عباس | CE40: امارات | CF40: 1399775814001
A41: 29 | B41: صادرات | C41: کشتي | D41: 99 | E41: 99/02/22 | F41: 994300012 | G41: 99/02/22 | H41: 2850000 | I41: بسته شده | J41: 43 | K41: فروش صادراتی غیر مستقیم - فله (انبارقیر بندرعباس) کد:43 | L41: 11916 | M41: پالایش نفت جی ارس (آراز شیمی جلفا) | N41: 10118 | O41: 0000000076 | P41: قیر 60/70 - فله | Q41: 104 | R41: انبار قیر بندرعباس | S41: کیلوگرم | T41: -- | W41: 2850000 | X41: 994300012 | Y41: 99/02/22 | Z41: 1399775815001 | AA41: 99/02/07 | AB41: 3000000 | AC41: اعتباری | AD41: -201141 | AE41: 9900012 | AF41: 99/02/22 | AJ41: 13 | AK41: 99/02/22 | AL41: 99 | AM41: 99/02/22 | AN41: -201141 | AP41: 16000 | AQ41: 45600000000 | AR41: 1368000000 | AS41: 2736000000 | AX41: 49704000000 | BB41: خیابان ولیعصر نرسیده به نیایش خیابان بابک بهرامی پلاک 74 ط5 | BC41: تهران | BD41: 88651707 | BE41: 1968644181 | BG41: استان تهران | BJ41: No | BK41: 28768 | BL41: 21272 | BM41: 5 | BN41: 5000002 | BO41: 92589 | BP41: 11916 | BQ41: 50000002 | BR41: 29 | BS41: 8 | BT41: 9900008 | BU41: -201141 | BV41: 8 | BW41: 99/02/24 | CB41: اعتباری | CD41: بندر عباس | CE41: عمان | CF41: 1399775815001
A42: 29 | B42: صادرات | C42: کشتي | D42: 99 | E42: 99/02/22 | F42: 994300012 | G42: 99/02/22 | H42: 2850000 | I42: بسته شده | J42: 43 | K42: فروش صادراتی غیر مستقیم - فله (انبارقیر بندرعباس) کد:43 | L42: 11916 | M42: پالایش نفت جی ارس (آراز شیمی جلفا) | N42: 10118 | O42: 0000000076 | P42: قیر 60/70 - فله | Q42: 104 | R42: انبار قیر بندرعباس | S42: کیلوگرم | T42: -- | W42: 2850000 | X42: 994300012 | Y42: 99/02/22 | Z42: 1399775815001 | AA42: 99/02/07 | AB42: 3000000 | AC42: اعتباری | AD42: 2850000 | AE42: 9900012 | AF42: 99/02/22 | AJ42: 13 | AK42: 99/02/22 | AL42: 99 | AM42: 99/02/22 | AN42: 2850000 | AP42: 16000 | AQ42: 45600000000 | AR42: 1368000000 | AS42: 2736000000 | AX42: 49704000000 | BB42: خیابان ولیعصر نرسیده به نیایش خیابان بابک بهرامی پلاک 74 ط5 | BC42: تهران | BD42: 88651707 | BE42: 1968644181 | BG42: استان تهران | BJ42: No | BK42: 28768 | BL42: 21272 | BM42: 5 | BN42: 5000002 | BO42: 92589 | BP42: 11916 | BQ42: 50000002 | BR42: 29 | CB42: اعتباری | CD42: بندر عباس | CE42: عمان | CF42: 1399775815001
A43: 29 | B43: صادرات | C43: کشتي | D43: 99 | E43: 99/02/23 | F43: 994300015 | G43: 99/02/23 | H43: 3000000 | I43: بسته شده | J43: 43 | K43: فروش صادراتی غیر مستقیم - فله (انبارقیر بندرعباس) کد:43 | L43: 11916 | M43: پالایش نفت جی ارس (آراز شیمی جلفا) | N43: 10118 | O43: 0000000076 | P43: قیر 60/70 - فله | Q43: 204 | R43: مخازن قیر همیار جی یزد(بندرعباس) | S43: کیلوگرم | T43: بهینه صنعت اسدی | W43: 3000000 | X43: 994300015 | Y43: 99/02/23 | Z43: 1399778394001 | AA43: 99/02/14 | AB43: 8000000 | AC43: اعتباری | AD43: 1012480 | AE43: 9900006 | AF43: 99/03/07 | AJ43: 24 | AK43: 99/03/07 | AL43: 99 | AM43: 99/03/07 | AN43: 1012480 | AP43: 15300 | AQ43: 15490944000 | AR43: 464728320 | AS43: 929456640 | AX43: 16885128960 | BB43: خیابان ولیعصر نرسیده به نیایش خیابان بابک بهرامی پلاک 74 ط5 | BC43: تهران | BD43: 88651707 | BE43: 1968644181 | BG43: استان تهران | BJ43: No | BK43: 28806 | BL43: 22384 | BM43: 5 | BN43: 5000002 | BO43: 98192 | BP43: 11916 | BQ43: 50020016 | BR43: 29 | CB43: اعتباری | CD43: بندر عباس | CE43: امارات | CF43: 1399778394001
A44: 29 | B44: صادرات | C44: کشتي | D44: 99 | E44: 99/02/23 | F44: 994300015 | G44: 99/02/23 | H44: 3000000 | I44: بسته شده | J44: 43 | K44: فروش صادراتی غیر مستقیم - فله (انبارقیر بندرعباس) کد:43 | L44: 11916 | M44: پالایش نفت جی ارس (آراز شیمی جلفا) | N44: 10118 | O44: 0000000076 | P44: قیر 60/70 - فله | Q44: 204 | R44: مخازن قیر همیار جی یزد(بندرعباس) | S44: کیلوگرم | T44: بهینه صنعت اسدی | W44: 3000000 | X44: 994300015 | Y44: 99/02/23 | Z44: 1399778394001 | AA44: 99/02/14 | AB44: 8000000 | AC44: اعتباری | AD44: 1556700 | AE44: 9900007 | AF44: 99/03/13 | AJ44: 32 | AK44: 99/03/13 | AL44: 99 | AM44: 99/03/13 | AN44: 1556700 | AP44: 15300 | AQ44: 23817510000 | AR44: 714525300 | AS44: 1429050600 | AX44: 25961085900 | BB44: خیابان ولیعصر نرسیده به نیایش خیابان بابک بهرامی پلاک 74 ط5 | BC44: تهران | BD44: 88651707 | BE44: 1968644181 | BG44: استان تهران | BJ44: No | BK44: 28806 | BL44: 22676 | BM44: 5 | BN44: 5000002 | BO44: 99975 | BP44: 11916 | BQ44: 50020016 | BR44: 29 | CB44: اعتباری | CD44: بندر عباس | CE44: امارات | CF44: 1399778394001
A45: 29 | B45: صادرات | C45: کشتي | D45: 99 | E45: 99/02/23 | F45: 994300015 | G45: 99/02/23 | H45: 3000000 | I45: بسته شده | J45: 43 | K45: فروش صادراتی غیر مستقیم - فله (انبارقیر بندرعباس) کد:43 | L45: 11916 | M45: پالایش نفت جی ارس (آراز شیمی جلفا) | N45: 10118 | O45: 0000000076 | P45: قیر 60/70 - فله | Q45: 204 | R45: مخازن قیر همیار جی یزد(بندرعباس) | S45: کیلوگرم | T45: بهینه صنعت اسدی | W45: 3000000 | X45: 994300015 | Y45: 99/02/23 | Z45: 1399778394001 | AA45: 99/02/14 | AB45: 8000000 | AC45: اعتباری | AD45: 425230 | AE45: 9900008 | AF45: 99/03/21 | AJ45: 39 | AK45: 99/03/21 | AL45: 99 | AM45: 99/03/21 | AN45: 425230 | AP45: 15300 | AQ45: 6506019000 | AR45: 195180570 | AS45: 390361140 | AX45: 7091560710 | BB45: خیابان ولیعصر نرسیده به نیایش خیابان بابک بهرامی پلاک 74 ط5 | BC45: تهران | BD45: 88651707 | BE45: 1968644181 | BG45: استان تهران | BJ45: No | BK45: 28806 | BL45: 22904 | BM45: 5 | BN45: 5000002 | BO45: 101084 | BP45: 11916 | BQ45: 50020016 | BR45: 29 | CB45: اعتباری | CD45: بندر عباس | CE45: امارات | CF45: 1399778394001
A46: 29 | B46: صادرات | C46: کشتي | D46: 99 | E46: 99/04/04 | F46: 994300043 | G46: 99/04/04 | H46: 537000 | I46: بسته شده | J46: 43 | K46: فروش صادراتی غیر مستقیم - فله (انبارقیر بندرعباس) کد:43 | L46: 461 | M46: جی پورنر پارس | N46: 05674 | O46: 0000000076 | P46: قیر 60/70 - فله | Q46: 104 | R46: انبار قیر بندرعباس | S46: کیلوگرم | T46: -- | W46: 537000 | X46: 994300043 | Y46: 99/04/04 | Z46: 1399783081001 | AA46: 99/02/24 | AB46: 6000000 | AC46: اعتباری | AD46: 537000 | AE46: 9900039 | AF46: 99/04/04 | AJ46: 47 | AK46: 99/04/04 | AL46: 99 | AM46: 99/04/04 | AN46: 537000 | AP46: 32500 | AQ46: 17452500000 | AR46: 523575000 | AS46: 1047150000 | AX46: 19023225000 | BB46: توانیر خیابان نظامی گنجوی نبش پیوند پلاک 3واحد 3 | BC46: تهران | BD46: 88203711 | BE46: 1968644181 | BG46: استان تهران | BJ46: No | BK46: 29276 | BL46: 23608 | BM46: 5 | BN46: 5000002 | BO46: 105097 | BP46: 461 | BQ46: 50000002 | BR46: 29 | CB46: اعتباری | CD46: بندر عباس | CE46: عمان | CF46: 1399783081001
A47: 29 | B47: صادرات | C47: کشتي | D47: 99 | E47: 99/04/16 | F47: 994300046 | G47: 99/04/16 | H47: 1500000 | I47: بسته شده | J47: 43 | K47: فروش صادراتی غیر مستقیم - فله (انبارقیر بندرعباس) کد:43 | L47: 461 | M47: جی پورنر پارس | N47: 05674 | O47: 0000000076 | P47: قیر 60/70 - فله | Q47: 104 | R47: انبار قیر بندرعباس | S47: کیلوگرم | T47: -- | W47: 1500000 | X47: 994300046 | Y47: 99/04/16 | Z47: 1399783081001 | AA47: 99/02/24 | AB47: 6000000 | AC47: اعتباری | AD47: 1500000 | AE47: 9900042 | AF47: 99/04/16 | AJ47: 50 | AK47: 99/04/16 | AL47: 99 | AM47: 99/04/16 | AN47: 1500000 | AO47: تاييد شده | AP47: 33888 | AQ47: 50832000000 | AR47: 1524960000 | AS47: 3049920000 | AX47: 55406880000 | BB47: توانیر خیابان نظامی گنجوی نبش پیوند پلاک 3واحد 3 | BC47: تهران | BD47: 88203711 | BE47: 1968644181 | BG47: استان تهران | BJ47: No | BK47: 29357 | BL47: 24078 | BM47: 5 | BN47: 5000002 | BO47: 108950 | BP47: 461 | BQ47: 50000002 | BR47: 29 | CB47: اعتباری | CD47: بندر عباس | CE47: عمان | CF47: 1399783081001
A48: 29 | B48: صادرات | C48: کشتي | D48: 99 | E48: 99/02/31 | F48: 994300022 | G48: 99/02/31 | H48: 3070000 | I48: بسته شده | J48: 43 | K48: فروش صادراتی غیر مستقیم - فله (انبارقیر بندرعباس) کد:43 | L48: 641 | M48: اسپادانا قیر پاسارگاد | N48: 33876 | O48: 0000000076 | P48: قیر 60/70 - فله | Q48: 104 | R48: انبار قیر بندرعباس | S48: کیلوگرم | T48: -- | W48: 3070000 | X48: 994300022 | Y48: 99/02/31 | Z48: 1399783085001 | AA48: 99/02/24 | AB48: 5000000 | AC48: نقدی-نقد | AD48: -11 | AE48: 9900018 | AF48: 99/02/31 | AJ48: 21 | AK48: 99/02/31 | AL48: 99 | AM48: 99/02/31 | AN48: -11 | AP48: 17000 | AQ48: 52190000000 | AR48: 1565700000 | AS48: 3131400000 | AX48: 56887100000 | BB48: تهران- بخش مرکزی- محله ونک- خیابان آرارات جنوبی- خیابان ونک- پلاک 57-طبقه هفتم واحد29 | BC48: تهران | BD48: 88618853 | BE48: 1994833416 | BG48: استان تهران | BJ48: No | BK48: 29005 | BL48: 21837 | BM48: 5 | BN48: 5000002 | BO48: 95433 | BP48: 641 | BQ48: 50000002 | BR48: 29 | BS48: 12 | BT48: 9900012 | BU48: -11 | BV48: 12 | BW48: 99/03/01 | CB48: 30850014 | CC48: 99/02/31 | CD48: بندر عباس | CE48: امارات | CF48: 1399783085001
A49: 29 | B49: صادرات | C49: کشتي | D49: 99 | E49: 99/02/31 | F49: 994300022 | G49: 99/02/31 | H49: 3070000 | I49: بسته شده | J49: 43 | K49: فروش صادراتی غیر مستقیم - فله (انبارقیر بندرعباس) کد:43 | L49: 641 | M49: اسپادانا قیر پاسارگاد | N49: 33876 | O49: 0000000076 | P49: قیر 60/70 - فله | Q49: 104 | R49: انبار قیر بندرعباس | S49: کیلوگرم | T49: -- | W49: 3070000 | X49: 994300022 | Y49: 99/02/31 | Z49: 1399783085001 | AA49: 99/02/24 | AB49: 5000000 | AC49: نقدی-نقد | AD49: 3070000 | AE49: 9900018 | AF49: 99/02/31 | AJ49: 21 | AK49: 99/02/31 | AL49: 99 | AM49: 99/02/31 | AN49: 3070000 | AP49: 17000 | AQ49: 52190000000 | AR49: 1565700000 | AS49: 3131400000 | AX49: 56887100000 | BB49: تهران- بخش مرکزی- محله ونک- خیابان آرارات جنوبی- خیابان ونک- پلاک 57-طبقه هفتم واحد29 | BC49: تهران | BD49: 88618853 | BE49: 1994833416 | BG49: استان تهران | BJ49: No | BK49: 29005 | BL49: 21837 | BM49: 5 | BN49: 5000002 | BO49: 95433 | BP49: 641 | BQ49: 50000002 | BR49: 29 | CB49: 30850014 | CC49: 99/02/31 | CD49: بندر عباس | CE49: امارات | CF49: 1399783085001
A50: 29 | B50: صادرات | C50: کشتي | D50: 99 | E50: 99/03/18 | F50: 994300030 | G50: 99/03/18 | H50: 1930000 | I50: بسته شده | J50: 43 | K50: فروش صادراتی غیر مستقیم - فله (انبارقیر بندرعباس) کد:43 | L50: 641 | M50: اسپادانا قیر پاسارگاد | N50: 33876 | O50: 0000000076 | P50: قیر 60/70 - فله | Q50: 104 | R50: انبار قیر بندرعباس | S50: کیلوگرم | T50: -- | W50: 1930000 | X50: 994300030 | Y50: 99/03/18 | Z50: 1399783085001 | AA50: 99/02/24 | AB50: 5000000 | AC50: نقدی-نقد | AD50: -31261 | AE50: 9900026 | AF50: 99/03/18 | AJ50: 33 | AK50: 99/03/18 | AL50: 99 | AM50: 99/03/18 | AN50: -31261 | AP50: 17000 | AQ50: 32810000000 | AR50: 984300000 | AS50: 1968600000 | AX50: 35762900000 | BB50: تهران- بخش مرکزی- محله ونک- خیابان آرارات جنوبی- خیابان ونک- پلاک 57-طبقه هفتم واحد29 | BC50: تهران | BD50: 88618853 | BE50: 1994833416 | BG50: استان تهران | BJ50: No | BK50: 29172 | BL50: 22725 | BM50: 5 | BN50: 5000002 | BO50: 100372 | BP50: 641 | BQ50: 50000002 | BR50: 29 | BS50: 19 | BT50: 9900019 | BU50: -31261 | BV50: 19 | BW50: 99/03/23 | CB50: ازمحل وجوه نزدشرکت | CC50: 99/03/18 | CD50: بندر عباس | CE50: شارجه | CF50: 1399783085001
A51: 29 | B51: صادرات | C51: کشتي | D51: 99 | E51: 99/03/18 | F51: 994300030 | G51: 99/03/18 | H51: 1930000 | I51: بسته شده | J51: 43 | K51: فروش صادراتی غیر مستقیم - فله (انبارقیر بندرعباس) کد:43 | L51: 641 | M51: اسپادانا قیر پاسارگاد | N51: 33876 | O51: 0000000076 | P51: قیر 60/70 - فله | Q51: 104 | R51: انبار قیر بندرعباس | S51: کیلوگرم | T51: -- | W51: 1930000 | X51: 994300030 | Y51: 99/03/18 | Z51: 1399783085001 | AA51: 99/02/24 | AB51: 5000000 | AC51: نقدی-نقد | AD51: 1930000 | AE51: 9900026 | AF51: 99/03/18 | AJ51: 33 | AK51: 99/03/18 | AL51: 99 | AM51: 99/03/18 | AN51: 1930000 | AP51: 17000 | AQ51: 32810000000 | AR51: 984300000 | AS51: 1968600000 | AX51: 35762900000 | BB51: تهران- بخش مرکزی- محله ونک- خیابان آرارات جنوبی- خیابان ونک- پلاک 57-طبقه هفتم واحد29 | BC51: تهران | BD51: 88618853 | BE51: 1994833416 | BG51: استان تهران | BJ51: No | BK51: 29172 | BL51: 22725 | BM51: 5 | BN51: 5000002 | BO51: 100372 | BP51: 641 | BQ51: 50000002 | BR51: 29 | CB51: ازمحل وجوه نزدشرکت | CC51: 99/03/18 | CD51: بندر عباس | CE51: شارجه | CF51: 1399783085001
A52: 29 | B52: صادرات | C52: کشتي | D52: 99 | E52: 99/03/12 | F52: 994300026 | G52: 99/03/12 | H52: 330000 | I52: بسته شده | J52: 43 | K52: فروش صادراتی غیر مستقیم - فله (انبارقیر بندرعباس) کد:43 | L52: 628 | M52: توسعه تجارت طلای سیاه | N52: 30763 | O52: 0000000076 | P52: قیر 60/70 - فله | Q52: 104 | R52: انبار قیر بندرعباس | S52: کیلوگرم | T52: -- | W52: 330000 | X52: 994300026 | Y52: 99/03/12 | Z52: 1399783086001 | AA52: 99/02/24 | AB52: 7000000 | AC52: نقدی-نقد | AD52: -22009 | AE52: 9900022 | AF52: 99/03/12 | AJ52: 28 | AK52: 99/03/12 | AL52: 99 | AM52: 99/03/12 | AN52: -22009 | AP52: 17000 | AQ52: 5610000000 | AR52: 168300000 | AS52: 336600000 | AX52: 6114900000 | BB52: کیلومتر11جاده اصفهان تهران شمال مورچه خورت گردنه چاه سرخ | BC52: اصفهان | BD52: 03145463922 | BE52: 8173697516 | BG52: استان اصفهان | BJ52: No | BK52: 29141 | BL52: 22473 | BM52: 5 | BN52: 5000002 | BO52: 98765 | BP52: 628 | BQ52: 50000002 | BR52: 29 | BS52: 17 | BT52: 9900017 | BU52: -22009 | BV52: 17 | BW52: 99/03/18 | CB52: ازمحل وجوه نزدشرکت | CC52: 99/03/12 | CD52: بندر عباس | CE52: هند | CF52: 1399783086001
A53: 29 | B53: صادرات | C53: کشتي | D53: 99 | E53: 99/03/12 | F53: 994300026 | G53: 99/03/12 | H53: 330000 | I53: بسته شده | J53: 43 | K53: فروش صادراتی غیر مستقیم - فله (انبارقیر بندرعباس) کد:43 | L53: 628 | M53: توسعه تجارت طلای سیاه | N53: 30763 | O53: 0000000076 | P53: قیر 60/70 - فله | Q53: 104 | R53: انبار قیر بندرعباس | S53: کیلوگرم | T53: -- | W53: 330000 | X53: 994300026 | Y53: 99/03/12 | Z53: 1399783086001 | AA53: 99/02/24 | AB53: 7000000 | AC53: نقدی-نقد | AD53: 330000 | AE53: 9900022 | AF53: 99/03/12 | AJ53: 28 | AK53: 99/03/12 | AL53: 99 | AM53: 99/03/12 | AN53: 330000 | AP53: 17000 | AQ53: 5610000000 | AR53: 168300000 | AS53: 336600000 | AX53: 6114900000 | BB53: کیلومتر11جاده اصفهان تهران شمال مورچه خورت گردنه چاه سرخ | BC53: اصفهان | BD53: 03145463922 | BE53: 8173697516 | BG53: استان اصفهان | BJ53: No | BK53: 29141 | BL53: 22473 | BM53: 5 | BN53: 5000002 | BO53: 98765 | BP53: 628 | BQ53: 50000002 | BR53: 29 | CB53: ازمحل وجوه نزدشرکت | CC53: 99/03/12 | CD53: بندر عباس | CE53: هند | CF53: 1399783086001
A54: 29 | B54: صادرات | C54: کشتي | D54: 99 | E54: 99/03/13 | F54: 994300027 | G54: 99/03/13 | H54: 2820000 | I54: بسته شده | J54: 43 | K54: فروش صادراتی غیر مستقیم - فله (انبارقیر بندرعباس) کد:43 | L54: 628 | M54: توسعه تجارت طلای سیاه | N54: 30763 | O54: 0000000076 | P54: قیر 60/70 - فله | Q54: 104 | R54: انبار قیر بندرعباس | S54: کیلوگرم | T54: -- | W54: 2820000 | X54: 994300027 | Y54: 99/03/13 | Z54: 1399783086001 | AA54: 99/02/24 | AB54: 7000000 | AC54: نقدی-نقد | AD54: 2820000 | AE54: 9900024 | AF54: 99/03/13 | AJ54: 30 | AK54: 99/03/13 | AL54: 99 | AM54: 99/03/13 | AN54: 2820000 | AP54: 17000 | AQ54: 47940000000 | AR54: 1438200000 | AS54: 2876400000 | AX54: 52254600000 | BB54: کیلومتر11جاده اصفهان تهران شمال مورچه خورت گردنه چاه سرخ | BC54: اصفهان | BD54: 03145463922 | BE54: 8173697516 | BG54: استان اصفهان | BJ54: No | BK54: 29151 | BL54: 22516 | BM54: 5 | BN54: 5000002 | BO54: 99046 | BP54: 628 | BQ54: 50000002 | BR54: 29 | CB54: ازمحل وجوه نزدشرکت | CC54: 99/03/13 | CD54: بندر عباس | CE54: هند | CF54: 1399783086001
A55: 29 | B55: صادرات | C55: کشتي | D55: 99 | E55: 99/03/11 | F55: 994300025 | G55: 99/03/11 | H55: 2550000 | I55: بسته شده | J55: 43 | K55: فروش صادراتی غیر مستقیم - فله (انبارقیر بندرعباس) کد:43 | L55: 11916 | M55: پالایش نفت جی ارس (آراز شیمی جلفا) | N55: 10118 | O55: 0000000076 | P55: قیر 60/70 - فله | Q55: 104 | R55: انبار قیر بندرعباس | S55: کیلوگرم | T55: -- | W55: 2550000 | X55: 994300025 | Y55: 99/03/11 | Z55: 1399783087001 | AA55: 99/02/24 | AB55: 7000000 | AC55: اعتباری | AD55: -17114 | AE55: 9900021 | AF55: 99/03/11 | AJ55: 27 | AK55: 99/03/11 | AL55: 99 | AM55: 99/03/11 | AN55: -17114 | AP55: 17000 | AQ55: 43350000000 | AR55: 1300500000 | AS55: 2601000000 | AX55: 47251500000 | BB55: خیابان ولیعصر نرسیده به نیایش خیابان بابک بهرامی پلاک 74 ط5 | BC55: تهران | BD55: 88651707 | BE55: 1968644181 | BG55: استان تهران | BJ55: No | BK55: 29122 | BL55: 22430 | BM55: 5 | BN55: 5000002 | BO55: 98462 | BP55: 11916 | BQ55: 50000002 | BR55: 29 | BS55: 14 | BT55: 9900014 | BU55: -17114 | BV55: 14 | BW55: 99/03/13 | CB55: اعتباری | CD55: بندر عباس | CE55: هند | CF55: 1399783087001
A56: 29 | B56: صادرات | C56: کشتي | D56: 99 | E56: 99/03/11 | F56: 994300025 | G56: 99/03/11 | H56: 2550000 | I56: بسته شده | J56: 43 | K56: فروش صادراتی غیر مستقیم - فله (انبارقیر بندرعباس) کد:43 | L56: 11916 | M56: پالایش نفت جی ارس (آراز شیمی جلفا) | N56: 10118 | O56: 0000000076 | P56: قیر 60/70 - فله | Q56: 104 | R56: انبار قیر بندرعباس | S56: کیلوگرم | T56: -- | W56: 2550000 | X56: 994300025 | Y56: 99/03/11 | Z56: 1399783087001 | AA56: 99/02/24 | AB56: 7000000 | AC56: اعتباری | AD56: 2550000 | AE56: 9900021 | AF56: 99/03/11 | AJ56: 27 | AK56: 99/03/11 | AL56: 99 | AM56: 99/03/11 | AN56: 2550000 | AP56: 17000 | AQ56: 43350000000 | AR56: 1300500000 | AS56: 2601000000 | AX56: 47251500000 | BB56: خیابان ولیعصر نرسیده به نیایش خیابان بابک بهرامی پلاک 74 ط5 | BC56: تهران | BD56: 88651707 | BE56: 1968644181 | BG56: استان تهران | BJ56: No | BK56: 29122 | BL56: 22430 | BM56: 5 | BN56: 5000002 | BO56: 98462 | BP56: 11916 | BQ56: 50000002 | BR56: 29 | CB56: اعتباری | CD56: بندر عباس | CE56: هند | CF56: 1399783087001
A57: 29 | B57: صادرات | C57: کشتي | D57: 99 | E57: 99/03/19 | F57: 994300034 | G57: 99/03/19 | H57: 4450000 | I57: بسته شده | J57: 43 | K57: فروش صادراتی غیر مستقیم - فله (انبارقیر بندرعباس) کد:43 | L57: 11916 | M57: پالایش نفت جی ارس (آراز شیمی جلفا) | N57: 10118 | O57: 0000000076 | P57: قیر 60/70 - فله | Q57: 104 | R57: انبار قیر بندرعباس | S57: کیلوگرم | T57: -- | W57: 4450000 | X57: 994300034 | Y57: 99/03/19 | Z57: 1399783087001 | AA57: 99/02/24 | AB57: 7000000 | AC57: اعتباری | AD57: 4450000 | AE57: 9900030 | AF57: 99/03/19 | AJ57: 37 | AK57: 99/03/19 | AL57: 99 | AM57: 99/03/19 | AN57: 4450000 | AP57: 17000 | AQ57: 75650000000 | AR57: 2269500000 | AS57: 4539000000 | AX57: 82458500000 | BB57: خیابان ولیعصر نرسیده به نیایش خیابان بابک بهرامی پلاک 74 ط5 | BC57: تهران | BD57: 88651707 | BE57: 1968644181 | BG57: استان تهران | BJ57: No | BK57: 29186 | BL57: 22790 | BM57: 5 | BN57: 5000002 | BO57: 100684 | BP57: 11916 | BQ57: 50000002 | BR57: 29 | CB57: اعتباری | CD57: بندر عباس | CE57: هند | CF57: 1399783087001
A58: 29 | B58: صادرات | C58: کشتي | D58: 99 | E58: 99/03/18 | F58: 994300032 | G58: 99/03/18 | H58: 650000 | I58: بسته شده | J58: 43 | K58: فروش صادراتی غیر مستقیم - فله (انبارقیر بندرعباس) کد:43 | L58: 11916 | M58: پالایش نفت جی ارس (آراز شیمی جلفا) | N58: 10118 | O58: 0000000076 | P58: قیر 60/70 - فله | Q58: 104 | R58: انبار قیر بندرعباس | S58: کیلوگرم | T58: -- | W58: 650000 | X58: 994300032 | Y58: 99/03/18 | Z58: 1399788731001 | AA58: 99/03/11 | AB58: 5000000 | AC58: اعتباری | AD58: 650000 | AE58: 9900028 | AF58: 99/03/19 | AJ58: 35 | AK58: 99/03/19 | AL58: 99 | AM58: 99/03/19 | AN58: 650000 | AP58: 22499 | AQ58: 14624350000 | AR58: 438730500 | AS58: 877461000 | AX58: 15940541500 | BB58: خیابان ولیعصر نرسیده به نیایش خیابان بابک بهرامی پلاک 74 ط5 | BC58: تهران | BD58: 88651707 | BE58: 1968644181 | BG58: استان تهران | BJ58: No | BK58: 29177 | BL58: 22787 | BM58: 5 | BN58: 5000002 | BO58: 100567 | BP58: 11916 | BQ58: 50000002 | BR58: 29 | CB58: اعتباری | CD58: بندر عباس | CE58: شارجه | CF58: 1399788731001
A59: 29 | B59: صادرات | C59: کشتي | D59: 99 | E59: 99/03/19 | F59: 994300033 | G59: 99/03/19 | H59: 550000 | I59: بسته شده | J59: 43 | K59: فروش صادراتی غیر مستقیم - فله (انبارقیر بندرعباس) کد:43 | L59: 11916 | M59: پالایش نفت جی ارس (آراز شیمی جلفا) | N59: 10118 | O59: 0000000076 | P59: قیر 60/70 - فله | Q59: 104 | R59: انبار قیر بندرعباس | S59: کیلوگرم | T59: -- | W59: 550000 | X59: 994300033 | Y59: 99/03/19 | Z59: 1399788731001 | AA59: 99/03/11 | AB59: 5000000 | AC59: اعتباری | AD59: 550000 | AE59: 9900029 | AF59: 99/03/19 | AJ59: 36 | AK59: 99/03/19 | AL59: 99 | AM59: 99/03/19 | AN59: 550000 | AP59: 22499 | AQ59: 12374450000 | AR59: 371233500 | AS59: 742467000 | AX59: 13488150500 | BB59: خیابان ولیعصر نرسیده به نیایش خیابان بابک بهرامی پلاک 74 ط5 | BC59: تهران | BD59: 88651707 | BE59: 1968644181 | BG59: استان تهران | BJ59: No | BK59: 29184 | BL59: 22789 | BM59: 5 | BN59: 5000002 | BO59: 100683 | BP59: 11916 | BQ59: 50000002 | BR59: 29 | CB59: اعتباری | CD59: بندر عباس | CE59: هند | CF59: 1399788731001
A60: 29 | B60: صادرات | C60: کشتي | D60: 99 | E60: 99/03/20 | F60: 994300035 | G60: 99/03/20 | H60: 500000 | I60: بسته شده | J60: 43 | K60: فروش صادراتی غیر مستقیم - فله (انبارقیر بندرعباس) کد:43 | L60: 11916 | M60: پالایش نفت جی ارس (آراز شیمی جلفا) | N60: 10118 | O60: 0000000076 | P60: قیر 60/70 - فله | Q60: 104 | R60: انبار قیر بندرعباس | S60: کیلوگرم | T60: -- | W60: 500000 | X60: 994300035 | Y60: 99/03/20 | Z60: 1399788731001 | AA60: 99/03/11 | AB60: 5000000 | AC60: اعتباری | AD60: 500000 | AE60: 9900031 | AF60: 99/03/21 | AJ60: 38 | AK60: 99/03/21 | AL60: 99 | AM60: 99/03/21 | AN60: 500000 | AP60: 22499 | AQ60: 11249500000 | AR60: 337485000 | AS60: 674970000 | AX60: 12261955000 | BB60: خیابان ولیعصر نرسیده به نیایش خیابان بابک بهرامی پلاک 74 ط5 | BC60: تهران | BD60: 88651707 | BE60: 1968644181 | BG60: استان تهران | BJ60: No | BK60: 29193 | BL60: 22903 | BM60: 5 | BN60: 5000002 | BO60: 101059 | BP60: 11916 | BQ60: 50000002 | BR60: 29 | CB60: اعتباری | CD60: بندر عباس | CE60: هند | CF60: 1399788731001
A61: 29 | B61: صادرات | C61: کشتي | D61: 99 | E61: 99/03/25 | F61: 994300036 | G61: 99/03/25 | H61: 3300000 | I61: بسته شده | J61: 43 | K61: فروش صادراتی غیر مستقیم - فله (انبارقیر بندرعباس) کد:43 | L61: 11916 | M61: پالایش نفت جی ارس (آراز شیمی جلفا) | N61: 10118 | O61: 0000000076 | P61: قیر 60/70 - فله | Q61: 104 | R61: انبار قیر بندرعباس | S61: کیلوگرم | T61: -- | W61: 3300000 | X61: 994300036 | Y61: 99/03/25 | Z61: 1399788731001 | AA61: 99/03/11 | AB61: 5000000 | AC61: اعتباری | AD61: 3300000 | AE61: 9900032 | AF61: 99/03/25 | AJ61: 40 | AK61: 99/03/25 | AL61: 99 | AM61: 99/03/25 | AN61: 3300000 | AP61: 22499 | AQ61: 74246700000 | AR61: 2227401000 | AS61: 4454802000 | AX61: 80928903000 | BB61: خیابان ولیعصر نرسیده به نیایش خیابان بابک بهرامی پلاک 74 ط5 | BC61: تهران | BD61: 88651707 | BE61: 1968644181 | BG61: استان تهران | BJ61: No | BK61: 29219 | BL61: 23143 | BM61: 5 | BN61: 5000002 | BO61: 102171 | BP61: 11916 | BQ61: 50000002 | BR61: 29 | CB61: اعتباری | CD61: بندر عباس | CE61: هند | CF61: 1399788731001
A62: 29 | B62: صادرات | C62: کشتي | D62: 99 | E62: 99/03/13 | F62: 994300028 | G62: 99/03/13 | H62: 1000000 | I62: بسته شده | J62: 43 | K62: فروش صادراتی غیر مستقیم - فله (انبارقیر بندرعباس) کد:43 | L62: 461 | M62: جی پورنر پارس | N62: 05674 | O62: 0000000076 | P62: قیر 60/70 - فله | Q62: 104 | R62: انبار قیر بندرعباس | S62: کیلوگرم | T62: -- | W62: 1000000 | X62: 994300028 | Y62: 99/03/13 | Z62: 1399788732001 | AA62: 99/03/11 | AB62: 2500000 | AC62: اعتباری | AD62: -21240 | AE62: 9900023 | AF62: 99/03/13 | AJ62: 29 | AK62: 99/03/13 | AL62: 99 | AM62: 99/03/13 | AN62: -21240 | AP62: 22499 | AQ62: 22499000000 | AR62: 674970000 | AS62: 1349940000 | AX62: 24523910000 | BB62: توانیر خیابان نظامی گنجوی نبش پیوند پلاک 3واحد 3 | BC62: تهران | BD62: 88203711 | BE62: 1968644181 | BG62: استان تهران | BJ62: No | BK62: 29152 | BL62: 22515 | BM62: 5 | BN62: 5000002 | BO62: 98954 | BP62: 461 | BQ62: 50000002 | BR62: 29 | BS62: 15 | BT62: 9900015 | BU62: -21240 | BV62: 15 | BW62: 99/03/14 | CB62: اعتباری | CD62: بندر عباس | CE62: عمان | CF62: 1399788732001
A63: 29 | B63: صادرات | C63: کشتي | D63: 99 | E63: 99/03/13 | F63: 994300028 | G63: 99/03/13 | H63: 1000000 | I63: بسته شده | J63: 43 | K63: فروش صادراتی غیر مستقیم - فله (انبارقیر بندرعباس) کد:43 | L63: 461 | M63: جی پورنر پارس | N63: 05674 | O63: 0000000076 | P63: قیر 60/70 - فله | Q63: 104 | R63: انبار قیر بندرعباس | S63: کیلوگرم | T63: -- | W63: 1000000 | X63: 994300028 | Y63: 99/03/13 | Z63: 1399788732001 | AA63: 99/03/11 | AB63: 2500000 | AC63: اعتباری | AD63: 1000000 | AE63: 9900023 | AF63: 99/03/13 | AJ63: 29 | AK63: 99/03/13 | AL63: 99 | AM63: 99/03/13 | AN63: 1000000 | AP63: 22499 | AQ63: 22499000000 | AR63: 674970000 | AS63: 1349940000 | AX63: 24523910000 | BB63: توانیر خیابان نظامی گنجوی نبش پیوند پلاک 3واحد 3 | BC63: تهران | BD63: 88203711 | BE63: 1968644181 | BG63: استان تهران | BJ63: No | BK63: 29152 | BL63: 22515 | BM63: 5 | BN63: 5000002 | BO63: 98954 | BP63: 461 | BQ63: 50000002 | BR63: 29 | CB63: اعتباری | CD63: بندر عباس | CE63: عمان | CF63: 1399788732001
A64: 29 | B64: صادرات | C64: کشتي | D64: 99 | E64: 99/03/18 | F64: 994300031 | G64: 99/03/18 | H64: 1000000 | I64: بسته شده | J64: 43 | K64: فروش صادراتی غیر مستقیم - فله (انبارقیر بندرعباس) کد:43 | L64: 461 | M64: جی پورنر پارس | N64: 05674 | O64: 0000000076 | P64: قیر 60/70 - فله | Q64: 104 | R64: انبار قیر بندرعباس | S64: کیلوگرم | T64: -- | W64: 1000000 | X64: 994300031 | Y64: 99/03/18 | Z64: 1399788732001 | AA64: 99/03/11 | AB64: 2500000 | AC64: اعتباری | AD64: -30195 | AE64: 9900027 | AF64: 99/03/18 | AJ64: 34 | AK64: 99/03/18 | AL64: 99 | AM64: 99/03/18 | AN64: -30195 | AP64: 22499 | AQ64: 22499000000 | AR64: 674970000 | AS64: 1349940000 | AX64: 24523910000 | BB64: توانیر خیابان نظامی گنجوی نبش پیوند پلاک 3واحد 3 | BC64: تهران | BD64: 88203711 | BE64: 1968644181 | BG64: استان تهران | BJ64: No | BK64: 29173 | BL64: 22726 | BM64: 5 | BN64: 5000002 | BO64: 100376 | BP64: 461 | BQ64: 50000002 | BR64: 29 | BS64: 18 | BT64: 9900018 | BU64: -30195 | BV64: 18 | BW64: 99/03/19 | CB64: اعتباری | CD64: بندر عباس | CE64: عمان | CF64: 1399788732001
A65: 29 | B65: صادرات | C65: کشتي | D65: 99 | E65: 99/03/18 | F65: 994300031 | G65: 99/03/18 | H65: 1000000 | I65: بسته شده | J65: 43 | K65: فروش صادراتی غیر مستقیم - فله (انبارقیر بندرعباس) کد:43 | L65: 461 | M65: جی پورنر پارس | N65: 05674 | O65: 0000000076 | P65: قیر 60/70 - فله | Q65: 104 | R65: انبار قیر بندرعباس | S65: کیلوگرم | T65: -- | W65: 1000000 | X65: 994300031 | Y65: 99/03/18 | Z65: 1399788732001 | AA65: 99/03/11 | AB65: 2500000 | AC65: اعتباری | AD65: 1000000 | AE65: 9900027 | AF65: 99/03/18 | AJ65: 34 | AK65: 99/03/18 | AL65: 99 | AM65: 99/03/18 | AN65: 1000000 | AP65: 22499 | AQ65: 22499000000 | AR65: 674970000 | AS65: 1349940000 | AX65: 24523910000 | BB65: توانیر خیابان نظامی گنجوی نبش پیوند پلاک 3واحد 3 | BC65: تهران | BD65: 88203711 | BE65: 1968644181 | BG65: استان تهران | BJ65: No | BK65: 29173 | BL65: 22726 | BM65: 5 | BN65: 5000002 | BO65: 100376 | BP65: 461 | BQ65: 50000002 | BR65: 29 | CB65: اعتباری | CD65: بندر عباس | CE65: عمان | CF65: 1399788732001
A66: 29 | B66: صادرات | C66: کشتي | D66: 99 | E66: 99/03/27 | F66: 994300038 | G66: 99/03/27 | H66: 500000 | I66: بسته شده | J66: 43 | K66: فروش صادراتی غیر مستقیم - فله (انبارقیر بندرعباس) کد:43 | L66: 461 | M66: جی پورنر پارس | N66: 05674 | O66: 0000000076 | P66: قیر 60/70 - فله | Q66: 104 | R66: انبار قیر بندرعباس | S66: کیلوگرم | T66: -- | W66: 500000 | X66: 994300038 | Y66: 99/03/27 | Z66: 1399788732001 | AA66: 99/03/11 | AB66: 2500000 | AC66: اعتباری | AD66: 500000 | AE66: 9900034 | AF66: 99/03/27 | AJ66: 42 | AK66: 99/03/27 | AL66: 99 | AM66: 99/03/27 | AN66: 500000 | AP66: 22499 | AQ66: 11249500000 | AR66: 337485000 | AS66: 674970000 | AX66: 12261955000 | BB66: توانیر خیابان نظامی گنجوی نبش پیوند پلاک 3واحد 3 | BC66: تهران | BD66: 88203711 | BE66: 1968644181 | BG66: استان تهران | BJ66: No | BK66: 29231 | BL66: 23270 | BM66: 5 | BN66: 5000002 | BO66: 103041 | BP66: 461 | BQ66: 50000002 | BR66: 29 | CB66: اعتباری | CD66: بندر عباس | CE66: عمان | CF66: 1399788732001
A67: 29 | B67: صادرات | C67: کشتي | D67: 99 | E67: 99/03/25 | F67: 994300037 | G67: 99/03/25 | H67: 1000000 | I67: بسته شده | J67: 43 | K67: فروش صادراتی غیر مستقیم - فله (انبارقیر بندرعباس) کد:43 | L67: 11916 | M67: پالایش نفت جی ارس (آراز شیمی جلفا) | N67: 10118 | O67: 0000000076 | P67: قیر 60/70 - فله | Q67: 104 | R67: انبار قیر بندرعباس | S67: کیلوگرم | T67: -- | W67: 1000000 | X67: 994300037 | Y67: 99/03/25 | Z67: 1399793220001 | AA67: 99/03/21 | AB67: 2500000 | AC67: اعتباری | AD67: -9199 | AE67: 9900033 | AF67: 99/03/25 | AJ67: 41 | AK67: 99/03/25 | AL67: 99 | AM67: 99/03/25 | AN67: -9199 | AP67: 31733 | AQ67: 31733000000 | AR67: 951990000 | AS67: 1903980000 | AX67: 34588970000 | BB67: خیابان ولیعصر نرسیده به نیایش خیابان بابک بهرامی پلاک 74 ط5 | BC67: تهران | BD67: 88651707 | BE67: 1968644181 | BG67: استان تهران | BJ67: No | BK67: 29220 | BL67: 23144 | BM67: 5 | BN67: 5000002 | BO67: 102176 | BP67: 11916 | BQ67: 50000002 | BR67: 29 | BS67: 20 | BT67: 9900020 | BU67: -9199 | BV67: 20 | BW67: 99/03/27 | CB67: اعتباری | CD67: بندر عباس | CE67: هند | CF67: 1399793220001
A68: 29 | B68: صادرات | C68: کشتي | D68: 99 | E68: 99/03/25 | F68: 994300037 | G68: 99/03/25 | H68: 1000000 | I68: بسته شده | J68: 43 | K68: فروش صادراتی غیر مستقیم - فله (انبارقیر بندرعباس) کد:43 | L68: 11916 | M68: پالایش نفت جی ارس (آراز شیمی جلفا) | N68: 10118 | O68: 0000000076 | P68: قیر 60/70 - فله | Q68: 104 | R68: انبار قیر بندرعباس | S68: کیلوگرم | T68: -- | W68: 1000000 | X68: 994300037 | Y68: 99/03/25 | Z68: 1399793220001 | AA68: 99/03/21 | AB68: 2500000 | AC68: اعتباری | AD68: 1000000 | AE68: 9900033 | AF68: 99/03/25 | AJ68: 41 | AK68: 99/03/25 | AL68: 99 | AM68: 99/03/25 | AN68: 1000000 | AP68: 31733 | AQ68: 31733000000 | AR68: 951990000 | AS68: 1903980000 | AX68: 34588970000 | BB68: خیابان ولیعصر نرسیده به نیایش خیابان بابک بهرامی پلاک 74 ط5 | BC68: تهران | BD68: 88651707 | BE68: 1968644181 | BG68: استان تهران | BJ68: No | BK68: 29220 | BL68: 23144 | BM68: 5 | BN68: 5000002 | BO68: 102176 | BP68: 11916 | BQ68: 50000002 | BR68: 29 | CB68: اعتباری | CD68: بندر عباس | CE68: هند | CF68: 1399793220001
A69: 29 | B69: صادرات | C69: کشتي | D69: 99 | E69: 99/04/15 | F69: 994300045 | G69: 99/04/15 | H69: 1000000 | I69: بسته شده | J69: 43 | K69: فروش صادراتی غیر مستقیم - فله (انبارقیر بندرعباس) کد:43 | L69: 11916 | M69: پالایش نفت جی ارس (آراز شیمی جلفا) | N69: 10118 | O69: 0000000076 | P69: قیر 60/70 - فله | Q69: 104 | R69: انبار قیر بندرعباس | S69: کیلوگرم | T69: -- | W69: 1000000 | X69: 994300045 | Y69: 99/04/15 | Z69: 1399793220001 | AA69: 99/03/21 | AB69: 2500000 | AC69: اعتباری | AD69: 1000000 | AE69: 9900041 | AF69: 99/04/15 | AJ69: 49 | AK69: 99/04/15 | AL69: 99 | AM69: 99/04/15 | AN69: 1000000 | AP69: 31733 | AQ69: 31733000000 | AR69: 951990000 | AS69: 1903980000 | AX69: 34588970000 | BB69: خیابان ولیعصر نرسیده به نیایش خیابان بابک بهرامی پلاک 74 ط5 | BC69: تهران | BD69: 88651707 | BE69: 1968644181 | BG69: استان تهران | BJ69: No | BK69: 29356 | BL69: 24007 | BM69: 5 | BN69: 5000002 | BO69: 108417 | BP69: 11916 | BQ69: 50000002 | BR69: 29 | CB69: اعتباری | CD69: بندر عباس | CE69: عمان | CF69: 1399793220001
A70: 29 | B70: صادرات | C70: کشتي | D70: 99 | E70: 99/03/27 | F70: 994300039 | G70: 99/03/27 | H70: 4500000 | I70: بسته شده | J70: 43 | K70: فروش صادراتی غیر مستقیم - فله (انبارقیر بندرعباس) کد:43 | L70: 461 | M70: جی پورنر پارس | N70: 05674 | O70: 0000000076 | P70: قیر 60/70 - فله | Q70: 104 | R70: انبار قیر بندرعباس | S70: کیلوگرم | T70: -- | W70: 4500000 | X70: 994300039 | Y70: 99/03/27 | Z70: 1399793221001 | AA70: 99/03/21 | AB70: 5000000 | AC70: اعتباری | AD70: 4500000 | AE70: 9900035 | AF70: 99/03/27 | AJ70: 43 | AK70: 99/03/27 | AL70: 99 | AM70: 99/03/27 | AN70: 4500000 | AP70: 31733 | AQ70: 142798500000 | AR70: 4283955000 | AS70: 8567910000 | AX70: 155650365000 | BB70: توانیر خیابان نظامی گنجوی نبش پیوند پلاک 3واحد 3 | BC70: تهران | BD70: 88203711 | BE70: 1968644181 | BG70: استان تهران | BJ70: No | BK70: 29232 | BL70: 23271 | BM70: 5 | BN70: 5000002 | BO70: 103044 | BP70: 461 | BQ70: 50000002 | BR70: 29 | CB70: اعتباری | CD70: بندر عباس | CE70: عمان | CF70: 1399793221001
A71: 29 | B71: صادرات | C71: کشتي | D71: 99 | E71: 99/04/04 | F71: 994300040 | G71: 99/04/04 | H71: 500000 | I71: بسته شده | J71: 43 | K71: فروش صادراتی غیر مستقیم - فله (انبارقیر بندرعباس) کد:43 | L71: 461 | M71: جی پورنر پارس | N71: 05674 | O71: 0000000076 | P71: قیر 60/70 - فله | Q71: 104 | R71: انبار قیر بندرعباس | S71: کیلوگرم | T71: -- | W71: 500000 | X71: 994300040 | Y71: 99/04/04 | Z71: 1399793221001 | AA71: 99/03/21 | AB71: 5000000 | AC71: اعتباری | AD71: 500000 | AE71: 9900036 | AF71: 99/04/04 | AJ71: 44 | AK71: 99/04/04 | AL71: 99 | AM71: 99/04/04 | AN71: 500000 | AP71: 31733 | AQ71: 15866500000 | AR71: 475995000 | AS71: 951990000 | AX71: 17294485000 | BB71: توانیر خیابان نظامی گنجوی نبش پیوند پلاک 3واحد 3 | BC71: تهران | BD71: 88203711 | BE71: 1968644181 | BG71: استان تهران | BJ71: No | BK71: 29268 | BL71: 23605 | BM71: 5 | BN71: 5000002 | BO71: 105093 | BP71: 461 | BQ71: 50000002 | BR71: 29 | CB71: اعتباری | CD71: بندر عباس | CE71: عمان | CF71: 1399793221001
A72: 29 | B72: صادرات | C72: کشتي | D72: 99 | E72: 99/04/16 | F72: 994300047 | G72: 99/04/16 | H72: 2500000 | I72: بسته شده | J72: 43 | K72: فروش صادراتی غیر مستقیم - فله (انبارقیر بندرعباس) کد:43 | L72: 461 | M72: جی پورنر پارس | N72: 05674 | O72: 0000000076 | P72: قیر 60/70 - فله | Q72: 104 | R72: انبار قیر بندرعباس | S72: کیلوگرم | T72: -- | W72: 2500000 | X72: 994300047 | Y72: 99/04/16 | Z72: 1399799289001 | AA72: 99/04/08 | AB72: 2500000 | AC72: اعتباری | AD72: 2500000 | AE72: 9900043 | AF72: 99/04/16 | AJ72: 51 | AK72: 99/04/16 | AL72: 99 | AM72: 99/04/16 | AN72: 2500000 | AO72: تاييد شده | AP72: 31733 | AQ72: 79332500000 | AR72: 2379975000 | AS72: 4759950000 | AX72: 86472425000 | BB72: توانیر خیابان نظامی گنجوی نبش پیوند پلاک 3واحد 3 | BC72: تهران | BD72: 88203711 | BE72: 1968644181 | BG72: استان تهران | BJ72: No | BK72: 29358 | BL72: 24079 | BM72: 5 | BN72: 5000002 | BO72: 108951 | BP72: 461 | BQ72: 50000002 | BR72: 29 | CB72: اعتباری | CD72: بندر عباس | CE72: عمان | CF72: 1399799289001
