Workbook

Sheet Sheet1
A1: ردیف | B1: کشتی | C1: خریدار | D1: وزن کشتی (کیلوگرم) | E1: شماره فاکتور | F1: تاریخ فاکتور | G1: مبلغ فاکتور | H1: قرارداد بورسی | I1: قرارداد بورسی فاکتورهای برگشت از فروش | J1: تاریخ قرارداد بورسی | K1: نرخ قرارداد بورسی | L1: شماره حواله | M1: تاریخ حواله | N1: نرخ حواله | O1: نرخ VB بندرعباس | P1: هزینه جاری
A2: 1 | B2: GLOBAL EVEREST | C2: جی پورنر پارس | D2: 8481887 | E2: 47 | F2: 04.04.99 | G2: =VLOOKUP(E:E,تحویلها!AJ:AX,15,0) -> 19023225000 | H2: =VLOOKUP(E:E,تحویلها!AJ:CF,49,0) -> 1399783081001 | J2: =VLOOKUP(H:H,تحویلها!Z:AA,2,0) -> 99/02/24 | K2: 17159 | L2: 994300043 | M2: 04.04.99 | N2: =VLOOKUP(L:L,'حواله ها'!F:N,9,0) -> 32500
E3: 46 | F3: 04.04.99 | G3: =VLOOKUP(E:E,تحویلها!AJ:AX,15,0) -> 211310125000 | H3: =VLOOKUP(E:E,تحویلها!AJ:CF,49,0) -> 1398765964001 | J3: =VLOOKUP(H:H,تحویلها!Z:AA,2,0) -> 98/12/21 | K3: 29840 | L3: 994300042 | M3: 04.04.99 | N3: =VLOOKUP(L:L,'حواله ها'!F:N,9,0) -> 32500
E4: 45 | F4: 04.04.99 | G4: =VLOOKUP(E:E,تحویلها!AJ:AX,15,0) -> 99119150000 | H4: =VLOOKUP(E:E,تحویلها!AJ:CF,49,0) -> 1399769067001 | J4: =VLOOKUP(H:H,تحویلها!Z:AA,2,0) -> 99/01/19 | K4: 19750 | L4: 994300041 | M4: 04.04.99 | N4: =VLOOKUP(L:L,'حواله ها'!F:N,9,0) -> 32500
E5: 44 | F5: 04.04.99 | G5: =VLOOKUP(E:E,تحویلها!AJ:AX,15,0) -> 17294485000 | H5: =VLOOKUP(E:E,تحویلها!AJ:CF,49,0) -> 1399793221001 | J5: =VLOOKUP(H:H,تحویلها!Z:AA,2,0) -> 99/03/21 | K5: 31733 | L5: 994300040 | M5: 04.04.99 | N5: =VLOOKUP(L:L,'حواله ها'!F:N,9,0) -> 31733
A6: 2 | B6: INFINITY | C6: جی پورنر پارس | D6: 1784391 | E6: 48 | F6: 09.04.99 | G6: =VLOOKUP(E:E,تحویلها!AJ:AX,15,0) -> 10297230000 | H6: =VLOOKUP(E:E,تحویلها!AJ:CF,49,0) -> 1398765963001 | J6: =VLOOKUP(H:H,تحویلها!Z:AA,2,0) -> 98/12/21 | K6: 28000 | L6: 994300044 | M6: 09.04.99 | N6: =VLOOKUP(L:L,'حواله ها'!F:N,9,0) -> 33500
G7: =VLOOKUP(E:E,تحویلها!AJ:AX,15,0) -> #N/A | H7: =VLOOKUP(E:E,تحویلها!AJ:CF,49,0) -> #N/A | J7: =VLOOKUP(H:H,تحویلها!Z:AA,2,0) -> #N/A | N7: =VLOOKUP(L:L,'حواله ها'!F:N,9,0) -> #N/A
A8: 3 | B8: ASPHALT PRINCESS | C8: جی پورنر پارس | D8: 4825119 | E8: 42 | F8: 27.03.99 | G8: =VLOOKUP(E:E,تحویلها!AJ:AX,15,0) -> 12261955000 | H8: =VLOOKUP(E:E,تحویلها!AJ:CF,49,0) -> 1399788732001 | J8: =VLOOKUP(H:H,تحویلها!Z:AA,2,0) -> 99/03/11 | K8: 22499 | L8: 994300038 | M8: 27.03.99 | N8: =VLOOKUP(L:L,'حواله ها'!F:N,9,0) -> 22499
E9: 43 | F9: 27.03.99 | G9: =VLOOKUP(E:E,تحویلها!AJ:AX,15,0) -> 155650365000 | H9: =VLOOKUP(E:E,تحویلها!AJ:CF,49,0) -> 1399793221001 | J9: =VLOOKUP(H:H,تحویلها!Z:AA,2,0) -> 99/03/21 | K9: 31733 | L9: 994300039 | M9: 27.03.99 | N9: =VLOOKUP(L:L,'حواله ها'!F:N,9,0) -> 31733
A10: 4 | B10: BITUMEN PRINCESS | C10: پالایش نفت جی ارس | D10: 4290801 | E10: 40 | F10: 25.03.99 | G10: =VLOOKUP(E:E,تحویلها!AJ:AX,15,0) -> 80928903000 | H10: =VLOOKUP(E:E,تحویلها!AJ:CF,49,0) -> 1399788731001 | J10: =VLOOKUP(H:H,تحویلها!Z:AA,2,0) -> 99/03/11 | K10: 22499 | L10: 994300036 | M10: 25.03.99 | N10: =VLOOKUP(L:L,'حواله ها'!F:N,9,0) -> 22499
E11: 41 | F11: 25.03.99 | G11: =VLOOKUP(E:E,تحویلها!AJ:AX,15,0) -> 34588970000 | H11: =VLOOKUP(E:E,تحویلها!AJ:CF,49,0) -> 1399793220001 | J11: =VLOOKUP(H:H,تحویلها!Z:AA,2,0) -> 99/03/21 | K11: 31733 | L11: 994300037 | M11: 25.03.99 | N11: =VLOOKUP(L:L,'حواله ها'!F:N,9,0) -> 31733
E12: 20 | F12: 27.03.99 | G12: 318183935 | I12: 1399793220001 | J12: 99/03/21 | K12: 31733
A13: 5 | B13: MIB 1 | C13: جی پورنر پارس | D13: 969805 | E13: 34 | F13: 18.03.99 | G13: =VLOOKUP(E:E,تحویلها!AJ:AX,15,0) -> 24523910000 | H13: =VLOOKUP(E:E,تحویلها!AJ:CF,49,0) -> 1399788732001 | J13: =VLOOKUP(H:H,تحویلها!Z:AA,2,0) -> 99/03/11 | K13: 22499 | L13: 994300031 | M13: 19.03.99 | N13: =VLOOKUP(L:L,'حواله ها'!F:N,9,0) -> 22499
E14: 18 | F14: 19.03.99 | G14: 740499462 | I14: 1399788732001 | J14: 99/03/11 | K14: 22499
A15: 6 | B15: GOLDEN LILY | C15: پالایش نفت جی ارس (اسپادانا قیر پاسارگاد) | D15: 5554195 | E15: 37 | F15: 19.03.99 | G15: =VLOOKUP(E:E,تحویلها!AJ:AX,15,0) -> 82458500000 | H15: =VLOOKUP(E:E,تحویلها!AJ:CF,49,0) -> 1399783087001 | J15: =VLOOKUP(H:H,تحویلها!Z:AA,2,0) -> 99/02/24 | K15: 17000 | L15: 994300034 | M15: 19.03.99 | N15: =VLOOKUP(L:L,'حواله ها'!F:N,9,0) -> 17000
E16: 36 | F16: 19.03.99 | G16: =VLOOKUP(E:E,تحویلها!AJ:AX,15,0) -> 13488150500 | H16: =VLOOKUP(E:E,تحویلها!AJ:CF,49,0) -> 1399788731001 | J16: =VLOOKUP(H:H,تحویلها!Z:AA,2,0) -> 99/03/11 | K16: 22499 | L16: 994300033 | M16: 19.03.99 | N16: =VLOOKUP(L:L,'حواله ها'!F:N,9,0) -> 22499
A17: 7 | B17: COURAGE 7 | C17: اسپادانا قیر پاسارگاد | D17: 3048739 | E17: 33 | F17: 18.03.99 | G17: =VLOOKUP(E:E,تحویلها!AJ:AX,15,0) -> 35762900000 | H17: =VLOOKUP(E:E,تحویلها!AJ:CF,49,0) -> 1399783085001 | J17: =VLOOKUP(H:H,تحویلها!Z:AA,2,0) -> 99/02/24 | K17: 17000 | L17: 994300030 | M17: 18.03.99 | N17: =VLOOKUP(L:L,'حواله ها'!F:N,9,0) -> 17000
E18: 19 | F18: 23.03.99 | G18: 579266330 | I18: 1399783085001 | J18: 99/02/24 | K18: 17000
C19: پالایش نفت جی ارس | E19: 35 | F19: 19.03.99 | G19: =VLOOKUP(E:E,تحویلها!AJ:AX,15,0) -> 15940541500 | H19: =VLOOKUP(E:E,تحویلها!AJ:CF,49,0) -> 1399788731001 | J19: =VLOOKUP(H:H,تحویلها!Z:AA,2,0) -> 99/03/11 | K19: 22499 | L19: 994300032 | M19: 18.03.99 | N19: =VLOOKUP(L:L,'حواله ها'!F:N,9,0) -> 22499
E20: 38 | F20: 21.03.99 | G20: =VLOOKUP(E:E,تحویلها!AJ:AX,15,0) -> 12261955000 | H20: =VLOOKUP(E:E,تحویلها!AJ:CF,49,0) -> 1399788731001 | J20: =VLOOKUP(H:H,تحویلها!Z:AA,2,0) -> 99/03/11 | K20: 22499 | L20: 994300035 | M20: 20.03.99 | N20: =VLOOKUP(L:L,'حواله ها'!F:N,9,0) -> 22499
A21: 8 | B21: VARDHMAN | C21: توسعه تجارت طلای سیاه | D21: 4157991 | E21: 14 | F21: 23.02.99 | G21: =VLOOKUP(E:E,تحویلها!AJ:AX,15,0) -> 11118000000 | H21: =VLOOKUP(E:E,تحویلها!AJ:CF,49,0) -> 1398731239001 | J21: =VLOOKUP(H:H,تحویلها!Z:AA,2,0) -> 98/09/13 | K21: 22000 | L21: 994300013 | M21: 23.02.99 | N21: =VLOOKUP(L:L,'حواله ها'!F:N,9,0) -> 17000
E22: 15 | F22: 23.02.99 | G22: =VLOOKUP(E:E,تحویلها!AJ:AX,15,0) -> 60222500000 | H22: =VLOOKUP(E:E,تحویلها!AJ:CF,49,0) -> 1398743512001 | J22: =VLOOKUP(H:H,تحویلها!Z:AA,2,0) -> 98/10/18 | K22: 26009 | L22: 99430014 | M22: 23.02.99
E23: 28 | F23: 12.03.99 | G23: =VLOOKUP(E:E,تحویلها!AJ:AX,15,0) -> 6114900000 | H23: =VLOOKUP(E:E,تحویلها!AJ:CF,49,0) -> 1399783086001 | J23: =VLOOKUP(H:H,تحویلها!Z:AA,2,0) -> 99/02/24 | K23: 17000 | L23: 994300026 | M23: 12.03.99 | N23: =VLOOKUP(L:L,'حواله ها'!F:N,9,0) -> 17000
E24: 17 | F24: 18.03.99 | G24: 407826770 | I24: 1399783086001 | J24: 99/02/24 | K24: 17000
A25: 9 | B25: ACE BITUMEN 4 | C25: آترا کران انرژی | D25: 1435844 | E25: 18 | F25: 27.02.99 | G25: =VLOOKUP(E:E,تحویلها!AJ:AX,15,0) -> 25288000000 | H25: =VLOOKUP(E:E,تحویلها!AJ:CF,49,0) -> 1398697892001 | J25: =VLOOKUP(H:H,تحویلها!Z:AA,2,0) -> 98/05/23 | K25: 27800 | L25: 994300021 | M25: 27.02.99 | N25: =VLOOKUP(L:L,'حواله ها'!F:N,9,0) -> 16000
E26: 11 | F26: 28.02.99 | G26: 246880640 | I26: 1398697892001 | J26: 98/05/23 | K26: 27800
A27: 10 | B27: SHIP | C27: اسپادانا قیر پاسارگاد | K27: 17000 | L27: 994300022 | N27: =VLOOKUP(L:L,'حواله ها'!F:N,9,0) -> 17000
E28: 12 | F28: 01.03.99 | G28: 203830 | I28: 1399783085001 | J28: 99/02/24 | K28: 17000
A29: 11 | B29: R OCEAN | C29: توسعه تجارت طلای سیاه | D29: 3091711 | E29: 30 | F29: 13.03.99 | G29: =VLOOKUP(E:E,تحویلها!AJ:AX,15,0) -> 52254600000 | H29: =VLOOKUP(E:E,تحویلها!AJ:CF,49,0) -> 1399783086001 | J29: =VLOOKUP(H:H,تحویلها!Z:AA,2,0) -> 99/02/24 | K29: 17000 | L29: 994300027 | M29: 13.03.99 | N29: =VLOOKUP(L:L,'حواله ها'!F:N,9,0) -> 17000
E30: 31 | F30: 13.03.99 | G30: =VLOOKUP(E:E,تحویلها!AJ:AX,15,0) -> 6867000000 | H30: =VLOOKUP(E:E,تحویلها!AJ:CF,49,0) -> 1398743512001 | J30: =VLOOKUP(H:H,تحویلها!Z:AA,2,0) -> 98/10/18 | K30: 26009 | L30: 994300029 | M30: 13.03.99 | N30: =VLOOKUP(L:L,'حواله ها'!F:N,9,0) -> 22500
E31: 16 | F31: 16.03.99 | G31: 203287725 | I31: 1398743512001 | J31: 98/10/18 | K31: 26009 | L31: 994300029 | M31: 13.03.99 | N31: =VLOOKUP(L:L,'حواله ها'!F:N,9,0) -> 22500
A32: 12 | B32: SIMRAN | C32: جی پورنر پارس | D32: 999905 | E32: 25 | F32: 11.03.99 | G32: =VLOOKUP(E:E,تحویلها!AJ:AX,15,0) -> 21582000000 | H32: =VLOOKUP(E:E,تحویلها!AJ:CF,49,0) -> 1398723571001 | J32: =VLOOKUP(H:H,تحویلها!Z:AA,2,0) -> 98/08/22 | K32: 23500 | L32: 994300023 | M32: 10.03.99 | N32: =VLOOKUP(L:L,'حواله ها'!F:N,9,0) -> 22500
E33: 26 | F33: 11.03.99 | G33: =VLOOKUP(E:E,تحویلها!AJ:AX,15,0) -> 2943000000 | H33: =VLOOKUP(E:E,تحویلها!AJ:CF,49,0) -> 1399775612001 | J33: =VLOOKUP(H:H,تحویلها!Z:AA,2,0) -> 99/02/06 | K33: 15559 | L33: 994300024 | M33: 10.03.99 | N33: =VLOOKUP(L:L,'حواله ها'!F:N,9,0) -> 22500
E34: 13 | F34: 12.03.99 | G34: 2329875 | I34: 1399775612001 | J34: 99/02/06 | K34: 15559
A35: 13 | B35: BITU GLORY | C35: پالایش نفت جی ارس | D35: 2532886 | E35: 27 | F35: 11.03.99 | G35: =VLOOKUP(E:E,تحویلها!AJ:AX,15,0) -> 47251500000 | H35: =VLOOKUP(E:E,تحویلها!AJ:CF,49,0) -> 1399783087001 | J35: =VLOOKUP(H:H,تحویلها!Z:AA,2,0) -> 99/02/24 | K35: 17000 | L35: 994300025 | M35: 11.03.99 | N35: =VLOOKUP(L:L,'حواله ها'!F:N,9,0) -> 17000
E36: 14 | F36: 13.03.99 | G36: 317122420 | I36: 1399783087001 | J36: 99/02/24 | K36: 17000 | L36: 994300025 | M36: 11.03.99 | N36: =VLOOKUP(L:L,'حواله ها'!F:N,9,0) -> 17000
A37: 14 | B37: OCEAN SAPPHIRE 1 | C37: جی پورنر پارس | D37: 978760 | E37: 29 | F37: 13.03.99 | G37: =VLOOKUP(E:E,تحویلها!AJ:AX,15,0) -> 24523910000 | H37: =VLOOKUP(E:E,تحویلها!AJ:CF,49,0) -> 1399788732001 | J37: =VLOOKUP(H:H,تحویلها!Z:AA,2,0) -> 99/03/11 | K37: 22499 | L37: 994300028 | M37: 13.03.99 | N37: =VLOOKUP(L:L,'حواله ها'!F:N,9,0) -> 22499
E38: 15 | F38: 14.03.99 | G38: 520887849 | I38: 1399788732001 | J38: 99/03/11 | K38: 22499 | L38: 994300028 | M38: 13.03.99 | N38: =VLOOKUP(L:L,'حواله ها'!F:N,9,0) -> 22499
A39: 15 | B39: SOL LETO | C39: آترا کران انرژی | D39: 2681729 | E39: 9 | F39: 18.02.99 | G39: =VLOOKUP(E:E,تحویلها!AJ:AX,15,0) -> 46769353760 | H39: =VLOOKUP(E:E,تحویلها!AJ:CF,49,0) -> 1398697876001 | J39: =VLOOKUP(H:H,تحویلها!Z:AA,2,0) -> 98/05/23 | K39: 31200 | L39: 994300008 | M39: 17.02.99 | N39: =VLOOKUP(L:L,'حواله ها'!F:N,9,0) -> 16000
A40: 16 | B40: MIB 1 | C40: جی پورنر پارس | D40: 966280 | E40: 10 | F40: 18.02.99 | G40: =VLOOKUP(E:E,تحویلها!AJ:AX,15,0) -> 17440000000 | H40: =VLOOKUP(E:E,تحویلها!AJ:CF,49,0) -> 1398765964001 | J40: =VLOOKUP(H:H,تحویلها!Z:AA,2,0) -> 98/12/21 | K40: 29840 | L40: 994300009 | M40: 18.02.99 | N40: =VLOOKUP(L:L,'حواله ها'!F:N,9,0) -> 16000
...

Sheet حواله ها
A1: استان | B1: شماره درخواست | C1: تاریخ درخواست | D1: کد مرکز فروش | E1: مرکز فروش | F1: شماره حواله | G1: تاریخ حواله | H1: نام مشتری | I1: کد مشتری | J1: شماره قرارداد بورسی | K1: تاریخ قرارداد بورسی | L1: مقدار قرارداد بورسی | M1: نام کالا | N1: نرخ قرارداد | O1: نرخ مظروف | P1: مقدار حواله | Q1: مقدار تحویل شده 97 | R1: مقدار تحویل شده 98 | S1: مقدار کل تحویل | T1: مانده حواله | U1: مقدار برگشت از فروش | V1: وضعیت حواله | W1: تاریخ اعتبار حواله | X1: گمرک خروج | Y1: مقصد | Z1: شماره رسید وجه | AA1: تاریخ رسید وجه | AB1: نام کشتی | AC1: شماره اعلامیه فروش | AD1: نام انبار | AE1: کد انبار | AF1: تحویل گیرنده | AG1: آدرس تخلیه | AH1: آدرس مشتری | AI1: فاکس مشتری | AJ1: تلفن مشتری | AK1: کدپستی مشتری | AL1: کد اقتصادی | AM1: کد ملی | AN1: سال بودجه | AO1: ماه نرخ | AP1: تاریخ قرارداد وزارت راه | AQ1: شماره قرارداد وزارت راه | AR1: شناسه حواله وزارت راه | AS1: شماره طرح وزارت راه | AT1: نوع مبنا | AU1: شناسه حواله دلفی | AV1: OrderID | AW1: CustomerID | AX1: SalesOfficeID | AY1: ProductID | AZ1: StoreID
B2: 1377-اق پ-98 | C2: 98/12/01 | D2: 43 | E2: فروش صادراتی غیر مستقیم - فله (انبارقیر بندرعباس) کد:43 | F2: 984300181 | G2: 98/12/03 | H2: اسپادانا قیر پاسارگاد | I2: 641 | J2: 1398749825001 | K2: 98/11/08 | L2: 3900000 | M2: قیر 60/70 - فله | N2: 28200 | P2: 3000000 | Q2: 0 | R2: 3000000 | S2: 2929701 | T2: 70299 | U2: -70299 | V2: بسته شده | W2: 98/12/08 | X2: بندر عباس | Y2: هند | Z2: 113476 | AA2: 98/11/16 | AB2: ALJABER | AC2: 984300181 | AD2: انبار قیر بندرعباس | AE2: 104 | AF2: -- | AG2: تهران- بخش مرکزی- محله ونک- خیابان آرارات جنوبی- خیابان ونک- پلاک 57-طبقه هفتم واحد29 | AH2: تهران- بخش مرکزی- محله ونک- خیابان آرارات جنوبی- خیابان ونک- پلاک 57-طبقه هفتم واحد29 | AI2: 88618842 | AJ2: 88618853 | AK2: 1994833416 | AL2: 411613664766 | AM2: 14007643340 | AT2: اعلاميه فروش | AU2: 5 | AV2: 27994 | AW2: 641 | AX2: 29 | AY2: 5000002 | AZ2: 50000002
B3: 9814689 | C3: 98/12/03 | D3: 43 | E3: فروش صادراتی غیر مستقیم - فله (انبارقیر بندرعباس) کد:43 | F3: 984300182 | G3: 98/12/03 | H3: توسعه تجارت طلای سیاه | I3: 628 | J3: 1398753049001 | K3: 98/11/16 | L3: 3000000 | M3: قیر 60/70 - فله | N3: 28200 | P3: 3000000 | Q3: 0 | R3: 3000000 | S3: 3000000 | T3: 0 | U3: 0 | V3: بسته شده | W3: 98/12/16 | X3: بندر عباس | Y3: امارات | Z3: 30490014 | AA3: 98/11/26 | AB3: ROYAL PRINCES | AC3: 984300182 | AD3: انبار قیر بندرعباس | AE3: 104 | AF3: -- | AG3: کیلومتر11جاده اصفهان تهران شمال مورچه خورت گردنه چاه سرخ | AH3: کیلومتر11جاده اصفهان تهران شمال مورچه خورت گردنه چاه سرخ | AI3: 03145463922 | AJ3: 03145463922 | AK3: 8173697516 | AL3: 411445863711 | AM3: 10260681156 | AT3: اعلاميه فروش | AU3: 5 | AV3: 27999 | AW3: 628 | AX3: 29 | AY3: 5000002 | AZ3: 50000002
B4: 9814689 | C4: 98/12/03 | D4: 43 | E4: فروش صادراتی غیر مستقیم - فله (انبارقیر بندرعباس) کد:43 | F4: 984300183 | G4: 98/12/03 | H4: توسعه تجارت طلای سیاه | I4: 628 | J4: 1398731239001 | K4: 98/09/13 | L4: 10000000 | M4: قیر 60/70 - فله | N4: 29200 | P4: 300000 | Q4: 0 | R4: 300000 | S4: 279689 | T4: 20311 | U4: -20311 | V4: بسته شده | W4: 98/12/09 | X4: بندر عباس | Y4: امارات | Z4: 154691 | AA4: 98/12/03 | AB4: ROYAL PRINCES | AC4: 984300183 | AD4: انبار قیر بندرعباس | AE4: 104 | AF4: -- | AG4: کیلومتر11جاده اصفهان تهران شمال مورچه خورت گردنه چاه سرخ | AH4: کیلومتر11جاده اصفهان تهران شمال مورچه خورت گردنه چاه سرخ | AI4: 03145463922 | AJ4: 03145463922 | AK4: 8173697516 | AL4: 411445863711 | AM4: 10260681156 | AT4: اعلاميه فروش | AU4: 5 | AV4: 28001 | AW4: 628 | AX4: 29 | AY4: 5000002 | AZ4: 50000002
B5: 1594/آ/ص/98 | C5: 98/12/06 | D5: 43 | E5: فروش صادراتی غیر مستقیم - فله (انبارقیر بندرعباس) کد:43 | F5: 984300184 | G5: 98/12/06 | H5: پالایش نفت جی ارس (آراز شیمی جلفا) | I5: 11916 | J5: 1398753797001 | K5: 98/11/21 | L5: 7500000 | M5: قیر 60/70 - فله | N5: 30000 | P5: 4500000 | Q5: 0 | R5: 4500000 | S5: 3963109 | T5: 536891 | U5: -536891 | V5: بسته شده | W5: 98/12/21 | X5: بندر عباس | Y5: عمان | Z5: اعتباری | AA5: 98/12/06 | AB5: ASPHALT PRINCESS | AC5: 984300184 | AD5: انبار قیر بندرعباس | AE5: 104 | AF5: -- | AG5: خیابان ولیعصر نرسیده به نیایش خیابان بابک بهرامی پلاک 74 ط5 | AH5: خیابان ولیعصر نرسیده به نیایش خیابان بابک بهرامی پلاک 74 ط5 | AI5: 88651707 | AJ5: 88651707 | AK5: 1968644181 | AL5: 411167397618 | AM5: 10860192520 | AT5: اعلاميه فروش | AU5: 5 | AV5: 28037 | AW5: 11916 | AX5: 29 | AY5: 5000002 | AZ5: 50000002
B6: 1594/آ/ص/98 | C6: 98/12/06 | D6: 43 | E6: فروش صادراتی غیر مستقیم - فله (انبارقیر بندرعباس) کد:43 | F6: 984300185 | G6: 98/12/06 | H6: پالایش نفت جی ارس (آراز شیمی جلفا) | I6: 11916 | J6: 1398753801001 | K6: 98/11/21 | L6: 2000000 | M6: قیر 60/70 - فله | N6: 29200 | P6: 2000000 | Q6: 0 | R6: 2000000 | S6: 2000000 | T6: 0 | U6: 0 | V6: بسته شده | W6: 98/12/21 | X6: بندر عباس | Y6: عمان | Z6: اعتباری | AA6: 98/12/06 | AB6: ASPHALT PRINCESS | AC6: 984300185 | AD6: انبار قیر بندرعباس | AE6: 104 | AF6: -- | AG6: خیابان ولیعصر نرسیده به نیایش خیابان بابک بهرامی پلاک 74 ط5 | AH6: خیابان ولیعصر نرسیده به نیایش خیابان بابک بهرامی پلاک 74 ط5 | AI6: 88651707 | AJ6: 88651707 | AK6: 1968644181 | AL6: 411167397618 | AM6: 10860192520 | AT6: اعلاميه فروش | AU6: 5 | AV6: 28038 | AW6: 11916 | AX6: 29 | AY6: 5000002 | AZ6: 50000002
B7: 1594/آ/ص/98 | C7: 98/12/06 | D7: 43 | E7: فروش صادراتی غیر مستقیم - فله (انبارقیر بندرعباس) کد:43 | F7: 984300186 | G7: 98/12/06 | H7: پالایش نفت جی ارس (آراز شیمی جلفا) | I7: 11916 | J7: 1398750912001 | K7: 98/11/08 | L7: 3100000 | M7: قیر 60/70 - فله | N7: 30000 | P7: 2030000 | Q7: 0 | R7: 2030000 | S7: 2030000 | T7: 0 | U7: 0 | V7: بسته شده | W7: 98/12/08 | X7: بندر عباس | Y7: عمان | Z7: اعتباری | AA7: 98/12/06 | AB7: ASPHALT PRINCESS | AC7: 984300186 | AD7: انبار قیر بندرعباس | AE7: 104 | AF7: -- | AG7: خیابان ولیعصر نرسیده به نیایش خیابان بابک بهرامی پلاک 74 ط5 | AH7: خیابان ولیعصر نرسیده به نیایش خیابان بابک بهرامی پلاک 74 ط5 | AI7: 88651707 | AJ7: 88651707 | AK7: 1968644181 | AL7: 411167397618 | AM7: 10860192520 | AT7: اعلاميه فروش | AU7: 5 | AV7: 28039 | AW7: 11916 | AX7: 29 | AY7: 5000002 | AZ7: 50000002
B8: 1601/آ/ص/98 | C8: 98/12/06 | D8: 43 | E8: فروش صادراتی غیر مستقیم - فله (انبارقیر بندرعباس) کد:43 | F8: 984300187 | G8: 98/12/06 | H8: پالایش نفت جی ارس (آراز شیمی جلفا) | I8: 11916 | J8: 1398717779001 | K8: 98/08/01 | L8: 3000000 | M8: قیر 60/70 - فله | N8: 30000 | P8: 470000 | Q8: 0 | R8: 470000 | S8: 470000 | T8: 0 | U8: 0 | V8: بسته شده | W8: 98/12/15 | X8: بندر عباس | Y8: عمان | Z8: اعتباری | AA8: 98/12/06 | AB8: ASPHALT PRINCESS | AC8: 984300187 | AD8: انبار قیر بندرعباس | AE8: 104 | AF8: -- | AG8: خیابان ولیعصر نرسیده به نیایش خیابان بابک بهرامی پلاک 74 ط5 | AH8: خیابان ولیعصر نرسیده به نیایش خیابان بابک بهرامی پلاک 74 ط5 | AI8: 88651707 | AJ8: 88651707 | AK8: 1968644181 | AL8: 411167397618 | AM8: 10860192520 | AT8: اعلاميه فروش | AU8: 5 | AV8: 28041 | AW8: 11916 | AX8: 29 | AY8: 5000002 | AZ8: 50000002
B9: 9814776 | C9: 98/12/10 | D9: 43 | E9: فروش صادراتی غیر مستقیم - فله (انبارقیر بندرعباس) کد:43 | F9: 984300188 | G9: 98/12/11 | H9: توسعه تجارت طلای سیاه | I9: 628 | J9: 1398753800001 | K9: 98/11/21 | L9: 3000000 | M9: قیر 60/70 - فله | N9: 29200 | P9: 3000000 | Q9: 0 | R9: 3000000 | S9: 3000000 | T9: 0 | U9: 0 | V9: بسته شده | W9: 98/12/21 | X9: بندر عباس | Y9: امارات | Z9: 38000014 | AA9: 98/12/04 | AB9: global queen | AC9: 984300188 | AD9: انبار قیر بندرعباس | AE9: 104 | AF9: -- | AG9: کیلومتر11جاده اصفهان تهران شمال مورچه خورت گردنه چاه سرخ | AH9: کیلومتر11جاده اصفهان تهران شمال مورچه خورت گردنه چاه سرخ | AI9: 03145463922 | AJ9: 03145463922 | AK9: 8173697516 | AL9: 411445863711 | AM9: 10260681156 | AT9: اعلاميه فروش | AU9: 5 | AV9: 28067 | AW9: 628 | AX9: 29 | AY9: 5000002 | AZ9: 50000002
B10: 9814776 | C10: 98/12/10 | D10: 43 | E10: فروش صادراتی غیر مستقیم - فله (انبارقیر بندرعباس) کد:43 | F10: 984300189 | G10: 98/12/11 | H10: توسعه تجارت طلای سیاه | I10: 628 | J10: 1398731239001 | K10: 98/09/13 | L10: 10000000 | M10: قیر 60/70 - فله | N10: 30345 | P10: 300000 | Q10: 0 | R10: 300000 | S10: 120973 | T10: 179027 | U10: -179027 | V10: بسته شده | W10: 98/12/17 | X10: بندر عباس | Y10: امارات | Z10: 346246 | AA10: 98/12/11 | AB10: global queen | AC10: 984300189 | AD10: انبار قیر بندرعباس | AE10: 104 | AF10: -- | AG10: کیلومتر11جاده اصفهان تهران شمال مورچه خورت گردنه چاه سرخ | AH10: کیلومتر11جاده اصفهان تهران شمال مورچه خورت گردنه چاه سرخ | AI10: 03145463922 | AJ10: 03145463922 | AK10: 8173697516 | AL10: 411445863711 | AM10: 10260681156 | AT10: اعلاميه فروش | AU10: 5 | AV10: 28069 | AW10: 628 | AX10: 29 | AY10: 5000002 | AZ10: 50000002
B11: 1657 / آ / ص /98 | C11: 98/12/14 | D11: 43 | E11: فروش صادراتی غیر مستقیم - فله (انبارقیر بندرعباس) کد:43 | F11: 984300190 | G11: 98/12/14 | H11: پالایش نفت جی ارس (آراز شیمی جلفا) | I11: 11916 | J11: 1398760973001 | K11: 98/12/07 | L11: 10000000 | M11: قیر 60/70 - فله | N11: 30339 | P11: 5000000 | Q11: 0 | R11: 5000000 | S11: 4868612 | T11: 131388 | U11: -131388 | V11: بسته شده | W11: 99/01/08 | X11: بندر عباس | Y11: عمان | Z11: اعتباری | AA11: 98/12/14 | AC11: 984300190 | AD11: انبار قیر بندرعباس | AE11: 104 | AF11: -- | AG11: خیابان ولیعصر نرسیده به نیایش خیابان بابک بهرامی پلاک 74 ط5 | AH11: خیابان ولیعصر نرسیده به نیایش خیابان بابک بهرامی پلاک 74 ط5 | AI11: 88651707 | AJ11: 88651707 | AK11: 1968644181 | AL11: 411167397618 | AM11: 10860192520 | AT11: اعلاميه فروش | AU11: 5 | AV11: 28100 | AW11: 11916 | AX11: 29 | AY11: 5000002 | AZ11: 50000002
B12: 98-1490 | C12: 98/12/17 | D12: 43 | E12: فروش صادراتی غیر مستقیم - فله (انبارقیر بندرعباس) کد:43 | F12: 984300191 | G12: 98/12/19 | H12: اسپادانا قیر پاسارگاد | I12: 641 | J12: 1398760963001 | K12: 98/12/07 | L12: 820000 | M12: قیر 60/70 - فله | N12: 30340 | P12: 270000 | Q12: 0 | R12: 258500 | S12: 258500 | T12: 11500 | U12: 0 | V12: بسته شده | W12: 99/01/08 | X12: بندر عباس | Y12: آفریقا | Z12: 9630014 | AA12: 98/12/13 | AC12: 984300191 | AD12: انبار قیر بندرعباس | AE12: 104 | AF12: پیشگامان اقیانوس آرام | AG12: تهران- بخش مرکزی- محله ونک- خیابان آرارات جنوبی- خیابان ونک- پلاک 57-طبقه هفتم واحد29 | AH12: تهران- بخش مرکزی- محله ونک- خیابان آرارات جنوبی- خیابان ونک- پلاک 57-طبقه هفتم واحد29 | AI12: 88618842 | AJ12: 88618853 | AK12: 1994833416 | AL12: 411613664766 | AM12: 14007643340 | AT12: اعلاميه فروش | AU12: 5 | AV12: 28118 | AW12: 641 | AX12: 29 | AY12: 5000002 | AZ12: 50000002
B13: 98 / د / 10 / 2372 | C13: 98/12/20 | D13: 43 | E13: فروش صادراتی غیر مستقیم - فله (انبارقیر بندرعباس) کد:43 | F13: 984300192 | G13: 98/12/20 | H13: جی پورنر پارس | I13: 461 | J13: 1398760972001 | K13: 98/12/07 | L13: 7000000 | M13: قیر 60/70 - فله | N13: 30329 | P13: 4000000 | Q13: 0 | R13: 4000000 | S13: 4000000 | T13: 0 | U13: 0 | V13: بسته شده | W13: 99/01/08 | X13: بندر عباس | Y13: عمان | Z13: اعتباری | AA13: 98/12/20 | AB13: global peak | AC13: 984300192 | AD13: انبار قیر بندرعباس | AE13: 104 | AF13: -- | AG13: توانیر خیابان نظامی گنجوی نبش پیوند پلاک 3واحد 3 | AH13: توانیر خیابان نظامی گنجوی نبش پیوند پلاک 3واحد 3 | AI13: 88628915 | AJ13: 88203711 | AK13: 1968644181 | AL13: 411334344958 | AM13: 10103697274 | AT13: اعلاميه فروش | AU13: 5 | AV13: 28124 | AW13: 461 | AX13: 29 | AY13: 5000002 | AZ13: 50000002
B14: 9814864 | C14: 98/12/21 | D14: 43 | E14: فروش صادراتی غیر مستقیم - فله (انبارقیر بندرعباس) کد:43 | F14: 984300193 | G14: 98/12/21 | H14: توسعه تجارت طلای سیاه | I14: 628 | J14: 1398760974001 | K14: 98/12/07 | L14: 3000000 | M14: قیر 60/70 - فله | N14: 29840 | P14: 700000 | Q14: 0 | R14: 700000 | S14: 700000 | T14: 0 | U14: 0 | V14: بسته شده | W14: 99/01/08 | X14: بندر عباس | Y14: امارات | Z14: 9740014 | AA14: 98/12/15 | AB14: global queen | AC14: 984300193 | AD14: انبار قیر بندرعباس | AE14: 104 | AF14: -- | AG14: کیلومتر11جاده اصفهان تهران شمال مورچه خورت گردنه چاه سرخ | AH14: کیلومتر11جاده اصفهان تهران شمال مورچه خورت گردنه چاه سرخ | AI14: 03145463922 | AJ14: 03145463922 | AK14: 8173697516 | AL14: 411445863711 | AM14: 10260681156 | AT14: اعلاميه فروش | AU14: 5 | AV14: 28134 | AW14: 628 | AX14: 29 | AY14: 5000002 | AZ14: 50000002
B15: 2386/10/د/98 | C15: 98/12/22 | D15: 43 | E15: فروش صادراتی غیر مستقیم - فله (انبارقیر بندرعباس) کد:43 | F15: 984300194 | G15: 98/12/22 | H15: جی پورنر پارس | I15: 461 | J15: 1398760966001 | K15: 98/12/07 | L15: 3000000 | M15: قیر 60/70 - فله | N15: 29840 | P15: 1000000 | Q15: 0 | R15: 1000000 | S15: 1000000 | T15: 0 | U15: 0 | V15: بسته شده | W15: 99/01/08 | X15: بندر عباس | Y15: عمان | Z15: اعتباری | AA15: 98/12/22 | AB15: GLOBAL PEAC | AC15: 984300194 | AD15: انبار قیر بندرعباس | AE15: 104 | AF15: -- | AG15: توانیر خیابان نظامی گنجوی نبش پیوند پلاک 3واحد 3 | AH15: توانیر خیابان نظامی گنجوی نبش پیوند پلاک 3واحد 3 | AI15: 88628915 | AJ15: 88203711 | AK15: 1968644181 | AL15: 411334344958 | AM15: 10103697274 | AT15: اعلاميه فروش | AU15: 5 | AV15: 28135 | AW15: 461 | AX15: 29 | AY15: 5000002 | AZ15: 50000002
B16: 2386/10د/98 | C16: 98/12/22 | D16: 43 | E16: فروش صادراتی غیر مستقیم - فله (انبارقیر بندرعباس) کد:43 | F16: 984300195 | G16: 98/12/22 | H16: جی پورنر پارس | I16: 461 | J16: 1398760972001 | K16: 98/12/07 | L16: 7000000 | M16: قیر 60/70 - فله | N16: 29840 | P16: 3000000 | Q16: 0 | R16: 3000000 | S16: 3000000 | T16: 0 | U16: 0 | V16: بسته شده | W16: 99/01/08 | X16: بندر عباس | Y16: عمان | Z16: اعتباری | AA16: 98/12/22 | AB16: GLOBAL PEAC | AC16: 984300195 | AD16: انبار قیر بندرعباس | AE16: 104 | AF16: -- | AG16: توانیر خیابان نظامی گنجوی نبش پیوند پلاک 3واحد 3 | AH16: توانیر خیابان نظامی گنجوی نبش پیوند پلاک 3واحد 3 | AI16: 88628915 | AJ16: 88203711 | AK16: 1968644181 | AL16: 411334344958 | AM16: 10103697274 | AT16: اعلاميه فروش | AU16: 5 | AV16: 28136 | AW16: 461 | AX16: 29 | AY16: 5000002 | AZ16: 50000002
B17: 2388 / 10 / د / 98 | C17: 98/12/22 | D17: 43 | E17: فروش صادراتی غیر مستقیم - فله (انبارقیر بندرعباس) کد:43 | F17: 984300196 | G17: 98/12/24 | H17: جی پورنر پارس | I17: 461 | J17: 1398765964001 | K17: 98/12/21 | L17: 11000000 | M17: قیر 60/70 - فله | N17: 29840 | P17: 2500000 | Q17: 0 | R17: 1208048 | S17: 1208048 | T17: 1291952 | U17: 0 | V17: بسته شده | W17: 99/01/22 | X17: بندر عباس | Y17: عمان | Z17: اعتباری | AA17: 98/12/24 | AC17: 984300196 | AD17: انبار قیر بندرعباس | AE17: 104 | AF17: -- | AG17: توانیر خیابان نظامی گنجوی نبش پیوند پلاک 3واحد 3 | AH17: توانیر خیابان نظامی گنجوی نبش پیوند پلاک 3واحد 3 | AI17: 88628915 | AJ17: 88203711 | AK17: 1968644181 | AL17: 411334344958 | AM17: 10103697274 | AT17: اعلاميه فروش | AU17: 5 | AV17: 28141 | AW17: 461 | AX17: 29 | AY17: 5000002 | AZ17: 50000002
B18: 9814892 | C18: 98/12/26 | D18: 43 | E18: فروش صادراتی غیر مستقیم - فله (انبارقیر بندرعباس) کد:43 | F18: 984300197 | G18: 98/12/26 | H18: توسعه تجارت طلای سیاه | I18: 628 | J18: 1398760974001 | K18: 98/12/07 | L18: 3000000 | M18: قیر 60/70 - فله | N18: 29840 | P18: 2300000 | Q18: 0 | R18: 2300000 | S18: 2300000 | T18: 0 | U18: 0 | V18: بسته شده | W18: 99/01/08 | X18: بندر عباس | Y18: امارات | Z18: از محل وجوه نزد شرکت | AA18: 98/12/26 | AB18: REEM 7 | AC18: 984300197 | AD18: انبار قیر بندرعباس | AE18: 104 | AF18: -- | AG18: کیلومتر11جاده اصفهان تهران شمال مورچه خورت گردنه چاه سرخ | AH18: کیلومتر11جاده اصفهان تهران شمال مورچه خورت گردنه چاه سرخ | AI18: 03145463922 | AJ18: 03145463922 | AK18: 8173697516 | AL18: 411445863711 | AM18: 10260681156 | AT18: اعلاميه فروش | AU18: 5 | AV18: 28155 | AW18: 628 | AX18: 29 | AY18: 5000002 | AZ18: 50000002
B19: 9814892 | C19: 98/12/26 | D19: 43 | E19: فروش صادراتی غیر مستقیم - فله (انبارقیر بندرعباس) کد:43 | F19: 984300198 | G19: 98/12/26 | H19: توسعه تجارت طلای سیاه | I19: 628 | J19: 1398731239001 | K19: 98/09/13 | L19: 10000000 | M19: قیر 60/70 - فله | N19: 29840 | P19: 305000 | Q19: 0 | R19: 305000 | S19: 295985 | T19: 9015 | U19: -9015 | V19: بسته شده | W19: 98/12/29 | X19: بندر عباس | Y19: امارات | Z19: 326032 | AA19: 98/12/26 | AB19: REEM 7 | AC19: 984300198 | AD19: انبار قیر بندرعباس | AE19: 104 | AF19: -- | AG19: کیلومتر11جاده اصفهان تهران شمال مورچه خورت گردنه چاه سرخ | AH19: کیلومتر11جاده اصفهان تهران شمال مورچه خورت گردنه چاه سرخ | AI19: 03145463922 | AJ19: 03145463922 | AK19: 8173697516 | AL19: 411445863711 | AM19: 10260681156 | AT19: اعلاميه فروش | AU19: 5 | AV19: 28156 | AW19: 628 | AX19: 29 | AY19: 5000002 | AZ19: 50000002
B20: 1742/آ/ص/99 | C20: 99/01/19 | D20: 43 | E20: فروش صادراتی غیر مستقیم - فله (انبارقیر بندرعباس) کد:43 | F20: 994300001 | G20: 99/01/19 | H20: پالایش نفت جی ارس (آراز شیمی جلفا) | I20: 11916 | J20: 1398760973001 | K20: 98/12/07 | L20: 10000000 | M20: قیر 60/70 - فله | N20: 19750 | P20: 4200000 | Q20: 0 | R20: 4200000 | S20: 3545516 | T20: 654484 | U20: -654484 | V20: بسته شده | W20: 99/01/28 | X20: بندر عباس | Y20: عمان | Z20: اعتباری | AA20: 99/01/19 | AB20: sea princess | AC20: 994300001 | AD20: انبار قیر بندرعباس | AE20: 104 | AF20: -- | AG20: خیابان ولیعصر نرسیده به نیایش خیابان بابک بهرامی پلاک 74 ط5 | AH20: خیابان ولیعصر نرسیده به نیایش خیابان بابک بهرامی پلاک 74 ط5 | AI20: 88651707 | AJ20: 88651707 | AK20: 1968644181 | AL20: 411167397618 | AM20: 10860192520 | AT20: اعلاميه فروش | AU20: 5 | AV20: 28210 | AW20: 11916 | AX20: 29 | AY20: 5000002 | AZ20: 50000002
B21: 1758/آ/ص/99 | C21: 99/01/24 | D21: 43 | E21: فروش صادراتی غیر مستقیم - فله (انبارقیر بندرعباس) کد:43 | F21: 994300003 | G21: 99/01/24 | H21: پالایش نفت جی ارس (آراز شیمی جلفا) | I21: 11916 | J21: 1398723570001 | K21: 98/08/22 | L21: 2000000 | M21: قیر 40/50 - فله | N21: 19750 | P21: 1000000 | Q21: 0 | R21: 1000000 | S21: 990102 | T21: 9898 | U21: -9898 | V21: بسته شده | W21: 99/01/31 | X21: بندر عباس | Y21: عمان | Z21: اعتباری | AA21: 99/01/24 | AB21: GLOBAL QUEEN 1 | AC21: 994300003 | AD21: انبار قیر بندرعباس | AE21: 104 | AF21: -- | AG21: خیابان ولیعصر نرسیده به نیایش خیابان بابک بهرامی پلاک 74 ط5 | AH21: خیابان ولیعصر نرسیده به نیایش خیابان بابک بهرامی پلاک 74 ط5 | AI21: 88651707 | AJ21: 88651707 | AK21: 1968644181 | AL21: 411167397618 | AM21: 10860192520 | AT21: اعلاميه فروش | AU21: 5 | AV21: 28267 | AW21: 11916 | AX21: 29 | AY21: 5000003 | AZ21: 50000002
B22: 1759/آ/ص/99 | C22: 99/01/24 | D22: 43 | E22: فروش صادراتی غیر مستقیم - فله (انبارقیر بندرعباس) کد:43 | F22: 994300002 | G22: 99/01/24 | H22: پالایش نفت جی ارس (آراز شیمی جلفا) | I22: 11916 | J22: 1399769068001 | K22: 99/01/19 | L22: 6000000 | M22: قیر 60/70 - فله | N22: 19750 | P22: 1000000 | Q22: 0 | R22: 1000000 | S22: 991385 | T22: 8615 | U22: -8615 | V22: بسته شده | W22: 99/02/02 | X22: بندر عباس | Y22: عمان | Z22: اعتباری | AA22: 99/01/24 | AB22: GLOBAL QUEEN 1 | AC22: 994300002 | AD22: انبار قیر بندرعباس | AE22: 104 | AF22: -- | AG22: خیابان ولیعصر نرسیده به نیایش خیابان بابک بهرامی پلاک 74 ط5 | AH22: خیابان ولیعصر نرسیده به نیایش خیابان بابک بهرامی پلاک 74 ط5 | AI22: 88651707 | AJ22: 88651707 | AK22: 1968644181 | AL22: 411167397618 | AM22: 10860192520 | AT22: اعلاميه فروش | AU22: 5 | AV22: 28266 | AW22: 11916 | AX22: 29 | AY22: 5000002 | AZ22: 50000002
B23: 2831-الف-99 | C23: 99/01/25 | D23: 43 | E23: فروش صادراتی غیر مستقیم - فله (انبارقیر بندرعباس) کد:43 | F23: 994300004 | G23: 99/01/25 | H23: آترا کران انرژی | I23: 638 | J23: 1398697876001 | K23: 98/05/23 | L23: 10000000 | M23: قیر 60/70 - فله | N23: 19750 | P23: 9000000 | Q23: 0 | R23: 4105462 | S23: 4105462 | T23: 4894538 | U23: 0 | V23: بسته شده | W23: 99/01/31 | X23: بندر عباس | Y23: هند-امارات | Z23: LC-63560/13995262/05 | AA23: 99/01/24 | AC23: 994300004 | AD23: انبار قیر بندرعباس | AE23: 104 | AF23: -- | AG23: پاسداران-کوچه نارنجستان چهارم-مجتمع اداری آرتمیس-طبقه 10واحد 5 50 | AH23: پاسداران-کوچه نارنجستان چهارم-مجتمع اداری آرتمیس-طبقه 10واحد 5 50 | AI23: 26253571 | AJ23: 26253561 | AK23: 1957917516 | AL23: 411448441147 | AM23: 14005230518 | AT23: اعلاميه فروش | AU23: 5 | AV23: 28299 | AW23: 638 | AX23: 29 | AY23: 5000002 | AZ23: 50000002
B24: 9900150 | C24: 99/02/03 | D24: 43 | E24: فروش صادراتی غیر مستقیم - فله (انبارقیر بندرعباس) کد:43 | F24: 994300005 | G24: 99/02/03 | H24: توسعه تجارت طلای سیاه | I24: 628 | J24: 1399769066001 | K24: 99/01/19 | L24: 3000000 | M24: قیر 60/70 - فله | N24: 16480 | P24: 950000 | Q24: 0 | R24: 950000 | S24: 926618 | T24: 23382 | U24: -23382 | V24: بسته شده | W24: 99/02/18 | X24: بندر عباس | Y24: امارات | Z24: LC-0244999416299280 | AA24: 99/01/28 | AB24: MIB 1 | AC24: 994300005 | AD24: انبار قیر بندرعباس | AE24: 104 | AF24: -- | AG24: کیلومتر11جاده اصفهان تهران شمال مورچه خورت گردنه چاه سرخ | AH24: کیلومتر11جاده اصفهان تهران شمال مورچه خورت گردنه چاه سرخ | AI24: 03145463922 | AJ24: 03145463922 | AK24: 8173697516 | AL24: 411445863711 | AM24: 10260681156 | AT24: اعلاميه فروش | AU24: 5 | AV24: 28443 | AW24: 628 | AX24: 29 | AY24: 5000002 | AZ24: 50000002
B25: 9900151 | C25: 99/02/03 | D25: 43 | E25: فروش صادراتی غیر مستقیم - فله (انبارقیر بندرعباس) کد:43 | F25: 994300006 | G25: 99/02/03 | H25: توسعه تجارت طلای سیاه | I25: 628 | J25: 1399769066001 | K25: 99/01/19 | L25: 3000000 | M25: قیر 60/70 - فله | N25: 16480 | P25: 2050000 | Q25: 0 | R25: 2050000 | S25: 2050000 | T25: 0 | U25: 0 | V25: بسته شده | W25: 99/02/18 | X25: بندر عباس | Y25: امارات | Z25: LC-0244999416299280 | AA25: 99/01/28 | AB25: Ocean Toopaz | AC25: 994300006 | AD25: انبار قیر بندرعباس | AE25: 104 | AF25: -- | AG25: کیلومتر11جاده اصفهان تهران شمال مورچه خورت گردنه چاه سرخ | AH25: کیلومتر11جاده اصفهان تهران شمال مورچه خورت گردنه چاه سرخ | AI25: 03145463922 | AJ25: 03145463922 | AK25: 8173697516 | AL25: 411445863711 | AM25: 10260681156 | AT25: اعلاميه فروش | AU25: 5 | AV25: 28445 | AW25: 628 | AX25: 29 | AY25: 5000002 | AZ25: 50000002
B26: 9900152 | C26: 99/02/03 | D26: 43 | E26: فروش صادراتی غیر مستقیم - فله (انبارقیر بندرعباس) کد:43 | F26: 994300007 | G26: 99/02/04 | H26: توسعه تجارت طلای سیاه | I26: 628 | J26: 1398731239001 | K26: 98/09/13 | L26: 10000000 | M26: قیر 60/70 - فله | N26: 16000 | P26: 240000 | Q26: 0 | R26: 240000 | S26: 211844 | T26: 28156 | U26: -28156 | V26: بسته شده | W26: 99/02/15 | X26: بندر عباس | Y26: امارات | Z26: 330289 | AA26: 99/02/04 | AB26: ocean toopaz | AC26: 994300007 | AD26: انبار قیر بندرعباس | AE26: 104 | AF26: -- | AG26: کیلومتر11جاده اصفهان تهران شمال مورچه خورت گردنه چاه سرخ | AH26: کیلومتر11جاده اصفهان تهران شمال مورچه خورت گردنه چاه سرخ | AI26: 03145463922 | AJ26: 03145463922 | AK26: 8173697516 | AL26: 411445863711 | AM26: 10260681156 | AT26: اعلاميه فروش | AU26: 5 | AV26: 28452 | AW26: 628 | AX26: 29 | AY26: 5000002 | AZ26: 50000002
B27: 152 - الف - 99 | C27: 99/02/17 | D27: 43 | E27: فروش صادراتی غیر مستقیم - فله (انبارقیر بندرعباس) کد:43 | F27: 994300008 | G27: 99/02/17 | H27: آترا کران انرژی | I27: 638 | J27: 1398697876001 | K27: 98/05/23 | L27: 10000000 | M27: قیر 60/70 - فله | N27: 16000 | P27: 2700000 | Q27: 0 | R27: 2681729 | S27: 2681729 | T27: 18271 | U27: 0 | V27: بسته شده | W27: 99/02/19 | X27: بندر عباس | Y27: هند-امارات | Z27: lc-63560/13995262/05 | AA27: 99/01/24 | AB27: sol leto | AC27: 994300008 | AD27: انبار قیر بندرعباس | AE27: 104 | AF27: -- | AG27: پاسداران-کوچه نارنجستان چهارم-مجتمع اداری آرتمیس-طبقه 10واحد 5 50 | AH27: پاسداران-کوچه نارنجستان چهارم-مجتمع اداری آرتمیس-طبقه 10واحد 5 50 | AI27: 26253571 | AJ27: 26253561 | AK27: 1957917516 | AL27: 411448441147 | AM27: 14005230518 | AT27: اعلاميه فروش | AU27: 5 | AV27: 28636 | AW27: 638 | AX27: 29 | AY27: 5000002 | AZ27: 50000002
B28: 156 - الف - 99 | C28: 99/02/18 | D28: 43 | E28: فروش صادراتی غیر مستقیم - فله (انبارقیر بندرعباس) کد:43 | F28: 994300010 | G28: 99/02/18 | H28: آترا کران انرژی | I28: 638 | J28: 1398697876001 | K28: 98/05/23 | L28: 10000000 | M28: قیر 60/70 - فله | N28: 16000 | P28: 2150000 | Q28: 0 | R28: 2146150 | S28: 2146150 | T28: 3850 | U28: 0 | V28: بسته شده | W28: 99/02/31 | X28: بندر عباس | Y28: هند-امارات | Z28: lc-63560/13995262/05 | AA28: 99/01/24 | AC28: 994300010 | AD28: مخازن قیر همیار جی یزد(بندرعباس) | AE28: 204 | AF28: -- | AG28: پاسداران-کوچه نارنجستان چهارم-مجتمع اداری آرتمیس-طبقه 10واحد 5 50 | AH28: پاسداران-کوچه نارنجستان چهارم-مجتمع اداری آرتمیس-طبقه 10واحد 5 50 | AI28: 26253571 | AJ28: 26253561 | AK28: 1957917516 | AL28: 411448441147 | AM28: 14005230518 | AT28: اعلاميه فروش | AU28: 5 | AV28: 28664 | AW28: 638 | AX28: 29 | AY28: 5000002 | AZ28: 50020016
B29: 257/10/د/99 | C29: 99/02/18 | D29: 43 | E29: فروش صادراتی غیر مستقیم - فله (انبارقیر بندرعباس) کد:43 | F29: 994300009 | G29: 99/02/18 | H29: جی پورنر پارس | I29: 461 | J29: 1398765964001 | K29: 98/12/21 | L29: 11000000 | M29: قیر 60/70 - فله | N29: 16000 | P29: 1000000 | Q29: 0 | R29: 1000000 | S29: 966280 | T29: 33720 | U29: -33720 | V29: بسته شده | W29: 99/02/26 | X29: بندر عباس | Y29: عمان | Z29: اعتباری | AC29: 994300009 | AD29: انبار قیر بندرعباس | AE29: 104 | AF29: -- | AG29: توانیر خیابان نظامی گنجوی نبش پیوند پلاک 3واحد 3 | AH29: توانیر خیابان نظامی گنجوی نبش پیوند پلاک 3واحد 3 | AI29: 88628915 | AJ29: 88203711 | AK29: 1968644181 | AL29: 411334344958 | AM29: 10103697274 | AT29: اعلاميه فروش | AU29: 5 | AV29: 28647 | AW29: 461 | AX29: 29 | AY29: 5000002 | AZ29: 50000002
B30: 277/10/د/99 | C30: 99/02/20 | D30: 43 | E30: فروش صادراتی غیر مستقیم - فله (انبارقیر بندرعباس) کد:43 | F30: 994300011 | G30: 99/02/20 | H30: جی پورنر پارس | I30: 461 | J30: 1398765964001 | K30: 98/12/21 | L30: 11000000 | M30: قیر 60/70 - فله | N30: 16000 | P30: 1750000 | Q30: 0 | R30: 1750000 | S30: 1745688 | T30: 4312 | U30: -4312 | V30: بسته شده | W30: 99/02/29 | X30: بندر عباس | Y30: عمان | Z30: اعتباری | AB30: Sea Princess | AC30: 994300011 | AD30: انبار قیر بندرعباس | AE30: 104 | AF30: -- | AG30: توانیر خیابان نظامی گنجوی نبش پیوند پلاک 3واحد 3 | AH30: توانیر خیابان نظامی گنجوی نبش پیوند پلاک 3واحد 3 | AI30: 88628915 | AJ30: 88203711 | AK30: 1968644181 | AL30: 411334344958 | AM30: 10103697274 | AT30: اعلاميه فروش | AU30: 5 | AV30: 28684 | AW30: 461 | AX30: 29 | AY30: 5000002 | AZ30: 50000002
B31: 1953/آ/ص/99 | C31: 99/02/22 | D31: 43 | E31: فروش صادراتی غیر مستقیم - فله (انبارقیر بندرعباس) کد:43 | F31: 994300012 | G31: 99/02/22 | H31: پالایش نفت جی ارس (آراز شیمی جلفا) | I31: 11916 | J31: 1399775815001 | K31: 99/02/07 | L31: 3000000 | M31: قیر 60/70 - فله | N31: 16000 | P31: 2850000 | Q31: 0 | R31: 2850000 | S31: 2648859 | T31: 201141 | U31: -201141 | V31: بسته شده | W31: 99/02/31 | X31: بندر عباس | Y31: عمان | Z31: اعتباری | AB31: royal lady | AC31: 994300012 | AD31: انبار قیر بندرعباس | AE31: 104 | AF31: -- | AG31: خیابان ولیعصر نرسیده به نیایش خیابان بابک بهرامی پلاک 74 ط5 | AH31: خیابان ولیعصر نرسیده به نیایش خیابان بابک بهرامی پلاک 74 ط5 | AI31: 88651707 | AJ31: 88651707 | AK31: 1968644181 | AL31: 411167397618 | AM31: 10860192520 | AT31: اعلاميه فروش | AU31: 5 | AV31: 28768 | AW31: 11916 | AX31: 29 | AY31: 5000002 | AZ31: 50000002
B32: 1952 / آ ص . 99 | C32: 99/02/22 | D32: 43 | E32: فروش صادراتی غیر مستقیم - فله (انبارقیر بندرعباس) کد:43 | F32: 994300015 | G32: 99/02/23 | H32: پالایش نفت جی ارس (آراز شیمی جلفا) | I32: 11916 | J32: 1399778394001 | K32: 99/02/14 | L32: 8000000 | M32: قیر 60/70 - فله | N32: 15300 | P32: 3000000 | Q32: 0 | R32: 2994410 | S32: 2994410 | T32: 5590 | U32: 0 | V32: بسته شده | W32: 99/03/31 | X32: بندر عباس | Y32: امارات | Z32: اعتباری | AC32: 994300015 | AD32: مخازن قیر همیار جی یزد(بندرعباس) | AE32: 204 | AF32: بهینه صنعت اسدی | AG32: خیابان ولیعصر نرسیده به نیایش خیابان بابک بهرامی پلاک 74 ط5 | AH32: خیابان ولیعصر نرسیده به نیایش خیابان بابک بهرامی پلاک 74 ط5 | AI32: 88651707 | AJ32: 88651707 | AK32: 1968644181 | AL32: 411167397618 | AM32: 10860192520 | AT32: اعلاميه فروش | AU32: 5 | AV32: 28806 | AW32: 11916 | AX32: 29 | AY32: 5000002 | AZ32: 50020016
B33: 9900267 | C33: 99/02/22 | D33: 43 | E33: فروش صادراتی غیر مستقیم - فله (انبارقیر بندرعباس) کد:43 | F33: 994300013 | G33: 99/02/23 | H33: توسعه تجارت طلای سیاه | I33: 628 | J33: 1398731239001 | K33: 98/09/13 | L33: 10000000 | M33: قیر 60/70 - فله | N33: 17000 | P33: 600000 | Q33: 0 | R33: 600000 | S33: 600000 | T33: 0 | U33: 0 | V33: بسته شده | W33: 99/02/31 | X33: بندر عباس | Y33: هند | Z33: 121951 | AA33: 99/02/23 | AC33: 994300013 | AD33: انبار قیر بندرعباس | AE33: 104 | AF33: -- | AG33: کیلومتر11جاده اصفهان تهران شمال مورچه خورت گردنه چاه سرخ | AH33: کیلومتر11جاده اصفهان تهران شمال مورچه خورت گردنه چاه سرخ | AI33: 03145463922 | AJ33: 03145463922 | AK33: 8173697516 | AL33: 411445863711 | AM33: 10260681156 | AT33: اعلاميه فروش | AU33: 5 | AV33: 28789 | AW33: 628 | AX33: 29 | AY33: 5000002 | AZ33: 50000002
B34: 9900267 | C34: 99/02/22 | D34: 43 | E34: فروش صادراتی غیر مستقیم - فله (انبارقیر بندرعباس) کد:43 | F34: 994300014 | G34: 99/02/23 | H34: توسعه تجارت طلای سیاه | I34: 628 | J34: 1398743512001 | K34: 98/10/18 | L34: 12000000 | M34: قیر 60/70 - فله | N34: 17000 | P34: 3250000 | Q34: 0 | R34: 3250000 | S34: 3250000 | T34: 0 | U34: 0 | V34: بسته شده | W34: 99/02/31 | X34: بندر عباس | Y34: هند | Z34: 121952 | AA34: 99/02/23 | AC34: 994300014 | AD34: انبار قیر بندرعباس | AE34: 104 | AF34: -- | AG34: کیلومتر11جاده اصفهان تهران شمال مورچه خورت گردنه چاه سرخ | AH34: کیلومتر11جاده اصفهان تهران شمال مورچه خورت گردنه چاه سرخ | AI34: 03145463922 | AJ34: 03145463922 | AK34: 8173697516 | AL34: 411445863711 | AM34: 10260681156 | AT34: اعلاميه فروش | AU34: 5 | AV34: 28791 | AW34: 628 | AX34: 29 | AY34: 5000002 | AZ34: 50000002
B35: 0249-اق پ-99 | C35: 99/02/23 | D35: 43 | E35: فروش صادراتی غیر مستقیم - فله (انبارقیر بندرعباس) کد:43 | F35: 994300016 | G35: 99/02/24 | H35: اسپادانا قیر پاسارگاد | I35: 641 | J35: 1399775814001 | K35: 99/02/07 | L35: 4000000 | M35: قیر 60/70 - فله | N35: 16000 | P35: 3070000 | Q35: 0 | R35: 3070000 | S35: 3069846 | T35: 154 | U35: -154 | V35: بسته شده | W35: 99/03/05 | X35: بندر عباس | Y35: امارات | Z35: LC-0363499415569771 | AA35: 99/02/21 | AB35: NEPHAL | AC35: 994300016 | AD35: انبار قیر بندرعباس | AE35: 104 | AF35: -- | AG35: تهران- بخش مرکزی- محله ونک- خیابان آرارات جنوبی- خیابان ونک- پلاک 57-طبقه هفتم واحد29 | AH35: تهران- بخش مرکزی- محله ونک- خیابان آرارات جنوبی- خیابان ونک- پلاک 57-طبقه هفتم واحد29 | AI35: 88618842 | AJ35: 88618853 | AK35: 1994833416 | AL35: 411613664766 | AM35: 14007643340 | AT35: اعلاميه فروش | AU35: 5 | AV35: 28817 | AW35: 641 | AX35: 29 | AY35: 5000002 | AZ35: 50000002
B36: 10/300/د/99 | C36: 99/02/23 | D36: 43 | E36: فروش صادراتی غیر مستقیم - فله (انبارقیر بندرعباس) کد:43 | F36: 994300019 | G36: 99/02/24 | H36: جی پورنر پارس | I36: 461 | J36: 1398765964001 | K36: 98/12/21 | L36: 11000000 | M36: قیر 60/70 - فله | N36: 17000 | P36: 1000000 | Q36: 0 | R36: 1000000 | S36: 974829 | T36: 25171 | U36: -25171 | V36: بسته شده | W36: 99/02/31 | X36: بندر عباس | Y36: عمان | Z36: اعتباری | AB36: OCEAN SAPPHIRE 1 | AC36: 994300019 | AD36: انبار قیر بندرعباس | AE36: 104 | AF36: -- | AG36: توانیر خیابان نظامی گنجوی نبش پیوند پلاک 3واحد 3 | AH36: توانیر خیابان نظامی گنجوی نبش پیوند پلاک 3واحد 3 | AI36: 88628915 | AJ36: 88203711 | AK36: 1968644181 | AL36: 411334344958 | AM36: 10103697274 | AT36: اعلاميه فروش | AU36: 5 | AV36: 28822 | AW36: 461 | AX36: 29 | AY36: 5000002 | AZ36: 50000002
B37: 99- الف - 176 | C37: 99/02/23 | D37: 43 | E37: فروش صادراتی غیر مستقیم - فله (انبارقیر بندرعباس) کد:43 | F37: 994300018 | G37: 99/02/24 | H37: آترا کران انرژی | I37: 638 | J37: 1398697892001 | K37: 98/05/23 | L37: 5000000 | M37: قیر 60/70 - فله | N37: 16000 | P37: 3550000 | Q37: 0 | R37: 3546430 | S37: 3546430 | T37: 3570 | U37: 0 | V37: بسته شده | W37: 99/02/31 | X37: بندر عباس | Y37: هند- امارات | Z37: LC- 63560/13994442518/84 | AA37: 99/02/23 | AC37: 994300018 | AD37: مخازن قیر همیار جی یزد(بندرعباس) | AE37: 204 | AF37: -- | AG37: پاسداران-کوچه نارنجستان چهارم-مجتمع اداری آرتمیس-طبقه 10واحد 5 50 | AH37: پاسداران-کوچه نارنجستان چهارم-مجتمع اداری آرتمیس-طبقه 10واحد 5 50 | AI37: 26253571 | AJ37: 26253561 | AK37: 1957917516 | AL37: 411448441147 | AM37: 14005230518 | AT37: اعلاميه فروش | AU37: 5 | AV37: 28889 | AW37: 638 | AX37: 29 | AY37: 5000002 | AZ37: 50020016
B38: 99- الف- 175 | C38: 99/02/23 | D38: 43 | E38: فروش صادراتی غیر مستقیم - فله (انبارقیر بندرعباس) کد:43 | F38: 994300017 | G38: 99/02/24 | H38: آترا کران انرژی | I38: 638 | J38: 1398697876001 | K38: 98/05/23 | L38: 10000000 | M38: قیر 60/70 - فله | N38: 16000 | P38: 1000000 | Q38: 0 | R38: 1000000 | S38: 1000000 | T38: 0 | U38: 0 | V38: بسته شده | W38: 99/02/31 | X38: بندر عباس | Y38: هند- امارات | Z38: LC-63560/13994443288/87 | AA38: 99/02/23 | AC38: 994300017 | AD38: مخازن قیر همیار جی یزد(بندرعباس) | AE38: 204 | AF38: -- | AG38: پاسداران-کوچه نارنجستان چهارم-مجتمع اداری آرتمیس-طبقه 10واحد 5 50 | AH38: پاسداران-کوچه نارنجستان چهارم-مجتمع اداری آرتمیس-طبقه 10واحد 5 50 | AI38: 26253571 | AJ38: 26253561 | AK38: 1957917516 | AL38: 411448441147 | AM38: 14005230518 | AT38: اعلاميه فروش | AU38: 5 | AV38: 28818 | AW38: 638 | AX38: 29 | AY38: 5000002 | AZ38: 50020016
B39: 179 - الف - 99 | C39: 99/02/24 | D39: 43 | E39: فروش صادراتی غیر مستقیم - فله (انبارقیر بندرعباس) کد:43 | F39: 994300020 | G39: 99/02/25 | H39: آترا کران انرژی | I39: 638 | J39: 1398697876001 | K39: 98/05/23 | L39: 10000000 | M39: قیر 60/70 - فله | N39: 17000 | P39: 65000 | Q39: 0 | R39: 65000 | S39: 65000 | T39: 0 | U39: 0 | V39: بسته شده | W39: 99/02/31 | X39: بندر عباس | Y39: هند-امارات | Z39: lc-63560/13995262/05 | AA39: 99/01/24 | AC39: 994300020 | AD39: مخازن قیر همیار جی یزد(بندرعباس) | AE39: 204 | AF39: -- | AG39: پاسداران-کوچه نارنجستان چهارم-مجتمع اداری آرتمیس-طبقه 10واحد 5 50 | AH39: پاسداران-کوچه نارنجستان چهارم-مجتمع اداری آرتمیس-طبقه 10واحد 5 50 | AI39: 26253571 | AJ39: 26253561 | AK39: 1957917516 | AL39: 411448441147 | AM39: 14005230518 | AT39: اعلاميه فروش | AU39: 5 | AV39: 28920 | AW39: 638 | AX39: 29 | AY39: 5000002 | AZ39: 50020016
B40: 184-الف-99 | C40: 99/02/25 | D40: 43 | E40: فروش صادراتی غیر مستقیم - فله (انبارقیر بندرعباس) کد:43 | F40: 994300021 | G40: 99/02/27 | H40: آترا کران انرژی | I40: 638 | J40: 1398697892001 | K40: 98/05/23 | L40: 5000000 | M40: قیر 60/70 - فله | N40: 16000 | P40: 1450000 | Q40: 0 | R40: 1450000 | S40: 1435844 | T40: 14156 | U40: -14156 | V40: بسته شده | W40: 99/02/31 | X40: بندر عباس | Y40: امارات | Z40: LC- 63560/13994442518/84 | AA40: 99/02/23 | AB40: ACE BITUMEN 4 | AC40: 994300021 | AD40: انبار قیر بندرعباس | AE40: 104 | AF40: -- | AG40: پاسداران-کوچه نارنجستان چهارم-مجتمع اداری آرتمیس-طبقه 10واحد 5 50 | AH40: پاسداران-کوچه نارنجستان چهارم-مجتمع اداری آرتمیس-طبقه 10واحد 5 50 | AI40: 26253571 | AJ40: 26253561 | AK40: 1957917516 | AL40: 411448441147 | AM40: 14005230518 | AT40: اعلاميه فروش | AU40: 5 | AV40: 28891 | AW40: 638 | AX40: 29 | AY40: 5000002 | AZ40: 50000002
...

Sheet تحویلها
A1: ID | B1: SalesOrganization | C1: ReferenceType | D1: سال حواله | E1: ماه حواله | F1: شماره حواله | G1: تاریخ حواله | H1: مقدار حواله | I1: وضعیت حواله | J1: کد مرکز فروش | K1: نام مرکز فروش | L1: کد مشتری | M1: نام مشتری | N1: کد تفصیلی | O1: کد کالا | P1: نام کالا | Q1: کد انبار | R1: نام انبار | S1: واحد سنجش | T1: تحویل گیرنده | U1: آدرس تحویل گیرنده | V1: تلفن تحویل گیرنده | W1: مقدار قرارداد | X1: شماره قرارداد | Y1: تاریخ قرارداد | Z1: شماره قرارداد بورسی | AA1: تاریخ قرارداد بورسی | AB1: مقدار قرارداد بورسی | AC1: نحوه فروش | AD1: مقدار تحویل | AE1: شماره بارنامه | AF1: تاریخ تحویل | AG1: شماره مجوز بارگیری | AH1: شماره برگ توزین | AI1: تاریخ برگ توزین | AJ1: شماره فاکتور | AK1: تاریخ فاکتور | AL1: سال فاکتور | AM1: ماه فاکتور | AN1: مقدار فاکتور | AO1: وضعیت فاکتور | AP1: فی فاکتور | AQ1: مبلغ اولیه فاکتور | AR1: عوارض پرداختنی | AS1: مالیات بر ارزش افزوده | AT1: مظروف | AU1: هزینه استافینگ | AV1: هزینه حمل | AW1: تخفیف | AX1: مبلغ نهایی فاکتور | AY1: شماره پلاک ماشین | AZ1: نام راننده | BA1: تلفن راننده | BB1: محل تخلیه | BC1: استان تخلیه | BD1: تلفن محل تخلیه | BE1: کدپستی محل تخلیه | BF1: استان | BG1: استان دفتر مرکزی | BH1: تاریخ درخواست | BI1: شماره درخواست | BJ1: Rah | BK1: OrderID | BL1: InvoiceID | BM1: SalesOrganizationID | BN1: ProductID | BO1: InventoryVoucherID | BP1: Customerid | BQ1: storeid | BR1: SalesOfficeid | BS1: شماره مجوز برگشتی | BT1: شماره برگشت به انبار | BU1: مقدار برگشت به انبار | BV1: شماره فاکتور برگشتی | BW1: تاریخ فاکتور برگشتی | BX1: نام مدیر عامل | BY1: شناسه واریز1 | BZ1: شناسه واریز2 | CA1: شناسه حواله دلفی | CB1: شماره رسید وجه | CC1: تاریخ رسید وجه | CD1: گمرک خروج | CE1: مقصد | CF1: شماره قرارداد بورسی
A2: 29 | B2: صادرات | C2: کشتي | D2: 99 | E2: 99/01/25 | F2: 994300004 | G2: 99/01/25 | H2: 9000000 | I2: بسته شده | J2: 43 | K2: فروش صادراتی غیر مستقیم - فله (انبارقیر بندرعباس) کد:43 | L2: 638 | M2: آترا کران انرژی | N2: 33720 | O2: 0000000076 | P2: قیر 60/70 - فله | Q2: 104 | R2: انبار قیر بندرعباس | S2: کیلوگرم | T2: -- | W2: 9000000 | X2: 994300004 | Y2: 99/01/25 | Z2: 1398697876001 | AA2: 98/05/23 | AB2: 10000000 | AC2: اعتباری | AD2: 1129812 | AE2: 9900004 | AF2: 99/01/27 | AJ2: 4 | AK2: 99/01/27 | AL2: 99 | AM2: 99/01/27 | AN2: 1129812 | AP2: 19750 | AQ2: 22313787000 | AR2: 669413610 | AS2: 1338827220 | AX2: 24322027830 | BB2: پاسداران-کوچه نارنجستان چهارم-مجتمع اداری آرتمیس-طبقه 10واحد 5 50 | BC2: تهران | BD2: 26253561 | BE2: 1957917516 | BG2: استان تهران | BJ2: No | BK2: 28299 | BL2: 20371 | BM2: 5 | BN2: 5000002 | BO2: 88769 | BP2: 638 | BQ2: 50000002 | BR2: 29 | CB2: LC-63560/13995262/05 | CC2: 99/01/24 | CD2: بندر عباس | CE2: هند-امارات | CF2: 1398697876001
A3: 29 | B3: صادرات | C3: کشتي | D3: 99 | E3: 99/01/25 | F3: 994300004 | G3: 99/01/25 | H3: 9000000 | I3: بسته شده | J3: 43 | K3: فروش صادراتی غیر مستقیم - فله (انبارقیر بندرعباس) کد:43 | L3: 638 | M3: آترا کران انرژی | N3: 33720 | O3: 0000000076 | P3: قیر 60/70 - فله | Q3: 104 | R3: انبار قیر بندرعباس | S3: کیلوگرم | T3: -- | W3: 9000000 | X3: 994300004 | Y3: 99/01/25 | Z3: 1398697876001 | AA3: 98/05/23 | AB3: 10000000 | AC3: اعتباری | AD3: 2975650 | AE3: 9900005 | AF3: 99/01/31 | AJ3: 5 | AK3: 99/01/31 | AL3: 99 | AM3: 99/01/31 | AN3: 2975650 | AP3: 19750 | AQ3: 58769087500 | AR3: 1763072625 | AS3: 3526145250 | AX3: 64058305375 | BB3: پاسداران-کوچه نارنجستان چهارم-مجتمع اداری آرتمیس-طبقه 10واحد 5 50 | BC3: تهران | BD3: 26253561 | BE3: 1957917516 | BG3: استان تهران | BJ3: No | BK3: 28299 | BL3: 20471 | BM3: 5 | BN3: 5000002 | BO3: 89100 | BP3: 638 | BQ3: 50000002 | BR3: 29 | CB3: LC-63560/13995262/05 | CC3: 99/01/24 | CD3: بندر عباس | CE3: هند-امارات | CF3: 1398697876001
A4: 29 | B4: صادرات | C4: کشتي | D4: 99 | E4: 99/02/17 | F4: 994300008 | G4: 99/02/17 | H4: 2700000 | I4: بسته شده | J4: 43 | K4: فروش صادراتی غیر مستقیم - فله (انبارقیر بندرعباس) کد:43 | L4: 638 | M4: آترا کران انرژی | N4: 33720 | O4: 0000000076 | P4: قیر 60/70 - فله | Q4: 104 | R4: انبار قیر بندرعباس | S4: کیلوگرم | T4: -- | W4: 2700000 | X4: 994300008 | Y4: 99/02/17 | Z4: 1398697876001 | AA4: 98/05/23 | AB4: 10000000 | AC4: اعتباری | AD4: 2681729 | AE4: 9900009 | AF4: 99/02/18 | AJ4: 9 | AK4: 99/02/18 | AL4: 99 | AM4: 99/02/18 | AN4: 2681729 | AP4: 16000 | AQ4: 42907664000 | AR4: 1287229920 | AS4: 2574459840 | AX4: 46769353760 | BB4: پاسداران-کوچه نارنجستان چهارم-مجتمع اداری آرتمیس-طبقه 10واحد 5 50 | BC4: تهران | BD4: 26253561 | BE4: 1957917516 | BG4: استان تهران | BJ4: No | BK4: 28636 | BL4: 21021 | BM4: 5 | BN4: 5000002 | BO4: 91680 | BP4: 638 | BQ4: 50000002 | BR4: 29 | CB4: lc-63560/13995262/05 | CC4: 99/01/24 | CD4: بندر عباس | CE4: هند-امارات | CF4: 1398697876001
A5: 29 | B5: صادرات | C5: کشتي | D5: 99 | E5: 99/02/18 | F5: 994300010 | G5: 99/02/18 | H5: 2150000 | I5: بسته شده | J5: 43 | K5: فروش صادراتی غیر مستقیم - فله (انبارقیر بندرعباس) کد:43 | L5: 638 | M5: آترا کران انرژی | N5: 33720 | O5: 0000000076 | P5: قیر 60/70 - فله | Q5: 204 | R5: مخازن قیر همیار جی یزد(بندرعباس) | S5: کیلوگرم | T5: -- | W5: 2150000 | X5: 994300010 | Y5: 99/02/18 | Z5: 1398697876001 | AA5: 98/05/23 | AB5: 10000000 | AC5: اعتباری | AD5: 2146150 | AE5: 9900001 | AF5: 99/02/21 | AJ5: 12 | AK5: 99/02/21 | AL5: 99 | AM5: 99/02/21 | AN5: 2146150 | AP5: 16000 | AQ5: 34338400000 | AR5: 1030152000 | AS5: 2060304000 | AX5: 37428856000 | BB5: پاسداران-کوچه نارنجستان چهارم-مجتمع اداری آرتمیس-طبقه 10واحد 5 50 | BC5: تهران | BD5: 26253561 | BE5: 1957917516 | BG5: استان تهران | BJ5: No | BK5: 28664 | BL5: 21271 | BM5: 5 | BN5: 5000002 | BO5: 92588 | BP5: 638 | BQ5: 50020016 | BR5: 29 | CB5: lc-63560/13995262/05 | CC5: 99/01/24 | CD5: بندر عباس | CE5: هند-امارات | CF5: 1398697876001
A6: 29 | B6: صادرات | C6: کشتي | D6: 99 | E6: 99/02/24 | F6: 994300017 | G6: 99/02/24 | H6: 1000000 | I6: بسته شده | J6: 43 | K6: فروش صادراتی غیر مستقیم - فله (انبارقیر بندرعباس) کد:43 | L6: 638 | M6: آترا کران انرژی | N6: 33720 | O6: 0000000076 | P6: قیر 60/70 - فله | Q6: 204 | R6: مخازن قیر همیار جی یزد(بندرعباس) | S6: کیلوگرم | T6: -- | W6: 1000000 | X6: 994300017 | Y6: 99/02/24 | Z6: 1398697876001 | AA6: 98/05/23 | AB6: 10000000 | AC6: اعتباری | AD6: 1000000 | AE6: 9900002 | AF6: 99/02/27 | AJ6: 19 | AK6: 99/02/27 | AL6: 99 | AM6: 99/02/27 | AN6: 1000000 | AP6: 16000 | AQ6: 16000000000 | AR6: 480000000 | AS6: 960000000 | AX6: 17440000000 | BB6: پاسداران-کوچه نارنجستان چهارم-مجتمع اداری آرتمیس-طبقه 10واحد 5 50 | BC6: تهران | BD6: 26253561 | BE6: 1957917516 | BG6: استان تهران | BJ6: No | BK6: 28818 | BL6: 21636 | BM6: 5 | BN6: 5000002 | BO6: 94343 | BP6: 638 | BQ6: 50020016 | BR6: 29 | CB6: LC-63560/13994443288/87 | CC6: 99/02/23 | CD6: بندر عباس | CE6: هند- امارات | CF6: 1398697876001
A7: 29 | B7: صادرات | C7: کشتي | D7: 99 | E7: 99/02/25 | F7: 994300020 | G7: 99/02/25 | H7: 65000 | I7: بسته شده | J7: 43 | K7: فروش صادراتی غیر مستقیم - فله (انبارقیر بندرعباس) کد:43 | L7: 638 | M7: آترا کران انرژی | N7: 33720 | O7: 0000000076 | P7: قیر 60/70 - فله | Q7: 204 | R7: مخازن قیر همیار جی یزد(بندرعباس) | S7: کیلوگرم | T7: -- | W7: 65000 | X7: 994300020 | Y7: 99/02/25 | Z7: 1398697876001 | AA7: 98/05/23 | AB7: 10000000 | AC7: اعتباری | AD7: 65000 | AE7: 9900005 | AF7: 99/02/31 | AJ7: 23 | AK7: 99/02/31 | AL7: 99 | AM7: 99/02/31 | AN7: 65000 | AP7: 17000 | AQ7: 1105000000 | AR7: 33150000 | AS7: 66300000 | AX7: 1204450000 | BB7: پاسداران-کوچه نارنجستان چهارم-مجتمع اداری آرتمیس-طبقه 10واحد 5 50 | BC7: تهران | BD7: 26253561 | BE7: 1957917516 | BG7: استان تهران | BJ7: No | BK7: 28920 | BL7: 22182 | BM7: 5 | BN7: 5000002 | BO7: 97234 | BP7: 638 | BQ7: 50020016 | BR7: 29 | CB7: lc-63560/13995262/05 | CC7: 99/01/24 | CD7: بندر عباس | CE7: هند-امارات | CF7: 1398697876001
A8: 29 | B8: صادرات | C8: کشتي | D8: 99 | E8: 99/02/24 | F8: 994300018 | G8: 99/02/24 | H8: 3550000 | I8: بسته شده | J8: 43 | K8: فروش صادراتی غیر مستقیم - فله (انبارقیر بندرعباس) کد:43 | L8: 638 | M8: آترا کران انرژی | N8: 33720 | O8: 0000000076 | P8: قیر 60/70 - فله | Q8: 204 | R8: مخازن قیر همیار جی یزد(بندرعباس) | S8: کیلوگرم | T8: -- | W8: 3550000 | X8: 994300018 | Y8: 99/02/24 | Z8: 1398697892001 | AA8: 98/05/23 | AB8: 5000000 | AC8: اعتباری | AD8: 1522600 | AE8: 9900003 | AF8: 99/02/27 | AJ8: 20 | AK8: 99/02/27 | AL8: 99 | AM8: 99/02/27 | AN8: 1522600 | AP8: 16000 | AQ8: 24361600000 | AR8: 730848000 | AS8: 1461696000 | AX8: 26554144000 | BB8: پاسداران-کوچه نارنجستان چهارم-مجتمع اداری آرتمیس-طبقه 10واحد 5 50 | BC8: تهران | BD8: 26253561 | BE8: 1957917516 | BG8: استان تهران | BJ8: No | BK8: 28889 | BL8: 21644 | BM8: 5 | BN8: 5000002 | BO8: 94352 | BP8: 638 | BQ8: 50020016 | BR8: 29 | CB8: LC- 63560/13994442518/84 | CC8: 99/02/23 | CD8: بندر عباس | CE8: هند- امارات | CF8: 1398697892001
A9: 29 | B9: صادرات | C9: کشتي | D9: 99 | E9: 99/02/24 | F9: 994300018 | G9: 99/02/24 | H9: 3550000 | I9: بسته شده | J9: 43 | K9: فروش صادراتی غیر مستقیم - فله (انبارقیر بندرعباس) کد:43 | L9: 638 | M9: آترا کران انرژی | N9: 33720 | O9: 0000000076 | P9: قیر 60/70 - فله | Q9: 204 | R9: مخازن قیر همیار جی یزد(بندرعباس) | S9: کیلوگرم | T9: -- | W9: 3550000 | X9: 994300018 | Y9: 99/02/24 | Z9: 1398697892001 | AA9: 98/05/23 | AB9: 5000000 | AC9: اعتباری | AD9: 2023830 | AE9: 9900004 | AF9: 99/02/31 | AJ9: 22 | AK9: 99/02/31 | AL9: 99 | AM9: 99/02/31 | AN9: 2023830 | AP9: 16000 | AQ9: 32381280000 | AR9: 971438400 | AS9: 1942876800 | AX9: 35295595200 | BB9: پاسداران-کوچه نارنجستان چهارم-مجتمع اداری آرتمیس-طبقه 10واحد 5 50 | BC9: تهران | BD9: 26253561 | BE9: 1957917516 | BG9: استان تهران | BJ9: No | BK9: 28889 | BL9: 22181 | BM9: 5 | BN9: 5000002 | BO9: 97232 | BP9: 638 | BQ9: 50020016 | BR9: 29 | CB9: LC- 63560/13994442518/84 | CC9: 99/02/23 | CD9: بندر عباس | CE9: هند- امارات | CF9: 1398697892001
A10: 29 | B10: صادرات | C10: کشتي | D10: 99 | E10: 99/02/27 | F10: 994300021 | G10: 99/02/27 | H10: 1450000 | I10: بسته شده | J10: 43 | K10: فروش صادراتی غیر مستقیم - فله (انبارقیر بندرعباس) کد:43 | L10: 638 | M10: آترا کران انرژی | N10: 33720 | O10: 0000000076 | P10: قیر 60/70 - فله | Q10: 104 | R10: انبار قیر بندرعباس | S10: کیلوگرم | T10: -- | W10: 1450000 | X10: 994300021 | Y10: 99/02/27 | Z10: 1398697892001 | AA10: 98/05/23 | AB10: 5000000 | AC10: اعتباری | AD10: -14156 | AE10: 9900017 | AF10: 99/02/27 | AJ10: 18 | AK10: 99/02/27 | AL10: 99 | AM10: 99/02/27 | AN10: -14156 | AP10: 16000 | AQ10: 23200000000 | AR10: 696000000 | AS10: 1392000000 | AX10: 25288000000 | BB10: پاسداران-کوچه نارنجستان چهارم-مجتمع اداری آرتمیس-طبقه 10واحد 5 50 | BC10: تهران | BD10: 26253561 | BE10: 1957917516 | BG10: استان تهران | BJ10: No | BK10: 28891 | BL10: 21589 | BM10: 5 | BN10: 5000002 | BO10: 94155 | BP10: 638 | BQ10: 50000002 | BR10: 29 | BS10: 11 | BT10: 9900009 | BU10: -14156 | BV10: 11 | BW10: 99/02/28 | CB10: LC- 63560/13994442518/84 | CC10: 99/02/23 | CD10: بندر عباس | CE10: امارات | CF10: 1398697892001
A11: 29 | B11: صادرات | C11: کشتي | D11: 99 | E11: 99/02/27 | F11: 994300021 | G11: 99/02/27 | H11: 1450000 | I11: بسته شده | J11: 43 | K11: فروش صادراتی غیر مستقیم - فله (انبارقیر بندرعباس) کد:43 | L11: 638 | M11: آترا کران انرژی | N11: 33720 | O11: 0000000076 | P11: قیر 60/70 - فله | Q11: 104 | R11: انبار قیر بندرعباس | S11: کیلوگرم | T11: -- | W11: 1450000 | X11: 994300021 | Y11: 99/02/27 | Z11: 1398697892001 | AA11: 98/05/23 | AB11: 5000000 | AC11: اعتباری | AD11: 1450000 | AE11: 9900017 | AF11: 99/02/27 | AJ11: 18 | AK11: 99/02/27 | AL11: 99 | AM11: 99/02/27 | AN11: 1450000 | AP11: 16000 | AQ11: 23200000000 | AR11: 696000000 | AS11: 1392000000 | AX11: 25288000000 | BB11: پاسداران-کوچه نارنجستان چهارم-مجتمع اداری آرتمیس-طبقه 10واحد 5 50 | BC11: تهران | BD11: 26253561 | BE11: 1957917516 | BG11: استان تهران | BJ11: No | BK11: 28891 | BL11: 21589 | BM11: 5 | BN11: 5000002 | BO11: 94155 | BP11: 638 | BQ11: 50000002 | BR11: 29 | CB11: LC- 63560/13994442518/84 | CC11: 99/02/23 | CD11: بندر عباس | CE11: امارات | CF11: 1398697892001
A12: 29 | B12: صادرات | C12: کشتي | D12: 99 | E12: 99/01/24 | F12: 994300003 | G12: 99/01/24 | H12: 1000000 | I12: بسته شده | J12: 43 | K12: فروش صادراتی غیر مستقیم - فله (انبارقیر بندرعباس) کد:43 | L12: 11916 | M12: پالایش نفت جی ارس (آراز شیمی جلفا) | N12: 10118 | O12: 1000000004 | P12: قیر 40/50 - فله | Q12: 104 | R12: انبار قیر بندرعباس | S12: کیلوگرم | T12: -- | W12: 1000000 | X12: 994300003 | Y12: 99/01/24 | Z12: 1398723570001 | AA12: 98/08/22 | AB12: 2000000 | AC12: اعتباری | AD12: -9898 | AE12: 9900002 | AF12: 99/01/24 | AJ12: 2 | AK12: 99/01/24 | AL12: 99 | AM12: 99/01/24 | AN12: -9898 | AP12: 19750 | AQ12: 19750000000 | AR12: 592500000 | AS12: 1185000000 | AX12: 21527500000 | BB12: خیابان ولیعصر نرسیده به نیایش خیابان بابک بهرامی پلاک 74 ط5 | BC12: تهران | BD12: 88651707 | BE12: 1968644181 | BG12: استان تهران | BJ12: No | BK12: 28267 | BL12: 20056 | BM12: 5 | BN12: 5000003 | BO12: 86584 | BP12: 11916 | BQ12: 50000002 | BR12: 29 | BS12: 1 | BT12: 9900001 | BU12: -9898 | BV12: 1 | BW12: 99/01/25 | CB12: اعتباری | CC12: 99/01/24 | CD12: بندر عباس | CE12: عمان | CF12: 1398723570001
A13: 29 | B13: صادرات | C13: کشتي | D13: 99 | E13: 99/01/24 | F13: 994300003 | G13: 99/01/24 | H13: 1000000 | I13: بسته شده | J13: 43 | K13: فروش صادراتی غیر مستقیم - فله (انبارقیر بندرعباس) کد:43 | L13: 11916 | M13: پالایش نفت جی ارس (آراز شیمی جلفا) | N13: 10118 | O13: 1000000004 | P13: قیر 40/50 - فله | Q13: 104 | R13: انبار قیر بندرعباس | S13: کیلوگرم | T13: -- | W13: 1000000 | X13: 994300003 | Y13: 99/01/24 | Z13: 1398723570001 | AA13: 98/08/22 | AB13: 2000000 | AC13: اعتباری | AD13: 1000000 | AE13: 9900002 | AF13: 99/01/24 | AJ13: 2 | AK13: 99/01/24 | AL13: 99 | AM13: 99/01/24 | AN13: 1000000 | AP13: 19750 | AQ13: 19750000000 | AR13: 592500000 | AS13: 1185000000 | AX13: 21527500000 | BB13: خیابان ولیعصر نرسیده به نیایش خیابان بابک بهرامی پلاک 74 ط5 | BC13: تهران | BD13: 88651707 | BE13: 1968644181 | BG13: استان تهران | BJ13: No | BK13: 28267 | BL13: 20056 | BM13: 5 | BN13: 5000003 | BO13: 86584 | BP13: 11916 | BQ13: 50000002 | BR13: 29 | CB13: اعتباری | CC13: 99/01/24 | CD13: بندر عباس | CE13: عمان | CF13: 1398723570001
A14: 29 | B14: صادرات | C14: کشتي | D14: 99 | E14: 99/03/10 | F14: 994300023 | G14: 99/03/10 | H14: 880000 | I14: بسته شده | J14: 43 | K14: فروش صادراتی غیر مستقیم - فله (انبارقیر بندرعباس) کد:43 | L14: 461 | M14: جی پورنر پارس | N14: 05674 | O14: 1000000004 | P14: قیر 40/50 - فله | Q14: 104 | R14: انبار قیر بندرعباس | S14: کیلوگرم | T14: -- | W14: 880000 | X14: 994300023 | Y14: 99/03/10 | Z14: 1398723571001 | AA14: 98/08/22 | AB14: 3880000 | AC14: اعتباری | AD14: 880000 | AE14: 9900019 | AF14: 99/03/11 | AJ14: 25 | AK14: 99/03/11 | AL14: 99 | AM14: 99/03/11 | AN14: 880000 | AP14: 22500 | AQ14: 19800000000 | AR14: 594000000 | AS14: 1188000000 | AX14: 21582000000 | BB14: توانیر خیابان نظامی گنجوی نبش پیوند پلاک 3واحد 3 | BC14: تهران | BD14: 88203711 | BE14: 1968644181 | BG14: استان تهران | BJ14: No | BK14: 29091 | BL14: 22428 | BM14: 5 | BN14: 5000003 | BO14: 98383 | BP14: 461 | BQ14: 50000002 | BR14: 29 | CB14: اعتباری | CD14: بندر عباس | CE14: عمان | CF14: 1398723571001
