Workbook

Sheet pio قراردادهای بدهی 
A1: گزارش قراردادهای مشمول بدهی ارزی شرکت پالایش نفت جی
A2: ردیف | B2: نوع عرضه | C2: تاریخ قرارداد | D2: حداقل عرضه (تن) | E2: حداکثر عرضه (تن) | F2: مقدار عرضه (تن) | G2: مقدار فروش (تن) | H2: شماره قرارداد | I2: نام مشتری | J2: مقدار قرارداد کیلوگرم) | K2: مقدار اظهار (کیلوگرم) شامل بدهی ارزی
A3: 1 | B3: عرضه | C3: 95/09/03 | D3: 33000 | E3: 70000 | F3: =D3+E3 -> 103000 | G3: 62000 | H3: 1395447377001 | I3: =VLOOKUP(H:H,'[1]ریز بدهی ارزی'!A:D,4,0) -> Ivera Holding LTD | J3: =VLOOKUP(H:H,'[1]ریز بدهی ارزی'!A:C,3,0) -> 5000000 | K3: =SUMIF('[1]ریز بدهی ارزی'!A:A,'pio قراردادهای بدهی '!H:H,'[1]ریز بدهی ارزی'!F:F) -> #VALUE!
A4: 2 | B4: مچینگ (95.09.16) | C4: 95/09/21 | D4: 21000 | E4: 30000 | F4: =D4+E4 -> 51000 | G4: 21390 | H4: 1395451221001 | I4: =VLOOKUP(H:H,'[1]ریز بدهی ارزی'!A:D,4,0) -> Ivera Holding LTD | J4: =VLOOKUP(H:H,'[1]ریز بدهی ارزی'!A:C,3,0) -> 7000000 | K4: =SUMIF('[1]ریز بدهی ارزی'!A:A,'pio قراردادهای بدهی '!H:H,'[1]ریز بدهی ارزی'!F:F) -> #VALUE!
A5: 3 | B5: عرضه | C5: =VLOOKUP(H:H,'[1]ریز بدهی ارزی'!A:B,2,0) -> 96/01/21 | D5: 26000 | E5: 90000 | F5: =D5+E5 -> 116000 | G5: 36475 | H5: 1396472851001 | I5: =VLOOKUP(H:H,'[1]ریز بدهی ارزی'!A:D,4,0) -> Elixir General Trading FZE | J5: =VLOOKUP(H:H,'[1]ریز بدهی ارزی'!A:C,3,0) -> 5000000 | K5: =SUMIF('[1]ریز بدهی ارزی'!A:A,'pio قراردادهای بدهی '!H:H,'[1]ریز بدهی ارزی'!F:F) -> #VALUE!
A6: 4 | B6: عرضه | C6: =VLOOKUP(H:H,'[1]ریز بدهی ارزی'!A:B,2,0) -> 96/04/10 | D6: 23000 | E6: 60000 | F6: =D6+E6 -> 83000 | G6: 59050 | H6: 1396491871001 | I6: =VLOOKUP(H:H,'[1]ریز بدهی ارزی'!A:D,4,0) -> AL MASAR PETROLUME L.L.C | J6: =VLOOKUP(H:H,'[1]ریز بدهی ارزی'!A:C,3,0) -> 10000000 | K6: =SUMIF('[1]ریز بدهی ارزی'!A:A,'pio قراردادهای بدهی '!H:H,'[1]ریز بدهی ارزی'!F:F) -> #VALUE!
A7: 5 | B7: عرضه | C7: =VLOOKUP(H:H,'[1]ریز بدهی ارزی'!A:B,2,0) -> 96/07/12 | D7: 7000 | E7: 35000 | F7: =D7+E7 -> 42000 | G7: 8575 | H7: 1396516771001 | I7: =VLOOKUP(H:H,'[1]ریز بدهی ارزی'!A:D,4,0) -> Shahab llc | J7: =VLOOKUP(H:H,'[1]ریز بدهی ارزی'!A:C,3,0) -> 1000000 | K7: =SUMIF('[1]ریز بدهی ارزی'!A:A,'pio قراردادهای بدهی '!H:H,'[1]ریز بدهی ارزی'!F:F) -> #VALUE!
A8: 6 | B8: عرضه | C8: =VLOOKUP(H:H,'[1]ریز بدهی ارزی'!A:B,2,0) -> 96/07/12 | D8: * | E8: * | F8: * | G8: * | H8: 1396516773001 | I8: =VLOOKUP(H:H,'[1]ریز بدهی ارزی'!A:D,4,0) -> AL MASAR PETROLUME L.L.C | J8: =VLOOKUP(H:H,'[1]ریز بدهی ارزی'!A:C,3,0) -> 5000000 | K8: =SUMIF('[1]ریز بدهی ارزی'!A:A,'pio قراردادهای بدهی '!H:H,'[1]ریز بدهی ارزی'!F:F) -> #VALUE!
A9: 7 | B9: مچینگ (96.07.12) | C9: =VLOOKUP(H:H,'[1]ریز بدهی ارزی'!A:B,2,0) -> 96/07/15 | D9: * | E9: * | F9: * | G9: * | H9: 1396516973001 | I9: =VLOOKUP(H:H,'[1]ریز بدهی ارزی'!A:D,4,0) -> M/S J.K. Khan Group | J9: =VLOOKUP(H:H,'[1]ریز بدهی ارزی'!A:C,3,0) -> 250000 | K9: =SUMIF('[1]ریز بدهی ارزی'!A:A,'pio قراردادهای بدهی '!H:H,'[1]ریز بدهی ارزی'!F:F) -> #VALUE!
A10: 8 | B10: عرضه | C10: =VLOOKUP(H:H,'[1]ریز بدهی ارزی'!A:B,2,0) -> 96/07/18 | D10: 13000 | E10: 55000 | F10: =D10+E10 -> 68000 | G10: 42295 | H10: 1396517982001 | I10: =VLOOKUP(H:H,'[1]ریز بدهی ارزی'!A:D,4,0) -> PETRO HUB ENERGY FZE | J10: =VLOOKUP(H:H,'[1]ریز بدهی ارزی'!A:C,3,0) -> 5000000 | K10: =SUMIF('[1]ریز بدهی ارزی'!A:A,'pio قراردادهای بدهی '!H:H,'[1]ریز بدهی ارزی'!F:F) -> #VALUE!
A11: 9 | B11: عرضه | C11: =VLOOKUP(H:H,'[1]ریز بدهی ارزی'!A:B,2,0) -> 96/07/25 | D11: 13000 | E11: 55000 | F11: =D11+E11 -> 68000 | G11: 23000 | H11: 1396519124001 | I11: =VLOOKUP(H:H,'[1]ریز بدهی ارزی'!A:D,4,0) -> Black Gold Traders FZE | J11: =VLOOKUP(H:H,'[1]ریز بدهی ارزی'!A:C,3,0) -> 3000000 | K11: =SUMIF('[1]ریز بدهی ارزی'!A:A,'pio قراردادهای بدهی '!H:H,'[1]ریز بدهی ارزی'!F:F) -> #VALUE!
A12: 10 | B12: عرضه | C12: =VLOOKUP(H:H,'[1]ریز بدهی ارزی'!A:B,2,0) -> 96/07/25 | D12: * | E12: * | F12: * | G12: * | H12: 1396519125001 | I12: =VLOOKUP(H:H,'[1]ریز بدهی ارزی'!A:D,4,0) -> SHINING GREEN STAR FZE | J12: =VLOOKUP(H:H,'[1]ریز بدهی ارزی'!A:C,3,0) -> 3975000 | K12: =SUMIF('[1]ریز بدهی ارزی'!A:A,'pio قراردادهای بدهی '!H:H,'[1]ریز بدهی ارزی'!F:F) -> #VALUE!
A13: 11 | B13: عرضه | C13: 96/07/25 | D13: * | E13: * | F13: * | G13: * | H13: 1396519128001 | I13: =VLOOKUP(H:H,'[1]ریز بدهی ارزی'!A:D,4,0) -> Black Gold Traders FZE | J13: =VLOOKUP(H:H,'[1]ریز بدهی ارزی'!A:C,3,0) -> 3000000 | K13: =SUMIF('[1]ریز بدهی ارزی'!A:A,'pio قراردادهای بدهی '!H:H,'[1]ریز بدهی ارزی'!F:F) -> #VALUE!
A14: 12 | B14: مچینگ (96.07.29) | C14: =VLOOKUP(H:H,'[1]ریز بدهی ارزی'!A:B,2,0) -> 96/07/30 | D14: 17000 | E14: 45000 | F14: =D14+E14 -> 62000 | G14: 10245 | H14: 1396520264001 | I14: =VLOOKUP(H:H,'[1]ریز بدهی ارزی'!A:D,4,0) -> GLOBUS INTERNATIONAL FZE | J14: =VLOOKUP(H:H,'[1]ریز بدهی ارزی'!A:C,3,0) -> 10000000 | K14: =SUMIF('[1]ریز بدهی ارزی'!A:A,'pio قراردادهای بدهی '!H:H,'[1]ریز بدهی ارزی'!F:F) -> #VALUE!
A15: 13 | B15: عرضه | C15: =VLOOKUP(H:H,'[1]ریز بدهی ارزی'!A:B,2,0) -> 96/08/03 | D15: 13000 | E15: 55000 | F15: =D15+E15 -> 68000 | G15: 54725 | H15: 1396521452001 | I15: =VLOOKUP(H:H,'[1]ریز بدهی ارزی'!A:D,4,0) -> DAXON PETROLEUM | J15: =VLOOKUP(H:H,'[1]ریز بدهی ارزی'!A:C,3,0) -> 8000000 | K15: =SUMIF('[1]ریز بدهی ارزی'!A:A,'pio قراردادهای بدهی '!H:H,'[1]ریز بدهی ارزی'!F:F) -> #VALUE!
A16: 14 | B16: عرضه | C16: =VLOOKUP(H:H,'[1]ریز بدهی ارزی'!A:B,2,0) -> 96/08/03 | D16: * | E16: * | F16: * | G16: * | H16: 1396521453001 | I16: =VLOOKUP(H:H,'[1]ریز بدهی ارزی'!A:D,4,0) -> Black Gold Traders FZE | J16: =VLOOKUP(H:H,'[1]ریز بدهی ارزی'!A:C,3,0) -> 5000000 | K16: =SUMIF('[1]ریز بدهی ارزی'!A:A,'pio قراردادهای بدهی '!H:H,'[1]ریز بدهی ارزی'!F:F) -> #VALUE!
A17: 15 | B17: عرضه | C17: =VLOOKUP(H:H,'[1]ریز بدهی ارزی'!A:B,2,0) -> 96/08/03 | D17: * | E17: * | F17: * | G17: * | H17: 1396521455001 | I17: =VLOOKUP(H:H,'[1]ریز بدهی ارزی'!A:D,4,0) -> M/S J.K. Khan Group | J17: =VLOOKUP(H:H,'[1]ریز بدهی ارزی'!A:C,3,0) -> 340000 | K17: =SUMIF('[1]ریز بدهی ارزی'!A:A,'pio قراردادهای بدهی '!H:H,'[1]ریز بدهی ارزی'!F:F) -> #VALUE!
A18: 16 | B18: عرضه | C18: =VLOOKUP(H:H,'[1]ریز بدهی ارزی'!A:B,2,0) -> 96/08/03 | D18: * | E18: * | F18: * | G18: * | H18: 1396521460001 | I18: =VLOOKUP(H:H,'[1]ریز بدهی ارزی'!A:D,4,0) -> Black Gold Traders FZE | J18: =VLOOKUP(H:H,'[1]ریز بدهی ارزی'!A:C,3,0) -> 5000000 | K18: =SUMIF('[1]ریز بدهی ارزی'!A:A,'pio قراردادهای بدهی '!H:H,'[1]ریز بدهی ارزی'!F:F) -> #VALUE!
A19: 17 | B19: عرضه | C19: =VLOOKUP(H:H,'[1]ریز بدهی ارزی'!A:B,2,0) -> 96/08/03 | D19: * | E19: * | F19: * | G19: * | H19: 1396521740001 | I19: =VLOOKUP(H:H,'[1]ریز بدهی ارزی'!A:D,4,0) -> T.K.S TRADING | J19: =VLOOKUP(H:H,'[1]ریز بدهی ارزی'!A:C,3,0) -> 2000000 | K19: =SUMIF('[1]ریز بدهی ارزی'!A:A,'pio قراردادهای بدهی '!H:H,'[1]ریز بدهی ارزی'!F:F) -> #VALUE!
A20: 18 | B20: مچینگ (96.08.03) | C20: =VLOOKUP(H:H,'[1]ریز بدهی ارزی'!A:B,2,0) -> 96/08/06 | D20: * | E20: * | F20: * | G20: * | H20: 1396521766001 | I20: =VLOOKUP(H:H,'[1]ریز بدهی ارزی'!A:D,4,0) -> DAXON PETROLEUM | J20: =VLOOKUP(H:H,'[1]ریز بدهی ارزی'!A:C,3,0) -> 4000000 | K20: =SUMIF('[1]ریز بدهی ارزی'!A:A,'pio قراردادهای بدهی '!H:H,'[1]ریز بدهی ارزی'!F:F) -> #VALUE!
A21: 19 | B21: مچینگ (96.08.03) | C21: =VLOOKUP(H:H,'[1]ریز بدهی ارزی'!A:B,2,0) -> 96/08/06 | D21: * | E21: * | F21: * | G21: * | H21: 1396521808001 | I21: =VLOOKUP(H:H,'[1]ریز بدهی ارزی'!A:D,4,0) -> DAXON PETROLEUM | J21: =VLOOKUP(H:H,'[1]ریز بدهی ارزی'!A:C,3,0) -> 5000000 | K21: =SUMIF('[1]ریز بدهی ارزی'!A:A,'pio قراردادهای بدهی '!H:H,'[1]ریز بدهی ارزی'!F:F) -> #VALUE!
A22: 20 | B22: عرضه | C22: =VLOOKUP(H:H,'[1]ریز بدهی ارزی'!A:B,2,0) -> 96/08/09 | D22: 9000 | E22: 60000 | F22: =D22+E22 -> 69000 | G22: 56395 | H22: 1396522396001 | I22: =VLOOKUP(H:H,'[1]ریز بدهی ارزی'!A:D,4,0) -> SHINING GREEN STAR FZE | J22: =VLOOKUP(H:H,'[1]ریز بدهی ارزی'!A:C,3,0) -> 20000000 | K22: =SUMIF('[1]ریز بدهی ارزی'!A:A,'pio قراردادهای بدهی '!H:H,'[1]ریز بدهی ارزی'!F:F) -> #VALUE!
A23: 21 | B23: عرضه | C23: =VLOOKUP(H:H,'[1]ریز بدهی ارزی'!A:B,2,0) -> 96/08/09 | D23: * | E23: * | F23: * | G23: * | H23: 1396522397001 | I23: =VLOOKUP(H:H,'[1]ریز بدهی ارزی'!A:D,4,0) -> LLC Sebco Bitumen | J23: =VLOOKUP(H:H,'[1]ریز بدهی ارزی'!A:C,3,0) -> 6000000 | K23: =SUMIF('[1]ریز بدهی ارزی'!A:A,'pio قراردادهای بدهی '!H:H,'[1]ریز بدهی ارزی'!F:F) -> #VALUE!
A24: 22 | B24: عرضه | C24: =VLOOKUP(H:H,'[1]ریز بدهی ارزی'!A:B,2,0) -> 96/08/16 | D24: 10000 | E24: 20000 | F24: =D24+E24 -> 30000 | G24: 10000 | H24: 1396524005001 | I24: =VLOOKUP(H:H,'[1]ریز بدهی ارزی'!A:D,4,0) -> Black Gold Traders FZE | J24: =VLOOKUP(H:H,'[1]ریز بدهی ارزی'!A:C,3,0) -> 3500000 | K24: =SUMIF('[1]ریز بدهی ارزی'!A:A,'pio قراردادهای بدهی '!H:H,'[1]ریز بدهی ارزی'!F:F) -> #VALUE!
A25: 23 | B25: عرضه | C25: =VLOOKUP(H:H,'[1]ریز بدهی ارزی'!A:B,2,0) -> 96/08/16 | D25: * | E25: * | F25: * | G25: * | H25: 1396524006001 | I25: =VLOOKUP(H:H,'[1]ریز بدهی ارزی'!A:D,4,0) -> LLC Sebco Bitumen | J25: =VLOOKUP(H:H,'[1]ریز بدهی ارزی'!A:C,3,0) -> 3500000 | K25: =SUMIF('[1]ریز بدهی ارزی'!A:A,'pio قراردادهای بدهی '!H:H,'[1]ریز بدهی ارزی'!F:F) -> #VALUE!
A26: 24 | B26: عرضه | C26: =VLOOKUP(H:H,'[1]ریز بدهی ارزی'!A:B,2,0) -> 96/09/14 | D26: 18000 | E26: 50000 | F26: =D26+E26 -> 68000 | G26: 11110 | H26: 1396529909001 | I26: =VLOOKUP(H:H,'[1]ریز بدهی ارزی'!A:D,4,0) -> Black Gold Traders FZE | J26: =VLOOKUP(H:H,'[1]ریز بدهی ارزی'!A:C,3,0) -> 5000000 | K26: =SUMIF('[1]ریز بدهی ارزی'!A:A,'pio قراردادهای بدهی '!H:H,'[1]ریز بدهی ارزی'!F:F) -> #VALUE!
A27: 25 | B27: عرضه | C27: =VLOOKUP(H:H,'[1]ریز بدهی ارزی'!A:B,2,0) -> 96/10/04 | D27: 18000 | E27: 77000 | F27: =D27+E27 -> 95000 | G27: 42645 | H27: 1396534602001 | I27: =VLOOKUP(H:H,'[1]ریز بدهی ارزی'!A:D,4,0) -> SHINING GREEN STAR FZE | J27: =VLOOKUP(H:H,'[1]ریز بدهی ارزی'!A:C,3,0) -> 15000000 | K27: =SUMIF('[1]ریز بدهی ارزی'!A:A,'pio قراردادهای بدهی '!H:H,'[1]ریز بدهی ارزی'!F:F) -> #VALUE!
A28: 26 | B28: عرضه | C28: =VLOOKUP(H:H,'[1]ریز بدهی ارزی'!A:B,2,0) -> 96/10/04 | D28: * | E28: * | F28: * | G28: * | H28: 1396534629001 | I28: =VLOOKUP(H:H,'[1]ریز بدهی ارزی'!A:D,4,0) -> HERAT GHORBAND CONSTRUCTION COMPANY | J28: =VLOOKUP(H:H,'[1]ریز بدهی ارزی'!A:C,3,0) -> 2000000 | K28: =SUMIF('[1]ریز بدهی ارزی'!A:A,'pio قراردادهای بدهی '!H:H,'[1]ریز بدهی ارزی'!F:F) -> #VALUE!
A29: 27 | B29: عرضه | C29: =VLOOKUP(H:H,'[1]ریز بدهی ارزی'!A:B,2,0) -> 96/10/04 | D29: * | E29: * | F29: * | G29: * | H29: 1396534910001 | I29: =VLOOKUP(H:H,'[1]ریز بدهی ارزی'!A:D,4,0) -> LLC Sebco Bitumen | J29: =VLOOKUP(H:H,'[1]ریز بدهی ارزی'!A:C,3,0) -> 5000000 | K29: =SUMIF('[1]ریز بدهی ارزی'!A:A,'pio قراردادهای بدهی '!H:H,'[1]ریز بدهی ارزی'!F:F) -> #VALUE!
A30: 28 | B30: مچینگ (96.10.04) | C30: =VLOOKUP(H:H,'[1]ریز بدهی ارزی'!A:B,2,0) -> 96/10/06 | D30: * | E30: * | F30: * | G30: * | H30: 1396535690001 | I30: =VLOOKUP(H:H,'[1]ریز بدهی ارزی'!A:D,4,0) -> DAXON PETROLEUM | J30: =VLOOKUP(H:H,'[1]ریز بدهی ارزی'!A:C,3,0) -> 7000000 | K30: =SUMIF('[1]ریز بدهی ارزی'!A:A,'pio قراردادهای بدهی '!H:H,'[1]ریز بدهی ارزی'!F:F) -> #VALUE!
A31: 29 | B31: عرضه | C31: =VLOOKUP(H:H,'[1]ریز بدهی ارزی'!A:B,2,0) -> 96/10/12 | D31: 18000 | E31: 42000 | F31: =D31+E31 -> 60000 | G31: 16075 | H31: 1396536908001 | I31: =VLOOKUP(H:H,'[1]ریز بدهی ارزی'!A:D,4,0) -> Black Gold Traders FZE | J31: =VLOOKUP(H:H,'[1]ریز بدهی ارزی'!A:C,3,0) -> 3000000 | K31: =SUMIF('[1]ریز بدهی ارزی'!A:A,'pio قراردادهای بدهی '!H:H,'[1]ریز بدهی ارزی'!F:F) -> #VALUE!
A32: 30 | B32: عرضه | C32: 96/10/12 | D32: * | E32: * | F32: * | G32: * | H32: 1396536910001 | I32: =VLOOKUP(H:H,'[1]ریز بدهی ارزی'!A:D,4,0) -> AL MASAR PETROLUME L.L.C | J32: =VLOOKUP(H:H,'[1]ریز بدهی ارزی'!A:C,3,0) -> 8000000 | K32: =SUMIF('[1]ریز بدهی ارزی'!A:A,'pio قراردادهای بدهی '!H:H,'[1]ریز بدهی ارزی'!F:F) -> #VALUE!
A33: 31 | B33: عرضه | C33: =VLOOKUP(H:H,'[1]ریز بدهی ارزی'!A:B,2,0) -> 96/10/19 | D33: 18000 | E33: 62000 | F33: =D33+E33 -> 80000 | G33: 43575 | H33: 1396538724001 | I33: =VLOOKUP(H:H,'[1]ریز بدهی ارزی'!A:D,4,0) -> DAXON PETROLEUM | J33: =VLOOKUP(H:H,'[1]ریز بدهی ارزی'!A:C,3,0) -> 12000000 | K33: =SUMIF('[1]ریز بدهی ارزی'!A:A,'pio قراردادهای بدهی '!H:H,'[1]ریز بدهی ارزی'!F:F) -> #VALUE!
A34: 32 | B34: عرضه | C34: =VLOOKUP(H:H,'[1]ریز بدهی ارزی'!A:B,2,0) -> 96/10/19 | D34: * | E34: * | F34: * | G34: * | H34: 1396538725001 | I34: =VLOOKUP(H:H,'[1]ریز بدهی ارزی'!A:D,4,0) -> Black Gold Traders FZE | J34: =VLOOKUP(H:H,'[1]ریز بدهی ارزی'!A:C,3,0) -> 3000000 | K34: =SUMIF('[1]ریز بدهی ارزی'!A:A,'pio قراردادهای بدهی '!H:H,'[1]ریز بدهی ارزی'!F:F) -> #VALUE!
A35: 33 | B35: عرضه | C35: =VLOOKUP(H:H,'[1]ریز بدهی ارزی'!A:B,2,0) -> 96/10/19 | D35: * | E35: * | F35: * | G35: * | H35: 1396538726001 | I35: =VLOOKUP(H:H,'[1]ریز بدهی ارزی'!A:D,4,0) -> DAXON PETROLEUM | J35: =VLOOKUP(H:H,'[1]ریز بدهی ارزی'!A:C,3,0) -> 2000000 | K35: =SUMIF('[1]ریز بدهی ارزی'!A:A,'pio قراردادهای بدهی '!H:H,'[1]ریز بدهی ارزی'!F:F) -> #VALUE!
A36: 34 | B36: عرضه | C36: =VLOOKUP(H:H,'[1]ریز بدهی ارزی'!A:B,2,0) -> 96/10/19 | D36: * | E36: * | F36: * | G36: * | H36: 1396538727001 | I36: =VLOOKUP(H:H,'[1]ریز بدهی ارزی'!A:D,4,0) -> Black Gold Traders FZE | J36: =VLOOKUP(H:H,'[1]ریز بدهی ارزی'!A:C,3,0) -> 3000000 | K36: =SUMIF('[1]ریز بدهی ارزی'!A:A,'pio قراردادهای بدهی '!H:H,'[1]ریز بدهی ارزی'!F:F) -> #VALUE!
A37: 35 | B37: عرضه | C37: =VLOOKUP(H:H,'[1]ریز بدهی ارزی'!A:B,2,0) -> 96/10/19 | D37: * | E37: * | F37: * | G37: * | H37: 1396538781001 | I37: =VLOOKUP(H:H,'[1]ریز بدهی ارزی'!A:D,4,0) -> T.K.S TRADING | J37: =VLOOKUP(H:H,'[1]ریز بدهی ارزی'!A:C,3,0) -> 1500000 | K37: =SUMIF('[1]ریز بدهی ارزی'!A:A,'pio قراردادهای بدهی '!H:H,'[1]ریز بدهی ارزی'!F:F) -> #VALUE!
A38: 36 | B38: عرضه | C38: =VLOOKUP(H:H,'[1]ریز بدهی ارزی'!A:B,2,0) -> 96/10/19 | D38: * | E38: * | F38: * | G38: * | H38: 1396539406001 | I38: =VLOOKUP(H:H,'[1]ریز بدهی ارزی'!A:D,4,0) -> GLOBUS INTERNATIONAL FZE | J38: =VLOOKUP(H:H,'[1]ریز بدهی ارزی'!A:C,3,0) -> 2500000 | K38: =SUMIF('[1]ریز بدهی ارزی'!A:A,'pio قراردادهای بدهی '!H:H,'[1]ریز بدهی ارزی'!F:F) -> #VALUE!
A39: 37 | B39: مچینگ (96.10.19) | C39: =VLOOKUP(H:H,'[1]ریز بدهی ارزی'!A:B,2,0) -> 96/10/20 | D39: * | E39: * | F39: * | G39: * | H39: 1396539495001 | I39: =VLOOKUP(H:H,'[1]ریز بدهی ارزی'!A:D,4,0) -> GLOBUS INTERNATIONAL FZE | J39: =VLOOKUP(H:H,'[1]ریز بدهی ارزی'!A:C,3,0) -> 1500000 | K39: =SUMIF('[1]ریز بدهی ارزی'!A:A,'pio قراردادهای بدهی '!H:H,'[1]ریز بدهی ارزی'!F:F) -> #VALUE!
A40: 38 | B40: عرضه | C40: =VLOOKUP(H:H,'[1]ریز بدهی ارزی'!A:B,2,0) -> 96/10/26 | D40: 18000 | E40: 62000 | F40: =D40+E40 -> 80000 | G40: 44098 | H40: 1396540543001 | I40: =VLOOKUP(H:H,'[1]ریز بدهی ارزی'!A:D,4,0) -> SHINING GREEN STAR FZE | J40: =VLOOKUP(H:H,'[1]ریز بدهی ارزی'!A:C,3,0) -> 10000000 | K40: =SUMIF('[1]ریز بدهی ارزی'!A:A,'pio قراردادهای بدهی '!H:H,'[1]ریز بدهی ارزی'!F:F) -> #VALUE!
A41: 39 | B41: عرضه | C41: =VLOOKUP(H:H,'[1]ریز بدهی ارزی'!A:B,2,0) -> 96/10/26 | D41: * | E41: * | F41: * | G41: * | H41: 1396540546001 | I41: =VLOOKUP(H:H,'[1]ریز بدهی ارزی'!A:D,4,0) -> LLC Sebco Bitumen | J41: =VLOOKUP(H:H,'[1]ریز بدهی ارزی'!A:C,3,0) -> 10000000 | K41: =SUMIF('[1]ریز بدهی ارزی'!A:A,'pio قراردادهای بدهی '!H:H,'[1]ریز بدهی ارزی'!F:F) -> #VALUE!
A42: 40 | B42: مچینگ (96.10.26) | C42: =VLOOKUP(H:H,'[1]ریز بدهی ارزی'!A:B,2,0) -> 96/10/27 | D42: * | E42: * | F42: * | G42: * | H42: 1396541464001 | I42: =VLOOKUP(H:H,'[1]ریز بدهی ارزی'!A:D,4,0) -> West Asia Sun LLC | J42: =VLOOKUP(H:H,'[1]ریز بدهی ارزی'!A:C,3,0) -> 2000000 | K42: =SUMIF('[1]ریز بدهی ارزی'!A:A,'pio قراردادهای بدهی '!H:H,'[1]ریز بدهی ارزی'!F:F) -> #VALUE!
A43: 41 | B43: عرضه | C43: =VLOOKUP(H:H,'[1]ریز بدهی ارزی'!A:B,2,0) -> 96/11/03 | D43: 18000 | E43: 62000 | F43: =D43+E43 -> 80000 | G43: 33250 | H43: 1396542480001 | I43: =VLOOKUP(H:H,'[1]ریز بدهی ارزی'!A:D,4,0) -> AL MASAR PETROLUME L.L.C | J43: =VLOOKUP(H:H,'[1]ریز بدهی ارزی'!A:C,3,0) -> 25000000 | K43: =SUMIF('[1]ریز بدهی ارزی'!A:A,'pio قراردادهای بدهی '!H:H,'[1]ریز بدهی ارزی'!F:F) -> #VALUE!
A44: 42 | B44: عرضه | C44: =VLOOKUP(H:H,'[1]ریز بدهی ارزی'!A:B,2,0) -> 96/11/03 | D44: * | E44: * | F44: * | G44: * | H44: 1396542481001 | I44: =VLOOKUP(H:H,'[1]ریز بدهی ارزی'!A:D,4,0) -> BITUBIZ FZE | J44: =VLOOKUP(H:H,'[1]ریز بدهی ارزی'!A:C,3,0) -> 5000000 | K44: =SUMIF('[1]ریز بدهی ارزی'!A:A,'pio قراردادهای بدهی '!H:H,'[1]ریز بدهی ارزی'!F:F) -> #VALUE!
A45: 43 | B45: عرضه | C45: =VLOOKUP(H:H,'[1]ریز بدهی ارزی'!A:B,2,0) -> 96/11/03 | D45: * | E45: * | F45: * | G45: * | H45: 1396543100001 | I45: =VLOOKUP(H:H,'[1]ریز بدهی ارزی'!A:D,4,0) -> DAXON PETROLEUM | J45: =VLOOKUP(H:H,'[1]ریز بدهی ارزی'!A:C,3,0) -> 3000000 | K45: =SUMIF('[1]ریز بدهی ارزی'!A:A,'pio قراردادهای بدهی '!H:H,'[1]ریز بدهی ارزی'!F:F) -> #VALUE!
A46: 44 | B46: عرضه | C46: 96/11/10 | D46: 18000 | E46: 62000 | F46: =D46+E46 -> 80000 | G46: 6650 | H46: 1396544239001 | I46: =VLOOKUP(H:H,'[1]ریز بدهی ارزی'!A:D,4,0) -> M/S J.K. Khan Group | J46: =VLOOKUP(H:H,'[1]ریز بدهی ارزی'!A:C,3,0) -> 400000 | K46: =SUMIF('[1]ریز بدهی ارزی'!A:A,'pio قراردادهای بدهی '!H:H,'[1]ریز بدهی ارزی'!F:F) -> #VALUE!
A47: 45 | B47: عرضه | C47: 96/11/17 | D47: 18000 | E47: 62000 | F47: =D47+E47 -> 80000 | G47: 18220 | H47: 1396546033001 | I47: =VLOOKUP(H:H,'[1]ریز بدهی ارزی'!A:D,4,0) -> Black Gold Traders FZE | J47: =VLOOKUP(H:H,'[1]ریز بدهی ارزی'!A:C,3,0) -> 3000000 | K47: =SUMIF('[1]ریز بدهی ارزی'!A:A,'pio قراردادهای بدهی '!H:H,'[1]ریز بدهی ارزی'!F:F) -> #VALUE!
A48: 46 | B48: عرضه | C48: 96/11/17 | D48: * | E48: * | F48: * | G48: * | H48: 1396546034001 | I48: =VLOOKUP(H:H,'[1]ریز بدهی ارزی'!A:D,4,0) -> Elixir General Trading FZE | J48: =VLOOKUP(H:H,'[1]ریز بدهی ارزی'!A:C,3,0) -> 2000000 | K48: =SUMIF('[1]ریز بدهی ارزی'!A:A,'pio قراردادهای بدهی '!H:H,'[1]ریز بدهی ارزی'!F:F) -> #VALUE!
A49: 47 | B49: عرضه | C49: 96/11/17 | D49: * | E49: * | F49: * | G49: * | H49: 1396546035001 | I49: =VLOOKUP(H:H,'[1]ریز بدهی ارزی'!A:D,4,0) -> AL MASAR PETROLUME L.L.C | J49: =VLOOKUP(H:H,'[1]ریز بدهی ارزی'!A:C,3,0) -> 3000000 | K49: =SUMIF('[1]ریز بدهی ارزی'!A:A,'pio قراردادهای بدهی '!H:H,'[1]ریز بدهی ارزی'!F:F) -> #VALUE!
A50: 48 | B50: عرضه | C50: =VLOOKUP(H:H,'[1]ریز بدهی ارزی'!A:B,2,0) -> 96/11/17 | D50: * | E50: * | F50: * | G50: * | H50: 1396546618001 | I50: =VLOOKUP(H:H,'[1]ریز بدهی ارزی'!A:D,4,0) -> LLC Sebco Bitumen | J50: =VLOOKUP(H:H,'[1]ریز بدهی ارزی'!A:C,3,0) -> 10000000 | K50: =SUMIF('[1]ریز بدهی ارزی'!A:A,'pio قراردادهای بدهی '!H:H,'[1]ریز بدهی ارزی'!F:F) -> #VALUE!
A51: 49 | B51: عرضه | C51: =VLOOKUP(H:H,'[1]ریز بدهی ارزی'!A:B,2,0) -> 96/11/25 | D51: 21000 | E51: 107000 | F51: =D51+E51 -> 128000 | G51: 109000 | H51: 1396548700001 | I51: =VLOOKUP(H:H,'[1]ریز بدهی ارزی'!A:D,4,0) -> DAXON PETROLEUM | J51: =VLOOKUP(H:H,'[1]ریز بدهی ارزی'!A:C,3,0) -> 20000000 | K51: =SUMIF('[1]ریز بدهی ارزی'!A:A,'pio قراردادهای بدهی '!H:H,'[1]ریز بدهی ارزی'!F:F) -> #VALUE!
A52: 50 | B52: عرضه | C52: =VLOOKUP(H:H,'[1]ریز بدهی ارزی'!A:B,2,0) -> 96/11/25 | D52: * | E52: * | F52: * | G52: * | H52: 1396548701001 | I52: =VLOOKUP(H:H,'[1]ریز بدهی ارزی'!A:D,4,0) -> HERAT GHORBAND CONSTRUCTION COMPANY | J52: =VLOOKUP(H:H,'[1]ریز بدهی ارزی'!A:C,3,0) -> 1500000 | K52: =SUMIF('[1]ریز بدهی ارزی'!A:A,'pio قراردادهای بدهی '!H:H,'[1]ریز بدهی ارزی'!F:F) -> #VALUE!
A53: 51 | B53: عرضه | C53: =VLOOKUP(H:H,'[1]ریز بدهی ارزی'!A:B,2,0) -> 96/11/25 | D53: * | E53: * | F53: * | G53: * | H53: 1396548703001 | I53: =VLOOKUP(H:H,'[1]ریز بدهی ارزی'!A:D,4,0) -> SHINING GREEN STAR FZE | J53: =VLOOKUP(H:H,'[1]ریز بدهی ارزی'!A:C,3,0) -> 20000000 | K53: =SUMIF('[1]ریز بدهی ارزی'!A:A,'pio قراردادهای بدهی '!H:H,'[1]ریز بدهی ارزی'!F:F) -> #VALUE!
A54: 52 | B54: عرضه | C54: =VLOOKUP(H:H,'[1]ریز بدهی ارزی'!A:B,2,0) -> 96/11/25 | D54: * | E54: * | F54: * | G54: * | H54: 1396548704001 | I54: =VLOOKUP(H:H,'[1]ریز بدهی ارزی'!A:D,4,0) -> LLC Sebco Bitumen | J54: =VLOOKUP(H:H,'[1]ریز بدهی ارزی'!A:C,3,0) -> 35000000 | K54: =SUMIF('[1]ریز بدهی ارزی'!A:A,'pio قراردادهای بدهی '!H:H,'[1]ریز بدهی ارزی'!F:F) -> #VALUE!
A55: 53 | B55: عرضه | C55: 96/11/25 | D55: * | E55: * | F55: * | G55: * | H55: 1396548706001 | I55: =VLOOKUP(H:H,'[1]ریز بدهی ارزی'!A:D,4,0) -> West Asia Sun LLC | J55: =VLOOKUP(H:H,'[1]ریز بدهی ارزی'!A:C,3,0) -> 2000000 | K55: =SUMIF('[1]ریز بدهی ارزی'!A:A,'pio قراردادهای بدهی '!H:H,'[1]ریز بدهی ارزی'!F:F) -> #VALUE!
A56: 54 | B56: عرضه | C56: 96/11/25 | D56: * | E56: * | F56: * | G56: * | H56: 1396548707001 | I56: =VLOOKUP(H:H,'[1]ریز بدهی ارزی'!A:D,4,0) -> Black Gold Traders FZE | J56: =VLOOKUP(H:H,'[1]ریز بدهی ارزی'!A:C,3,0) -> 3000000 | K56: =SUMIF('[1]ریز بدهی ارزی'!A:A,'pio قراردادهای بدهی '!H:H,'[1]ریز بدهی ارزی'!F:F) -> #VALUE!
A57: 55 | B57: عرضه | C57: =VLOOKUP(H:H,'[1]ریز بدهی ارزی'!A:B,2,0) -> 96/11/25 | D57: * | E57: * | F57: * | G57: * | H57: 1396548708001 | I57: =VLOOKUP(H:H,'[1]ریز بدهی ارزی'!A:D,4,0) -> DAXON PETROLEUM | J57: =VLOOKUP(H:H,'[1]ریز بدهی ارزی'!A:C,3,0) -> 3000000 | K57: =SUMIF('[1]ریز بدهی ارزی'!A:A,'pio قراردادهای بدهی '!H:H,'[1]ریز بدهی ارزی'!F:F) -> #VALUE!
A58: 56 | B58: عرضه | C58: 96/11/25 | D58: * | E58: * | F58: * | G58: * | H58: 1396548709001 | I58: =VLOOKUP(H:H,'[1]ریز بدهی ارزی'!A:D,4,0) -> Black Gold Traders FZE | J58: =VLOOKUP(H:H,'[1]ریز بدهی ارزی'!A:C,3,0) -> 2000000 | K58: =SUMIF('[1]ریز بدهی ارزی'!A:A,'pio قراردادهای بدهی '!H:H,'[1]ریز بدهی ارزی'!F:F) -> #VALUE!
A59: 57 | B59: عرضه | C59: 96/11/25 | D59: * | E59: * | F59: * | G59: * | H59: 1396548710001 | I59: =VLOOKUP(H:H,'[1]ریز بدهی ارزی'!A:D,4,0) -> AL MASAR PETROLUME L.L.C | J59: =VLOOKUP(H:H,'[1]ریز بدهی ارزی'!A:C,3,0) -> 2000000 | K59: =SUMIF('[1]ریز بدهی ارزی'!A:A,'pio قراردادهای بدهی '!H:H,'[1]ریز بدهی ارزی'!F:F) -> #VALUE!
A60: 58 | B60: عرضه | C60: 96/11/25 | D60: * | E60: * | F60: * | G60: * | H60: 1396548895001 | I60: =VLOOKUP(H:H,'[1]ریز بدهی ارزی'!A:D,4,0) -> Black Gold Traders FZE | J60: =VLOOKUP(H:H,'[1]ریز بدهی ارزی'!A:C,3,0) -> 5000000 | K60: =SUMIF('[1]ریز بدهی ارزی'!A:A,'pio قراردادهای بدهی '!H:H,'[1]ریز بدهی ارزی'!F:F) -> #VALUE!
A61: 59 | B61: عرضه | C61: 96/12/13 | D61: 15000 | E61: 40000 | F61: =D61+E61 -> 55000 | G61: 4100 | H61: 1396552140001 | I61: =VLOOKUP(H:H,'[1]ریز بدهی ارزی'!A:D,4,0) -> PETRO FOLIO | J61: =VLOOKUP(H:H,'[1]ریز بدهی ارزی'!A:C,3,0) -> 3000000 | K61: =SUMIF('[1]ریز بدهی ارزی'!A:A,'pio قراردادهای بدهی '!H:H,'[1]ریز بدهی ارزی'!F:F) -> #VALUE!
A62: 60 | B62: عرضه | C62: 96/12/13 | D62: * | E62: * | F62: * | G62: * | H62: 1396552143001 | I62: =VLOOKUP(H:H,'[1]ریز بدهی ارزی'!A:D,4,0) -> M/S J.K. Khan Group | J62: =VLOOKUP(H:H,'[1]ریز بدهی ارزی'!A:C,3,0) -> 400000 | K62: =SUMIF('[1]ریز بدهی ارزی'!A:A,'pio قراردادهای بدهی '!H:H,'[1]ریز بدهی ارزی'!F:F) -> #VALUE!
A63: 61 | B63: عرضه | C63: 96/12/20 | D63: 15000 | E63: 45000 | F63: =D63+E63 -> 60000 | G63: 36000 | H63: 1396553902001 | I63: =VLOOKUP(H:H,'[1]ریز بدهی ارزی'!A:D,4,0) -> HERAT GHORBAND CONSTRUCTION COMPANY | J63: =VLOOKUP(H:H,'[1]ریز بدهی ارزی'!A:C,3,0) -> 1000000 | K63: =SUMIF('[1]ریز بدهی ارزی'!A:A,'pio قراردادهای بدهی '!H:H,'[1]ریز بدهی ارزی'!F:F) -> #VALUE!
A64: 62 | B64: عرضه | C64: 96/12/20 | D64: * | E64: * | F64: * | G64: * | H64: 1396553903001 | I64: =VLOOKUP(H:H,'[1]ریز بدهی ارزی'!A:D,4,0) -> AL MASAR PETROLUME L.L.C | J64: =VLOOKUP(H:H,'[1]ریز بدهی ارزی'!A:C,3,0) -> 25000000 | K64: =SUMIF('[1]ریز بدهی ارزی'!A:A,'pio قراردادهای بدهی '!H:H,'[1]ریز بدهی ارزی'!F:F) -> #VALUE!
A65: 63 | B65: عرضه | C65: =VLOOKUP(H:H,'[1]ریز بدهی ارزی'!A:B,2,0) -> 97/01/27 | D65: 15000 | E65: 100000 | F65: =D65+E65 -> 115000 | G65: 100000 | H65: 1397558719001 | I65: =VLOOKUP(H:H,'[1]ریز بدهی ارزی'!A:D,4,0) -> BITUBIZ FZE | J65: =VLOOKUP(H:H,'[1]ریز بدهی ارزی'!A:C,3,0) -> 2000000 | K65: =SUMIF('[1]ریز بدهی ارزی'!A:A,'pio قراردادهای بدهی '!H:H,'[1]ریز بدهی ارزی'!F:F) -> #VALUE!
A66: 64 | B66: عرضه | C66: =VLOOKUP(H:H,'[1]ریز بدهی ارزی'!A:B,2,0) -> 97/01/27 | D66: * | E66: * | F66: * | G66: * | H66: 1397558720001 | I66: =VLOOKUP(H:H,'[1]ریز بدهی ارزی'!A:D,4,0) -> LLC Sebco Bitumen | J66: =VLOOKUP(H:H,'[1]ریز بدهی ارزی'!A:C,3,0) -> 10000000 | K66: =SUMIF('[1]ریز بدهی ارزی'!A:A,'pio قراردادهای بدهی '!H:H,'[1]ریز بدهی ارزی'!F:F) -> #VALUE!
A67: 65 | B67: عرضه | C67: =VLOOKUP(H:H,'[1]ریز بدهی ارزی'!A:B,2,0) -> 97/01/27 | D67: * | E67: * | F67: * | G67: * | H67: 1397558721001 | I67: =VLOOKUP(H:H,'[1]ریز بدهی ارزی'!A:D,4,0) -> LEADING IN HIGHER OBJECTIVES LLC | J67: =VLOOKUP(H:H,'[1]ریز بدهی ارزی'!A:C,3,0) -> 6000000 | K67: =SUMIF('[1]ریز بدهی ارزی'!A:A,'pio قراردادهای بدهی '!H:H,'[1]ریز بدهی ارزی'!F:F) -> #VALUE!
A68: 66 | B68: عرضه | C68: =VLOOKUP(H:H,'[1]ریز بدهی ارزی'!A:B,2,0) -> 97/01/27 | D68: * | E68: * | F68: * | G68: * | H68: 1397558723001 | I68: =VLOOKUP(H:H,'[1]ریز بدهی ارزی'!A:D,4,0) -> VEHRON INTERNATIONAL FZC | J68: =VLOOKUP(H:H,'[1]ریز بدهی ارزی'!A:C,3,0) -> 1500000 | K68: =SUMIF('[1]ریز بدهی ارزی'!A:A,'pio قراردادهای بدهی '!H:H,'[1]ریز بدهی ارزی'!F:F) -> #VALUE!
A69: 67 | B69: عرضه | C69: =VLOOKUP(H:H,'[1]ریز بدهی ارزی'!A:B,2,0) -> 97/01/27 | D69: * | E69: * | F69: * | G69: * | H69: 1397558724001 | I69: =VLOOKUP(H:H,'[1]ریز بدهی ارزی'!A:D,4,0) -> West Asia Sun LLC | J69: =VLOOKUP(H:H,'[1]ریز بدهی ارزی'!A:C,3,0) -> 2000000 | K69: =SUMIF('[1]ریز بدهی ارزی'!A:A,'pio قراردادهای بدهی '!H:H,'[1]ریز بدهی ارزی'!F:F) -> #VALUE!
A70: 68 | B70: عرضه | C70: =VLOOKUP(H:H,'[1]ریز بدهی ارزی'!A:B,2,0) -> 97/01/27 | D70: * | E70: * | F70: * | G70: * | H70: 1397558725001 | I70: =VLOOKUP(H:H,'[1]ریز بدهی ارزی'!A:D,4,0) -> PETRO FOLIO | J70: =VLOOKUP(H:H,'[1]ریز بدهی ارزی'!A:C,3,0) -> 15000000 | K70: =SUMIF('[1]ریز بدهی ارزی'!A:A,'pio قراردادهای بدهی '!H:H,'[1]ریز بدهی ارزی'!F:F) -> #VALUE!
A71: 69 | B71: عرضه | C71: =VLOOKUP(H:H,'[1]ریز بدهی ارزی'!A:B,2,0) -> 97/01/27 | D71: * | E71: * | F71: * | G71: * | H71: 1397558726001 | I71: =VLOOKUP(H:H,'[1]ریز بدهی ارزی'!A:D,4,0) -> HERAT GHORBAND CONSTRUCTION COMPANY | J71: =VLOOKUP(H:H,'[1]ریز بدهی ارزی'!A:C,3,0) -> 4000000 | K71: =SUMIF('[1]ریز بدهی ارزی'!A:A,'pio قراردادهای بدهی '!H:H,'[1]ریز بدهی ارزی'!F:F) -> #VALUE!
A72: 70 | B72: عرضه | C72: =VLOOKUP(H:H,'[1]ریز بدهی ارزی'!A:B,2,0) -> 97/01/27 | D72: * | E72: * | F72: * | G72: * | H72: 1397558727001 | I72: =VLOOKUP(H:H,'[1]ریز بدهی ارزی'!A:D,4,0) -> AL MASAR PETROLUME L.L.C | J72: =VLOOKUP(H:H,'[1]ریز بدهی ارزی'!A:C,3,0) -> 10000000 | K72: =SUMIF('[1]ریز بدهی ارزی'!A:A,'pio قراردادهای بدهی '!H:H,'[1]ریز بدهی ارزی'!F:F) -> #VALUE!
A73: 71 | B73: عرضه | C73: =VLOOKUP(H:H,'[1]ریز بدهی ارزی'!A:B,2,0) -> 97/01/27 | D73: * | E73: * | F73: * | G73: * | H73: 1397558728001 | I73: =VLOOKUP(H:H,'[1]ریز بدهی ارزی'!A:D,4,0) -> JANSONS TRADING FZE | J73: =VLOOKUP(H:H,'[1]ریز بدهی ارزی'!A:C,3,0) -> 15000000 | K73: =SUMIF('[1]ریز بدهی ارزی'!A:A,'pio قراردادهای بدهی '!H:H,'[1]ریز بدهی ارزی'!F:F) -> #VALUE!
A74: 72 | B74: عرضه | C74: =VLOOKUP(H:H,'[1]ریز بدهی ارزی'!A:B,2,0) -> 97/01/27 | D74: * | E74: * | F74: * | G74: * | H74: 1397558729001 | I74: =VLOOKUP(H:H,'[1]ریز بدهی ارزی'!A:D,4,0) -> DAXON PETROLEUM | J74: =VLOOKUP(H:H,'[1]ریز بدهی ارزی'!A:C,3,0) -> 10000000 | K74: =SUMIF('[1]ریز بدهی ارزی'!A:A,'pio قراردادهای بدهی '!H:H,'[1]ریز بدهی ارزی'!F:F) -> #VALUE!
A75: 73 | B75: عرضه | C75: =VLOOKUP(H:H,'[1]ریز بدهی ارزی'!A:B,2,0) -> 97/01/27 | D75: * | E75: * | F75: * | G75: * | H75: 1397558772001 | I75: =VLOOKUP(H:H,'[1]ریز بدهی ارزی'!A:D,4,0) -> LLC Black Gem Business | J75: =VLOOKUP(H:H,'[1]ریز بدهی ارزی'!A:C,3,0) -> 5000000 | K75: =SUMIF('[1]ریز بدهی ارزی'!A:A,'pio قراردادهای بدهی '!H:H,'[1]ریز بدهی ارزی'!F:F) -> #VALUE!
A76: 74 | B76: عرضه | C76: =VLOOKUP(H:H,'[1]ریز بدهی ارزی'!A:B,2,0) -> 97/01/27 | D76: * | E76: * | F76: * | G76: * | H76: 1397558774001 | I76: =VLOOKUP(H:H,'[1]ریز بدهی ارزی'!A:D,4,0) -> HERAT GHORBAND CONSTRUCTION COMPANY | J76: =VLOOKUP(H:H,'[1]ریز بدهی ارزی'!A:C,3,0) -> 3500000 | K76: =SUMIF('[1]ریز بدهی ارزی'!A:A,'pio قراردادهای بدهی '!H:H,'[1]ریز بدهی ارزی'!F:F) -> #VALUE!
A77: 75 | B77: عرضه | C77: =VLOOKUP(H:H,'[1]ریز بدهی ارزی'!A:B,2,0) -> 97/01/29 | D77: 15000 | E77: 75000 | F77: =D77+E77 -> 90000 | G77: 45750 | H77: 1397560052001 | I77: =VLOOKUP(H:H,'[1]ریز بدهی ارزی'!A:D,4,0) -> AL MASAR PETROLUME L.L.C | J77: =VLOOKUP(H:H,'[1]ریز بدهی ارزی'!A:C,3,0) -> 40000000 | K77: =SUMIF('[1]ریز بدهی ارزی'!A:A,'pio قراردادهای بدهی '!H:H,'[1]ریز بدهی ارزی'!F:F) -> #VALUE!
A78: 76 | B78: عرضه | C78: =VLOOKUP(H:H,'[1]ریز بدهی ارزی'!A:B,2,0) -> 97/01/29 | D78: * | E78: * | F78: * | G78: * | H78: 1397560053001 | I78: =VLOOKUP(H:H,'[1]ریز بدهی ارزی'!A:D,4,0) -> GLOBUS INTERNATIONAL FZE | J78: =VLOOKUP(H:H,'[1]ریز بدهی ارزی'!A:C,3,0) -> 4500000 | K78: =SUMIF('[1]ریز بدهی ارزی'!A:A,'pio قراردادهای بدهی '!H:H,'[1]ریز بدهی ارزی'!F:F) -> #VALUE!
A79: 77 | B79: عرضه | C79: =VLOOKUP(H:H,'[1]ریز بدهی ارزی'!A:B,2,0) -> 97/01/29 | D79: * | E79: * | F79: * | G79: * | H79: 1397560081001 | I79: =VLOOKUP(H:H,'[1]ریز بدهی ارزی'!A:D,4,0) -> T.K.S TRADING | J79: =VLOOKUP(H:H,'[1]ریز بدهی ارزی'!A:C,3,0) -> 500000 | K79: =SUMIF('[1]ریز بدهی ارزی'!A:A,'pio قراردادهای بدهی '!H:H,'[1]ریز بدهی ارزی'!F:F) -> #VALUE!
A80: 78 | B80: عرضه | C80: =VLOOKUP(H:H,'[1]ریز بدهی ارزی'!A:B,2,0) -> 97/02/04 | D80: 15000 | E80: 85000 | F80: =D80+E80 -> 100000 | G80: 99240 | H80: 1397561054001 | I80: =VLOOKUP(H:H,'[1]ریز بدهی ارزی'!A:D,4,0) -> Areej For Marketing | J80: =VLOOKUP(H:H,'[1]ریز بدهی ارزی'!A:C,3,0) -> 10000000 | K80: =SUMIF('[1]ریز بدهی ارزی'!A:A,'pio قراردادهای بدهی '!H:H,'[1]ریز بدهی ارزی'!F:F) -> #VALUE!
A81: 79 | B81: عرضه | C81: =VLOOKUP(H:H,'[1]ریز بدهی ارزی'!A:B,2,0) -> 97/02/04 | D81: * | E81: * | F81: * | G81: * | H81: 1397561055001 | I81: =VLOOKUP(H:H,'[1]ریز بدهی ارزی'!A:D,4,0) -> DAXON PETROLEUM | J81: =VLOOKUP(H:H,'[1]ریز بدهی ارزی'!A:C,3,0) -> 12000000 | K81: =SUMIF('[1]ریز بدهی ارزی'!A:A,'pio قراردادهای بدهی '!H:H,'[1]ریز بدهی ارزی'!F:F) -> #VALUE!
A82: 80 | B82: عرضه | C82: =VLOOKUP(H:H,'[1]ریز بدهی ارزی'!A:B,2,0) -> 97/02/04 | D82: * | E82: * | F82: * | G82: * | H82: 1397561056001 | I82: =VLOOKUP(H:H,'[1]ریز بدهی ارزی'!A:D,4,0) -> M/S J.K. Khan Group | J82: =VLOOKUP(H:H,'[1]ریز بدهی ارزی'!A:C,3,0) -> 200000 | K82: =SUMIF('[1]ریز بدهی ارزی'!A:A,'pio قراردادهای بدهی '!H:H,'[1]ریز بدهی ارزی'!F:F) -> #VALUE!
A83: 81 | B83: عرضه | C83: =VLOOKUP(H:H,'[1]ریز بدهی ارزی'!A:B,2,0) -> 97/02/04 | D83: * | E83: * | F83: * | G83: * | H83: 1397561057001 | I83: =VLOOKUP(H:H,'[1]ریز بدهی ارزی'!A:D,4,0) -> M/S J.K. Khan Group | J83: =VLOOKUP(H:H,'[1]ریز بدهی ارزی'!A:C,3,0) -> 150000 | K83: =SUMIF('[1]ریز بدهی ارزی'!A:A,'pio قراردادهای بدهی '!H:H,'[1]ریز بدهی ارزی'!F:F) -> #VALUE!
A84: 82 | B84: عرضه | C84: =VLOOKUP(H:H,'[1]ریز بدهی ارزی'!A:B,2,0) -> 97/02/04 | D84: * | E84: * | F84: * | G84: * | H84: 1397561058001 | I84: =VLOOKUP(H:H,'[1]ریز بدهی ارزی'!A:D,4,0) -> LLC Sebco Bitumen | J84: =VLOOKUP(H:H,'[1]ریز بدهی ارزی'!A:C,3,0) -> 15000000 | K84: =SUMIF('[1]ریز بدهی ارزی'!A:A,'pio قراردادهای بدهی '!H:H,'[1]ریز بدهی ارزی'!F:F) -> #VALUE!
A85: 83 | B85: عرضه | C85: =VLOOKUP(H:H,'[1]ریز بدهی ارزی'!A:B,2,0) -> 97/02/04 | D85: * | E85: * | F85: * | G85: * | H85: 1397561059001 | I85: =VLOOKUP(H:H,'[1]ریز بدهی ارزی'!A:D,4,0) -> M/S J.K. Khan Group | J85: =VLOOKUP(H:H,'[1]ریز بدهی ارزی'!A:C,3,0) -> 150000 | K85: =SUMIF('[1]ریز بدهی ارزی'!A:A,'pio قراردادهای بدهی '!H:H,'[1]ریز بدهی ارزی'!F:F) -> #VALUE!
A86: 84 | B86: عرضه | C86: =VLOOKUP(H:H,'[1]ریز بدهی ارزی'!A:B,2,0) -> 97/02/04 | D86: * | E86: * | F86: * | G86: * | H86: 1397561061001 | I86: =VLOOKUP(H:H,'[1]ریز بدهی ارزی'!A:D,4,0) -> LEADING IN HIGHER OBJECTIVES LLC | J86: =VLOOKUP(H:H,'[1]ریز بدهی ارزی'!A:C,3,0) -> 7500000 | K86: =SUMIF('[1]ریز بدهی ارزی'!A:A,'pio قراردادهای بدهی '!H:H,'[1]ریز بدهی ارزی'!F:F) -> #VALUE!
A87: 85 | B87: عرضه | C87: =VLOOKUP(H:H,'[1]ریز بدهی ارزی'!A:B,2,0) -> 97/02/04 | D87: * | E87: * | F87: * | G87: * | H87: 1397561062001 | I87: =VLOOKUP(H:H,'[1]ریز بدهی ارزی'!A:D,4,0) -> GLOBUS INTERNATIONAL FZE | J87: =VLOOKUP(H:H,'[1]ریز بدهی ارزی'!A:C,3,0) -> 5000000 | K87: =SUMIF('[1]ریز بدهی ارزی'!A:A,'pio قراردادهای بدهی '!H:H,'[1]ریز بدهی ارزی'!F:F) -> #VALUE!
A88: 86 | B88: عرضه | C88: =VLOOKUP(H:H,'[1]ریز بدهی ارزی'!A:B,2,0) -> 97/02/04 | D88: * | E88: * | F88: * | G88: * | H88: 1397561063001 | I88: =VLOOKUP(H:H,'[1]ریز بدهی ارزی'!A:D,4,0) -> AL MASAR PETROLUME L.L.C | J88: =VLOOKUP(H:H,'[1]ریز بدهی ارزی'!A:C,3,0) -> 7000000 | K88: =SUMIF('[1]ریز بدهی ارزی'!A:A,'pio قراردادهای بدهی '!H:H,'[1]ریز بدهی ارزی'!F:F) -> #VALUE!
A89: 87 | B89: عرضه | C89: =VLOOKUP(H:H,'[1]ریز بدهی ارزی'!A:B,2,0) -> 97/02/04 | D89: * | E89: * | F89: * | G89: * | H89: 1397561078001 | I89: =VLOOKUP(H:H,'[1]ریز بدهی ارزی'!A:D,4,0) -> HERAT GHORBAND CONSTRUCTION COMPANY | J89: =VLOOKUP(H:H,'[1]ریز بدهی ارزی'!A:C,3,0) -> 5000000 | K89: =SUMIF('[1]ریز بدهی ارزی'!A:A,'pio قراردادهای بدهی '!H:H,'[1]ریز بدهی ارزی'!F:F) -> #VALUE!
A90: 88 | B90: عرضه | C90: =VLOOKUP(H:H,'[1]ریز بدهی ارزی'!A:B,2,0) -> 97/02/04 | D90: * | E90: * | F90: * | G90: * | H90: 1397561079001 | I90: =VLOOKUP(H:H,'[1]ریز بدهی ارزی'!A:D,4,0) -> LEADING IN HIGHER OBJECTIVES LLC | J90: =VLOOKUP(H:H,'[1]ریز بدهی ارزی'!A:C,3,0) -> 2500000 | K90: =SUMIF('[1]ریز بدهی ارزی'!A:A,'pio قراردادهای بدهی '!H:H,'[1]ریز بدهی ارزی'!F:F) -> #VALUE!
A91: 89 | B91: عرضه | C91: =VLOOKUP(H:H,'[1]ریز بدهی ارزی'!A:B,2,0) -> 97/02/04 | D91: * | E91: * | F91: * | G91: * | H91: 1397561080001 | I91: =VLOOKUP(H:H,'[1]ریز بدهی ارزی'!A:D,4,0) -> VEHRON INTERNATIONAL FZC | J91: =VLOOKUP(H:H,'[1]ریز بدهی ارزی'!A:C,3,0) -> 1000000 | K91: =SUMIF('[1]ریز بدهی ارزی'!A:A,'pio قراردادهای بدهی '!H:H,'[1]ریز بدهی ارزی'!F:F) -> #VALUE!
A92: 90 | B92: عرضه | C92: =VLOOKUP(H:H,'[1]ریز بدهی ارزی'!A:B,2,0) -> 97/02/04 | D92: * | E92: * | F92: * | G92: * | H92: 1397561081001 | I92: =VLOOKUP(H:H,'[1]ریز بدهی ارزی'!A:D,4,0) -> West Asia Sun LLC | J92: =VLOOKUP(H:H,'[1]ریز بدهی ارزی'!A:C,3,0) -> 2000000 | K92: =SUMIF('[1]ریز بدهی ارزی'!A:A,'pio قراردادهای بدهی '!H:H,'[1]ریز بدهی ارزی'!F:F) -> #VALUE!
... A94: 92 | B94: عرضه | C94: =VLOOKUP(H:H,'[1]ریز بدهی ارزی'!A:B,2,0) -> 97/02/04 | D94: * | E94: * | F94: * | G94: * | H94: 1397561874001 | I94: =VLOOKUP(H:H,'[1]ریز بدهی ارزی'!A:D,4,0) -> PETRO HUB ENERGY FZE | J94: =VLOOKUP(H:H,'[1]ریز بدهی ارزی'!A:C,3,0) -> 3500000 | K94: =SUMIF('[1]ریز بدهی ارزی'!A:A,'pio قراردادهای بدهی '!H:H,'[1]ریز بدهی ارزی'!F:F) -> #VALUE!
A95: 93 | B95: عرضه | C95: 97/02/04 | D95: * | E95: * | F95: * | G95: * | H95: 1397562108001 | I95: =VLOOKUP(H:H,'[1]ریز بدهی ارزی'!A:D,4,0) -> T.K.S TRADING | J95: =VLOOKUP(H:H,'[1]ریز بدهی ارزی'!A:C,3,0) -> 1000000 | K95: =SUMIF('[1]ریز بدهی ارزی'!A:A,'pio قراردادهای بدهی '!H:H,'[1]ریز بدهی ارزی'!F:F) -> #VALUE!
A96: 94 | B96: مچینگ (97.02.04) | C96: =VLOOKUP(H:H,'[1]ریز بدهی ارزی'!A:B,2,0) -> 97/02/08 | D96: * | E96: * | F96: * | G96: * | H96: 1397562145001 | I96: =VLOOKUP(H:H,'[1]ریز بدهی ارزی'!A:D,4,0) -> BITUBIZ FZE | J96: =VLOOKUP(H:H,'[1]ریز بدهی ارزی'!A:C,3,0) -> 2000000 | K96: =SUMIF('[1]ریز بدهی ارزی'!A:A,'pio قراردادهای بدهی '!H:H,'[1]ریز بدهی ارزی'!F:F) -> #VALUE!
A97: 95 | B97: عرضه | C97: =VLOOKUP(H:H,'[1]ریز بدهی ارزی'!A:B,2,0) -> 97/03/06 | D97: 7000 | E97: 0 | F97: =D97+E97 -> 7000 | G97: 7000 | H97: 1397570122001 | I97: =VLOOKUP(H:H,'[1]ریز بدهی ارزی'!A:D,4,0) -> DAXON PETROLEUM | J97: =VLOOKUP(H:H,'[1]ریز بدهی ارزی'!A:C,3,0) -> 5000000 | K97: =SUMIF('[1]ریز بدهی ارزی'!A:A,'pio قراردادهای بدهی '!H:H,'[1]ریز بدهی ارزی'!F:F) -> #VALUE!
A98: 96 | B98: عرضه | C98: =VLOOKUP(H:H,'[1]ریز بدهی ارزی'!A:B,2,0) -> 97/03/06 | D98: * | E98: * | F98: * | G98: * | H98: 1397570123001 | I98: =VLOOKUP(H:H,'[1]ریز بدهی ارزی'!A:D,4,0) -> AL MASAR PETROLUME L.L.C | J98: =VLOOKUP(H:H,'[1]ریز بدهی ارزی'!A:C,3,0) -> 2000000 | K98: =SUMIF('[1]ریز بدهی ارزی'!A:A,'pio قراردادهای بدهی '!H:H,'[1]ریز بدهی ارزی'!F:F) -> #VALUE!
A99: 97 | B99: عرضه | C99: =VLOOKUP(H:H,'[1]ریز بدهی ارزی'!A:B,2,0) -> 97/03/27 | D99: 12000 | E99: 0 | F99: =D99+E99 -> 12000 | G99: 12000 | H99: 1397575282001 | I99: =VLOOKUP(H:H,'[1]ریز بدهی ارزی'!A:D,4,0) -> DAXON PETROLEUM | J99: =VLOOKUP(H:H,'[1]ریز بدهی ارزی'!A:C,3,0) -> 1750000 | K99: =SUMIF('[1]ریز بدهی ارزی'!A:A,'pio قراردادهای بدهی '!H:H,'[1]ریز بدهی ارزی'!F:F) -> #VALUE!
A100: 98 | B100: عرضه | C100: =VLOOKUP(H:H,'[1]ریز بدهی ارزی'!A:B,2,0) -> 97/03/27 | D100: * | E100: * | F100: * | G100: * | H100: 1397575283001 | I100: =VLOOKUP(H:H,'[1]ریز بدهی ارزی'!A:D,4,0) -> AL MASAR PETROLUME L.L.C | J100: =VLOOKUP(H:H,'[1]ریز بدهی ارزی'!A:C,3,0) -> 10000000 | K100: =SUMIF('[1]ریز بدهی ارزی'!A:A,'pio قراردادهای بدهی '!H:H,'[1]ریز بدهی ارزی'!F:F) -> #VALUE!
A101: 99 | B101: عرضه | C101: =VLOOKUP(H:H,'[1]ریز بدهی ارزی'!A:B,2,0) -> 97/03/30 | D101: 20000 | E101: 0 | F101: =D101+E101 -> 20000 | G101: 20000 | H101: 1397576770001 | I101: =VLOOKUP(H:H,'[1]ریز بدهی ارزی'!A:D,4,0) -> AL MASAR PETROLUME L.L.C | J101: =VLOOKUP(H:H,'[1]ریز بدهی ارزی'!A:C,3,0) -> 2000000 | K101: =SUMIF('[1]ریز بدهی ارزی'!A:A,'pio قراردادهای بدهی '!H:H,'[1]ریز بدهی ارزی'!F:F) -> #VALUE!
...
