Workbook

Sheet pio قراردادهای بدهی 
A1: گزارش قراردادهای مشمول بدهی ارزی شرکت پالایش نفت جی
A2: ردیف | B2: نوع عرضه | C2: تاریخ قرارداد | D2: حداقل عرضه (تن) | E2: حداکثر عرضه (تن) | F2: مقدار عرضه (تن) | G2: مقدار فروش (تن) | H2: شماره قرارداد | I2: نام مشتری | J2: مقدار قرارداد کیلوگرم) | K2: مقدار اظهار (کیلوگرم) شامل بدهی ارزی
A3: 1 | B3: عرضه | C3: 95/09/03 | D3: 33000 | E3: 70000 | F3: =D3+E3 -> 103000 | G3: 62000 | H3: 1395447377001 | I3: =VLOOKUP(H:H,'[1]ریز بدهی ارزی'!A:D,4,0) -> Ivera Holding LTD | J3: =VLOOKUP(H:H,'[1]ریز بدهی ارزی'!A:C,3,0) -> 5000000 | K3: =SUMIF('[1]ریز بدهی ارزی'!A:A,'pio قراردادهای بدهی '!H:H,'[1]ریز بدهی ارزی'!F:F) -> #VALUE!
A4: 2 | B4: مچینگ (95.09.16) | C4: 95/09/21 | D4: 21000 | E4: 30000 | F4: =D4+E4 -> 51000 | G4: 21390 | H4: 1395451221001 | I4: =VLOOKUP(H:H,'[1]ریز بدهی ارزی'!A:D,4,0) -> Ivera Holding LTD | J4: =VLOOKUP(H:H,'[1]ریز بدهی ارزی'!A:C,3,0) -> 7000000 | K4: =SUMIF('[1]ریز بدهی ارزی'!A:A,'pio قراردادهای بدهی '!H:H,'[1]ریز بدهی ارزی'!F:F) -> #VALUE!
A5: 3 | B5: عرضه | C5: =VLOOKUP(H:H,'[1]ریز بدهی ارزی'!A:B,2,0) -> 96/01/21 | D5: 26000 | E5: 90000 | F5: =D5+E5 -> 116000 | G5: 36475 | H5: 1396472851001 | I5: =VLOOKUP(H:H,'[1]ریز بدهی ارزی'!A:D,4,0) -> Elixir General Trading FZE | J5: =VLOOKUP(H:H,'[1]ریز بدهی ارزی'!A:C,3,0) -> 5000000 | K5: =SUMIF('[1]ریز بدهی ارزی'!A:A,'pio قراردادهای بدهی '!H:H,'[1]ریز بدهی ارزی'!F:F) -> #VALUE!
A6: 4 | B6: عرضه | C6: =VLOOKUP(H:H,'[1]ریز بدهی ارزی'!A:B,2,0) -> 96/04/10 | D6: 23000 | E6: 60000 | F6: =D6+E6 -> 83000 | G6: 59050 | H6: 1396491871001 | I6: =VLOOKUP(H:H,'[1]ریز بدهی ارزی'!A:D,4,0) -> AL MASAR PETROLUME L.L.C | J6: =VLOOKUP(H:H,'[1]ریز بدهی ارزی'!A:C,3,0) -> 10000000 | K6: =SUMIF('[1]ریز بدهی ارزی'!A:A,'pio قراردادهای بدهی '!H:H,'[1]ریز بدهی ارزی'!F:F) -> #VALUE!
A7: 5 | B7: عرضه | C7: =VLOOKUP(H:H,'[1]ریز بدهی ارزی'!A:B,2,0) -> 96/07/12 | D7: 7000 | E7: 35000 | F7: =D7+E7 -> 42000 | G7: 8575 | H7: 1396516771001 | I7: =VLOOKUP(H:H,'[1]ریز بدهی ارزی'!A:D,4,0) -> Shahab llc | J7: =VLOOKUP(H:H,'[1]ریز بدهی ارزی'!A:C,3,0) -> 1000000 | K7: =SUMIF('[1]ریز بدهی ارزی'!A:A,'pio قراردادهای بدهی '!H:H,'[1]ریز بدهی ارزی'!F:F) -> #VALUE!
A8: 6 | B8: عرضه | C8: =VLOOKUP(H:H,'[1]ریز بدهی ارزی'!A:B,2,0) -> 96/07/12 | D8: * | E8: * | F8: * | G8: * | H8: 1396516773001 | I8: =VLOOKUP(H:H,'[1]ریز بدهی ارزی'!A:D,4,0) -> AL MASAR PETROLUME L.L.C | J8: =VLOOKUP(H:H,'[1]ریز بدهی ارزی'!A:C,3,0) -> 5000000 | K8: =SUMIF('[1]ریز بدهی ارزی'!A:A,'pio قراردادهای بدهی '!H:H,'[1]ریز بدهی ارزی'!F:F) -> #VALUE!
A9: 7 | B9: مچینگ (96.07.12) | C9: =VLOOKUP(H:H,'[1]ریز بدهی ارزی'!A:B,2,0) -> 96/07/15 | D9: * | E9: * | F9: * | G9: * | H9: 1396516973001 | I9: =VLOOKUP(H:H,'[1]ریز بدهی ارزی'!A:D,4,0) -> M/S J.K. Khan Group | J9: =VLOOKUP(H:H,'[1]ریز بدهی ارزی'!A:C,3,0) -> 250000 | K9: =SUMIF('[1]ریز بدهی ارزی'!A:A,'pio قراردادهای بدهی '!H:H,'[1]ریز بدهی ارزی'!F:F) -> #VALUE!
A10: 8 | B10: عرضه | C10: =VLOOKUP(H:H,'[1]ریز بدهی ارزی'!A:B,2,0) -> 96/07/18 | D10: 13000 | E10: 55000 | F10: =D10+E10 -> 68000 | G10: 42295 | H10: 1396517982001 | I10: =VLOOKUP(H:H,'[1]ریز بدهی ارزی'!A:D,4,0) -> PETRO HUB ENERGY FZE | J10: =VLOOKUP(H:H,'[1]ریز بدهی ارزی'!A:C,3,0) -> 5000000 | K10: =SUMIF('[1]ریز بدهی ارزی'!A:A,'pio قراردادهای بدهی '!H:H,'[1]ریز بدهی ارزی'!F:F) -> #VALUE!
A11: 9 | B11: عرضه | C11: =VLOOKUP(H:H,'[1]ریز بدهی ارزی'!A:B,2,0) -> 96/07/25 | D11: 13000 | E11: 55000 | F11: =D11+E11 -> 68000 | G11: 23000 | H11: 1396519124001 | I11: =VLOOKUP(H:H,'[1]ریز بدهی ارزی'!A:D,4,0) -> Black Gold Traders FZE | J11: =VLOOKUP(H:H,'[1]ریز بدهی ارزی'!A:C,3,0) -> 3000000 | K11: =SUMIF('[1]ریز بدهی ارزی'!A:A,'pio قراردادهای بدهی '!H:H,'[1]ریز بدهی ارزی'!F:F) -> #VALUE!
A12: 10 | B12: عرضه | C12: =VLOOKUP(H:H,'[1]ریز بدهی ارزی'!A:B,2,0) -> 96/07/25 | D12: * | E12: * | F12: * | G12: * | H12: 1396519125001 | I12: =VLOOKUP(H:H,'[1]ریز بدهی ارزی'!A:D,4,0) -> SHINING GREEN STAR FZE | J12: =VLOOKUP(H:H,'[1]ریز بدهی ارزی'!A:C,3,0) -> 3975000 | K12: =SUMIF('[1]ریز بدهی ارزی'!A:A,'pio قراردادهای بدهی '!H:H,'[1]ریز بدهی ارزی'!F:F) -> #VALUE!
A13: 11 | B13: عرضه | C13: 96/07/25 | D13: * | E13: * | F13: * | G13: * | H13: 1396519128001 | I13: =VLOOKUP(H:H,'[1]ریز بدهی ارزی'!A:D,4,0) -> Black Gold Traders FZE | J13: =VLOOKUP(H:H,'[1]ریز بدهی ارزی'!A:C,3,0) -> 3000000 | K13: =SUMIF('[1]ریز بدهی ارزی'!A:A,'pio قراردادهای بدهی '!H:H,'[1]ریز بدهی ارزی'!F:F) -> #VALUE!
A14: 12 | B14: مچینگ (96.07.29) | C14: =VLOOKUP(H:H,'[1]ریز بدهی ارزی'!A:B,2,0) -> 96/07/30 | D14: 17000 | E14: 45000 | F14: =D14+E14 -> 62000 | G14: 10245 | H14: 1396520264001 | I14: =VLOOKUP(H:H,'[1]ریز بدهی ارزی'!A:D,4,0) -> GLOBUS INTERNATIONAL FZE | J14: =VLOOKUP(H:H,'[1]ریز بدهی ارزی'!A:C,3,0) -> 10000000 | K14: =SUMIF('[1]ریز بدهی ارزی'!A:A,'pio قراردادهای بدهی '!H:H,'[1]ریز بدهی ارزی'!F:F) -> #VALUE!
A15: 13 | B15: عرضه | C15: =VLOOKUP(H:H,'[1]ریز بدهی ارزی'!A:B,2,0) -> 96/08/03 | D15: 13000 | E15: 55000 | F15: =D15+E15 -> 68000 | G15: 54725 | H15: 1396521452001 | I15: =VLOOKUP(H:H,'[1]ریز بدهی ارزی'!A:D,4,0) -> DAXON PETROLEUM | J15: =VLOOKUP(H:H,'[1]ریز بدهی ارزی'!A:C,3,0) -> 8000000 | K15: =SUMIF('[1]ریز بدهی ارزی'!A:A,'pio قراردادهای بدهی '!H:H,'[1]ریز بدهی ارزی'!F:F) -> #VALUE!
A16: 14 | B16: عرضه | C16: =VLOOKUP(H:H,'[1]ریز بدهی ارزی'!A:B,2,0) -> 96/08/03 | D16: * | E16: * | F16: * | G16: * | H16: 1396521453001 | I16: =VLOOKUP(H:H,'[1]ریز بدهی ارزی'!A:D,4,0) -> Black Gold Traders FZE | J16: =VLOOKUP(H:H,'[1]ریز بدهی ارزی'!A:C,3,0) -> 5000000 | K16: =SUMIF('[1]ریز بدهی ارزی'!A:A,'pio قراردادهای بدهی '!H:H,'[1]ریز بدهی ارزی'!F:F) -> #VALUE!
A17: 15 | B17: عرضه | C17: =VLOOKUP(H:H,'[1]ریز بدهی ارزی'!A:B,2,0) -> 96/08/03 | D17: * | E17: * | F17: * | G17: * | H17: 1396521455001 | I17: =VLOOKUP(H:H,'[1]ریز بدهی ارزی'!A:D,4,0) -> M/S J.K. Khan Group | J17: =VLOOKUP(H:H,'[1]ریز بدهی ارزی'!A:C,3,0) -> 340000 | K17: =SUMIF('[1]ریز بدهی ارزی'!A:A,'pio قراردادهای بدهی '!H:H,'[1]ریز بدهی ارزی'!F:F) -> #VALUE!
A18: 16 | B18: عرضه | C18: =VLOOKUP(H:H,'[1]ریز بدهی ارزی'!A:B,2,0) -> 96/08/03 | D18: * | E18: * | F18: * | G18: * | H18: 1396521460001 | I18: =VLOOKUP(H:H,'[1]ریز بدهی ارزی'!A:D,4,0) -> Black Gold Traders FZE | J18: =VLOOKUP(H:H,'[1]ریز بدهی ارزی'!A:C,3,0) -> 5000000 | K18: =SUMIF('[1]ریز بدهی ارزی'!A:A,'pio قراردادهای بدهی '!H:H,'[1]ریز بدهی ارزی'!F:F) -> #VALUE!
A19: 17 | B19: عرضه | C19: =VLOOKUP(H:H,'[1]ریز بدهی ارزی'!A:B,2,0) -> 96/08/03 | D19: * | E19: * | F19: * | G19: * | H19: 1396521740001 | I19: =VLOOKUP(H:H,'[1]ریز بدهی ارزی'!A:D,4,0) -> T.K.S TRADING | J19: =VLOOKUP(H:H,'[1]ریز بدهی ارزی'!A:C,3,0) -> 2000000 | K19: =SUMIF('[1]ریز بدهی ارزی'!A:A,'pio قراردادهای بدهی '!H:H,'[1]ریز بدهی ارزی'!F:F) -> #VALUE!
A20: 18 | B20: مچینگ (96.08.03) | C20: =VLOOKUP(H:H,'[1]ریز بدهی ارزی'!A:B,2,0) -> 96/08/06 | D20: * | E20: * | F20: * | G20: * | H20: 1396521766001 | I20: =VLOOKUP(H:H,'[1]ریز بدهی ارزی'!A:D,4,0) -> DAXON PETROLEUM | J20: =VLOOKUP(H:H,'[1]ریز بدهی ارزی'!A:C,3,0) -> 4000000 | K20: =SUMIF('[1]ریز بدهی ارزی'!A:A,'pio قراردادهای بدهی '!H:H,'[1]ریز بدهی ارزی'!F:F) -> #VALUE!
A21: 19 | B21: مچینگ (96.08.03) | C21: =VLOOKUP(H:H,'[1]ریز بدهی ارزی'!A:B,2,0) -> 96/08/06 | D21: * | E21: * | F21: * | G21: * | H21: 1396521808001 | I21: =VLOOKUP(H:H,'[1]ریز بدهی ارزی'!A:D,4,0) -> DAXON PETROLEUM | J21: =VLOOKUP(H:H,'[1]ریز بدهی ارزی'!A:C,3,0) -> 5000000 | K21: =SUMIF('[1]ریز بدهی ارزی'!A:A,'pio قراردادهای بدهی '!H:H,'[1]ریز بدهی ارزی'!F:F) -> #VALUE!
A22: 20 | B22: عرضه | C22: =VLOOKUP(H:H,'[1]ریز بدهی ارزی'!A:B,2,0) -> 96/08/09 | D22: 9000 | E22: 60000 | F22: =D22+E22 -> 69000 | G22: 56395 | H22: 1396522396001 | I22: =VLOOKUP(H:H,'[1]ریز بدهی ارزی'!A:D,4,0) -> SHINING GREEN STAR FZE | J22: =VLOOKUP(H:H,'[1]ریز بدهی ارزی'!A:C,3,0) -> 20000000 | K22: =SUMIF('[1]ریز بدهی ارزی'!A:A,'pio قراردادهای بدهی '!H:H,'[1]ریز بدهی ارزی'!F:F) -> #VALUE!
A23: 21 | B23: عرضه | C23: =VLOOKUP(H:H,'[1]ریز بدهی ارزی'!A:B,2,0) -> 96/08/09 | D23: * | E23: * | F23: * | G23: * | H23: 1396522397001 | I23: =VLOOKUP(H:H,'[1]ریز بدهی ارزی'!A:D,4,0) -> LLC Sebco Bitumen | J23: =VLOOKUP(H:H,'[1]ریز بدهی ارزی'!A:C,3,0) -> 6000000 | K23: =SUMIF('[1]ریز بدهی ارزی'!A:A,'pio قراردادهای بدهی '!H:H,'[1]ریز بدهی ارزی'!F:F) -> #VALUE!
A24: 22 | B24: عرضه | C24: =VLOOKUP(H:H,'[1]ریز بدهی ارزی'!A:B,2,0) -> 96/08/16 | D24: 10000 | E24: 20000 | F24: =D24+E24 -> 30000 | G24: 10000 | H24: 1396524005001 | I24: =VLOOKUP(H:H,'[1]ریز بدهی ارزی'!A:D,4,0) -> Black Gold Traders FZE | J24: =VLOOKUP(H:H,'[1]ریز بدهی ارزی'!A:C,3,0) -> 3500000 | K24: =SUMIF('[1]ریز بدهی ارزی'!A:A,'pio قراردادهای بدهی '!H:H,'[1]ریز بدهی ارزی'!F:F) -> #VALUE!
A25: 23 | B25: عرضه | C25: =VLOOKUP(H:H,'[1]ریز بدهی ارزی'!A:B,2,0) -> 96/08/16 | D25: * | E25: * | F25: * | G25: * | H25: 1396524006001 | I25: =VLOOKUP(H:H,'[1]ریز بدهی ارزی'!A:D,4,0) -> LLC Sebco Bitumen | J25: =VLOOKUP(H:H,'[1]ریز بدهی ارزی'!A:C,3,0) -> 3500000 | K25: =SUMIF('[1]ریز بدهی ارزی'!A:A,'pio قراردادهای بدهی '!H:H,'[1]ریز بدهی ارزی'!F:F) -> #VALUE!
A26: 24 | B26: عرضه | C26: =VLOOKUP(H:H,'[1]ریز بدهی ارزی'!A:B,2,0) -> 96/09/14 | D26: 18000 | E26: 50000 | F26: =D26+E26 -> 68000 | G26: 11110 | H26: 1396529909001 | I26: =VLOOKUP(H:H,'[1]ریز بدهی ارزی'!A:D,4,0) -> Black Gold Traders FZE | J26: =VLOOKUP(H:H,'[1]ریز بدهی ارزی'!A:C,3,0) -> 5000000 | K26: =SUMIF('[1]ریز بدهی ارزی'!A:A,'pio قراردادهای بدهی '!H:H,'[1]ریز بدهی ارزی'!F:F) -> #VALUE!
A27: 25 | B27: عرضه | C27: =VLOOKUP(H:H,'[1]ریز بدهی ارزی'!A:B,2,0) -> 96/10/04 | D27: 18000 | E27: 77000 | F27: =D27+E27 -> 95000 | G27: 42645 | H27: 1396534602001 | I27: =VLOOKUP(H:H,'[1]ریز بدهی ارزی'!A:D,4,0) -> SHINING GREEN STAR FZE | J27: =VLOOKUP(H:H,'[1]ریز بدهی ارزی'!A:C,3,0) -> 15000000 | K27: =SUMIF('[1]ریز بدهی ارزی'!A:A,'pio قراردادهای بدهی '!H:H,'[1]ریز بدهی ارزی'!F:F) -> #VALUE!
A28: 26 | B28: عرضه | C28: =VLOOKUP(H:H,'[1]ریز بدهی ارزی'!A:B,2,0) -> 96/10/04 | D28: * | E28: * | F28: * | G28: * | H28: 1396534629001 | I28: =VLOOKUP(H:H,'[1]ریز بدهی ارزی'!A:D,4,0) -> HERAT GHORBAND CONSTRUCTION COMPANY | J28: =VLOOKUP(H:H,'[1]ریز بدهی ارزی'!A:C,3,0) -> 2000000 | K28: =SUMIF('[1]ریز بدهی ارزی'!A:A,'pio قراردادهای بدهی '!H:H,'[1]ریز بدهی ارزی'!F:F) -> #VALUE!
A29: 27 | B29: عرضه | C29: =VLOOKUP(H:H,'[1]ریز بدهی ارزی'!A:B,2,0) -> 96/10/04 | D29: * | E29: * | F29: * | G29: * | H29: 1396534910001 | I29: =VLOOKUP(H:H,'[1]ریز بدهی ارزی'!A:D,4,0) -> LLC Sebco Bitumen | J29: =VLOOKUP(H:H,'[1]ریز بدهی ارزی'!A:C,3,0) -> 5000000 | K29: =SUMIF('[1]ریز بدهی ارزی'!A:A,'pio قراردادهای بدهی '!H:H,'[1]ریز بدهی ارزی'!F:F) -> #VALUE!
A30: 28 | B30: مچینگ (96.10.04) | C30: =VLOOKUP(H:H,'[1]ریز بدهی ارزی'!A:B,2,0) -> 96/10/06 | D30: * | E30: * | F30: * | G30: * | H30: 1396535690001 | I30: =VLOOKUP(H:H,'[1]ریز بدهی ارزی'!A:D,4,0) -> DAXON PETROLEUM | J30: =VLOOKUP(H:H,'[1]ریز بدهی ارزی'!A:C,3,0) -> 7000000 | K30: =SUMIF('[1]ریز بدهی ارزی'!A:A,'pio قراردادهای بدهی '!H:H,'[1]ریز بدهی ارزی'!F:F) -> #VALUE!
A31: 29 | B31: عرضه | C31: =VLOOKUP(H:H,'[1]ریز بدهی ارزی'!A:B,2,0) -> 96/10/12 | D31: 18000 | E31: 42000 | F31: =D31+E31 -> 60000 | G31: 16075 | H31: 1396536908001 | I31: =VLOOKUP(H:H,'[1]ریز بدهی ارزی'!A:D,4,0) -> Black Gold Traders FZE | J31: =VLOOKUP(H:H,'[1]ریز بدهی ارزی'!A:C,3,0) -> 3000000 | K31: =SUMIF('[1]ریز بدهی ارزی'!A:A,'pio قراردادهای بدهی '!H:H,'[1]ریز بدهی ارزی'!F:F) -> #VALUE!
A32: 30 | B32: عرضه | C32: 96/10/12 | D32: * | E32: * | F32: * | G32: * | H32: 1396536910001 | I32: =VLOOKUP(H:H,'[1]ریز بدهی ارزی'!A:D,4,0) -> AL MASAR PETROLUME L.L.C | J32: =VLOOKUP(H:H,'[1]ریز بدهی ارزی'!A:C,3,0) -> 8000000 | K32: =SUMIF('[1]ریز بدهی ارزی'!A:A,'pio قراردادهای بدهی '!H:H,'[1]ریز بدهی ارزی'!F:F) -> #VALUE!
A33: 31 | B33: عرضه | C33: =VLOOKUP(H:H,'[1]ریز بدهی ارزی'!A:B,2,0) -> 96/10/19 | D33: 18000 | E33: 62000 | F33: =D33+E33 -> 80000 | G33: 43575 | H33: 1396538724001 | I33: =VLOOKUP(H:H,'[1]ریز بدهی ارزی'!A:D,4,0) -> DAXON PETROLEUM | J33: =VLOOKUP(H:H,'[1]ریز بدهی ارزی'!A:C,3,0) -> 12000000 | K33: =SUMIF('[1]ریز بدهی ارزی'!A:A,'pio قراردادهای بدهی '!H:H,'[1]ریز بدهی ارزی'!F:F) -> #VALUE!
A34: 32 | B34: عرضه | C34: =VLOOKUP(H:H,'[1]ریز بدهی ارزی'!A:B,2,0) -> 96/10/19 | D34: * | E34: * | F34: * | G34: * | H34: 1396538725001 | I34: =VLOOKUP(H:H,'[1]ریز بدهی ارزی'!A:D,4,0) -> Black Gold Traders FZE | J34: =VLOOKUP(H:H,'[1]ریز بدهی ارزی'!A:C,3,0) -> 3000000 | K34: =SUMIF('[1]ریز بدهی ارزی'!A:A,'pio قراردادهای بدهی '!H:H,'[1]ریز بدهی ارزی'!F:F) -> #VALUE!
A35: 33 | B35: عرضه | C35: =VLOOKUP(H:H,'[1]ریز بدهی ارزی'!A:B,2,0) -> 96/10/19 | D35: * | E35: * | F35: * | G35: * | H35: 1396538726001 | I35: =VLOOKUP(H:H,'[1]ریز بدهی ارزی'!A:D,4,0) -> DAXON PETROLEUM | J35: =VLOOKUP(H:H,'[1]ریز بدهی ارزی'!A:C,3,0) -> 2000000 | K35: =SUMIF('[1]ریز بدهی ارزی'!A:A,'pio قراردادهای بدهی '!H:H,'[1]ریز بدهی ارزی'!F:F) -> #VALUE!
A36: 34 | B36: عرضه | C36: =VLOOKUP(H:H,'[1]ریز بدهی ارزی'!A:B,2,0) -> 96/10/19 | D36: * | E36: * | F36: * | G36: * | H36: 1396538727001 | I36: =VLOOKUP(H:H,'[1]ریز بدهی ارزی'!A:D,4,0) -> Black Gold Traders FZE | J36: =VLOOKUP(H:H,'[1]ریز بدهی ارزی'!A:C,3,0) -> 3000000 | K36: =SUMIF('[1]ریز بدهی ارزی'!A:A,'pio قراردادهای بدهی '!H:H,'[1]ریز بدهی ارزی'!F:F) -> #VALUE!
A37: 35 | B37: عرضه | C37: =VLOOKUP(H:H,'[1]ریز بدهی ارزی'!A:B,2,0) -> 96/10/19 | D37: * | E37: * | F37: * | G37: * | H37: 1396538781001 | I37: =VLOOKUP(H:H,'[1]ریز بدهی ارزی'!A:D,4,0) -> T.K.S TRADING | J37: =VLOOKUP(H:H,'[1]ریز بدهی ارزی'!A:C,3,0) -> 1500000 | K37: =SUMIF('[1]ریز بدهی ارزی'!A:A,'pio قراردادهای بدهی '!H:H,'[1]ریز بدهی ارزی'!F:F) -> #VALUE!
A38: 36 | B38: عرضه | C38: =VLOOKUP(H:H,'[1]ریز بدهی ارزی'!A:B,2,0) -> 96/10/19 | D38: * | E38: * | F38: * | G38: * | H38: 1396539406001 | I38: =VLOOKUP(H:H,'[1]ریز بدهی ارزی'!A:D,4,0) -> GLOBUS INTERNATIONAL FZE | J38: =VLOOKUP(H:H,'[1]ریز بدهی ارزی'!A:C,3,0) -> 2500000 | K38: =SUMIF('[1]ریز بدهی ارزی'!A:A,'pio قراردادهای بدهی '!H:H,'[1]ریز بدهی ارزی'!F:F) -> #VALUE!
A39: 37 | B39: مچینگ (96.10.19) | C39: =VLOOKUP(H:H,'[1]ریز بدهی ارزی'!A:B,2,0) -> 96/10/20 | D39: * | E39: * | F39: * | G39: * | H39: 1396539495001 | I39: =VLOOKUP(H:H,'[1]ریز بدهی ارزی'!A:D,4,0) -> GLOBUS INTERNATIONAL FZE | J39: =VLOOKUP(H:H,'[1]ریز بدهی ارزی'!A:C,3,0) -> 1500000 | K39: =SUMIF('[1]ریز بدهی ارزی'!A:A,'pio قراردادهای بدهی '!H:H,'[1]ریز بدهی ارزی'!F:F) -> #VALUE!
A40: 38 | B40: عرضه | C40: =VLOOKUP(H:H,'[1]ریز بدهی ارزی'!A:B,2,0) -> 96/10/26 | D40: 18000 | E40: 62000 | F40: =D40+E40 -> 80000 | G40: 44098 | H40: 1396540543001 | I40: =VLOOKUP(H:H,'[1]ریز بدهی ارزی'!A:D,4,0) -> SHINING GREEN STAR FZE | J40: =VLOOKUP(H:H,'[1]ریز بدهی ارزی'!A:C,3,0) -> 10000000 | K40: =SUMIF('[1]ریز بدهی ارزی'!A:A,'pio قراردادهای بدهی '!H:H,'[1]ریز بدهی ارزی'!F:F) -> #VALUE!
...
