Workbook

Sheet گزارش راهکاران
A1: کد مرکز فروش | B1: شماره حواله | C1: تاریخ حواله | D1: نام مشتری | E1: شماره قرارداد بورسی | F1: تاریخ قرارداد بورسی | G1: مقدار قرارداد بورسی | H1: مقدار حواله | I1: مانده حواله | J1: وضعیت حواله | K1: تاریخ اعتبار حواله
A2: 12 | B2: 14031200001 | C2: 1403/01/05 | D2: دیاکو نفت جی | E2: 1402174253001 | F2: 1402/12/13 | G2: 200000 | H2: 200000 | I2: 920 | J2: بسته شده | K2: 1403/01/08
A3: 22 | B3: 14032200001 | C3: 1403/01/05 | D3: الماس خاورمیانه کیش | E3: 1402193405001 | F3: 1402/12/23 | G3: 220000 | H3: 198000 | I3: 0 | J3: بسته شده | K3: 1403/02/05
A4: 22 | B4: 14032200002 | C4: 1403/01/05 | D4: الماس خاورمیانه کیش | E4: 1402193405001 | F4: 1402/12/23 | G4: 220000 | H4: 22000 | I4: 71 | J4: بسته شده | K4: 1403/02/05
A5: 12 | B5: 14031200004 | C5: 1403/01/06 | D5: بیتو تار پارس | E5: 1402179970001 | F5: 1402/12/15 | G5: 2000000 | H5: 1800000 | I5: 0 | J5: بسته شده | K5: 1403/01/15
A6: 12 | B6: 14031200003 | C6: 1403/01/06 | D6: بیتو تار پارس | E6: 1402179969001 | F6: 1402/12/15 | G6: 3000000 | H6: 300000 | I6: 0 | J6: بسته شده | K6: 1403/01/15
A7: 12 | B7: 14031200007 | C7: 1403/01/06 | D7: بیتو تار پارس | E7: 1402179970001 | F7: 1402/12/15 | G7: 2000000 | H7: 200000 | I7: 0 | J7: بسته شده | K7: 1403/01/15
A8: 12 | B8: 14031200002 | C8: 1403/01/06 | D8: بیتو تار پارس | E8: 1402179969001 | F8: 1402/12/15 | G8: 3000000 | H8: 700000 | I8: 0 | J8: بسته شده | K8: 1403/01/15
A9: 12 | B9: 14031200005 | C9: 1403/01/06 | D9: بیتو تار پارس | E9: 1402179971001 | F9: 1402/12/15 | G9: 2000000 | H9: 1800000 | I9: 0 | J9: بسته شده | K9: 1403/01/15
A10: 12 | B10: 14031200006 | C10: 1403/01/06 | D10: بیتو تار پارس | E10: 1402179971001 | F10: 1402/12/15 | G10: 2000000 | H10: 200000 | I10: 0 | J10: بسته شده | K10: 1403/01/15
A11: 12 | B11: 14031200008 | C11: 1403/01/06 | D11: پالایش نفت جی هرمز(همیار جی یزد) | E11: 1402946427001 | F11: 1402/06/29 | G11: 2000000 | H11: 500000 | I11: 137670 | J11: بسته شده | K11: 1403/01/08
A12: 22 | B12: 14032200003 | C12: 1403/01/07 | D12: تولیدی روانساز آرین جم | E12: 1402162226001 | F12: 1402/12/02 | G12: 800000 | H12: 360000 | I12: 5317 | J12: بسته شده | K12: 1403/01/15
A13: 22 | B13: 14032200004 | C13: 1403/01/07 | D13: تولیدی روانساز آرین جم | E13: 1402162226001 | F13: 1402/12/02 | G13: 800000 | H13: 40000 | I13: 14564 | J13: بسته شده | K13: 1403/01/15
... A218: 12 | B218: 14031200143 | C218: 1403/03/12 | D218: مهندسی قیر و آسفالت غرب | E218: 1403089025001 | F218: 1403/03/09 | G218: 200000 | H218: 200000 | I218: 200000 | J218: ثبت شده | K218: 1403/04/08

Sheet گزارش راهکاران فله
A1: نام مشتری | B1: شماره قرارداد بورسی | C1: تاریخ قرارداد بورسی | D1: شماره حواله | E1: تاریخ حواله | F1: مقدار حواله | G1: مانده حواله | H1: تاریخ اعتبار حواله | I1: وضعیت حواله | J1: مقدار قرارداد بورسی | K1: کد مرکز فروش
A2: بیتو تار پارس | B2: 1403015551001 | C2: 1403/01/18 | D2: 14031200122 | E2: 1403/02/24 | F2: 2700000 | G2: 799250 | H2: 1403/03/15 | I2: در حال استفاده | J2: 3000000 | K2: 12
A3: بیتو تار پارس | B3: 1403015551001 | C3: 1403/01/18 | D3: 14031200133 | E3: 1403/02/24 | F3: 300000 | G3: 300000 | H3: 1403/03/15 | I3: ثبت شده | J3: 3000000 | K3: 12
A4: بیتو تار پارس | B4: 1403015822001 | C4: 1403/01/18 | D4: 14031200123 | E4: 1403/02/24 | F4: 2700000 | G4: 2700000 | H4: 1403/03/15 | I4: تایید شده | J4: 3000000 | K4: 12
A5: بیتو تار پارس | B5: 1403015822001 | C5: 1403/01/18 | D5: 14031200134 | E5: 1403/02/24 | F5: 300000 | G5: 300000 | H5: 1403/03/15 | I5: ثبت شده | J5: 3000000 | K5: 12
A6: بیتو تار پارس | B6: 1403015823001 | C6: 1403/01/18 | D6: 14031200124 | E6: 1403/02/24 | F6: 2700000 | G6: 2700000 | H6: 1403/03/15 | I6: تایید شده | J6: 3000000 | K6: 12
A7: بیتو تار پارس | B7: 1403015823001 | C7: 1403/01/18 | D7: 14031200135 | E7: 1403/02/24 | F7: 300000 | G7: 300000 | H7: 1403/03/15 | I7: ثبت شده | J7: 3000000 | K7: 12
A8: جهان پیشگام فرمان | B8: 1403080808001 | C8: 1403/03/06 | D8: 14031200141 | E8: 1403/03/12 | F8: 4860000 | G8: 4688140 | H8: 1403/04/05 | I8: در حال استفاده | J8: 5400000 | K8: 12
A9: جهان پیشگام فرمان | B9: 1403080808001 | C9: 1403/03/06 | D9: 14031200142 | E9: 1403/03/12 | F9: 540000 | G9: 540000 | H9: 1403/04/05 | I9: تایید شده | J9: 5400000 | K9: 12
A10: مهندسی قیر و آسفالت غرب | B10: 1403089025001 | C10: 1403/03/09 | D10: 14031200143 | E10: 1403/03/12 | F10: 200000 | G10: 200000 | H10: 1403/04/08 | I10: ثبت شده | J10: 200000 | K10: 12

Sheet گزارش راهکاران بشکه
A1: نام مشتری | B1: شماره قرارداد بورسی | C1: تاریخ قرارداد بورسی | D1: شماره حواله | E1: تاریخ حواله | F1: مقدار حواله | G1: مانده حواله | H1: تاریخ اعتبار حواله | I1: وضعیت حواله | J1: مقدار قرارداد بورسی | K1: کد مرکز فروش
A2: پویان شیمی کامیار | B2: 1403071352001 | C2: 1403/02/26 | D2: 14032200072 | E2: 1403/03/01 | F2: 60000 | G2: 60000 | H2: 1403/03/25 | I2: ثبت شده | J2: 600000 | K2: 22
A3: پویان شیمی کامیار | B3: 1403071352001 | C3: 1403/02/26 | D3: 14032200071 | E3: 1403/03/01 | F3: 540000 | G3: 540000 | H3: 1403/03/25 | I3: تایید شده | J3: 600000 | K3: 22

Sheet مانده تعهد فله
A1: نام شرکت | B1: شماره قرارداد | C1: مقدار قرارداد بورسی | D1: مانده حواله | E1: حداقل تعهد | F1: تعهد تحویل
A2: بیتو تار پارس | B2: 1403015551001 | C2: 3000000 | D2: =SUMIF('گزارش راهکاران فله'!B$2:B$40,'مانده تعهد فله'!B2,'گزارش راهکاران فله'!G$2:G$50) -> 1099250 | E2: =C2/17 -> 176470.59 | F2: =MIN(E2,D2)/1000 -> 176.47059
A3: بیتو تار پارس | B3: 1403015822001 | C3: 3000000 | D3: =SUMIF('گزارش راهکاران فله'!B$2:B$40,'مانده تعهد فله'!B3,'گزارش راهکاران فله'!G$2:G$50) -> 3000000 | E3: =C3/17 -> 176470.59 | F3: =MIN(E3,D3)/1000 -> 176.47059
A4: بیتو تار پارس | B4: 1403015823001 | C4: 3000000 | D4: =SUMIF('گزارش راهکاران فله'!B$2:B$40,'مانده تعهد فله'!B4,'گزارش راهکاران فله'!G$2:G$50) -> 3000000 | E4: =C4/17 -> 176470.59 | F4: =MIN(E4,D4)/1000 -> 176.47059
A5: جهان پیشگام فرمان | B5: 1403080808001 | C5: 5400000 | D5: =SUMIF('گزارش راهکاران فله'!B$2:B$40,'مانده تعهد فله'!B5,'گزارش راهکاران فله'!G$2:G$50) -> 5228140 | E5: =C5/17 -> 317647.06 | F5: =MIN(E5,D5)/1000 -> 317.64706
F6: 847
G8: نام شرکت | H8: تعهد تحویل | I8: درصد تخصیص(فله)
G9: بیتوتار پارس | H9: 529 | I9: 62
C10: =(529/F$6)*100 -> 62.455726 | G10: جهان پیشگام فرمان | H10: 318 | I10: 38
C11: =(318/F$6)*100 -> 37.544274

Sheet مانده تعهد بشکه
A1: نام شرکت | B1: شماره قرارداد | C1: مقدار قرارداد بورسی | D1: مانده حواله | E1: حداقل تعهد تناز | F1: تناژ تعهد قابل تحویل
A2: پویان شیمی کامیار | B2: 1403071352001 | C2: 600000 | D2: =SUMIF('گزارش راهکاران بشکه'!B$2:B$40,'مانده تعهد بشکه'!B2,'گزارش راهکاران بشکه'!G$2:G$40) -> 600000 | E2: =C2/13 -> 46153.846 | F2: =MIN(E2,D2)/1000 -> 46.153846
A3: دماوندبام دلیجان | B3: 1403053450001 | C3: 1000000 | D3: 741000 | E3: =C3/13 -> 76923.077 | F3: =MIN(E3,D3)/1000 -> 76.923077
F4: 123
D10: =(46/F4)*100 -> 37.398374
D11: =(77/F4)*100 -> 62.601626
H12: نام شرکت | I12: درصد تخصیص(بشکه)
H13: پویان شیمی کامیار | I13: 37
H14: دماوندبام دلیجان | I14: 63

Sheet جدول نهایی
A4: تخصیص روزانه مورخ 1403/03/13
A6: نام شرکت | B6: درصد تخصیص(فله)
A7: بیتوتار پارس | B7: 62
A8: جهان پیشگام فرمان | B8: 38
A10: نام شرکت | B10: درصد تخصیص(بشکه)
A11: پویان شیمی کامیار | B11: 37
A12: دماوندبام دلیجان | B12: 63
