Workbook

Sheet گزارش راهکاران
A1: نام مشتری | B1: شماره قرارداد بورسی | C1: تاریخ قرارداد بورسی | D1: شماره حواله | E1: تاریخ حواله | F1: مقدار حواله | G1: مانده حواله | H1: تاریخ اعتبار حواله | I1: وضعیت حواله | J1: مقدار قرارداد بورسی | K1: کد مرکز فروش
A2: جهان پیشگام فرمان | B2: 1403080808001 | C2: 1403/03/06 | D2: 14031200142 | E2: 1403/03/12 | F2: 540000 | G2: 325450 | H2: 1403/04/05 | I2: در حال استفاده | J2: 5400000 | K2: 12
A3: مهندسی قیر و آسفالت غرب | B3: 1403089025001 | C3: 1403/03/09 | D3: 14031200143 | E3: 1403/03/12 | F3: 200000 | G3: 460 | H3: 1403/04/08 | I3: در حال استفاده | J3: 200000 | K3: 12
A4: جی پورنر پارس | B4: 1403076356001 | C4: 1403/02/31 | D4: 14031200144 | E4: 1403/03/13 | F4: 13000 | G4: 4220 | H4: 1403/03/30 | I4: در حال استفاده | J4: 100000 | K4: 12
A5: جی پورنر پارس | B5: 1403029405001 | C5: 1403/01/27 | D5: 14031200145 | E5: 1403/03/17 | F5: 500000 | G5: 380625 | H5: 1403/03/31 | I5: در حال استفاده | J5: 1000000 | K5: 12
A6: کاج طلایی آفاق | B6: 1403080813001 | C6: 1403/03/06 | D6: 14031200147 | E6: 1403/03/19 | F6: 50000 | G6: 50000 | H6: 1403/04/05 | I6: تایید شده | J6: 500000 | K6: 12
A7: کاج طلایی آفاق | B7: 1403080813001 | C7: 1403/03/06 | D7: 14031200146 | E7: 1403/03/19 | F7: 450000 | G7: 16100 | H7: 1403/04/05 | I7: در حال استفاده | J7: 500000 | K7: 12
A8: عمران نگر بندرعباس | B8: 1403089996001 | C8: 1403/03/19 | D8: 14032200081 | E8: 1403/03/20 | F8: 450000 | G8: 102691 | H8: 1403/04/08 | I8: در حال استفاده | J8: 500000 | K8: 22
A9: عمران نگر بندرعباس | B9: 1403089996001 | C9: 1403/03/19 | D9: 14032200082 | E9: 1403/03/20 | F9: 50000 | G9: 50000 | H9: 1403/04/08 | I9: تایید شده | J9: 500000 | K9: 22
A10: آوا رادین شرق | B10: 1403088752001 | C10: 1403/03/09 | D10: 14031200148 | E10: 1403/03/22 | F10: 450000 | G10: 5620 | H10: 1403/04/08 | I10: در حال استفاده | J10: 500000 | K10: 12
A11: پترو پالایش آوات (توسعه ساختارمحیط) | B11: 1403089490001 | C11: 1403/03/12 | D11: 14032200083 | E11: 1403/03/22 | F11: 300000 | G11: 14130 | H11: 1403/04/08 | I11: در حال استفاده | J11: 300000 | K11: 22
A12: پتروشیان | B12: 1403080809001 | C12: 1403/03/06 | D12: 14031200151 | E12: 1403/03/22 | F12: 50000 | G12: 50000 | H12: 1403/04/05 | I12: ثبت شده | J12: 500000 | K12: 12
A13: پتروشیان | B13: 1403080809001 | C13: 1403/03/06 | D13: 14031200150 | E13: 1403/03/22 | F13: 450000 | G13: 301780 | H13: 1403/04/05 | I13: در حال استفاده | J13: 500000 | K13: 12
... A20: آوا رادین شرق | B20: 1403088753001 | C20: 1403/03/09 | D20: 14031200156 | E20: 1403/03/26 | F20: 50000 | G20: 50000 | H20: 1403/04/08 | I20: ثبت شده | J20: 500000 | K20: 12

Sheet گزارش راهکاران فله
A1: نام مشتری | B1: شماره قرارداد بورسی | C1: تاریخ قرارداد بورسی | D1: شماره حواله | E1: تاریخ حواله | F1: مقدار حواله | G1: مانده حواله | H1: تاریخ اعتبار حواله | I1: وضعیت حواله | J1: مقدار قرارداد بورسی | K1: کد مرکز فروش
A2: جهان پیشگام فرمان | B2: 1403080808001 | C2: 1403/03/06 | D2: 14031200142 | E2: 1403/03/12 | F2: 540000 | G2: 325450 | H2: 1403/04/05 | I2: در حال استفاده | J2: 5400000 | K2: 12
A3: مهندسی قیر و آسفالت غرب | B3: 1403089025001 | C3: 1403/03/09 | D3: 14031200143 | E3: 1403/03/12 | F3: 200000 | G3: 460 | H3: 1403/04/08 | I3: در حال استفاده | J3: 200000 | K3: 12
A4: جی پورنر پارس | B4: 1403076356001 | C4: 1403/02/31 | D4: 14031200144 | E4: 1403/03/13 | F4: 13000 | G4: 4220 | H4: 1403/03/30 | I4: در حال استفاده | J4: 100000 | K4: 12
A5: جی پورنر پارس | B5: 1403029405001 | C5: 1403/01/27 | D5: 14031200145 | E5: 1403/03/17 | F5: 500000 | G5: 380625 | H5: 1403/03/31 | I5: در حال استفاده | J5: 1000000 | K5: 12
A6: کاج طلایی آفاق | B6: 1403080813001 | C6: 1403/03/06 | D6: 14031200147 | E6: 1403/03/19 | F6: 50000 | G6: 50000 | H6: 1403/04/05 | I6: تایید شده | J6: 500000 | K6: 12
A7: کاج طلایی آفاق | B7: 1403080813001 | C7: 1403/03/06 | D7: 14031200146 | E7: 1403/03/19 | F7: 450000 | G7: 16100 | H7: 1403/04/05 | I7: در حال استفاده | J7: 500000 | K7: 12
A8: آوا رادین شرق | B8: 1403088752001 | C8: 1403/03/09 | D8: 14031200148 | E8: 1403/03/22 | F8: 450000 | G8: 5620 | H8: 1403/04/08 | I8: در حال استفاده | J8: 500000 | K8: 12
A9: پتروشیان | B9: 1403080809001 | C9: 1403/03/06 | D9: 14031200151 | E9: 1403/03/22 | F9: 50000 | G9: 50000 | H9: 1403/04/05 | I9: ثبت شده | J9: 500000 | K9: 12
A10: پتروشیان | B10: 1403080809001 | C10: 1403/03/06 | D10: 14031200150 | E10: 1403/03/22 | F10: 450000 | G10: 301780 | H10: 1403/04/05 | I10: در حال استفاده | J10: 500000 | K10: 12
A11: پترو پاسارگاد هرمزگان | B11: 1403076374001 | C11: 1403/02/31 | D11: 14031200154 | E11: 1403/03/23 | F11: 100000 | G11: 100000 | H11: 1403/03/30 | I11: ثبت شده | J11: 1000000 | K11: 12
A12: پترو پاسارگاد هرمزگان | B12: 1403076374001 | C12: 1403/02/31 | D12: 14031200153 | E12: 1403/03/23 | F12: 900000 | G12: 228700 | H12: 1403/03/30 | I12: در حال استفاده | J12: 1000000 | K12: 12
A13: آوا رادین شرق | B13: 1403088753001 | C13: 1403/03/09 | D13: 14031200155 | E13: 1403/03/24 | F13: 450000 | G13: 102670 | H13: 1403/04/08 | I13: در حال استفاده | J13: 500000 | K13: 12
A14: آوا رادین شرق | B14: 1403088753001 | C14: 1403/03/09 | D14: 14031200156 | E14: 1403/03/26 | F14: 50000 | G14: 50000 | H14: 1403/04/08 | I14: ثبت شده | J14: 500000 | K14: 12

Sheet گزارش راهکاران بشکه
A1: نام مشتری | B1: شماره قرارداد بورسی | C1: تاریخ قرارداد بورسی | D1: شماره حواله | E1: تاریخ حواله | F1: مقدار حواله | G1: مانده حواله | H1: تاریخ اعتبار حواله | I1: وضعیت حواله | J1: مقدار قرارداد بورسی | K1: کد مرکز فروش
A2: عمران نگر بندرعباس | B2: 1403089996001 | C2: 1403/03/19 | D2: 14032200081 | E2: 1403/03/20 | F2: 450000 | G2: 102691 | H2: 1403/04/08 | I2: در حال استفاده | J2: 500000 | K2: 22
A3: عمران نگر بندرعباس | B3: 1403089996001 | C3: 1403/03/19 | D3: 14032200082 | E3: 1403/03/20 | F3: 50000 | G3: 50000 | H3: 1403/04/08 | I3: تایید شده | J3: 500000 | K3: 22
A4: پترو پالایش آوات (توسعه ساختارمحیط) | B4: 1403089490001 | C4: 1403/03/12 | D4: 14032200083 | E4: 1403/03/22 | F4: 300000 | G4: 14130 | H4: 1403/04/08 | I4: در حال استفاده | J4: 300000 | K4: 22
A5: ایساتیس دیزل پارت | B5: 1403097887001 | C5: 1403/03/19 | D5: 14032200085 | E5: 1403/03/24 | F5: 100000 | G5: 100000 | H5: 1403/04/18 | I5: ثبت شده | J5: 1000000 | K5: 22
A6: ایساتیس دیزل پارت | B6: 1403097887001 | C6: 1403/03/19 | D6: 14032200084 | E6: 1403/03/24 | F6: 900000 | G6: 900000 | H6: 1403/04/18 | I6: تایید شده | J6: 1000000 | K6: 22
A7: پترو پالایش آوات (توسعه ساختارمحیط) | B7: 1403098369001 | C7: 1403/03/20 | D7: 14032200086 | E7: 1403/03/24 | F7: 30000 | G7: 30000 | H7: 1403/04/18 | I7: در حال استفاده | J7: 30000 | K7: 22

Sheet مانده تعهد فله
A1: نام شرکت | B1: شماره قرارداد | C1: مقدار قرارداد بورسی | D1: مانده حواله | E1: حداقل تعهد | F1: تعهد تحویل
A2: جهان پیشگام فرمان | B2: 1403080808001 | C2: 5400000 | D2: =SUMIF('گزارش راهکاران فله'!B$2:B$40,'مانده تعهد فله'!B2,'گزارش راهکاران فله'!G$2:G$40) -> 325450 | E2: =C2/17 -> 317647.06 | F2: =MIN(E2,D2)/1000 -> 317.64706
A3: مهندسی قیر و آسفالت غرب | B3: 1403089025001 | C3: 200000 | D3: =SUMIF('گزارش راهکاران فله'!B$2:B$40,'مانده تعهد فله'!B3,'گزارش راهکاران فله'!G$2:G$40) -> 460 | E3: =C3/17 -> 11764.706 | F3: =MIN(E3,D3)/1000 -> 0.46
A4: کاج طلایی آفاق | B4: 1403080813001 | C4: 500000 | D4: =SUMIF('گزارش راهکاران فله'!B$2:B$40,'مانده تعهد فله'!B4,'گزارش راهکاران فله'!G$2:G$40) -> 66100 | E4: =C4/17 -> 29411.765 | F4: =MIN(E4,D4)/1000 -> 29.411765
A5: آوا رادین شرق | B5: 1403088752001 | C5: 500000 | D5: =SUMIF('گزارش راهکاران فله'!B$2:B$40,'مانده تعهد فله'!B5,'گزارش راهکاران فله'!G$2:G$40) -> 5620 | E5: =C5/17 -> 29411.765 | F5: =MIN(E5,D5)/1000 -> 5.62
A6: پتروشیان | B6: 1403080809001 | C6: 500000 | D6: =SUMIF('گزارش راهکاران فله'!B$2:B$40,'مانده تعهد فله'!B6,'گزارش راهکاران فله'!G$2:G$40) -> 351780 | E6: =C6/17 -> 29411.765 | F6: =MIN(E6,D6)/1000 -> 29.411765
A7: پترو پاسارگاد هرمزگان | B7: 1403076374001 | C7: 1000000 | D7: =SUMIF('گزارش راهکاران فله'!B$2:B$40,'مانده تعهد فله'!B7,'گزارش راهکاران فله'!G$2:G$40) -> 328700 | E7: =C7/17 -> 58823.529 | F7: =MIN(E7,D7)/1000 -> 58.823529
A8: آوا رادین شرق | B8: 1403088753001 | C8: 500000 | D8: =SUMIF('گزارش راهکاران فله'!B$2:B$40,'مانده تعهد فله'!B8,'گزارش راهکاران فله'!G$2:G$40) -> 152670 | E8: =C8/17 -> 29411.765 | F8: =MIN(E8,D8)/1000 -> 29.411765
F9: 471 | H9: نام شرکت | I9: تعهد تحویل | J9: درصد تخصیص(فله)
H10: آوا رادین شرق | I10: 35 | J10: 7
H11: پترو پاسارگاد هرمزگان | I11: 59 | J11: 12
B12: آوا رادین شرق | C12: 35.031765 | D12: =(C12/F$9)*100 -> 7.437742 | H12: پتروشیان | I12: 29 | J12: 7
B13: پترو پاسارگاد هرمزگان | C13: 58.823529 | D13: =(C13/F$9)*100 -> 12.489072 | H13: کاج طلایی آفاق | I13: 29 | J13: 7
B14: پتروشیان | C14: 29.411765 | D14: =(C14/F$9)*100 -> 6.244536 | H14: جهان پیشگام فرمان | I14: 317 | J14: 67
B15: جهان پیشگام فرمان | C15: 317.64706 | D15: =(C15/F$9)*100 -> 67.440989
B16: کاج طلایی آفاق | C16: 29.411765 | D16: =(C16/F$9)*100 -> 6.244536
B17: مهندسی قیر و آسفالت غرب | C17: 0.46 | D17: =(C17/F$9)*100 -> 0.097664544

Sheet Sheet2
A3: Row Labels | B3: Sum of تناژ تعهد قابل تحویل
A4: ایساتیس دیزل پارت | B4: 76.923077
A5: پترو پالایش آوات (توسعه ساختارمحیط) | B5: 16.437692
A6: عمران نگر بندرعباس | B6: 38.461538
A7: Grand Total | B7: 131.82231

Sheet مانده تعهد بشکه
A1: نام شرکت | B1: شماره قرارداد | C1: مقدار قرارداد بورسی | D1: مانده حواله | E1: حداقل تعهد تناز | F1: تناژ تعهد قابل تحویل
A2: عمران نگر بندرعباس | B2: 1403089996001 | C2: 500000 | D2: =SUMIF('گزارش راهکاران بشکه'!B$2:B$40,'مانده تعهد بشکه'!B2,'گزارش راهکاران بشکه'!G$2:G$40) -> 152691 | E2: =C2/13 -> 38461.538 | F2: =MIN(E2,D2)/1000 -> 38.461538
A3: پترو پالایش آوات (توسعه ساختارمحیط) | B3: 1403089490001 | C3: 300000 | D3: =SUMIF('گزارش راهکاران بشکه'!B$2:B$40,'مانده تعهد بشکه'!B3,'گزارش راهکاران بشکه'!G$2:G$40) -> 14130 | E3: =C3/13 -> 23076.923 | F3: =MIN(E3,D3)/1000 -> 14.13
A4: ایساتیس دیزل پارت | B4: 1403097887001 | C4: 1000000 | D4: =SUMIF('گزارش راهکاران بشکه'!B$2:B$40,'مانده تعهد بشکه'!B4,'گزارش راهکاران بشکه'!G$2:G$40) -> 1000000 | E4: =C4/13 -> 76923.077 | F4: =MIN(E4,D4)/1000 -> 76.923077
A5: پترو پالایش آوات (توسعه ساختارمحیط) | B5: 1403098369001 | C5: 30000 | D5: =SUMIF('گزارش راهکاران بشکه'!B$2:B$40,'مانده تعهد بشکه'!B5,'گزارش راهکاران بشکه'!G$2:G$40) -> 30000 | E5: =C5/13 -> 2307.6923 | F5: =MIN(E5,D5)/1000 -> 2.3076923
F8: 132
B12: ایساتیس دیزل پارت | C12: 76.923077 | D12: =(C12/F$8)*100 -> 58.275058 | G12: نام شرکت | H12: درصد تخصیص(بشکه)
B13: پترو پالایش آوات (توسعه ساختارمحیط) | C13: 16.437692 | D13: =(C13/F$8)*100 -> 12.452797 | G13: ایساتیس دیزل پارت | H13: 58
B14: عمران نگر بندرعباس | C14: 38.461538 | D14: =(C14/F$8)*100 -> 29.137529 | G14: عمران نگر بندر عباس | H14: 29
G15: پترو پالایش آوات (توسعه ساختارمحیط) | H15: 13

Sheet جدول نهایی
A4: تخصیص روزانه مورخ 1403/03/27
A6: نام شرکت | B6: درصد تخصیص(فله)
A7: آوا رادین شرق | B7: 7
A8: پترو پاسارگاد هرمزگان | B8: 12
A9: پتروشیان | B9: 7
A10: کاج طلایی آفاق | B10: 7
A11: جهان پیشگام فرمان | B11: 67
A13: نام شرکت | B13: درصد تخصیص(بشکه)
A14: ایساتیس دیزل پارت | B14: 58
A15: عمران نگر بندر عباس | B15: 29
A16: پترو پالایش آوات (توسعه ساختارمحیط) | B16: 13
