Workbook

Sheet کارشناسی
E1: امتیاز : 1 و 2 : بسیار ضعیف بوده و نیازمند بهبود فوری است * 3و4: ضعیف بوده و نیازمند تلاش بیشتر می باشد * 5 و 6: در حد متوسط بوده و بایستی مراقبت گردد* 7 و 8: خوب بوده و پاسخگویی نیازهای موجود سازمان می باشد * 9و 10 : بسیار خوب بوده و الگوی مناسبی برای سایر افراد می باشد.
B3: میانگین کل | D3: =داشبورد!G41 | E3: لطفاً با توجه به شناختی که نسبت به شایستگی و عملکرد کارکنان خود دارید با تخصیص اعداد 1 تا 10 به هر یک از معیارها امتیاز دهید. اگر چنانچه میانگین امتیاز فرد بالای عدد 90 باشد حتماً بایستی قسمت مشاهدات مثبت تکمیل گردد و اگر چنانچه میانگین امتیازکسب شده زیر عدد 30 باشد، مشاهدات منفی در ستون مربوطه درج گردد. | H3: رفتارها و کردارها (EVC) | M3: دانش و مهارت و توانایی (KSA) | T3: نتایج عملکردی(P) | Y3: میانگین سطح کارشناسی | Z3: ◄لطفا شواهد مثبت درج گردد◄ | AA3: اگر امتیاز فرد بالای 90 هست این قسمت تکمیل شود | AB3: اگر امتیاز فرد زیر 30 هست این قسمت تکمیل شود
B4: =Sheet6!A6 | H4: تعهد و تعلق سازمانی | I4: نظم و انضباط و آراستگی | J4: رعایت شئونات محیط کار | K4: روحیه همکاری و مشارکت | L4: ارتباطات خوب، احترام به دیگران و حسن رفتار | M4: نوآوری، خلاقیت و حل مسئله | N4: مديريت دانش و تجارب سازماني | O4: بكارگيري تكنولوژي هاي نوين | P4: قوانين ، مقررات و آیین امه های مرتبط با شغل | Q4: تجزیه و تحلیل منطقی | R4: آشنایی با استانداردها و نظامهاي كيفيت | S4: آشنایی و رعایت اصول ایمنی و ارگونومی | T4: تصميم سازي | U4: پاسخگویی و مسئولیت پذیری | V4: ارائه گزارش کارشناسی | W4: بهره گيري از منابع اطلاعاتي | X4: کيفيت کار | Y4: =IFERROR(AVERAGE(Y7:Y1078),"") | Z4: ◄لطفا شواهد منفی درج گردد◄
H5: احساس تعلق و دلبستگی نسبت به سازمان، پایبندی به نظام های ارزشی و تلاش در جهت حفظ و کسب منافع شرکت | I5: توانایی عمل در چارچوب موازین انضباطی ، دستورالعمل ها و رویه های کاری ابلاغ شده وحفظ ظاهر ، آراستگي و رعايت بهداشت فردي | J5: رعایت شئونات اخلاقی، رعایت وقار و متانت رفتاری وکلامی | K5: استقبال از كار تيمي و مشارکت موثر در انجام کارهای گروهی و جمعی | L5: رعايت اخلاق و ادب و بکارگیری موثر ارتباطات کلامی و غیر کلامی در تعامل با دیگران | M5: ارائه ایده های بدیع و ابتکاری درخصوص انجام وظایف، ابداع شیوه های جدید و نو در فرایندها، ارائه راه حل های مناسب جهت رفع موانع و مشکلات | N5: توانایی شناسایی دانش کلیدی، مستندسازمانی و حفظ تجارب و انتقال آن به کارکنان مستعد | O5: توانایی بکارگیری سیستم های نوین اطلاعاتی و تکنولوژی های مدرن و پیشرفته متناسب با ماهیت شغلی خود | P5: آگاهی از مقررات، دستورالعمل‌ها و روشهاي سازمان و بکارگیری موثر آن در انجام کارها | Q5: توانایی تجزیه و تحلیل و استنتاج درست مبتنی بر داده ها و مفروضات موجود | R5: آشنایی با الزامات نظام های کیفیت و تعالی مرتبط با شغل و سازمان | S5: آشنایی و رعایت نکات ایمنی در جهت حفظ سلامت خود ، همکاران و تجهیزات سازمانی | T5: تجزيه و تحليل دقیق مطالب و تهيه گزارشهای مناسب، جهت تصميم گيري مقامات مافوق | U5: پاسخگویی در قبال اختیارات و مسئولیت های شغلی و قبول عواقب و نتایج حاصل از کار | V5: تهیه بموقع و دقیق گزارش هاي تحليلي و مقايسه اي مورد نياز سازمان | W5: بهره گیری موثر از شبكه‌هاي اطلاع‌رساني داخلي و بين‌المللي و ساير منابع مورد نیاز جهت انجام وظایف محوله | X5: انجام دقيق و صحيح امور محوله مطابق با استانداردهای تعریف شده
B6: شماره پرسنلی | C6: نام | D6: نام خانوادگی | E6: شغل | F6: حوزه | G6: واحد | H6: 10 | I6: 10 | J6: 10 | K6: 10 | L6: 10 | M6: 10 | N6: 10 | O6: 10 | P6: 10 | Q6: 10 | R6: 10 | S6: 10 | T6: 10 | U6: 10 | V6: 10 | W6: 10 | X6: 10 | Y6: امتیاز فرد از 100 | Z6: ◄◄◄ | AA6: مشاهدات مثبت | AB6: مشاهدات منفی
B7: ='[2]تامين نيرو نفت جي'!B13 -> 80 | C7: ='[2]تامين نيرو نفت جي'!C13 -> رضا | D7: ='[2]تامين نيرو نفت جي'!D13 -> سالمپور | E7: =VLOOKUP(B7,'[2]تامين نيرو نفت جي'!$B:$R,17,0) -> کارشناس تکنولوژي اطلاعات1 | F7: =VLOOKUP(B7,'[1]اطلاعات اصلی'!$D:$H,5,0) -> IT | G7: پالایشگاه اصفهان | Y7: =IFERROR(AVERAGE(H7:X7)*10,"") | Z7: =IF(Y7<=30,$Z$4,IF(Y7<90,"",IF(Y7<=100,$Z$3,"")))
Y8: =IFERROR(AVERAGE(H8:X8)*10,"") | Z8: =IF(Y8<=30,$Z$4,IF(Y8<90,"",IF(Y8<=100,$Z$3,"")))
Y9: =IFERROR(AVERAGE(H9:X9)*10,"") | Z9: =IF(Y9<=30,$Z$4,IF(Y9<90,"",IF(Y9<=100,$Z$3,"")))
Y10: =IFERROR(AVERAGE(H10:X10)*10,"") | Z10: =IF(Y10<=30,$Z$4,IF(Y10<90,"",IF(Y10<=100,$Z$3,"")))
Y11: =IFERROR(AVERAGE(H11:X11)*10,"") | Z11: =IF(Y11<=30,$Z$4,IF(Y11<90,"",IF(Y11<=100,$Z$3,"")))
Y12: =IFERROR(AVERAGE(H12:X12)*10,"") | Z12: =IF(Y12<=30,$Z$4,IF(Y12<90,"",IF(Y12<=100,$Z$3,"")))
Y13: =IFERROR(AVERAGE(H13:X13)*10,"") | Z13: =IF(Y13<=30,$Z$4,IF(Y13<90,"",IF(Y13<=100,$Z$3,"")))
Y14: =IFERROR(AVERAGE(H14:X14)*10,"") | Z14: =IF(Y14<=30,$Z$4,IF(Y14<90,"",IF(Y14<=100,$Z$3,"")))
Y15: =IFERROR(AVERAGE(H15:X15)*10,"") | Z15: =IF(Y15<=30,$Z$4,IF(Y15<90,"",IF(Y15<=100,$Z$3,"")))
Y16: =IFERROR(AVERAGE(H16:X16)*10,"") | Z16: =IF(Y16<=30,$Z$4,IF(Y16<90,"",IF(Y16<=100,$Z$3,"")))
Y17: =IFERROR(AVERAGE(H17:X17)*10,"") | Z17: =IF(Y17<=30,$Z$4,IF(Y17<90,"",IF(Y17<=100,$Z$3,"")))
Y18: =IFERROR(AVERAGE(H18:X18)*10,"") | Z18: =IF(Y18<=30,$Z$4,IF(Y18<90,"",IF(Y18<=100,$Z$3,"")))
Y19: =IFERROR(AVERAGE(H19:X19)*10,"") | Z19: =IF(Y19<=30,$Z$4,IF(Y19<90,"",IF(Y19<=100,$Z$3,"")))
... Y462: =IFERROR(AVERAGE(H462:X462)*10,"") | Z462: =IF(Y462<=30,$Z$4,IF(Y462<90,"",IF(Y462<=100,$Z$3,"")))

Sheet تکنسین
E1: امتیاز : 1 و 2 : بسیار ضعیف بوده و نیازمند بهبود فوری است * 3و4: ضعیف بوده و نیازمند تلاش بیشتر می باشد * 5 و 6: در حد متوسط بوده و بایستی مراقبت گردد* 7 و 8: خوب بوده و پاسخگویی نیازهای موجود سازمان می باشد * 9و 10 : بسیار خوب بوده و الگوی مناسبی برای سایر افراد می باشد.
B3: میانگین کل | D3: =داشبورد!G41 | E3: لطفاً با توجه به شناختی که نسبت به شایستگی و عملکرد کارکنان خود دارید با تخصیص اعداد 1 تا 10 به هر یک از معیارها امتیاز دهید. اگر چنانچه میانگین امتیاز فرد بالای عدد 90 باشد حتماً بایستی قسمت مشاهدات مثبت تکمیل گردد و اگر چنانچه میانگین امتیازکسب شده زیر عدد 30 باشد، مشاهدات منفی در ستون مربوطه درج گردد. | H3: رفتارها و کردارها (EVC) | M3: دانش و مهارت و توانایی (KSA) | Q3: نتایج عملکردی | V3: میانگین سطح کاردانی | W3: ◄لطفا شواهد مثبت درج گردد◄ | X3: اگر امتیاز فرد بالای 90 هست این قسمت تکمیل شود | Y3: اگر امتیاز فرد زیر 30 هست این قسمت تکمیل شود
B4: =Sheet6!A6 | H4: تعهد و تعلق سازمانی | I4: نظم و انضباط و آراستگی | J4: رعایت شئونات محیط کار | K4: روحیه همکاری ، مشارکت و حل تضاد | L4: ارتباطات خوب، احترام به دیگران و حسن رفتار | M4: آموزش‌پذيري و یادگیری | N4: آشنایی با خواص مواد و ملزومات | O4: انتقال دانش و تجارب سازماني | P4: آشنایی و رعایت اصول ایمنی و ارگونومی | Q4: کيفيت کار | R4: صرفه جویی در منابع | S4: کمیت کار و سرعت عمل و چابکی | T4: بکارگیری موثر ابزارهای فنی و تکنولوژیکی | U4: گزارش دهی فنی | V4: =IFERROR(AVERAGE(V7:V1096),"") | W4: ◄لطفا شواهد منفی درج گردد◄
H5: احساس تعلق و دلبستگی نسبت به سازمان، پایبندی به نظام های ارزشی و تلاش در جهت حفظ و کسب منافع شرکت | I5: توانایی عمل در چارچوب موازین انضباطی ، دستورالعمل ها و رویه های کاری ابلاغ شده وحفظ ظاهر ، آراستگي و رعايت بهداشت فردي | J5: رعایت شئونات اخلاقی، رعایت وقار و متانت رفتاری وکلامی | K5: استقبال از كار تيمي و مشارکت موثر در انجام کارهای گروهی و جمعی | L5: رعايت اخلاق و ادب و بکارگیری موثر ارتباطات کلامی و غیر کلامی در تعامل با دیگران | M5: توانایی یادگیری و کسب دانش و تجارب جدید ، مناسب با ماهیت شغلی فرد | N5: آشنایی با خصوصیات فیزیکی یا شیمیایی مواد و ملزوماتی که با آنها کار می کند | O5: توانایی شناسایی دانش کلیدی، مستندسازمانی و حفظ تجارب و انتقال آن به کارکنان مستعد | P5: آشنایی و رعایت نکات ایمنی در جهت حفظ سلامت خود ، همکاران و تجهیزات سازمانی | Q5: انجام دقيق و صحيح امور محوله مطابق با استانداردهای تعریف شده | R5: استفاده بهینه از مجموعه منابع در اختيار به منظور حصول اهداف، ماموريتها، وظايف و مسئوليتهاي محوله | S5: انجام امور مربوطه در کوتاه ترین زمان ممکن | T5: توانایی کار با دستگاه ها و ماشین آلات فنی و تکنولوژیکی جدید با بکارگیری صحیح مهارتها و دانش عملیاتی | U5: توانایی تهیه گزارشات فنی دستگاه ها ، ماشین آلات و فرایندهای کاری
B6: شماره پرسنلی | C6: نام | D6: نام خانوادگی | E6: شغل | F6: حوزه | G6: واحد | H6: 10 | I6: 10 | J6: 10 | K6: 10 | L6: 10 | M6: 10 | N6: 10 | O6: 10 | P6: 10 | Q6: 10 | R6: 10 | S6: 10 | T6: 10 | U6: 10 | V6: امتیاز فرد از 100 | W6: ◄◄◄ | X6: مشاهدات مثبت | Y6: مشاهدات منفی
B7: ='[2]تامين نيرو نفت جي'!B25 -> 114 | C7: ='[2]تامين نيرو نفت جي'!C25 -> حميدرضا | D7: ='[2]تامين نيرو نفت جي'!D25 -> قدرتي پور | E7: =VLOOKUP(B7,'[2]تامين نيرو نفت جي'!$B:$R,17,0) -> تکنسين تکنولوژي اطلاعات1 | F7: =VLOOKUP(B7,'[1]اطلاعات اصلی'!$D:$H,5,0) -> IT | G7: پالایشگاه اصفهان | V7: =IFERROR(AVERAGE(H7:U7)*10,"")
V8: =IFERROR(AVERAGE(H8:U8)*10,"")
V9: =IFERROR(AVERAGE(H9:U9)*10,"")
V10: =IFERROR(AVERAGE(H10:U10)*10,"")
V11: =IFERROR(AVERAGE(H11:U11)*10,"")
V12: =IFERROR(AVERAGE(H12:U12)*10,"")
V13: =IFERROR(AVERAGE(H13:U13)*10,"")
V14: =IFERROR(AVERAGE(H14:U14)*10,"")
V15: =IFERROR(AVERAGE(H15:U15)*10,"")
V16: =IFERROR(AVERAGE(H16:U16)*10,"")
V17: =IFERROR(AVERAGE(H17:U17)*10,"")
V18: =IFERROR(AVERAGE(H18:U18)*10,"")
V19: =IFERROR(AVERAGE(H19:U19)*10,"")
... V639: =IFERROR(AVERAGE(H639:U639)*10,"")

Sheet داشبورد
D17: =Sheet6!I3 -> میانگین کل:
D21: مدیریتی | E21: کارشناسی | F21: کاردانی | G21: کارمندی | H21: کارگری | I21: انتظامات
C22: تعداد: | D22: =Sheet6!B1 -> 0 | E22: =Sheet6!C1 -> 0 | F22: =Sheet6!D1 -> 0 | G22: =Sheet6!E1 -> 0 | H22: =Sheet6!F1 -> 0 | I22: =Sheet6!G1 -> 0
C23: میانگین: | D23: =Sheet6!B5 | E23: =Sheet6!C5 | F23: =Sheet6!D5 | G23: =Sheet6!E5 | H23: =Sheet6!F5 | I23: =Sheet6!G5
C24: حداکثر: | D24: =Sheet6!B2 -> #REF! | E24: =Sheet6!C2 -> #REF! | F24: =Sheet6!D2 -> #REF! | G24: =Sheet6!E2 -> #REF! | H24: =Sheet6!F2 -> #REF! | I24: =Sheet6!G2 -> #REF!
C25: حداقل: | D25: =Sheet6!B3 -> #REF! | E25: =Sheet6!C3 -> #REF! | F25: =Sheet6!D3 -> #REF! | G25: =Sheet6!E3 -> #REF! | H25: =Sheet6!F3 -> #REF! | I25: =Sheet6!G3 -> #REF!
C26: انحراف معیار: | D26: =Sheet6!B4 | E26: =Sheet6!C4 | F26: =Sheet6!D4 | G26: =Sheet6!E4 | H26: =Sheet6!F4 | I26: =Sheet6!G4
K28: 10
G31: حداقل | H31: حداکثر | J31: =Sheet6!A6
B32: توجه : میانگین داده های وارد شده خارج از محدوده (65-85) می باشد. | G32: 65 | H32: 85 | I32: 10 | J32: =K28 -> 10 | K32: =J32 -> 10
G33: 70 | H33: 80 | I33: 5
B35: توجه : میانگین داده های وارد شده خارج از محدوده (70-80) می باشد. | F35: =J31 | G35: =IF(J32=5,G33,G32) -> 65 | H35: =IF(K32=5,H33,H32) -> 85
B39: =IF(K28=5,B35,B32) -> توجه : میانگین داده های وارد شده خارج از محدوده (65-85) می باشد. | G39: =IF(F35<G35,1,IF(F35<=H35,0,IF(F35<110,1,"")))
G41: =IF(G39=1,B39,"")

Sheet Sheet6
A1: تعداد | B1: =COUNT(B8:B3312) -> 0 | C1: =COUNT(C8:C3312) -> 0 | D1: =COUNT(D8:D3312) -> 0 | E1: =COUNT(E8:E3312) -> 0 | F1: =COUNT(F8:F3312) -> 0 | G1: =COUNT(G8:G3312) -> 0 | I1: =IFERROR(ROUND(A6,0),"")
A2: MAX | B2: =MAX(B8:B314) -> #REF! | C2: =MAX(C8:C314) -> #REF! | D2: =MAX(D8:D314) -> #REF! | E2: =MAX(E8:E314) -> #REF! | F2: =MAX(F8:F314) -> #REF! | G2: =MAX(G8:G314) -> #REF! | I2: میانگین کل: X
A3: MIN | B3: =MIN(B8:B414) -> #REF! | C3: =MIN(C8:C414) -> #REF! | D3: =MIN(D8:D414) -> #REF! | E3: =MIN(E8:E414) -> #REF! | F3: =MIN(F8:F414) -> #REF! | G3: =MIN(G8:G414) -> #REF! | I3: =SUBSTITUTE(I2,"X",I1) -> میانگین کل:
A4: انحراف معیار | B4: =IFERROR(STDEV(B8:B3314),"") | C4: =IFERROR(STDEV(C8:C3314),"") | D4: =IFERROR(STDEV(D8:D3314),"") | E4: =IFERROR(STDEV(E8:E3314),"") | F4: =IFERROR(STDEV(F8:F3314),"") | G4: =IFERROR(STDEV(G8:G3314),"")
A5: میانگین | B5: =IFERROR(AVERAGE(B8:B3314),"") | C5: =IFERROR(AVERAGE(C8:C3314),"") | D5: =IFERROR(AVERAGE(D8:D3314),"") | E5: =IFERROR(AVERAGE(E8:E3314),"") | F5: =IFERROR(AVERAGE(F8:F3314),"") | G5: =IFERROR(AVERAGE(G8:G3314),"")
A6: =IFERROR(AVERAGE(B8:G1012),"") | B6: میانگین سطح مدیریتی | C6: میانگین سطح کارشناسی | D6: میانگین سطح کاردانی | E6: میانگین سطح کارمندی | F6: میانگین کارگری | G6: میانگین انتظامات
B7: امتیاز فرد از 100 | C7: امتیاز فرد از 100 | D7: امتیاز فرد از 100 | E7: امتیاز فرد از 100 | F7: امتیاز فرد از 100 | G7: امتیاز فرد از 100 | L7: 0
B8: =IF(#REF!="","",#REF!) -> #REF! | C8: =IF(کارشناسی!#REF!="","",کارشناسی!#REF!) -> #REF! | D8: =IF(تکنسین!#REF!="","",تکنسین!#REF!) -> #REF! | E8: =IF(#REF!="","",#REF!) -> #REF! | F8: =IF(#REF!="","",#REF!) -> #REF! | G8: =IF(#REF!="","",#REF!) -> #REF! | L8: =ROUND(N12,0) -> 0
B9: =IF(#REF!="","",#REF!) -> #REF! | C9: =IF(کارشناسی!#REF!="","",کارشناسی!#REF!) -> #REF! | D9: =IF(تکنسین!#REF!="","",تکنسین!#REF!) -> #REF! | E9: =IF(#REF!="","",#REF!) -> #REF! | F9: =IF(#REF!="","",#REF!) -> #REF! | G9: =IF(#REF!="","",#REF!) -> #REF! | J9: 50 | K9: ق1 | L9: =IF($O$7="","",IF(J9="",1,IF($O$7=J9,10,IF($O$7=J9+1,8,IF($O$7=J9-1,8,1)))))
B10: =IF(#REF!="","",#REF!) -> #REF! | C10: =IF(کارشناسی!#REF!="","",کارشناسی!#REF!) -> #REF! | D10: =IF(تکنسین!#REF!="","",تکنسین!#REF!) -> #REF! | E10: =IF(#REF!="","",#REF!) -> #REF! | F10: =IF(#REF!="","",#REF!) -> #REF! | G10: =IF(#REF!="","",#REF!) -> #REF! | J10: 51 | K10: ق2 | L10: =IF($O$7="","",IF(J10="",1,IF($O$7=J10,10,IF($O$7=J10+1,8,IF($O$7=J10-1,8,1)))))
B11: =IF(#REF!="","",#REF!) -> #REF! | C11: =IF(کارشناسی!#REF!="","",کارشناسی!#REF!) -> #REF! | D11: =IF(تکنسین!#REF!="","",تکنسین!#REF!) -> #REF! | E11: =IF(#REF!="","",#REF!) -> #REF! | F11: =IF(#REF!="","",#REF!) -> #REF! | G11: =IF(#REF!="","",#REF!) -> #REF! | J11: 52 | K11: ق3 | L11: =IF($O$7="","",IF(J11="",1,IF($O$7=J11,10,IF($O$7=J11+1,8,IF($O$7=J11-1,8,1)))))
B12: =IF(#REF!="","",#REF!) -> #REF! | C12: =IF(کارشناسی!#REF!="","",کارشناسی!#REF!) -> #REF! | D12: =IF(تکنسین!#REF!="","",تکنسین!#REF!) -> #REF! | E12: =IF(#REF!="","",#REF!) -> #REF! | F12: =IF(#REF!="","",#REF!) -> #REF! | G12: =IF(#REF!="","",#REF!) -> #REF! | J12: 53 | K12: ق4 | L12: =IF($O$7="","",IF(J12="",1,IF($O$7=J12,10,IF($O$7=J12+1,8,IF($O$7=J12-1,8,1)))))
B13: =IF(#REF!="","",#REF!) -> #REF! | C13: =IF(کارشناسی!#REF!="","",کارشناسی!#REF!) -> #REF! | D13: =IF(تکنسین!#REF!="","",تکنسین!#REF!) -> #REF! | E13: =IF(#REF!="","",#REF!) -> #REF! | F13: =IF(#REF!="","",#REF!) -> #REF! | G13: =IF(#REF!="","",#REF!) -> #REF! | J13: 54 | K13: ق5 | L13: =IF($O$7="","",IF(J13="",1,IF($O$7=J13,10,IF($O$7=J13+1,8,IF($O$7=J13-1,8,1)))))
B14: =IF(#REF!="","",#REF!) -> #REF! | C14: =IF(کارشناسی!#REF!="","",کارشناسی!#REF!) -> #REF! | D14: =IF(تکنسین!#REF!="","",تکنسین!#REF!) -> #REF! | E14: =IF(#REF!="","",#REF!) -> #REF! | F14: =IF(#REF!="","",#REF!) -> #REF! | G14: =IF(#REF!="","",#REF!) -> #REF! | J14: 55 | K14: ق6 | L14: =IF($O$7="","",IF(J14="",1,IF($O$7=J14,10,IF($O$7=J14+1,8,IF($O$7=J14-1,8,1)))))
B15: =IF(#REF!="","",#REF!) -> #REF! | C15: =IF(کارشناسی!#REF!="","",کارشناسی!#REF!) -> #REF! | D15: =IF(تکنسین!#REF!="","",تکنسین!#REF!) -> #REF! | E15: =IF(#REF!="","",#REF!) -> #REF! | F15: =IF(#REF!="","",#REF!) -> #REF! | G15: =IF(#REF!="","",#REF!) -> #REF! | J15: 56 | K15: ق7 | L15: =IF($O$7="","",IF(J15="",1,IF($O$7=J15,10,IF($O$7=J15+1,8,IF($O$7=J15-1,8,1)))))
B16: =IF(#REF!="","",#REF!) -> #REF! | C16: =IF(کارشناسی!#REF!="","",کارشناسی!#REF!) -> #REF! | D16: =IF(تکنسین!#REF!="","",تکنسین!#REF!) -> #REF! | E16: =IF(#REF!="","",#REF!) -> #REF! | F16: =IF(#REF!="","",#REF!) -> #REF! | G16: =IF(#REF!="","",#REF!) -> #REF! | J16: 57 | K16: ق8 | L16: =IF($O$7="","",IF(J16="",1,IF($O$7=J16,10,IF($O$7=J16+1,8,IF($O$7=J16-1,8,1)))))
B17: =IF(#REF!="","",#REF!) -> #REF! | C17: =IF(کارشناسی!#REF!="","",کارشناسی!#REF!) -> #REF! | D17: =IF(تکنسین!V7="","",تکنسین!V7) | E17: =IF(#REF!="","",#REF!) -> #REF! | F17: =IF(#REF!="","",#REF!) -> #REF! | G17: =IF(#REF!="","",#REF!) -> #REF! | J17: 58 | K17: ق9 | L17: =IF($O$7="","",IF(J17="",1,IF($O$7=J17,10,IF($O$7=J17+1,8,IF($O$7=J17-1,8,1)))))
B18: =IF(#REF!="","",#REF!) -> #REF! | C18: =IF(کارشناسی!#REF!="","",کارشناسی!#REF!) -> #REF! | D18: =IF(تکنسین!#REF!="","",تکنسین!#REF!) -> #REF! | E18: =IF(#REF!="","",#REF!) -> #REF! | F18: =IF(#REF!="","",#REF!) -> #REF! | G18: =IF(#REF!="","",#REF!) -> #REF! | J18: 59 | K18: ق10 | L18: =IF($O$7="","",IF(J18="",1,IF($O$7=J18,10,IF($O$7=J18+1,8,IF($O$7=J18-1,8,1)))))
B19: =IF(#REF!="","",#REF!) -> #REF! | C19: =IF(کارشناسی!#REF!="","",کارشناسی!#REF!) -> #REF! | D19: =IF(تکنسین!#REF!="","",تکنسین!#REF!) -> #REF! | E19: =IF(#REF!="","",#REF!) -> #REF! | F19: =IF(#REF!="","",#REF!) -> #REF! | G19: =IF(#REF!="","",#REF!) -> #REF! | J19: 60 | K19: ق11 | L19: =IF($O$7="","",IF(J19="",1,IF($O$7=J19,10,IF($O$7=J19+1,8,IF($O$7=J19-1,8,1)))))
B20: =IF(#REF!="","",#REF!) -> #REF! | C20: =IF(کارشناسی!#REF!="","",کارشناسی!#REF!) -> #REF! | D20: =IF(تکنسین!#REF!="","",تکنسین!#REF!) -> #REF! | E20: =IF(#REF!="","",#REF!) -> #REF! | F20: =IF(#REF!="","",#REF!) -> #REF! | G20: =IF(#REF!="","",#REF!) -> #REF! | J20: 61 | K20: ق12 | L20: =IF($O$7="","",IF(J20="",1,IF($O$7=J20,10,IF($O$7=J20+1,8,IF($O$7=J20-1,8,1)))))
B21: =IF(#REF!="","",#REF!) -> #REF! | C21: =IF(کارشناسی!#REF!="","",کارشناسی!#REF!) -> #REF! | D21: =IF(تکنسین!#REF!="","",تکنسین!#REF!) -> #REF! | E21: =IF(#REF!="","",#REF!) -> #REF! | F21: =IF(#REF!="","",#REF!) -> #REF! | G21: =IF(#REF!="","",#REF!) -> #REF! | J21: 62 | K21: ق13 | L21: =IF($O$7="","",IF(J21="",1,IF($O$7=J21,10,IF($O$7=J21+1,8,IF($O$7=J21-1,8,1)))))
B22: =IF(#REF!="","",#REF!) -> #REF! | C22: =IF(کارشناسی!#REF!="","",کارشناسی!#REF!) -> #REF! | D22: =IF(تکنسین!#REF!="","",تکنسین!#REF!) -> #REF! | E22: =IF(#REF!="","",#REF!) -> #REF! | F22: =IF(#REF!="","",#REF!) -> #REF! | G22: =IF(#REF!="","",#REF!) -> #REF! | J22: 63 | K22: ق14 | L22: =IF($O$7="","",IF(J22="",1,IF($O$7=J22,10,IF($O$7=J22+1,8,IF($O$7=J22-1,8,1)))))
B23: =IF(#REF!="","",#REF!) -> #REF! | C23: =IF(کارشناسی!#REF!="","",کارشناسی!#REF!) -> #REF! | D23: =IF(تکنسین!V8="","",تکنسین!V8) | E23: =IF(#REF!="","",#REF!) -> #REF! | F23: =IF(#REF!="","",#REF!) -> #REF! | G23: =IF(#REF!="","",#REF!) -> #REF! | J23: 64 | K23: ق15 | L23: =IF($O$7="","",IF(J23="",1,IF($O$7=J23,10,IF($O$7=J23+1,8,IF($O$7=J23-1,8,1)))))
B24: =IF(#REF!="","",#REF!) -> #REF! | C24: =IF(کارشناسی!#REF!="","",کارشناسی!#REF!) -> #REF! | D24: =IF(تکنسین!V9="","",تکنسین!V9) | E24: =IF(#REF!="","",#REF!) -> #REF! | F24: =IF(#REF!="","",#REF!) -> #REF! | G24: =IF(#REF!="","",#REF!) -> #REF! | J24: 65 | K24: ق16 | L24: =IF($O$7="","",IF(J24="",1,IF($O$7=J24,10,IF($O$7=J24+1,8,IF($O$7=J24-1,8,1)))))
B25: =IF(#REF!="","",#REF!) -> #REF! | C25: =IF(کارشناسی!#REF!="","",کارشناسی!#REF!) -> #REF! | D25: =IF(تکنسین!V10="","",تکنسین!V10) | E25: =IF(#REF!="","",#REF!) -> #REF! | F25: =IF(#REF!="","",#REF!) -> #REF! | G25: =IF(#REF!="","",#REF!) -> #REF! | J25: 66 | K25: ق17 | L25: =IF($O$7="","",IF(J25="",1,IF($O$7=J25,10,IF($O$7=J25+1,8,IF($O$7=J25-1,8,1)))))
B26: =IF(#REF!="","",#REF!) -> #REF! | C26: =IF(کارشناسی!#REF!="","",کارشناسی!#REF!) -> #REF! | D26: =IF(تکنسین!#REF!="","",تکنسین!#REF!) -> #REF! | E26: =IF(#REF!="","",#REF!) -> #REF! | F26: =IF(#REF!="","",#REF!) -> #REF! | G26: =IF(#REF!="","",#REF!) -> #REF! | J26: 67 | K26: ق18 | L26: =IF($O$7="","",IF(J26="",1,IF($O$7=J26,10,IF($O$7=J26+1,8,IF($O$7=J26-1,8,1)))))
B27: =IF(#REF!="","",#REF!) -> #REF! | C27: =IF(کارشناسی!Y7="","",کارشناسی!Y7) | D27: =IF(تکنسین!#REF!="","",تکنسین!#REF!) -> #REF! | E27: =IF(#REF!="","",#REF!) -> #REF! | F27: =IF(#REF!="","",#REF!) -> #REF! | G27: =IF(#REF!="","",#REF!) -> #REF! | J27: 68 | K27: ق19 | L27: =IF($O$7="","",IF(J27="",1,IF($O$7=J27,10,IF($O$7=J27+1,8,IF($O$7=J27-1,8,1)))))
B28: =IF(#REF!="","",#REF!) -> #REF! | C28: =IF(کارشناسی!#REF!="","",کارشناسی!#REF!) -> #REF! | D28: =IF(تکنسین!#REF!="","",تکنسین!#REF!) -> #REF! | E28: =IF(#REF!="","",#REF!) -> #REF! | F28: =IF(#REF!="","",#REF!) -> #REF! | G28: =IF(#REF!="","",#REF!) -> #REF! | J28: 69 | K28: ق20 | L28: =IF($O$7="","",IF(J28="",1,IF($O$7=J28,10,IF($O$7=J28+1,8,IF($O$7=J28-1,8,1)))))
B29: =IF(#REF!="","",#REF!) -> #REF! | C29: =IF(کارشناسی!#REF!="","",کارشناسی!#REF!) -> #REF! | D29: =IF(تکنسین!V11="","",تکنسین!V11) | E29: =IF(#REF!="","",#REF!) -> #REF! | F29: =IF(#REF!="","",#REF!) -> #REF! | G29: =IF(#REF!="","",#REF!) -> #REF! | J29: 70 | K29: ق21 | L29: =IF($O$7="","",IF(J29="",1,IF($O$7=J29,10,IF($O$7=J29+1,8,IF($O$7=J29-1,8,1)))))
B30: =IF(#REF!="","",#REF!) -> #REF! | C30: =IF(کارشناسی!#REF!="","",کارشناسی!#REF!) -> #REF! | D30: =IF(تکنسین!V12="","",تکنسین!V12) | E30: =IF(#REF!="","",#REF!) -> #REF! | F30: =IF(#REF!="","",#REF!) -> #REF! | G30: =IF(#REF!="","",#REF!) -> #REF! | J30: 71 | K30: ق22 | L30: =IF($O$7="","",IF(J30="",1,IF($O$7=J30,10,IF($O$7=J30+1,8,IF($O$7=J30-1,8,1)))))
B31: =IF(#REF!="","",#REF!) -> #REF! | C31: =IF(کارشناسی!#REF!="","",کارشناسی!#REF!) -> #REF! | D31: =IF(تکنسین!V13="","",تکنسین!V13) | E31: =IF(#REF!="","",#REF!) -> #REF! | F31: =IF(#REF!="","",#REF!) -> #REF! | G31: =IF(#REF!="","",#REF!) -> #REF! | J31: 72 | K31: ق23 | L31: =IF($O$7="","",IF(J31="",1,IF($O$7=J31,10,IF($O$7=J31+1,8,IF($O$7=J31-1,8,1)))))
B32: =IF(#REF!="","",#REF!) -> #REF! | C32: =IF(کارشناسی!Y8="","",کارشناسی!Y8) | D32: =IF(تکنسین!V14="","",تکنسین!V14) | E32: =IF(#REF!="","",#REF!) -> #REF! | F32: =IF(#REF!="","",#REF!) -> #REF! | G32: =IF(#REF!="","",#REF!) -> #REF! | J32: 73 | K32: ق24 | L32: =IF($O$7="","",IF(J32="",1,IF($O$7=J32,10,IF($O$7=J32+1,8,IF($O$7=J32-1,8,1)))))
B33: =IF(#REF!="","",#REF!) -> #REF! | C33: =IF(کارشناسی!#REF!="","",کارشناسی!#REF!) -> #REF! | D33: =IF(تکنسین!V15="","",تکنسین!V15) | E33: =IF(#REF!="","",#REF!) -> #REF! | F33: =IF(#REF!="","",#REF!) -> #REF! | G33: =IF(#REF!="","",#REF!) -> #REF! | J33: 74 | K33: ق25 | L33: =IF($O$7="","",IF(J33="",1,IF($O$7=J33,10,IF($O$7=J33+1,8,IF($O$7=J33-1,8,1)))))
B34: =IF(#REF!="","",#REF!) -> #REF! | C34: =IF(کارشناسی!#REF!="","",کارشناسی!#REF!) -> #REF! | D34: =IF(تکنسین!V16="","",تکنسین!V16) | E34: =IF(#REF!="","",#REF!) -> #REF! | F34: =IF(#REF!="","",#REF!) -> #REF! | G34: =IF(#REF!="","",#REF!) -> #REF! | J34: 75 | K34: ق26 | L34: =IF($O$7="","",IF(J34="",1,IF($O$7=J34,10,IF($O$7=J34+1,8,IF($O$7=J34-1,8,1)))))
B35: =IF(#REF!="","",#REF!) -> #REF! | C35: =IF(کارشناسی!#REF!="","",کارشناسی!#REF!) -> #REF! | D35: =IF(تکنسین!V17="","",تکنسین!V17) | E35: =IF(#REF!="","",#REF!) -> #REF! | F35: =IF(#REF!="","",#REF!) -> #REF! | G35: =IF(#REF!="","",#REF!) -> #REF! | J35: 76 | K35: ق27 | L35: =IF($O$7="","",IF(J35="",1,IF($O$7=J35,10,IF($O$7=J35+1,8,IF($O$7=J35-1,8,1)))))
B36: =IF(#REF!="","",#REF!) -> #REF! | C36: =IF(کارشناسی!#REF!="","",کارشناسی!#REF!) -> #REF! | D36: =IF(تکنسین!V18="","",تکنسین!V18) | E36: =IF(#REF!="","",#REF!) -> #REF! | F36: =IF(#REF!="","",#REF!) -> #REF! | G36: =IF(#REF!="","",#REF!) -> #REF! | J36: 77 | K36: ق28 | L36: =IF($O$7="","",IF(J36="",1,IF($O$7=J36,10,IF($O$7=J36+1,8,IF($O$7=J36-1,8,1)))))
B37: =IF(#REF!="","",#REF!) -> #REF! | C37: =IF(کارشناسی!Y9="","",کارشناسی!Y9) | D37: =IF(تکنسین!V19="","",تکنسین!V19) | E37: =IF(#REF!="","",#REF!) -> #REF! | F37: =IF(#REF!="","",#REF!) -> #REF! | G37: =IF(#REF!="","",#REF!) -> #REF! | J37: 78 | K37: ق29 | L37: =IF($O$7="","",IF(J37="",1,IF($O$7=J37,10,IF($O$7=J37+1,8,IF($O$7=J37-1,8,1)))))
B38: =IF(#REF!="","",#REF!) -> #REF! | C38: =IF(کارشناسی!Y10="","",کارشناسی!Y10) | D38: =IF(تکنسین!V20="","",تکنسین!V20) | E38: =IF(#REF!="","",#REF!) -> #REF! | F38: =IF(#REF!="","",#REF!) -> #REF! | G38: =IF(#REF!="","",#REF!) -> #REF! | J38: 79 | K38: ق30 | L38: =IF($O$7="","",IF(J38="",1,IF($O$7=J38,10,IF($O$7=J38+1,8,IF($O$7=J38-1,8,1)))))
B39: =IF(#REF!="","",#REF!) -> #REF! | C39: =IF(کارشناسی!#REF!="","",کارشناسی!#REF!) -> #REF! | D39: =IF(تکنسین!V21="","",تکنسین!V21) | E39: =IF(#REF!="","",#REF!) -> #REF! | F39: =IF(#REF!="","",#REF!) -> #REF! | G39: =IF(#REF!="","",#REF!) -> #REF! | J39: 80 | K39: ق31 | L39: =IF($O$7="","",IF(J39="",1,IF($O$7=J39,10,IF($O$7=J39+1,8,IF($O$7=J39-1,8,1)))))
B40: =IF(#REF!="","",#REF!) -> #REF! | C40: =IF(کارشناسی!#REF!="","",کارشناسی!#REF!) -> #REF! | D40: =IF(تکنسین!V22="","",تکنسین!V22) | E40: =IF(#REF!="","",#REF!) -> #REF! | F40: =IF(#REF!="","",#REF!) -> #REF! | G40: =IF(#REF!="","",#REF!) -> #REF! | J40: 81 | K40: ق32 | L40: =IF($O$7="","",IF(J40="",1,IF($O$7=J40,10,IF($O$7=J40+1,8,IF($O$7=J40-1,8,1)))))
...

Sheet Sheet1
O5: =Sheet6!A6
O6: 0
O7: =ROUND(O5,0) -> #VALUE!
M8: 50 | N8: ق1 | O8: =IF($O$7="","",IF(M8="",1,IF($O$7=M8,10,IF($O$7=M8+1,8,IF($O$7=M8-1,8,1))))) -> #VALUE!
M9: 51 | N9: ق2 | O9: =IF($O$7="","",IF(M9="",1,IF($O$7=M9,10,IF($O$7=M9+1,8,IF($O$7=M9-1,8,1))))) -> #VALUE!
M10: 52 | N10: ق3 | O10: =IF($O$7="","",IF(M10="",1,IF($O$7=M10,10,IF($O$7=M10+1,8,IF($O$7=M10-1,8,1))))) -> #VALUE!
M11: 53 | N11: ق4 | O11: =IF($O$7="","",IF(M11="",1,IF($O$7=M11,10,IF($O$7=M11+1,8,IF($O$7=M11-1,8,1))))) -> #VALUE!
M12: 54 | N12: ق5 | O12: =IF($O$7="","",IF(M12="",1,IF($O$7=M12,10,IF($O$7=M12+1,8,IF($O$7=M12-1,8,1))))) -> #VALUE!
M13: 55 | N13: ق6 | O13: =IF($O$7="","",IF(M13="",1,IF($O$7=M13,10,IF($O$7=M13+1,8,IF($O$7=M13-1,8,1))))) -> #VALUE!
M14: 56 | N14: ق7 | O14: =IF($O$7="","",IF(M14="",1,IF($O$7=M14,10,IF($O$7=M14+1,8,IF($O$7=M14-1,8,1))))) -> #VALUE!
M15: 57 | N15: ق8 | O15: =IF($O$7="","",IF(M15="",1,IF($O$7=M15,10,IF($O$7=M15+1,8,IF($O$7=M15-1,8,1))))) -> #VALUE!
M16: 58 | N16: ق9 | O16: =IF($O$7="","",IF(M16="",1,IF($O$7=M16,10,IF($O$7=M16+1,8,IF($O$7=M16-1,8,1))))) -> #VALUE!
M17: 59 | N17: ق10 | O17: =IF($O$7="","",IF(M17="",1,IF($O$7=M17,10,IF($O$7=M17+1,8,IF($O$7=M17-1,8,1))))) -> #VALUE!
M18: 60 | N18: ق11 | O18: =IF($O$7="","",IF(M18="",1,IF($O$7=M18,10,IF($O$7=M18+1,8,IF($O$7=M18-1,8,1))))) -> #VALUE!
M19: 61 | N19: ق12 | O19: =IF($O$7="","",IF(M19="",1,IF($O$7=M19,10,IF($O$7=M19+1,8,IF($O$7=M19-1,8,1))))) -> #VALUE!
... M58: 100 | N58: ق51 | O58: =IF($O$7="","",IF(M58="",1,IF($O$7=M58,10,IF($O$7=M58+1,8,IF($O$7=M58-1,8,1))))) -> #VALUE!
N59: ق52 | O59: =IF($O$7="","",IF(M59="",1,IF($O$7=M59,10,IF($O$7=M59+1,8,IF($O$7=M59-1,8,1))))) -> #VALUE!
N60: ق53 | O60: =IF($O$7="","",IF(M60="",1,IF($O$7=M60,10,IF($O$7=M60+1,8,IF($O$7=M60-1,8,1))))) -> #VALUE!
N61: ق54 | O61: =IF($O$7="","",IF(M61="",1,IF($O$7=M61,10,IF($O$7=M61+1,8,IF($O$7=M61-1,8,1))))) -> #VALUE!
N62: ق55 | O62: =IF($O$7="","",IF(M62="",1,IF($O$7=M62,10,IF($O$7=M62+1,8,IF($O$7=M62-1,8,1))))) -> #VALUE!
N63: ق56 | O63: =IF($O$7="","",IF(M63="",1,IF($O$7=M63,10,IF($O$7=M63+1,8,IF($O$7=M63-1,8,1))))) -> #VALUE!
N64: ق57 | O64: =IF($O$7="","",IF(M64="",1,IF($O$7=M64,10,IF($O$7=M64+1,8,IF($O$7=M64-1,8,1))))) -> #VALUE!
N65: ق58 | O65: =IF($O$7="","",IF(M65="",1,IF($O$7=M65,10,IF($O$7=M65+1,8,IF($O$7=M65-1,8,1))))) -> #VALUE!
N66: ق59 | O66: =IF($O$7="","",IF(M66="",1,IF($O$7=M66,10,IF($O$7=M66+1,8,IF($O$7=M66-1,8,1))))) -> #VALUE!
N67: ق60 | O67: =IF($O$7="","",IF(M67="",1,IF($O$7=M67,10,IF($O$7=M67+1,8,IF($O$7=M67-1,8,1))))) -> #VALUE!
N68: ق61 | O68: =IF($O$7="","",IF(M68="",1,IF($O$7=M68,10,IF($O$7=M68+1,8,IF($O$7=M68-1,8,1))))) -> #VALUE!
N69: ق62 | O69: =IF($O$7="","",IF(M69="",1,IF($O$7=M69,10,IF($O$7=M69+1,8,IF($O$7=M69-1,8,1))))) -> #VALUE!
N70: ق63 | O70: =IF($O$7="","",IF(M70="",1,IF($O$7=M70,10,IF($O$7=M70+1,8,IF($O$7=M70-1,8,1))))) -> #VALUE!
... N158: ق151 | O158: =IF($O$7="","",IF(M158="",1,IF($O$7=M158,10,IF($O$7=M158+1,8,IF($O$7=M158-1,8,1))))) -> #VALUE!
M159: 1 | N159: ق152 | O159: =IF($O$7="","",IF(M159="",1,IF($O$7=M159,10,IF($O$7=M159+1,8,IF($O$7=M159-1,8,1))))) -> #VALUE!
M160: 2 | N160: ق153 | O160: =IF($O$7="","",IF(M160="",1,IF($O$7=M160,10,IF($O$7=M160+1,8,IF($O$7=M160-1,8,1))))) -> #VALUE!
M161: 3 | N161: ق154 | O161: =IF($O$7="","",IF(M161="",1,IF($O$7=M161,10,IF($O$7=M161+1,8,IF($O$7=M161-1,8,1))))) -> #VALUE!
M162: 4 | N162: ق155 | O162: =IF($O$7="","",IF(M162="",1,IF($O$7=M162,10,IF($O$7=M162+1,8,IF($O$7=M162-1,8,1))))) -> #VALUE!
M163: 5 | N163: ق156 | O163: =IF($O$7="","",IF(M163="",1,IF($O$7=M163,10,IF($O$7=M163+1,8,IF($O$7=M163-1,8,1))))) -> #VALUE!
M164: 6 | N164: ق157 | O164: =IF($O$7="","",IF(M164="",1,IF($O$7=M164,10,IF($O$7=M164+1,8,IF($O$7=M164-1,8,1))))) -> #VALUE!
M165: 7 | N165: ق158 | O165: =IF($O$7="","",IF(M165="",1,IF($O$7=M165,10,IF($O$7=M165+1,8,IF($O$7=M165-1,8,1))))) -> #VALUE!
M166: 8 | N166: ق159 | O166: =IF($O$7="","",IF(M166="",1,IF($O$7=M166,10,IF($O$7=M166+1,8,IF($O$7=M166-1,8,1))))) -> #VALUE!
M167: 9 | N167: ق160 | O167: =IF($O$7="","",IF(M167="",1,IF($O$7=M167,10,IF($O$7=M167+1,8,IF($O$7=M167-1,8,1))))) -> #VALUE!
M168: 10 | N168: ق161 | O168: =IF($O$7="","",IF(M168="",1,IF($O$7=M168,10,IF($O$7=M168+1,8,IF($O$7=M168-1,8,1))))) -> #VALUE!
M169: 11 | N169: ق162 | O169: =IF($O$7="","",IF(M169="",1,IF($O$7=M169,10,IF($O$7=M169+1,8,IF($O$7=M169-1,8,1))))) -> #VALUE!
...
