Workbook

Sheet گزارش1
A1: خريدهاي وكيوم بندرعباس
A2: خريدهاي نفت جي از 97/01/01 لغايت 98/06/31 | D2: خريدهاي هميار جي از 97/01/01 لغايت 98/06/31
A3: ماه | B3: كيلوگرم | D3: ماه | E3: كيلوگرم
A4: فرودين 97 | B4: 15500000 | D4: فرودين 97 | E4: 2000000
A5: ارديبهشت 97 | B5: 14800000 | D5: ارديبهشت 97 | E5: 15250000
A6: خرداد 97 | B6: 23300000 | D6: خرداد 97 | E6: 7207000
A7: تير 97 | B7: 7200000 | D7: تير 97 | E7: 6400000
A8: مرداد 97 | B8: 2000000 | D8: مرداد 97 | E8: 1600000
A9: شهريور 97 | B9: 2300000 | D9: شهريور 97 | E9: 400000
A10: مهر 97 | B10: 0 | D10: مهر 97 | E10: 0
A11: آبان 97 | B11: 0 | D11: آبان 97 | E11: 0
A12: آذر 97 | B12: 2000000 | D12: آذر 97 | E12: 1700000
A13: دي 97 | B13: 13800000 | D13: دي 97 | E13: 0
A14: بهمن 97 | B14: 11500000 | D14: بهمن 97 | E14: 2200000
A15: اسفند 97 | B15: 37400000 | D15: اسفند 97 | E15: 0
A16: جمع كل : | B16: =SUM(B4:B15) -> 129800000 | D16: جمع كل : | E16: =SUM(E4:E15) -> 36757000
A17: فرودين 98 | B17: 8000000 | D17: فرودين 98 | E17: 0
A18: ارديبهشت 98 | B18: 12500000 | D18: ارديبهشت 98 | E18: 0
A19: خرداد 98 | B19: 24800000 | D19: خرداد 98 | E19: 2000000
A20: تير 98 | B20: 37000000 | D20: تير 98 | E20: 2700000
A21: مرداد 98 | B21: 0 | D21: مرداد 98 | E21: 0
A22: شهريور 98 | B22: 10000000 | D22: شهريور 98 | E22: 8000000
A23: جمع كل : | B23: =SUM(B17:B22) -> 92300000 | D23: جمع كل : | E23: =SUM(E17:E22) -> 12700000

Sheet ورق
A1: ردیف | B1: تاریخ خرید بورسی | C1: شماره قرارداد بورسی | D1: عرضه کننده | E1: مقدار (کیلوگرم) | F1: قیمت واحد بورسی
A2: 1 | B2: 1400/01/16 | C2: 1400001842 | D2: فولاد مبارکه اصفهان | E2: 400000 | F2: 206500
A3: 2 | B3: 1400/01/23 | C3: 1400004415 | D3: صنایع هفت الماس | E3: 500000 | F3: 188995
A4: 3 | B4: 1400/02/20 | C4: 1400014455 | D4: فولاد مبارکه اصفهان | E4: 800000 | F4: 238001
A5: 4 | B5: 1400/03/19 | C5: 1400027294 | D5: صنایع هفت الماس | E5: 50000 | F5: 238000
A6: 5 | B6: 1400/03/26 | C6: 1400031000 | D6: صنایع هفت الماس | E6: 500000 | F6: 237616
A7: 6 | B7: 1400/04/22 | C7: 1400046376 | D7: صنایع هفت الماس | E7: 150000 | F7: 228000
A8: 7 | B8: 1400/04/07 | C8: 1400036283 | D8: فولاد مبارکه اصفهان | E8: 1000000 | F8: 233700
A9: 8 | B9: 1400/05/09 | C9: 1400054208 | D9: صنایع هفت الماس | E9: 500000 | F9: 224821
A10: 9 | B10: 1400/05/11 | C10: 1400055323 | D10: فولاد مبارکه اصفهان | E10: 700000 | F10: 245700
A11: 10 | B11: 1400/06/16 | C11: 1400087705 | D11: فولاد مبارکه اصفهان | E11: 700000 | F11: 226500
A12: 11 | B12: 1400/07/11 | C12: 1400113693 | D12: فولاد مبارکه اصفهان | E12: 400000 | F12: 237800
A13: 12 | B13: 1400/07/26 | C13: 1400129173 | D13: صنایع هفت الماس | E13: 1000000 | F13: 230700 | G13: اعتباری
A14: 13 | B14: 1400/08/10 | C14: 1400144221 | D14: فولاد مبارکه اصفهان | E14: 1000000 | F14: 242779 | G14: اعتباری
A15: 14 | B15: 1400/08/12 | C15: 1400146497 | D15: صنایع هفت الماس | E15: 500000 | F15: 240979 | G15: اعتباری
A16: 15 | B16: 1400/08/26 | C16: 1400161030 | D16: صنایع هفت الماس | E16: 100000 | F16: 246100 | G16: نقدی
A17: 16 | B17: 1400/09/03 | C17: 1400168580 | D17: صنایع هفت الماس | E17: 1000000 | F17: 215103 | G17: نقدی
A18: 17 | B18: 1400/09/09 | C18: 1400174016 | D18: فولاد مبارکه اصفهان | E18: 1100000 | F18: 236779 | G18: اعتباری
A19: 18 | B19: 1400/10/14 | C19: 1400209866 | D19: صنایع هفت الماس | E19: 500000 | F19: 220500 | G19: نقدی
A20: 19 | B20: 1400/10/21 | C20: 1400215520 | D20: فولاد مبارکه اصفهان | E20: 2000000 | F20: 235337 | G20: اعتباری
A21: 20 | B21: 1400/11/12 | C21: 1400234459 | D21: فولاد مبارکه اصفهان | E21: 2000000 | F21: 216745 | G21: اعتباری
A22: 21
B23: 1401/02/06 | C23: 1401316258 | D23: فولاد مبارکه اصفهان | E23: 500000 | F23: 235200 | G23: نقدی | H23: بدنه | I23: عرض 1000 | J23: شناسه واریز
B24: 1401/04/13 | C24: 1401393878 | D24: فولاد مبارکه اصفهان | E24: 200000 | F24: 221779 | G24: نقدی | H24: بدنه | I24: عرض 1000
B25: 1401/04/13 | C25: 1401393888 | D25: فولاد مبارکه اصفهان | E25: 50000 | F25: 221779 | G25: نقدی | H25: بدنه | I25: عرض 1000
B26: 1401/04/15 | C26: 1401397575 | D26: صنایع هفت الماس | E26: 500000 | F26: 213191 | G26: نقدی | H26: سروته | I26: عرض 1250
B27: 1401/07/18 | C27: 1401500550 | D27: فولاد مبارکه اصفهان | E27: 250000 | F27: 221850 | G27: نقدی | H27: بدنه | I27: عرض 1000
B28: 1401/08/10 | C28: 1401528282 | D28: صنایع هفت الماس | E28: 250000 | F28: 215100 | G28: نقدی | H28: سروته | I28: عرض 1000 | J28: خبرگان سهام
B29: 1401/08/10 | C29: 1401528281 | D29: صنایع هفت الماس | E29: 1000000 | F29: 215100 | G29: نقدی | H29: بدنه | I29: عرض 1000 | J29: خبرگان سهام
B30: 1401/08/10 | C30: 1401528279 | D30: صنایع هفت الماس | E30: 1000000 | F30: 215100 | G30: نقدی | H30: سروته | I30: عرض 1250 | J30: خبرگان سهام
B31: 1401/08/16 | C31: 1401536543 | D31: فولاد مبارکه اصفهان | E31: 250000 | F31: 257100 | G31: نقدی | H31: بدنه | I31: عرض 1000 | J31: خبرگان سهام
B32: 1401/09/07 | C32: 1401562551 | D32: فولاد مبارکه اصفهان | E32: 300000 | F32: 252100 | G32: نقدی | H32: بدنه | I32: عرض 1000 | J32: خبرگان سهام
B33: 1401/09/15 | C33: 14015773749 | D33: صنایع هفت الماس | E33: 500000 | F33: 220100 | G33: نقدی | H33: بدنه | I33: عرض1000 | J33: خبرگان سهام
B34: 1401/09/29 | C34: 1401595503 | D34: صنایع هفت الماس | E34: 850000 | F34: 225100 | G34: نقدی | H34: بدنه و سروته | I34: بدنه 500 سروته 350 | J34: خبرگان سهام
B35: 1401/10/20 | C35: 1401630218 | D35: فولاد مبارکه اصفهان | E35: 800000 | F35: 320100 | G35: نقدی | I35: 800 تن بدنه | J35: خبرگان سهام
B36: 1401/10/27 | C36: 1401639569 | D36: صنایع هفت الماس | E36: 1000000 | F36: 296100 | G36: نقدی | H36: بدنه و سروته | I36: بدنه 300 سروته 700 | J36: خبرگان سهام
B37: 1401/11/11 | C37: 1401658475 | D37: فولاد مبارکه اصفهان | E37: 50000 | F37: 355100 | G37: نقدی | H37: بدنه | I37: 50 تن بدنه | J37: خبرگان سهام
B38: 1401/11/11 | C38: 1401658471 | D38: فولاد مبارکه اصفهان | E38: 250000 | F38: 355100 | G38: نقدی | H38: بدنه | I38: عرض1000 | J38: خبرگان سهام
B39: 1401/12/07 | C39: 1401695230 | D39: صنایع هفت الماس | E39: 1000000 | F39: 400100 | G39: نقدی | H39: بدنه و سروته | I39: بدنه700 سروته 300 | J39: خبرگان سهام
B40: 1401/12/08 | C40: 1401697758 | D40: فولاد مبارکه اصفهان | E40: 150000 | F40: 389100 | G40: نقدی | H40: بدنه | I40: 150 تن بدنه | J40: خبرگان سهام
B41: 1401/12/16 | C41: 1401710084 | D41: صنایع هفت الماس | E41: 400000 | F41: 354100 | G41: نقدی | H41: بدنه و سروته | I41: 200تن بدنه 200 تن سروته | J41: خبرگان سهام
B42: 1402/01/15 | C42: 1402732533 | D42: فولاد مبارکه اصفهان | E42: 700000 | F42: 346100 | G42: نقدی | H42: بدنه | I42: بدنه700 تن | J42: خبرگان سهام
B43: 1402/01/28 | C43: 1402750250 | D43: صنایع هفت الماس | E43: 750000 | F43: 270306 | G43: نقدی | H43: بدنه و سروته | I43: 350تن سروته 400 تن بدنه | J43: خبرگان سهام
B44: 1402/02/11 | C44: 1402768556 | D44: صنایع هفت الماس | E44: 100000 | F44: 355100 | G44: نقدی | H44: سر و ته | I44: 100 تن سر و ته | J44: خبرگان سهام
B45: 1402/03/06 | C45: 1402799693 | D45: صنایع هفت الماس | E45: 300000 | F45: 341179 | G45: نقدی | H45: بدنه | I45: 300تن بدنه | J45: خبرگان سهام | K45: بورس ok
B46: 1402/03/10 | C46: 1402807635 | D46: صنایع هفت الماس | E46: 400000 | F46: 343779 | G46: نقدی | H46: بدنه300 | I46: سروته100 | J46: خبرگان سهام
B47: 1402/03/23 | C47: 1402822412 | D47: صنایع هفت الماس | E47: 300000 | F47: 331700 | G47: نقدی | H47: بدنه300 | I47: 0 | J47: خبرگان سهام
B48: 1402/04/05 | C48: 1402837226 | D48: صنایع هفت الماس | E48: 500000 | F48: 322100 | G48: نقدی | H48: بدنه300 | I48: سروته200 | J48: خبرگان سهام
B49: 1402/04/12 | C49: 1402844936 | D49: صنایع هفت الماس | E49: 450000 | F49: 319700 | G49: نقدی | H49: بدنه300 | I49: سر و ته 150 | J49: خبرگان سهام
B50: 1402/04/19 | C50: 1402854047 | D50: صنایع هفت الماس | E50: 500000 | F50: 315662 | G50: نقدی | H50: بدنه500 | I50: 0 | J50: خبرگان سهام
B51: 1402/04/19 | C51: 1402853955 | D51: صنایع هفت الماس | E51: 200000 | F51: 315662 | G51: نقدی | H51: 0 | I51: سر و ته 200 | J51: خبرگان سهام
B52: 1402/05/09 | C52: 1402881186 | D52: صنایع هفت الماس | E52: 750000 | F52: 304784 | G52: نقدی | H52: بدنه 500تن | I52: سرو ته 250 | J52: خبرگان سهام
B53: 1402/05/16 | C53: 1402889842 | D53: صنایع هفت الماس | E53: 300000 | F53: 305189 | G53: نقدی | H53: بدنه 200تن | I53: سرو ته 100 | J53: خبرگان سهام
B54: 1402/05/23 | C54: 1402900750 | D54: فولاد مبارکه اصفهان | E54: 300000 | F54: 324100 | G54: نقدی | H54: بدنه 300 تن | J54: خبرگان سهام
B55: 1402/06/20 | C55: 1402933295 | D55: فولاد مبارکه اصفهان | E55: 350000 | F55: 313516 | G55: نقدی | H55: بدنه 350 تن | J55: خبرگان سهام | L55: 338500 | M55: =L55*E55 -> 118475000000 | N55: =M55*0.00117 -> 138615750 | O55: کارمزد بورس | P55: =N55*0.25 -> 34653938
B56: 1402/07/17 | C56: 1402968891 | D56: فولاد مبارکه اصفهان | E56: 250000 | F56: 306977 | G56: نقدی | H56: بدنه 250 تن | J56: خبرگان سهام | K56: 344100 | L56: =K56*E56 -> 86025000000
B57: 1402/07/24 | C57: 1402978837 | D57: صنایع هفت الماس | E57: 300000 | F57: 308703 | G57: نقدی | I57: سر و ته300 تن | J57: خبرگان سهام | K57: 308703 | L57: =K57*E57 -> 92610900000 | M57: =L56+L57 -> 178635900000 | N57: =M57*0.00117 -> 209004003 | P57: =N57*0.25 -> 52251001
B58: 1402/08/01 | C58: 1402988453 | D58: صنایع هفت الماس | E58: 300000 | F58: 299351 | G58: نقدی | I58: سر و ته300 تن | J58: خبرگان سهام | K58: 299351 | L58: =K58*E58 -> 89805300000 | P58: 600000000
B59: 1402/08/15 | C59: 1402016869 | D59: فولاد مبارکه اصفهان | E59: 250000 | F59: 365500 | G59: نقدی | H59: بدنه 250 تن | I59: سر و ته300 تن | J59: خبرگان سهام | K59: 365500 | L59: =K59*E59 -> 91375000000 | P59: 168551838
B60: 1402/09/06 | C60: 1402044479 | D60: صنایع هفت الماس | E60: 300000 | F60: 318059 | G60: نقدی | I60: سر و ته300 تن | J60: خبرگان سهام | L60: =F60*E60 -> 95417700000 | P60: 156565500
B61: 1402/09/13 | C61: 1402053795 | D61: فولاد مبارکه اصفهان | E61: 250000 | F61: 362102 | G61: نقدی | H61: بدنه 250 تن | J61: خبرگان سهام | L61: =F61*E61 -> 90525500000
B62: 1402/09/20 | C62: 14020643321 | D62: صنایع هفت الماس | E62: 250000 | F62: 318860 | G62: نقدی | H62: بدنه 250 تن | J62: خبرگان سهام | L62: =F62*E62 -> 79715000000
B63: 1402/10/11 | C63: 1402092096 | D63: فولاد مبارکه اصفهان | E63: 300000 | F63: 337101 | G63: نقدی | H63: بدنه 300 تن | J63: خبرگان سهام | L63: =F63*E63 -> 101130300000 | M63: =SUM(L63:L64) -> 168702700000
B64: 1402/10/19 | C64: 1402102637 | D64: صنایع هفت الماس | E64: 200000 | F64: 337862 | G64: نقدی | I64: سر و ته200 تن | J64: خبرگان سهام | L64: =F64*E64 -> 67572400000 | M64: =M63*0.00117 -> 197382159 | N64: =M64*0.25 -> 49345540 | O64: =P64*0.5 -> 2400000000 | P64: =SUM('Vb اصفهان'!H437:H446) -> 4800000000 | Q64: =SUM(N64:O64) -> 2.4493455e+09
B65: 1403/01/20 | C65: 1403022026 | D65: فولاد مبارکه اصفهان | E65: 100000 | F65: 399100 | G65: نقدی | H65: بدنه 100 تن | J65: خبرگان سهام | K65: 46694700 | L65: =SUM(L58:L59) -> 181180300000 | M65: =L65*0.00117 -> 211980951 | P65: =P58*10 -> 6000000000
B66: 1403/01/21 | C66: 1403022288 | D66: صنایع هفت الماس | E66: 500000 | F66: 399100 | G66: نقدی | H66: بدنه 200 تن | I66: سر و ته300 تن | J66: خبرگان سهام | K66: 230100390 | M66: =M65*0.25 -> 52995238 | P66: =P65*0.5 -> 3000000000
B67: 1403/02/03 | C67: 1403039449 | D67: صنایع هفت الماس | E67: 300000 | F67: 424855 | G67: نقدی | H67: 0 | I67: سر و ته300 تن | J67: خبرگان سهام | K67: =E67*F67 -> 127456500000 | L67: 149124105
B68: 1403/02/10 | C68: 1403048834 | D68: فولاد مبارکه اصفهان | E68: 850000 | F68: 424980 | G68: نقدی | H68: بدنه 850 تن | I68: 0 | J68: خبرگان سهام | K68: =E68*F68 -> 361233000000 | L68: 270000000 | O68: =P68*0.5 -> 1811421000 | P68: ='Vb اصفهان'!I500 -> 3622842000 | Q68: =SUM(L67:L68) -> 419124105
B69: 1403/03/07 | C69: 140384922 | D69: فولاد مبارکه اصفهان | E69: 800000 | F69: 387500 | G69: نقدی | H69: بدنه 800 تن | I69: 0 | J69: خبرگان سهام | K69: 270000000 | L69: ='Vb اصفهان'!I522 -> 1869433200 | M69: =L69*50% -> 934716600 | N69: =K69*25% -> 67500000 | O69: =SUM(N69+M69) -> 1002216600 | P69: =O68+Q69 -> 1.916202e+09 | Q69: =Q68*0.25 -> 1.0478103e+08
B70: 1403/04/11 | C70: 1403129969 | D70: فولاد مبارکه اصفهان | E70: 800000 | F70: 384519 | G70: نقدی | H70: بدنه 800 تن | I70: 0 | J70: خبرگان سهام | K70: 270000000 | L70: ='Vb اصفهان'!I546 -> 8423959800 | M70: =L70*50% -> 4211979900 | N70: =K70*25% -> 67500000 | O70: =N70+M70 -> 4279479900
B71: 1403/05/15 | C71: 1403172537 | D71: فولاد مبارکه اصفهان | E71: 1150000 | F71: 376315 | G71: نقدی | H71: بدنه 500 تن | I71: سر و ته650 تن | J71: خبرگان سهام
B72: 1403/06/11 | C72: 14032095091 | D72: فولاد مبارکه اصفهان | E72: 1150000 | F72: 377479 | G72: نقدی | H72: 600تن بدنه | I72: 550تن سروته | J72: خبرگان سهام | N72: 4800000000 | P72: =SUM(L60:L62) -> 265658200000
B73: 1403/07/02 | C73: 1403239274 | D73: فولاد مبارکه اصفهان | E73: 1150000 | F73: 358491 | G73: نقدی | H73: 800تن بدنه | I73: 350تن سروته | J73: خبرگان سهام | N73: =N72*0.5 -> 2400000000 | P73: =P72*0.00117 -> 310820094
B74: 1403/08/07 | C74: 1403291972 | D74: فولاد مبارکه اصفهان | E74: 600000 | F74: 367840 | G74: نقدی | H74: 400تن بدنه | I74: 200تن سروته | J74: خبرگان سهام | P74: =P73*0.25 -> 77705024
B75: 1403/09/05 | C75: 1403334565 | D75: فولاد مبارکه اصفهان | E75: 700000 | F75: 402734 | G75: نقدی | H75: 500تن بدنه | I75: 200تن سروته | J75: خبرگان سهام | N75: =P74+N73 -> 2.477705e+09
B76: 1403/10/03 | C76: 1403374988 | D76: فولاد مبارکه اصفهان | E76: 300000 | F76: 402734 | G76: نقدی | H76: 300تن بدنه | J76: خبرگان سهام

Sheet Sheet1
A1: تاریخ قرارداد | B1: شماره قرارداد | C1: فروشنده | D1: مقدار | E1: نرخ قرارداد | F1: نرخ پرمیوم | G1: فی قرارداد+پرمیموم
A2: 1400/08/12 | B2: 1400146497 | C2: صنایع هفت الماس | D2: 500000 | E2: 240979 | F2: 25000 | G2: =F2+E2 -> 265979
A3: 1400/08/26 | B3: 1400161030 | C3: صنایع هفت الماس | D3: 100000 | E3: 246100 | F3: 25000 | G3: =F3+E3 -> 271100
A4: 1400/09/03 | B4: 1400168580 | C4: صنایع هفت الماس | D4: 1000000 | E4: 215103 | F4: 25000 | G4: =F4+E4 -> 240103
A5: 1400/09/09 | B5: 1400174016 | C5: فولاد مبارکه اصفهان | D5: 1100000 | E5: 236779 | F5: 10000 | G5: =F5+E5 -> 246779
A6: 1400/10/14 | B6: 1400209866 | C6: صنایع هفت الماس | D6: 500000 | E6: 220500 | F6: 25000 | G6: =F6+E6 -> 245500
A7: 1400/10/21 | B7: 1400215520 | C7: فولاد مبارکه اصفهان | D7: 2000000 | E7: 235337 | F7: 10000 | G7: =F7+E7 -> 245337
A8: 1400/11/12 | B8: 1400234459 | C8: فولاد مبارکه اصفهان | D8: 2000000 | E8: 216745 | F8: 10000 | G8: =F8+E8 -> 226745
A9: 1401/02/06 | B9: 1401316258 | C9: فولاد مبارکه اصفهان | D9: 500000 | E9: 235200 | F9: 10000 | G9: =F9+E9 -> 245200
D10: =SUM(D2:D9) -> 7700000

Sheet Vb اصفهان
A1: ردیف | B1: تاریخ خرید از بورس | C1: شماره سفارش | D1: مبدا خرید | E1: وزن خرید (تن) | F1: نرخ خرید (ریال) | G1: وزن فاکتور (کیلوگرم) | H1: کارمزد بورسی
A2: 1 | B2: 1397/01/9 | C2: 1397557338 | D2: اصفهان | E2: 125000000 | F2: 11185 | G2: 107505729
A3: 2 | B3: 1397/02/05 | C3: 1397561918 | D3: اصفهان | E3: 125000000 | F3: 10263 | G3: 126212611
A4: 3 | B4: 1397/03/05 | C4: 1397570003 | D4: اصفهان | E4: 125000000 | F4: 12472
A5: 4 | B5: 1397/04/05 | C5: 1397577995 | D5: اصفهان | E5: 125000000 | F5: 12832
A6: 5 | B6: 1397/05/06 | C6: 1397588165 | D6: اصفهان | E6: 125000000 | F6: 13624
A7: 6 | B7: 1397/06/05 | C7: 1397598050 | D7: اصفهان | E7: 125000000 | F7: 25333
A9: 7 | B9: 98/04/05 | C9: 1398686125 | D9: اصفهان | E9: 30000 | F9: 27313
A10: 8 | B10: 98/04/05 | C10: 1398686129 | D10: اصفهان | E10: 30000 | F10: 27313
A11: 9 | B11: 98/04/05 | C11: 1398686131 | D11: اصفهان | E11: 30000 | F11: 27313
A12: 10 | B12: 98/04/05 | C12: 1398686127 | D12: اصفهان | E12: 30000 | F12: 27313
A16: 11 | B16: 98/05/05 | C16: 1398693358 | E16: 30000 | F16: 34098 | G16: =E16*F16 -> 1022940000
A17: 12 | C17: 1398693357 | E17: 30000 | F17: 34098 | G17: =E17*F17 -> 1022940000
A18: 13 | C18: 1398693356 | E18: 30000 | F18: 34098 | G18: =E18*F18 -> 1022940000
A19: 14 | C19: 1398693355 | E19: 30000 | F19: 34098 | G19: =E19*F19 -> 1022940000
G20: =SUM(G16:G19) -> 4091760000
A21: 15 | B21: 98/06/10 | C21: 1398700321 | E21: 30000 | F21: 24716
A22: 16 | B22: 98/06/10 | C22: 1398700322 | E22: 30000 | F22: 24716
A23: 17 | B23: 98/06/10 | C23: 1398700323 | E23: 30000 | F23: 24716
A24: 18 | B24: 98/06/10 | C24: 1398700320 | E24: 30000 | F24: 24716
A27: 19 | B27: 35953 | C27: 1398709851 | E27: 30000 | F27: 35579
A28: 20 | B28: 35953 | C28: 1398709850 | E28: 30000 | F28: 35579
A29: 21 | B29: 35953 | C29: 1398709849 | E29: 30000 | F29: 35579
A33: 22 | B33: 35954 | C33: 1398717971 | E33: 30000 | F33: 24100
A34: 23 | C34: 72 | E34: 30000 | F34: 24100
A35: 24 | C35: 73 | E35: 30000 | F35: 24100
A36: 25 | C36: 74 | E36: 30000 | F36: 24100
A39: 26 | B39: 35924 | C39: 1398727416 | E39: 30000 | F39: 19211
A40: 27 | C40: 17 | E40: 30000 | F40: 19211
A41: 28 | C41: 18 | E41: 30000 | F41: 19211
A42: 29 | C42: 19 | E42: 30000 | F42: 19211
A45: 30 | B45: 35986 | C45: 1398739082 | E45: 30000 | F45: 19211
A46: 31 | C46: 83 | E46: 30000 | F46: 19211
A47: 32 | C47: 84 | E47: 30000 | F47: 19211
A48: 33 | C48: 85 | E48: 30000 | F48: 19211
B51: 99/01/10 | C51: 1399767695 | E51: 12000000 | F51: 16357 | G51: =F51*E51 -> 196284000000
C52: 81 | E52: 12000000 | F52: 16357 | G52: =F52*E52 -> 196284000000
C53: 98 | E53: 12000000 | F53: 16357 | G53: =F53*E53 -> 196284000000
C54: 97 | E54: 12000000 | F54: 16357 | G54: =F54*E54 -> 196284000000
C55: 96 | E55: 12000000 | F55: 16357 | G55: =F55*E55 -> 196284000000
C56: 99 | E56: 12000000 | F56: 16357 | G56: =F56*E56 -> 196284000000
E57: 0 | G57: =SUM(G51:G56) -> 1177704000000
B58: 99/02/07 | C58: 1399775856 | E58: 108000000 | F58: 13295 | G58: =F58*E58 -> 1435860000000
C59: 64 | E59: 0
C60: 63 | E60: 0
C61: 62 | E61: 0
C62: 60 | E62: 0
C63: 59 | E63: 0
C64: 58 | E64: 0
C65: 57 | E65: 0 | P65: =P58*10 -> 0
E66: 0
B67: 99/03/07 | C67: 1399787525 | E67: 12000000 | F67: 15159 | G67: =F67*E67 -> 181908000000
C68: 24 | E68: 12000000 | F68: 15159 | G68: =F68*E68 -> 181908000000 | L68: 47500 | M68: 117600 | N68: =M68*L68 -> 5586000000 | O68: =N68*0.0018 -> 10054800
C69: 23 | E69: 12000000 | F69: 15159 | G69: =F69*E69 -> 181908000000
C70: 22 | E70: 12000000 | F70: 15159 | G70: =F70*E70 -> 181908000000
C71: 21 | E71: 12000000 | F71: 15159 | G71: =F71*E71 -> 181908000000 | I71: =7*12000 -> 84000
C72: 20 | E72: 12000000 | F72: 15159 | G72: =F72*E72 -> 181908000000
C73: 26 | E73: 12000000 | F73: 15159 | G73: =F73*E73 -> 181908000000
E74: 0 | G74: =SUM(G67:G73) -> 1273356000000
B75: 139904/08 | C75: 1399799334 | E75: 12000000 | F75: 24157 | G75: =F75*E75 -> 289884000000
C76: 35 | E76: 12000000 | F76: 24157 | G76: =F76*E76 -> 289884000000
C77: 36 | E77: 12000000 | F77: 24157 | G77: =F77*E77 -> 289884000000
C78: 37 | E78: 12000000 | F78: 24157 | G78: =F78*E78 -> 289884000000
C79: 38 | E79: 12000000 | F79: 24157 | G79: =F79*E79 -> 289884000000
C80: 39 | E80: 12000000 | F80: 24157 | G80: =F80*E80 -> 289884000000
C81: 40 | E81: 12000000 | F81: 24157 | G81: =F81*E81 -> 289884000000
C82: 41 | E82: 12000000 | F82: 24157 | G82: =F82*E82 -> 289884000000
C83: 42 | E83: 12000000 | F83: 24157 | G83: =F83*E83 -> 289884000000
E84: 0 | G84: =SUM(G75:G83) -> 2608956000000
B85: 1399/05/05 | C85: 1399810388 | E85: 12000000 | F85: 29523 | G85: =F85*E85 -> 354276000000
C86: 89 | E86: 12000000 | F86: 29523 | G86: =F86*E86 -> 354276000000
C87: 90 | E87: 12000000 | F87: 29523 | G87: =F87*E87 -> 354276000000
C88: 91 | E88: 12000000 | F88: 29523 | G88: =F88*E88 -> 354276000000
C89: 92 | E89: 12000000 | F89: 29523 | G89: =F89*E89 -> 354276000000
C90: 93 | E90: 12000000 | F90: 29523 | G90: =F90*E90 -> 354276000000
E91: 0 | G91: =SUM(G85:G90) -> 2125656000000
B92: 1399/06 | C92: 1399822680 | E92: 12000000 | F92: 33750 | G92: =F92*E92 -> 405000000000
C93: 79 | E93: 12000000 | F93: 33750 | G93: =F93*E93 -> 405000000000
C94: 78 | E94: 12000000 | F94: 33750 | G94: =F94*E94 -> 405000000000
C95: 77 | E95: 12000000 | F95: 33750 | G95: =F95*E95 -> 405000000000
C96: 76 | E96: 12000000 | F96: 33750 | G96: =F96*E96 -> 405000000000
C97: 75 | E97: 12000000 | F97: 33750 | G97: =F97*E97 -> 405000000000
C98: 74 | E98: 12000000 | F98: 33750 | G98: =F98*E98 -> 405000000000
C99: 73 | E99: 12000000 | F99: 33750 | G99: =F99*E99 -> 405000000000
C100: 72 | E100: 12000000 | F100: 33750 | G100: =F100*E100 -> 405000000000
C101: 71 | E101: 12000000 | F101: 33750 | G101: =F101*E101 -> 405000000000
E102: 0 | G102: =SUM(G92:G101) -> 4050000000000
B103: 36318 | C103: 1399834857 | E103: 12000000 | F103: 35217 | G103: =F103*E103 -> 422604000000
C104: 58 | E104: 12000000 | F104: 35217 | G104: =F104*E104 -> 422604000000
C105: 59 | E105: 12000000 | F105: 35217 | G105: =F105*E105 -> 422604000000
C106: 60 | E106: 12000000 | F106: 35217 | G106: =F106*E106 -> 422604000000
C107: 61 | E107: 12000000 | F107: 35217 | G107: =F107*E107 -> 422604000000
C108: 62 | E108: 12000000 | F108: 35217 | G108: =F108*E108 -> 422604000000
C109: 63 | E109: 12000000 | F109: 35217 | G109: =F109*E109 -> 422604000000
C110: 64 | E110: 12000000 | F110: 35217 | G110: =F110*E110 -> 422604000000
C111: 65 | E111: 12000000 | F111: 35217 | G111: =F111*E111 -> 422604000000
C112: 66 | E112: 12000000 | F112: 35217 | G112: =F112*E112 -> 422604000000
E113: 0 | G113: =SUM(G103:G112) -> 4226040000000
B114: 99/08/06 | C114: 1399846135 | E114: 12000000 | F114: 43091 | G114: =F114*E114 -> 517092000000
C115: 36 | E115: 12000000 | F115: 43091 | G115: =F115*E115 -> 517092000000
...

Sheet وکیوم بندرعباس سلاپس
A1: ردیف | B1: تاریخ خرید از بورس | C1: شماره قرارداد | D1: مبدا خرید | E1: شماره حواله پالایشگاه | F1: وزن خرید (کیلوگرم) | G1: نرخ پایه | H1: نرخ خرید (ریال) | J1: تاریخ فاکتور | L1: شماره صورتحساب | M1: وزن فاکتور (کیلوگرم) | N1: نرخ فاکتور | O1: نرخ توزین و بارگیری | P1: مبلغ فاکتور | Q1: مبلغ با ارزش افزوده | R1: میزان برداشت | S1: مانده حواله | U1: گزارش درخواست خریدها
A2: 1 | C2: 1394395840 | D2: بندرعباس | F2: 400000 | H2: 4429 | J2: 1395/01/31 | L2: 95-19 | M2: 400000 | N2: 4429 | O2: 100 | P2: =(O2+N2)*M2 -> 1811600000 | Q2: =P2*1.09 -> 1.974644e+09 | S2: 0 | U2: تاریخ | V2: شماره درخواست | W2: وزن (کیلوگرم)
A3: 2 | C3: 1394396773 | D3: بندرعباس | F3: 1300000 | H3: 4429 | J3: 1395/01/31 | L3: 95-19 | M3: 1284380 | N3: 4429 | O3: 100 | P3: =(O3+N3)*M3 -> 5816957020 | Q3: =P3*1.09 -> 6.3404832e+09 | S3: 0 | U3: 1394/12/17 | V3: 6814 | W3: 5000000
J4: 1395/02/31 | L4: 95-54 | M4: 15620 | N4: 4429 | O4: 100 | P4: =(O4+N4)*M4 -> 70742980 | Q4: =P4*1.09 -> 77109848 | S4: 0 | U4: 1395/01/14 | V4: 10040 | W4: 15000000
A5: 3 | C5: 1394396979 | D5: بندرعباس | F5: 1200000 | H5: 4429 | J5: 1395/02/31 | L5: 95-54 | M5: 1200000 | N5: 4429 | O5: 100 | P5: =(O5+N5)*M5 -> 5434800000 | Q5: =P5*1.09 -> 5923932000 | S5: 0 | U5: 1395/06/31 | V5: 13070 | W5: 50000000
A6: 4 | C6: 1395397514 | D6: بندرعباس | F6: 1520000 | H6: 4909 | J6: 1395/02/31 | L6: 95-54 | M6: 1520000 | N6: 4909 | O6: 100 | P6: =(O6+N6)*M6 -> 7613680000 | Q6: =P6*1.09 -> 8.2989112e+09 | S6: 0
A7: 5 | C7: 1395397806 | D7: بندرعباس | F7: 1800000 | H7: 4909 | J7: 1395/02/31 | L7: 95-54 | M7: 1800000 | N7: 4909 | O7: 100 | P7: =(O7+N7)*M7 -> 9016200000 | Q7: =P7*1.09 -> 9827658000 | S7: 0
A8: 6 | C8: 1395400071 | D8: بندرعباس | F8: 1400000 | H8: 4909 | J8: 1395/02/31 | L8: 95-54 | M8: 386030 | N8: 4909 | O8: 100 | P8: =(O8+N8)*M8 -> 1933624270 | Q8: =P8*1.09 -> 2.1076505e+09 | S8: 0
J9: 1395/03/31 | L9: 95-78 | M9: 1013970 | N9: 4909 | O9: 100 | P9: =(O9+N9)*M9 -> 5078975730 | Q9: =P9*1.09 -> 5.5360835e+09 | S9: 0
A10: 7 | C10: 1395406637 | D10: بندرعباس | F10: 2300000 | H10: 4921 | J10: 1395/03/31 | L10: 95-78 | M10: 2300000 | N10: 4921 | O10: 100 | P10: =(O10+N10)*M10 -> 11548300000 | Q10: =P10*1.09 -> 12587647000 | S10: 0
A11: 8 | C11: 1395407670 | D11: بندرعباس | F11: 1000000 | H11: 4921 | J11: 1395/03/31 | L11: 95-78 | M11: 993960 | N11: 4921 | O11: 100 | P11: =(O11+N11)*M11 -> 4990673160 | Q11: =P11*1.09 -> 5.4398337e+09 | S11: 0
J12: 1395/05/31 | L12: 95-150 | M12: 6040 | N12: 4921 | O12: 100 | P12: =(O12+N12)*M12 -> 30326840 | Q12: =P12*1.09 -> 33056256 | S12: 0
A13: 9 | C13: 1395417652 | D13: بندرعباس | F13: 1000000 | H13: 5373 | J13: 1395/05/31 | L13: 95-150 | M13: 1000000 | N13: 5373 | O13: 100 | P13: =(O13+N13)*M13 -> 5473000000 | Q13: =P13*1.09 -> 5965570000 | S13: 0
A14: 10 | C14: 1395420348 | D14: بندرعباس | F14: 1000000 | H14: 5373 | J14: 1395/05/31 | L14: 95-150 | M14: 733430 | N14: 5373 | O14: 100 | P14: =(O14+N14)*M14 -> 4014062390 | Q14: =P14*1.09 -> 4.375328e+09 | S14: 0
J15: 95/06/31 | L15: 95-167 | M15: 266570 | N15: 5373 | O15: 100 | P15: =(O15+N15)*M15 -> 1458937610 | Q15: =P15*1.09 -> 1.590242e+09 | S15: 0
A16: 11 | C16: 1395425900 | D16: بندرعباس | F16: 1500000 | H16: 5644 | J16: 95/06/31 | L16: 95-167 | M16: 1500000 | N16: 5644 | O16: 100 | P16: =(O16+N16)*M16 -> 8616000000 | Q16: =P16*1.09 -> 9391440000 | S16: 0
A17: 12 | C17: 1395426959 | D17: بندرعباس | F17: 1000000 | H17: 5644 | J17: 95/06/31 | L17: 95-167 | M17: 1000000 | N17: 5644 | O17: 100 | P17: =(O17+N17)*M17 -> 5744000000 | Q17: =P17*1.09 -> 6260960000 | S17: 0
A18: 13 | C18: 1395429261 | D18: بندرعباس | F18: 1500000 | H18: 5645 | J18: 95/06/31 | L18: 95-167 | M18: 1500000 | N18: 5645 | O18: 100 | P18: =(O18+N18)*M18 -> 8617500000 | Q18: =P18*1.09 -> 9393075000 | S18: 0
A19: 14 | B19: 1395/06/20 | C19: 1395430592 | D19: بندرعباس | F19: 1500000 | H19: 5644 | J19: 95/06/31 | L19: 95-167 | M19: 350790 | N19: 5644 | O19: 100 | P19: =(O19+N19)*M19 -> 2014937760 | Q19: =P19*1.09 -> 2.1962822e+09 | S19: 0
J20: 95/07/30 | L20: 95-210 | M20: 1149210 | N20: 5644 | O20: 100 | P20: =(O20+N20)*M20 -> 6601062240 | Q20: =P20*1.09 -> 7.1951578e+09 | S20: 0
A21: 15 | B21: 1395/06/29 | C21: 1395432481 | D21: بندرعباس | F21: 1500000 | H21: 5644 | J21: 95/07/30 | L21: 95-211 | M21: 145530 | N21: 5644 | O21: 100 | P21: =(O21+N21)*M21 -> 835924320 | Q21: =P21*1.09 -> 9.1115751e+08 | S21: 0
J22: 95/08/30 | L22: 95-301 | M22: 1354470 | N22: 5644 | O22: 100 | P22: =(O22+N22)*M22 -> 7780075680 | Q22: =P22*1.09 -> 8.4802825e+09 | S22: 0
A23: 16 | B23: 1395/07/24 | C23: 1395438001 | D23: بندرعباس | F23: 1160000 | H23: 6239 | J23: 95/08/30 | L23: 95-302 | M23: 1160000 | N23: 6239 | O23: 100 | P23: =(O23+N23)*M23 -> 7353240000 | Q23: =P23*1.09 -> 8.0150316e+09 | S23: 0
A24: 17 | B24: 1395/07/27 | C24: 1395438588 | D24: بندرعباس | F24: 1000000 | H24: 6239 | J24: 95/08/30 | L24: 95-303 | M24: 987060 | N24: 6239 | O24: 100 | P24: =(O24+N24)*M24 -> 6256973340 | Q24: =P24*1.09 -> 6.8201009e+09 | S24: 0
J25: 95/09/30 | L25: 95-380 | M25: 12940 | N25: 6239 | O25: 100 | P25: =(O25+N25)*M25 -> 82026660 | Q25: =P25*1.09 -> 89409059 | S25: 0
A26: 18 | B26: 1395/09/03 | C26: 1395447355 | D26: بندرعباس | F26: 2000000 | H26: 6231 | J26: 95/09/30 | L26: 95-381 | M26: 2000000 | N26: 6231 | O26: 100 | P26: =(O26+N26)*M26 -> 12662000000 | Q26: =P26*1.09 -> 1.380158e+10 | S26: 0
A27: 19 | B27: 1395/09/07 | C27: 1395447775 | D27: بندرعباس | E27: 1395449 | F27: 2000000 | H27: 6231 | J27: 95/09/30 | L27: 95-382 | M27: 2000000 | N27: 6231 | O27: 100 | P27: =(O27+N27)*M27 -> 12662000000 | Q27: =P27*1.09 -> 1.380158e+10 | S27: 0
A28: 20 | B28: 1395/09/13 | C28: 1395449113 | D28: بندرعباس | E28: 1395460 | F28: 1600000 | H28: 6231 | J28: 95/09/30 | L28: 95-383 | M28: 204870 | N28: 6231 | O28: 100 | P28: =(O28+N28)*M28 -> 1297031970 | Q28: =P28*1.09 -> 1.4137648e+09 | S28: 0
J29: 95/10/30 | L29: 95-479 | M29: 1395130 | N29: 6231 | O29: 100 | P29: =(O29+N29)*M29 -> 8832568030 | Q29: =P29*1.09 -> 9.6274992e+09 | S29: 0
A30: 21 | B30: 1395/09/21 | C30: 1395451250 | D30: بندرعباس | E30: 1395482 | F30: 820000 | H30: 6231 | J30: 95/10/30 | L30: 95-480 | M30: 820000 | N30: 6231 | O30: 100 | P30: =(O30+N30)*M30 -> 5191420000 | Q30: =P30*1.09 -> 5658647800 | S30: 0
A31: 22 | B31: 1395/09/24 | C31: 1395452666 | D31: بندرعباس | E31: 1395496 | F31: 600000 | H31: 6231 | J31: 95/10/30 | L31: 95-481 | M31: 600000 | N31: 6231 | O31: 100 | P31: =(O31+N31)*M31 -> 3798600000 | Q31: =P31*1.09 -> 4.140474e+09 | S31: 0
A32: 23 | B32: 1395/10/04 | C32: 1395454308 | D32: بندرعباس | E32: 1395519 | F32: 1260000 | H32: 7955 | J32: 95/10/30 | L32: 95-482 | M32: 1260000 | N32: 7955 | O32: 100 | P32: =(O32+N32)*M32 -> 10149300000 | Q32: =P32*1.09 -> 11062737000 | S32: 0
A33: 24 | B33: 1395/10/06 | C33: 1395454576 | D33: بندرعباس | E33: 1395531 | F33: 1400000 | H33: 7955 | J33: 95/10/30 | L33: 95-483 | M33: 1276600 | N33: 7955 | O33: 100 | P33: =(O33+N33)*M33 -> 10283013000 | Q33: =P33*1.09 -> 11208484170 | S33: 0
J34: 95/11/30 | L34: 95-594 | M34: 123400 | N34: 7955 | O34: 100 | P34: =(O34+N34)*M34 -> 993987000 | Q34: =P34*1.09 -> 1083445830
A35: 25 | B35: 1395/10/11 | C35: 1395456100 | D35: بندرعباس | E35: 1395539 | F35: 1600000 | H35: 7955 | J35: 95/11/30 | L35: 95-595 | M35: 1600000 | N35: 7955 | O35: 100 | P35: =(O35+N35)*M35 -> 12888000000 | Q35: =P35*1.09 -> 1.404792e+10 | S35: 0
A36: 26 | B36: 1395/10/13 | C36: 1395456354 | D36: سلاپس- بندرعباس | E36: 1395929 | F36: 500000 | H36: 9882 | J36: 95/01/31 | L36: 96-38 | M36: 494130 | N36: 9882 | O36: 100 | P36: =(O36+N36)*M36 -> 4932405660 | Q36: =P36*1.09 -> 5.3763222e+09 | R36: 500000 | S36: =F36-R36 -> 0
A37: 27 | B37: 1395/10/19 | C37: 1395457644 | D37: بندرعباس | E37: 1395560 | F37: 3400000 | H37: 7955 | J37: 95/11/30 | L37: 95-595 | M37: 3111690 | N37: 7955 | O37: 100 | P37: =(O37+N37)*M37 -> 25064662950 | Q37: =P37*1.09 -> 2.7320483e+10 | R37: 3400000 | S37: =F37-R37 -> 0
J38: 95/12/30 | L38: 95-707 | M38: 288310 | N38: 7955 | O38: 100 | P38: =(O38+N38)*M38 -> 2322337050 | Q38: =P38*1.09 -> 2.5313474e+09
A39: 28 | B39: 1395/10/28 | C39: 1395459286 | D39: بندرعباس | E39: 1395576 | F39: 1620000 | H39: 7955 | J39: 95/12/30 | L39: 95-708 | M39: 1620000 | N39: 7955 | O39: 100 | P39: =(O39+N39)*M39 -> 13049100000 | Q39: =P39*1.09 -> 1.4223519e+10 | R39: 1620000 | S39: =F39-R39 -> 0
A40: 29 | B40: 1395/12/02 | C40: 1395466278 | D40: بندرعباس | E40: 1395609 | F40: 1450000 | H40: 7866 | J40: 95/12/30 | L40: 95-709 | M40: 1450000 | N40: 7866 | O40: 100 | P40: =(O40+N40)*M40 -> 11550700000 | Q40: =P40*1.09 -> 12590263000 | R40: 1450000 | S40: =F40-R40 -> 0
A41: 30 | B41: 1395/12/07 | C41: 1395467539 | D41: بندرعباس | E41: 1395619 | F41: 1450000 | H41: 7866 | J41: 95/12/30 | L41: 95-710 | M41: 1450000 | N41: 7866 | O41: 100 | P41: =(O41+N41)*M41 -> 11550700000 | Q41: =P41*1.09 -> 12590263000 | R41: 1450000 | S41: =F41-R41 -> 0
A42: 31 | B42: 1395/12/11 | C42: 1395468360 | D42: بندرعباس | E42: 1395636 | F42: 1600000 | H42: 7866 | J42: 95/12/30 | L42: 95-711 | M42: 1600000 | N42: 7866 | O42: 100 | P42: =(O42+N42)*M42 -> 12745600000 | Q42: =P42*1.09 -> 1.3892704e+10 | R42: 1600000 | S42: =F42-R42 -> 0
A43: 32 | B43: 1395/12/15 | C43: 1395469075 | D43: بندرعباس | E43: 1395644 | F43: 1175000 | H43: 7866 | J43: 95/12/30 | L43: 95-712 | M43: 1175000 | N43: 7866 | O43: 100 | P43: =(O43+N43)*M43 -> 9360050000 | Q43: =P43*1.09 -> 10202454500 | R43: 1175000 | S43: =F43-R43 -> 0
A44: 33 | B44: 1395/12/22 | C44: 1395470433 | D44: بندرعباس | E44: 1395653 | F44: 3000000 | H44: 7151 | J44: 95/12/30 | L44: 95-713 | M44: 1038460 | N44: 7151 | O44: 100 | P44: =(O44+N44)*M44 -> 7529873460 | Q44: =P44*1.09 -> 8.2075621e+09 | R44: 3000000 | S44: =F44-R44 -> 0
J45: 96/01/31 | L45: 96-13 | M45: 1961540 | N45: 7151 | O45: 100 | P45: =(O45+N45)*M45 -> 14223126540 | Q45: =P45*1.09 -> 1.5503208e+10
A46: 34 | B46: 1396/01/14 | C46: 1396471647 | D46: بندرعباس | E46: 1396113 | F46: 5000000 | H46: 6738 | J46: 96/01/31 | L46: 96-14 | M46: 5000000 | N46: 6738 | O46: 100 | P46: =(O46+N46)*M46 -> 34190000000 | Q46: =P46*1.09 -> 37267100000 | R46: 5000000 | S46: =F46-R46 -> 0
A47: 35 | B47: 1396/01/19 | C47: 1396472573 | D47: بندرعباس | E47: 1396127 | F47: 2600000 | H47: 6927 | J47: 96/01/31 | L47: 96-15 | M47: 448520 | N47: 6927 | O47: 100 | P47: =(O47+N47)*M47 -> 3151750040 | Q47: =P47*1.09 -> 3.4354075e+09 | R47: 2600000 | S47: =F47-R47 -> 0
J48: 96/02/31 | L48: 96-85 | M48: 2151480 | N48: 6927 | O48: 100 | P48: =(O48+N48)*M48 -> 15118449960 | Q48: =P48*1.09 -> 1.647911e+10
A49: 36 | B49: 1396/01/23 | C49: 1396474023 | D49: بندرعباس | E49: 1396134 | F49: 1400000 | H49: 6927 | J49: 96/02/31 | L49: 96-86 | M49: 1400000 | N49: 6927 | O49: 100 | P49: =(O49+N49)*M49 -> 9837800000 | Q49: =P49*1.09 -> 10723202000 | R49: 1400000 | S49: =F49-R49 -> 0
A50: 37 | B50: 1396/01/27 | C50: 1396474648 | D50: بندرعباس | E50: 1396147 | F50: 1400000 | H50: 6927 | J50: 96/02/31 | L50: 96-87 | M50: 1400000 | N50: 6927 | O50: 100 | P50: =(O50+N50)*M50 -> 9837800000 | Q50: =P50*1.09 -> 10723202000 | R50: 1400000 | S50: =F50-R50 -> 0
A51: 38 | B51: 1396/02/03 | C51: 1396476264 | D51: بندرعباس | E51: 1396155 | F51: 9000000 | H51: 7179 | J51: 96/02/31 | L51: 96-88 | M51: 5067740 | N51: 7179 | O51: 100 | P51: =(O51+N51)*M51 -> 36888079460 | Q51: =P51*1.09 -> 4.0208007e+10 | R51: 9000000 | S51: =F51-R51 -> 0
J52: 96/03/31 | L52: 96-189 | M52: 3932260 | N52: 7179 | O52: 100 | P52: =(O52+N52)*M52 -> 28622920540 | Q52: =P52*1.09 -> 3.1198983e+10
A53: 39 | B53: 1396/02/06 | C53: 1396477324 | D53: بندرعباس | E53: 1396157 | F53: 2000000 | H53: 7458 | J53: 96/03/31 | L53: 96-190 | M53: 2000000 | N53: 7458 | O53: 100 | P53: =(O53+N53)*M53 -> 15116000000 | Q53: =P53*1.09 -> 1.647644e+10 | R53: 2000000 | S53: =F53-R53 -> 0
A54: 40 | B54: 1396/02/11 | C54: 1396477692 | D54: بندرعباس | E54: 1396169 | F54: 3500000 | H54: 7036 | J54: 96/03/31 | L54: 96-191 | M54: 3304480 | N54: 7036 | O54: 100 | P54: =(O54+N54)*M54 -> 23580769280 | Q54: =P54*1.09 -> 2.5703039e+10 | R54: 3500000 | S54: =F54-R54 -> 0
J55: 96/04/31 | L55: 96-294 | M55: 195520 | N55: 7036 | O55: 100 | P55: =(O55+N55)*M55 -> 1395230720 | Q55: =P55*1.09 -> 1.5208015e+09
A56: 41 | B56: 1396/03/02 | C56: 1396482701 | D56: بندرعباس | E56: 1396198 | F56: 500000 | H56: 7296 | J56: 96/04/31 | L56: 96-295 | M56: 500000 | N56: 7296 | O56: 100 | P56: =(O56+N56)*M56 -> 3698000000 | Q56: =P56*1.09 -> 4.03082e+09 | R56: 500000 | S56: =F56-R56 -> 0
A57: 42 | B57: 1396/04/04 | C57: 1396490782 | D57: بندرعباس | E57: 1396261 | F57: 3000000 | H57: 7292 | J57: 96/04/31 | L57: 96-296 | M57: 3000000 | N57: 7292 | O57: 100 | P57: =(O57+N57)*M57 -> 22176000000 | Q57: =P57*1.09 -> 24171840000 | R57: 3000000 | S57: =F57-R57 -> 0
A58: 43 | B58: 1396/04/18 | C58: 1396494674 | D58: بندرعباس | E58: 1396281 | F58: 4500000 | H58: 7292 | J58: 96/04/31 | L58: 96-297 | M58: 4500000 | N58: 7292 | O58: 100 | P58: =(O58+N58)*M58 -> 33264000000 | Q58: =P58*1.09 -> 36257760000 | R58: 4500000 | S58: =F58-R58 -> 0
A59: 44 | B59: 1396/04/26 | C59: 1396497324 | D59: بندرعباس | E59: 1396301 | F59: 5000000 | H59: 7292 | J59: 96/04/31 | L59: 96-298 | M59: 4957060 | N59: 7292 | O59: 100 | P59: =(O59+N59)*M59 -> 36642587520 | Q59: =P59*1.09 -> 3.994042e+10 | R59: 5000000 | S59: =F59-R59 -> 0
J60: 96/05/31 | L60: 96-431 | M60: 42940 | N60: 7292 | O60: 100 | P60: =(O60+N60)*M60 -> 317412480 | Q60: =P60*1.09 -> 3.459796e+08
A61: 45 | B61: 1396/04/27 | C61: 1396497752 | D61: بندرعباس | E61: 1396306 | F61: 1500000 | H61: 7292 | J61: 96/05/31 | L61: 96-432 | M61: 1500000 | N61: 7292 | O61: 100 | P61: =(O61+N61)*M61 -> 11088000000 | Q61: =P61*1.09 -> 12085920000 | R61: 1500000 | S61: =F61-R61 -> 0
A62: 46 | B62: 1396/05/02 | C62: 1396499166 | D62: بندرعباس | E62: 1396317 | F62: 7000000 | H62: 7292 | J62: 96/05/31 | L62: 96-433 | M62: 7000000 | N62: 7292 | O62: 100 | P62: =(O62+N62)*M62 -> 51744000000 | Q62: =P62*1.09 -> 5.640096e+10 | R62: 7000000 | S62: =F62-R62 -> 0
A63: 47 | B63: 1396/05/03 | C63: 1396499664 | D63: بندرعباس | E63: 1396330 | F63: 3000000 | H63: 7292 | J63: 96/05/31 | L63: 96-434 | M63: 3000000 | N63: 7292 | O63: 100 | P63: =(O63+N63)*M63 -> 22176000000 | Q63: =P63*1.09 -> 24171840000 | R63: 3000000 | S63: =F63-R63 -> 0
A64: 48 | B64: 1396/05/07 | C64: 1396500702 | D64: بندرعباس | E64: 1396336 | F64: 2000000 | H64: 7292 | J64: 96/05/31 | L64: 96-435 | M64: 1997600 | N64: 7292 | O64: 100 | P64: =(O64+N64)*M64 -> 14766259200 | Q64: =P64*1.09 -> 1.6095223e+10 | R64: 2000000 | S64: =F64-R64 -> 0
J65: 96/06/31 | L65: 96-573 | M65: 2400 | N65: 7292 | O65: 100 | P65: =(O65+N65)*M65 -> 17740800 | Q65: =P65*1.09 -> 19337472
A66: 49 | B66: 1396/05/24 | C66: 1396505516 | D66: بندرعباس | E66: 1396937 | F66: 2500000 | H66: 7488 | J66: 96/06/31 | L66: 96-574 | M66: 2500000 | N66: 7488 | O66: 100 | P66: =(O66+N66)*M66 -> 18970000000 | Q66: =P66*1.09 -> 20677300000 | R66: 2500000 | S66: =F66-R66 -> 0
A67: 50 | B67: 1396/05/28 | C67: 1396506341 | D67: بندرعباس | E67: 1396945 | F67: 4000000 | H67: 7401 | J67: 96/06/31 | L67: 96-575 | M67: 4000000 | N67: 7401 | O67: 100 | P67: =(O67+N67)*M67 -> 30004000000 | Q67: =P67*1.09 -> 3.270436e+10 | R67: 4000000 | S67: =F67-R67 -> 0
A68: 51 | B68: 1396/06/04 | C68: 1396507988 | D68: بندرعباس | E68: 1396967 | F68: 6000000 | H68: 7455 | J68: 96/06/31 | L68: 96-576 | M68: 2902050 | N68: 7455 | O68: 100 | P68: =(O68+N68)*M68 -> 21924987750 | Q68: =P68*1.09 -> 2.3898237e+10 | R68: 6000000 | S68: =F68-R68 -> 0
J69: 96/07/30 | L69: 96-726 | M69: 3097950 | N69: 7455 | O69: 100 | P69: =(O69+N69)*M69 -> 23405012250 | Q69: =P69*1.09 -> 2.5511463e+10
A70: 52 | B70: 1396/06/21 | C70: 139611634 | D70: بندرعباس | E70: 13961028 | F70: 3000000 | H70: 7455 | J70: 96/07/30 | L70: 96-727 | M70: 3000000 | N70: 7455 | O70: 100 | P70: =(O70+N70)*M70 -> 22665000000 | Q70: =P70*1.09 -> 24704850000 | R70: 3000000 | S70: =F70-R70 -> 0
A71: 53 | B71: 1396/07/02 | C71: 1396514359 | D71: بندرعباس | E71: 13961077 | F71: 3500000 | H71: 7603 | J71: 96/07/30 | L71: 96-728 | M71: 3500000 | N71: 7603 | O71: 100 | P71: =(O71+N71)*M71 -> 26960500000 | Q71: =P71*1.09 -> 2.9386945e+10 | R71: 3500000 | S71: =F71-R71 -> 0
A72: 54 | B72: 1396/07/05 | C72: 139651532 | D72: بندرعباس | E72: 13961095 | F72: 6000000 | H72: 7907 | J72: 96/07/30 | L72: 96-729 | M72: 6000000 | N72: 7907 | O72: 100 | P72: =(O72+N72)*M72 -> 48042000000 | Q72: =P72*1.09 -> 5.236578e+10 | R72: 6000000 | S72: =F72-R72 -> 0
A73: 55 | B73: 1396/07/11 | C73: 1396515928 | D73: بندرعباس | E73: 13961112 | F73: 6000000 | H73: 7917 | J73: 96/07/30 | L73: 96-730 | M73: 3034650 | N73: 7917 | O73: 100 | P73: =(O73+N73)*M73 -> 24328789050 | Q73: =P73*1.09 -> 2.651838e+10 | R73: 6000000 | S73: =F73-R73 -> 0
J74: 96/08/30 | L74: 96-875 | M74: 2965350 | N74: 7917 | O74: 100 | P74: =(O74+N74)*M74 -> 23773210950 | Q74: =P74*1.09 -> 2.59128e+10
A75: 56 | B75: 1396/08/02 | C75: 1396520654 | D75: بندرعباس | E75: 13961171 | F75: 2700000 | H75: 8662 | J75: 96/08/30 | L75: 96-876 | M75: 2700000 | N75: 8662 | O75: 100 | P75: =(O75+N75)*M75 -> 23657400000 | Q75: =P75*1.09 -> 25786566000 | R75: 2700000 | S75: =F75-R75 -> 0
A76: 57 | B76: 1396/08/07 | C76: 1396521963 | D76: بندرعباس | E76: 13961187 | F76: 1300000 | H76: 8662 | J76: 96/08/30 | L76: 96-877 | M76: 1300000 | N76: 8662 | O76: 100 | P76: =(O76+N76)*M76 -> 11390600000 | Q76: =P76*1.09 -> 12415754000 | R76: 1300000 | S76: =F76-R76 -> 0
A77: 58 | B77: 1396/08/10 | C77: 1396523318 | D77: بندرعباس | E77: 13961200 | F77: 1200000 | H77: 8662 | J77: 96/08/30 | L77: 96-878 | M77: 1200000 | N77: 8662 | O77: 100 | P77: =(O77+N77)*M77 -> 10514400000 | Q77: =P77*1.09 -> 11460696000 | R77: 1200000 | S77: =F77-R77 -> 0
A78: 59 | B78: 1396/08/20 | C78: 1396525024 | D78: بندرعباس | E78: 13961231 | F78: 1100000 | H78: 8662 | J78: 96/08/30 | L78: 96-879 | M78: 1100000 | N78: 8662 | O78: 100 | P78: =(O78+N78)*M78 -> 9638200000 | Q78: =P78*1.09 -> 10505638000 | R78: 1100000 | S78: =F78-R78 -> 0
A79: 60 | B79: 1396/08/23 | C79: 1396525575 | D79: بندرعباس | E79: 13961243 | F79: 700000 | H79: 8662 | J79: 96/08/30 | L79: 96-880 | M79: 677350 | N79: 8662 | O79: 100 | P79: =(O79+N79)*M79 -> 5934940700 | Q79: =P79*1.09 -> 6469085363 | R79: 700000 | S79: =F79-R79 -> 0
J80: 96/09/30 | L80: 96-967 | M80: 22650 | N80: 8662 | O80: 100 | P80: =(O80+N80)*M80 -> 198459300 | Q80: =P80*1.09 -> 2.1632064e+08
A81: 61 | B81: 1396/09/04 | C81: 1396527906 | D81: بندرعباس | E81: 13961275 | F81: 11500000 | H81: 10700 | J81: 96/09/30 | L81: 96-968 | M81: 11500000 | N81: 10700 | O81: 100 | P81: =(O81+N81)*M81 -> 124200000000 | Q81: =P81*1.09 -> 1.35378e+11 | R81: 11500000 | S81: =F81-R81 -> 0
A82: 62 | B82: 1396/09/07 | C82: 1396528182 | D82: بندرعباس | E82: 13961287 | F82: 9000000 | H82: 10700 | J82: 96/09/30 | L82: 96-969 | M82: 7341280 | N82: 10700 | O82: 100 | P82: =(O82+N82)*M82 -> 79285824000 | Q82: =P82*1.09 -> 86421548160 | R82: 9000000 | S82: =F82-R82 -> 0
J83: 96/10/30 | L83: 96-1114 | M83: 1658720 | N83: 10700 | O83: 100 | P83: =(O83+N83)*M83 -> 17914176000 | Q83: =P83*1.09 -> 19526451840
A84: 63 | B84: 1396/09/13 | C84: 1396529721 | D84: بندرعباس | E84: 13961301 | F84: 3000000 | H84: 10700 | J84: 96/10/30 | L84: 96-1115 | M84: 3000000 | N84: 10700 | O84: 100 | P84: =(O84+N84)*M84 -> 32400000000 | Q84: =P84*1.09 -> 35316000000 | R84: 3000000 | S84: =F84-R84 -> 0
A85: 64 | B85: 1396/10/03 | C85: 1396534481 | D85: بندرعباس | E85: 13961360 | F85: 2000000 | H85: 11036 | J85: 96/10/30 | L85: 96-1116 | M85: 2000000 | N85: 11036 | O85: 100 | P85: =(O85+N85)*M85 -> 22272000000 | Q85: =P85*1.09 -> 24276480000 | R85: 2000000 | S85: =F85-R85 -> 0
A86: 65 | B86: 1396/10/09 | C86: 1396535973 | D86: بندرعباس | E86: 13961376 | F86: 5000000 | H86: 11036 | J86: 96/10/30 | L86: 96-1117 | M86: 1514500 | N86: 11036 | O86: 100 | P86: =(O86+N86)*M86 -> 16865472000 | Q86: =P86*1.09 -> 18383364480 | R86: 5000000 | S86: =F86-R86 -> 0
J87: 96/11/30 | L87: 96-1230 | M87: 3485500 | N87: 11036 | O87: 100 | P87: =(O87+N87)*M87 -> 38814528000 | Q87: =P87*1.09 -> 42307835520
A88: 66 | B88: 1396/10/13 | C88: 1396537711 | D88: بندرعباس | E88: 13961390 | F88: 5000000 | H88: 11036 | J88: 96/11/30 | L88: 96-1232 | M88: 5000000 | N88: 11036 | O88: 100 | P88: =(O88+N88)*M88 -> 55680000000 | Q88: =P88*1.09 -> 6.06912e+10 | R88: 5000000 | S88: =F88-R88 -> 0
A89: 67 | B89: 1396/11/02 | C89: 1396541999 | D89: بندرعباس | E89: 13961435 | F89: 5000000 | H89: 11811 | J89: 96/11/30 | L89: 96-1231 | M89: 5000000 | N89: 11811 | O89: 100 | P89: =(O89+N89)*M89 -> 59555000000 | Q89: =P89*1.09 -> 6.491495e+10 | R89: 5000000 | S89: =F89-R89 -> 0
A90: 68 | B90: 1396/11/08 | C90: 1396543635 | D90: بندرعباس | E90: 13961446 | F90: 5000000 | H90: 11394 | J90: 96/11/30 | L90: 96-1233 | M90: 2322600 | N90: 11394 | O90: 100 | P90: =(O90+N90)*M90 -> 26695964400 | Q90: =P90*1.09 -> 2.9098601e+10 | R90: 5000000 | S90: =F90-R90 -> 0
J91: 96/12/29 | L91: 96-1311 | M91: 2677400 | N91: 11394 | O91: 100 | P91: =(O91+N91)*M91 -> 30774035600 | Q91: =P91*1.09 -> 3.3543699e+10
A92: 69 | B92: 1396/11/14 | C92: 1396545129 | D92: بندرعباس | E92: 13961464 | F92: 3200000 | H92: 11394 | J92: 96/12/29 | L92: 96-1310 | M92: 3200000 | N92: 11394 | O92: 100 | P92: =(O92+N92)*M92 -> 36780800000 | Q92: =P92*1.09 -> 40091072000 | R92: 3200000 | S92: =F92-R92 -> 0
A93: 70 | B93: 1396/11/18 | C93: 1396546770 | D93: بندرعباس | E93: 13961475 | F93: 3000000 | H93: 11394 | J93: 96/12/29 | L93: 96-1312 | M93: 3000000 | N93: 11394 | O93: 100 | P93: =(O93+N93)*M93 -> 34482000000 | Q93: =P93*1.09 -> 37585380000 | R93: 3000000 | S93: =F93-R93 -> 0
A94: 71 | B94: 1396/12/08 | C94: 1396551030 | D94: بندرعباس | E94: 13961527 | F94: 3900000 | H94: 11460 | J94: 96/12/29 | L94: 96-1313 | M94: 3900000 | N94: 11460 | O94: 100 | P94: =(O94+N94)*M94 -> 45084000000 | Q94: =P94*1.09 -> 49141560000 | R94: 3900000 | S94: =F94-R94 -> 0
A95: 72 | B95: 1396/12/14 | C95: 1396552259 | D95: بندرعباس | E95: 13961545 | F95: 4000000 | H95: 11460 | J95: 96/12/29 | L95: 96-1314 | M95: 3504990 | N95: 11460 | O95: 100 | P95: =(O95+N95)*M95 -> 40517684400 | Q95: =P95*1.09 -> 44164275996 | R95: 4000000 | S95: =F95-R95 -> 0
J96: 97/01/25 | L96: 97-30 | M96: 495010 | N96: 11460 | O96: 100 | P96: =(O96+N96)*M96 -> 5722315600 | Q96: =P96*1.09 -> 6237324004
A97: 73 | B97: 1396/12/19 | C97: 1396653737 | D97: بندرعباس | F97: 4000000 | H97: 11460 | J97: 97/01/25 | L97: 97-31 | M97: 4000000 | N97: 11460 | O97: 100 | P97: =(O97+N97)*M97 -> 46240000000 | Q97: =P97*1.09 -> 50401600000 | R97: 4000000 | S97: =F97-R97 -> 0
A98: 74 | B98: 1396/12/22 | C98: 1396554535 | D98: بندرعباس | F98: 3000000 | H98: 11460 | J98: 97/01/25 | L98: 97-32 | M98: 3000000 | N98: 11460 | O98: 100 | P98: =(O98+N98)*M98 -> 34680000000 | Q98: =P98*1.09 -> 37801200000 | R98: 3000000 | S98: =F98-R98 -> 0
A99: 75 | B99: 1397/01/15 | C99: 1397556366 | D99: بندرعباس | E99: 13970030 | F99: 6800000 | H99: 12281 | J99: 97/01/31 | L99: 97-82 | M99: 6800000 | N99: 12281 | O99: 100 | P99: =(O99+N99)*M99 -> 84190800000 | Q99: =P99*1.09 -> 91767972000 | R99: 6800000 | S99: =F99-R99 -> 0
A100: 76 | B100: 1397/01/20 | C100: 1397557573 | D100: بندرعباس | E100: 970056 | F100: 3700000 | H100: 12918 | J100: 97/01/31 | L100: 97-83 | M100: 3683680 | N100: 12918 | O100: 100 | P100: =(O100+N100)*M100 -> 47954146240 | Q100: =P100*1.09 -> 5.2270019e+10 | R100: 3700000 | S100: =F100-R100 -> 0
...

Sheet گزارش 97  98  99
A1: مقدار خريداري شده وكيوم باتوم و سلابس
A2: سال خريد | B2: پالايشگاه اصفهان (كيلوگرم) | C2: پالايشگاه آبادان (كيلوگرم) | D2: پالايشگاه بندرعباس (كيلوگرم)
A3: 1397 | B3: 1375000000 | C3: 0 | D3: 129800000
A4: 1398 | B4: 1410000000 | C4: 2000000 | D4: 202300000
A5: شش ماه اول سال 1399 | B5: 564000000 | C5: 1000000 | D5: 97900000
