Workbook

Sheet گزارش1
A1: خريدهاي وكيوم بندرعباس
A2: خريدهاي نفت جي از 97/01/01 لغايت 98/06/31 | D2: خريدهاي هميار جي از 97/01/01 لغايت 98/06/31
A3: ماه | B3: كيلوگرم | D3: ماه | E3: كيلوگرم
A4: فرودين 97 | B4: 15500000 | D4: فرودين 97 | E4: 2000000
A5: ارديبهشت 97 | B5: 14800000 | D5: ارديبهشت 97 | E5: 15250000
A6: خرداد 97 | B6: 23300000 | D6: خرداد 97 | E6: 7207000
A7: تير 97 | B7: 7200000 | D7: تير 97 | E7: 6400000
A8: مرداد 97 | B8: 2000000 | D8: مرداد 97 | E8: 1600000
A9: شهريور 97 | B9: 2300000 | D9: شهريور 97 | E9: 400000
A10: مهر 97 | B10: 0 | D10: مهر 97 | E10: 0
A11: آبان 97 | B11: 0 | D11: آبان 97 | E11: 0
A12: آذر 97 | B12: 2000000 | D12: آذر 97 | E12: 1700000
A13: دي 97 | B13: 13800000 | D13: دي 97 | E13: 0
A14: بهمن 97 | B14: 11500000 | D14: بهمن 97 | E14: 2200000
A15: اسفند 97 | B15: 37400000 | D15: اسفند 97 | E15: 0
A16: جمع كل : | B16: =SUM(B4:B15) -> 129800000 | D16: جمع كل : | E16: =SUM(E4:E15) -> 36757000
A17: فرودين 98 | B17: 8000000 | D17: فرودين 98 | E17: 0
A18: ارديبهشت 98 | B18: 12500000 | D18: ارديبهشت 98 | E18: 0
A19: خرداد 98 | B19: 24800000 | D19: خرداد 98 | E19: 2000000
A20: تير 98 | B20: 37000000 | D20: تير 98 | E20: 2700000
A21: مرداد 98 | B21: 0 | D21: مرداد 98 | E21: 0
A22: شهريور 98 | B22: 10000000 | D22: شهريور 98 | E22: 8000000
A23: جمع كل : | B23: =SUM(B17:B22) -> 92300000 | D23: جمع كل : | E23: =SUM(E17:E22) -> 12700000

Sheet ورق
A1: ردیف | B1: تاریخ خرید بورسی | C1: شماره قرارداد بورسی | D1: عرضه کننده | E1: مقدار (کیلوگرم) | F1: قیمت واحد بورسی
A2: 1 | B2: 1400/01/16 | C2: 1400001842 | D2: فولاد مبارکه اصفهان | E2: 400000 | F2: 206500
A3: 2 | B3: 1400/01/23 | C3: 1400004415 | D3: صنایع هفت الماس | E3: 500000 | F3: 188995
A4: 3 | B4: 1400/02/20 | C4: 1400014455 | D4: فولاد مبارکه اصفهان | E4: 800000 | F4: 238001
A5: 4 | B5: 1400/03/19 | C5: 1400027294 | D5: صنایع هفت الماس | E5: 50000 | F5: 238000
A6: 5 | B6: 1400/03/26 | C6: 1400031000 | D6: صنایع هفت الماس | E6: 500000 | F6: 237616
A7: 6 | B7: 1400/04/22 | C7: 1400046376 | D7: صنایع هفت الماس | E7: 150000 | F7: 228000
A8: 7 | B8: 1400/04/07 | C8: 1400036283 | D8: فولاد مبارکه اصفهان | E8: 1000000 | F8: 233700
A9: 8 | B9: 1400/05/09 | C9: 1400054208 | D9: صنایع هفت الماس | E9: 500000 | F9: 224821
A10: 9 | B10: 1400/05/11 | C10: 1400055323 | D10: فولاد مبارکه اصفهان | E10: 700000 | F10: 245700
A11: 10 | B11: 1400/06/16 | C11: 1400087705 | D11: فولاد مبارکه اصفهان | E11: 700000 | F11: 226500
A12: 11 | B12: 1400/07/11 | C12: 1400113693 | D12: فولاد مبارکه اصفهان | E12: 400000 | F12: 237800
A13: 12 | B13: 1400/07/26 | C13: 1400129173 | D13: صنایع هفت الماس | E13: 1000000 | F13: 230700 | G13: اعتباری
A14: 13 | B14: 1400/08/10 | C14: 1400144221 | D14: فولاد مبارکه اصفهان | E14: 1000000 | F14: 242779 | G14: اعتباری
A15: 14 | B15: 1400/08/12 | C15: 1400146497 | D15: صنایع هفت الماس | E15: 500000 | F15: 240979 | G15: اعتباری
A16: 15 | B16: 1400/08/26 | C16: 1400161030 | D16: صنایع هفت الماس | E16: 100000 | F16: 246100 | G16: نقدی
A17: 16 | B17: 1400/09/03 | C17: 1400168580 | D17: صنایع هفت الماس | E17: 1000000 | F17: 215103 | G17: نقدی
A18: 17 | B18: 1400/09/09 | C18: 1400174016 | D18: فولاد مبارکه اصفهان | E18: 1100000 | F18: 236779 | G18: اعتباری
A19: 18 | B19: 1400/10/14 | C19: 1400209866 | D19: صنایع هفت الماس | E19: 500000 | F19: 220500 | G19: نقدی
A20: 19 | B20: 1400/10/21 | C20: 1400215520 | D20: فولاد مبارکه اصفهان | E20: 2000000 | F20: 235337 | G20: اعتباری
A21: 20 | B21: 1400/11/12 | C21: 1400234459 | D21: فولاد مبارکه اصفهان | E21: 2000000 | F21: 216745 | G21: اعتباری
A22: 21
B23: 1401/02/06 | C23: 1401316258 | D23: فولاد مبارکه اصفهان | E23: 500000 | F23: 235200 | G23: نقدی | H23: بدنه | I23: عرض 1000 | J23: شناسه واریز
B24: 1401/04/13 | C24: 1401393878 | D24: فولاد مبارکه اصفهان | E24: 200000 | F24: 221779 | G24: نقدی | H24: بدنه | I24: عرض 1000
B25: 1401/04/13 | C25: 1401393888 | D25: فولاد مبارکه اصفهان | E25: 50000 | F25: 221779 | G25: نقدی | H25: بدنه | I25: عرض 1000
B26: 1401/04/15 | C26: 1401397575 | D26: صنایع هفت الماس | E26: 500000 | F26: 213191 | G26: نقدی | H26: سروته | I26: عرض 1250
B27: 1401/07/18 | C27: 1401500550 | D27: فولاد مبارکه اصفهان | E27: 250000 | F27: 221850 | G27: نقدی | H27: بدنه | I27: عرض 1000
B28: 1401/08/10 | C28: 1401528282 | D28: صنایع هفت الماس | E28: 250000 | F28: 215100 | G28: نقدی | H28: سروته | I28: عرض 1000 | J28: خبرگان سهام
B29: 1401/08/10 | C29: 1401528281 | D29: صنایع هفت الماس | E29: 1000000 | F29: 215100 | G29: نقدی | H29: بدنه | I29: عرض 1000 | J29: خبرگان سهام
B30: 1401/08/10 | C30: 1401528279 | D30: صنایع هفت الماس | E30: 1000000 | F30: 215100 | G30: نقدی | H30: سروته | I30: عرض 1250 | J30: خبرگان سهام
B31: 1401/08/16 | C31: 1401536543 | D31: فولاد مبارکه اصفهان | E31: 250000 | F31: 257100 | G31: نقدی | H31: بدنه | I31: عرض 1000 | J31: خبرگان سهام
B32: 1401/09/07 | C32: 1401562551 | D32: فولاد مبارکه اصفهان | E32: 300000 | F32: 252100 | G32: نقدی | H32: بدنه | I32: عرض 1000 | J32: خبرگان سهام
B33: 1401/09/15 | C33: 14015773749 | D33: صنایع هفت الماس | E33: 500000 | F33: 220100 | G33: نقدی | H33: بدنه | I33: عرض1000 | J33: خبرگان سهام
B34: 1401/09/29 | C34: 1401595503 | D34: صنایع هفت الماس | E34: 850000 | F34: 225100 | G34: نقدی | H34: بدنه و سروته | I34: بدنه 500 سروته 350 | J34: خبرگان سهام
B35: 1401/10/20 | C35: 1401630218 | D35: فولاد مبارکه اصفهان | E35: 800000 | F35: 320100 | G35: نقدی | I35: 800 تن بدنه | J35: خبرگان سهام
B36: 1401/10/27 | C36: 1401639569 | D36: صنایع هفت الماس | E36: 1000000 | F36: 296100 | G36: نقدی | H36: بدنه و سروته | I36: بدنه 300 سروته 700 | J36: خبرگان سهام
B37: 1401/11/11 | C37: 1401658475 | D37: فولاد مبارکه اصفهان | E37: 50000 | F37: 355100 | G37: نقدی | H37: بدنه | I37: 50 تن بدنه | J37: خبرگان سهام
B38: 1401/11/11 | C38: 1401658471 | D38: فولاد مبارکه اصفهان | E38: 250000 | F38: 355100 | G38: نقدی | H38: بدنه | I38: عرض1000 | J38: خبرگان سهام
B39: 1401/12/07 | C39: 1401695230 | D39: صنایع هفت الماس | E39: 1000000 | F39: 400100 | G39: نقدی | H39: بدنه و سروته | I39: بدنه700 سروته 300 | J39: خبرگان سهام
B40: 1401/12/08 | C40: 1401697758 | D40: فولاد مبارکه اصفهان | E40: 150000 | F40: 389100 | G40: نقدی | H40: بدنه | I40: 150 تن بدنه | J40: خبرگان سهام
...

Sheet Sheet1
A1: تاریخ قرارداد | B1: شماره قرارداد | C1: فروشنده | D1: مقدار | E1: نرخ قرارداد | F1: نرخ پرمیوم | G1: فی قرارداد+پرمیموم
A2: 1400/08/12 | B2: 1400146497 | C2: صنایع هفت الماس | D2: 500000 | E2: 240979 | F2: 25000 | G2: =F2+E2 -> 265979
A3: 1400/08/26 | B3: 1400161030 | C3: صنایع هفت الماس | D3: 100000 | E3: 246100 | F3: 25000 | G3: =F3+E3 -> 271100
A4: 1400/09/03 | B4: 1400168580 | C4: صنایع هفت الماس | D4: 1000000 | E4: 215103 | F4: 25000 | G4: =F4+E4 -> 240103
A5: 1400/09/09 | B5: 1400174016 | C5: فولاد مبارکه اصفهان | D5: 1100000 | E5: 236779 | F5: 10000 | G5: =F5+E5 -> 246779
A6: 1400/10/14 | B6: 1400209866 | C6: صنایع هفت الماس | D6: 500000 | E6: 220500 | F6: 25000 | G6: =F6+E6 -> 245500
A7: 1400/10/21 | B7: 1400215520 | C7: فولاد مبارکه اصفهان | D7: 2000000 | E7: 235337 | F7: 10000 | G7: =F7+E7 -> 245337
A8: 1400/11/12 | B8: 1400234459 | C8: فولاد مبارکه اصفهان | D8: 2000000 | E8: 216745 | F8: 10000 | G8: =F8+E8 -> 226745
A9: 1401/02/06 | B9: 1401316258 | C9: فولاد مبارکه اصفهان | D9: 500000 | E9: 235200 | F9: 10000 | G9: =F9+E9 -> 245200
D10: =SUM(D2:D9) -> 7700000

Sheet Vb اصفهان
A1: ردیف | B1: تاریخ خرید از بورس | C1: شماره سفارش | D1: مبدا خرید | E1: وزن خرید (تن) | F1: نرخ خرید (ریال) | G1: وزن فاکتور (کیلوگرم) | H1: کارمزد بورسی
A2: 1 | B2: 1397/01/9 | C2: 1397557338 | D2: اصفهان | E2: 125000000 | F2: 11185 | G2: 107505729
A3: 2 | B3: 1397/02/05 | C3: 1397561918 | D3: اصفهان | E3: 125000000 | F3: 10263 | G3: 126212611
A4: 3 | B4: 1397/03/05 | C4: 1397570003 | D4: اصفهان | E4: 125000000 | F4: 12472
A5: 4 | B5: 1397/04/05 | C5: 1397577995 | D5: اصفهان | E5: 125000000 | F5: 12832
A6: 5 | B6: 1397/05/06 | C6: 1397588165 | D6: اصفهان | E6: 125000000 | F6: 13624
A7: 6 | B7: 1397/06/05 | C7: 1397598050 | D7: اصفهان | E7: 125000000 | F7: 25333
A9: 7 | B9: 98/04/05 | C9: 1398686125 | D9: اصفهان | E9: 30000 | F9: 27313
A10: 8 | B10: 98/04/05 | C10: 1398686129 | D10: اصفهان | E10: 30000 | F10: 27313
A11: 9 | B11: 98/04/05 | C11: 1398686131 | D11: اصفهان | E11: 30000 | F11: 27313
A12: 10 | B12: 98/04/05 | C12: 1398686127 | D12: اصفهان | E12: 30000 | F12: 27313
A16: 11 | B16: 98/05/05 | C16: 1398693358 | E16: 30000 | F16: 34098 | G16: =E16*F16 -> 1022940000
A17: 12 | C17: 1398693357 | E17: 30000 | F17: 34098 | G17: =E17*F17 -> 1022940000
A18: 13 | C18: 1398693356 | E18: 30000 | F18: 34098 | G18: =E18*F18 -> 1022940000
A19: 14 | C19: 1398693355 | E19: 30000 | F19: 34098 | G19: =E19*F19 -> 1022940000
G20: =SUM(G16:G19) -> 4091760000
A21: 15 | B21: 98/06/10 | C21: 1398700321 | E21: 30000 | F21: 24716
A22: 16 | B22: 98/06/10 | C22: 1398700322 | E22: 30000 | F22: 24716
A23: 17 | B23: 98/06/10 | C23: 1398700323 | E23: 30000 | F23: 24716
A24: 18 | B24: 98/06/10 | C24: 1398700320 | E24: 30000 | F24: 24716
A27: 19 | B27: 35953 | C27: 1398709851 | E27: 30000 | F27: 35579
A28: 20 | B28: 35953 | C28: 1398709850 | E28: 30000 | F28: 35579
A29: 21 | B29: 35953 | C29: 1398709849 | E29: 30000 | F29: 35579
A33: 22 | B33: 35954 | C33: 1398717971 | E33: 30000 | F33: 24100
A34: 23 | C34: 72 | E34: 30000 | F34: 24100
A35: 24 | C35: 73 | E35: 30000 | F35: 24100
A36: 25 | C36: 74 | E36: 30000 | F36: 24100
A39: 26 | B39: 35924 | C39: 1398727416 | E39: 30000 | F39: 19211
A40: 27 | C40: 17 | E40: 30000 | F40: 19211
A41: 28 | C41: 18 | E41: 30000 | F41: 19211
A42: 29 | C42: 19 | E42: 30000 | F42: 19211
A45: 30 | B45: 35986 | C45: 1398739082 | E45: 30000 | F45: 19211
A46: 31 | C46: 83 | E46: 30000 | F46: 19211
A47: 32 | C47: 84 | E47: 30000 | F47: 19211
A48: 33 | C48: 85 | E48: 30000 | F48: 19211
B51: 99/01/10 | C51: 1399767695 | E51: 12000000 | F51: 16357 | G51: =F51*E51 -> 196284000000
C52: 81 | E52: 12000000 | F52: 16357 | G52: =F52*E52 -> 196284000000
C53: 98 | E53: 12000000 | F53: 16357 | G53: =F53*E53 -> 196284000000
C54: 97 | E54: 12000000 | F54: 16357 | G54: =F54*E54 -> 196284000000
C55: 96 | E55: 12000000 | F55: 16357 | G55: =F55*E55 -> 196284000000
...

Sheet وکیوم بندرعباس سلاپس
A1: ردیف | B1: تاریخ خرید از بورس | C1: شماره قرارداد | D1: مبدا خرید | E1: شماره حواله پالایشگاه | F1: وزن خرید (کیلوگرم) | G1: نرخ پایه | H1: نرخ خرید (ریال) | J1: تاریخ فاکتور | L1: شماره صورتحساب | M1: وزن فاکتور (کیلوگرم) | N1: نرخ فاکتور | O1: نرخ توزین و بارگیری | P1: مبلغ فاکتور | Q1: مبلغ با ارزش افزوده | R1: میزان برداشت | S1: مانده حواله | U1: گزارش درخواست خریدها
A2: 1 | C2: 1394395840 | D2: بندرعباس | F2: 400000 | H2: 4429 | J2: 1395/01/31 | L2: 95-19 | M2: 400000 | N2: 4429 | O2: 100 | P2: =(O2+N2)*M2 -> 1811600000 | Q2: =P2*1.09 -> 1.974644e+09 | S2: 0 | U2: تاریخ | V2: شماره درخواست | W2: وزن (کیلوگرم)
A3: 2 | C3: 1394396773 | D3: بندرعباس | F3: 1300000 | H3: 4429 | J3: 1395/01/31 | L3: 95-19 | M3: 1284380 | N3: 4429 | O3: 100 | P3: =(O3+N3)*M3 -> 5816957020 | Q3: =P3*1.09 -> 6.3404832e+09 | S3: 0 | U3: 1394/12/17 | V3: 6814 | W3: 5000000
J4: 1395/02/31 | L4: 95-54 | M4: 15620 | N4: 4429 | O4: 100 | P4: =(O4+N4)*M4 -> 70742980 | Q4: =P4*1.09 -> 77109848 | S4: 0 | U4: 1395/01/14 | V4: 10040 | W4: 15000000
A5: 3 | C5: 1394396979 | D5: بندرعباس | F5: 1200000 | H5: 4429 | J5: 1395/02/31 | L5: 95-54 | M5: 1200000 | N5: 4429 | O5: 100 | P5: =(O5+N5)*M5 -> 5434800000 | Q5: =P5*1.09 -> 5923932000 | S5: 0 | U5: 1395/06/31 | V5: 13070 | W5: 50000000
A6: 4 | C6: 1395397514 | D6: بندرعباس | F6: 1520000 | H6: 4909 | J6: 1395/02/31 | L6: 95-54 | M6: 1520000 | N6: 4909 | O6: 100 | P6: =(O6+N6)*M6 -> 7613680000 | Q6: =P6*1.09 -> 8.2989112e+09 | S6: 0
A7: 5 | C7: 1395397806 | D7: بندرعباس | F7: 1800000 | H7: 4909 | J7: 1395/02/31 | L7: 95-54 | M7: 1800000 | N7: 4909 | O7: 100 | P7: =(O7+N7)*M7 -> 9016200000 | Q7: =P7*1.09 -> 9827658000 | S7: 0
A8: 6 | C8: 1395400071 | D8: بندرعباس | F8: 1400000 | H8: 4909 | J8: 1395/02/31 | L8: 95-54 | M8: 386030 | N8: 4909 | O8: 100 | P8: =(O8+N8)*M8 -> 1933624270 | Q8: =P8*1.09 -> 2.1076505e+09 | S8: 0
J9: 1395/03/31 | L9: 95-78 | M9: 1013970 | N9: 4909 | O9: 100 | P9: =(O9+N9)*M9 -> 5078975730 | Q9: =P9*1.09 -> 5.5360835e+09 | S9: 0
A10: 7 | C10: 1395406637 | D10: بندرعباس | F10: 2300000 | H10: 4921 | J10: 1395/03/31 | L10: 95-78 | M10: 2300000 | N10: 4921 | O10: 100 | P10: =(O10+N10)*M10 -> 11548300000 | Q10: =P10*1.09 -> 12587647000 | S10: 0
A11: 8 | C11: 1395407670 | D11: بندرعباس | F11: 1000000 | H11: 4921 | J11: 1395/03/31 | L11: 95-78 | M11: 993960 | N11: 4921 | O11: 100 | P11: =(O11+N11)*M11 -> 4990673160 | Q11: =P11*1.09 -> 5.4398337e+09 | S11: 0
J12: 1395/05/31 | L12: 95-150 | M12: 6040 | N12: 4921 | O12: 100 | P12: =(O12+N12)*M12 -> 30326840 | Q12: =P12*1.09 -> 33056256 | S12: 0
A13: 9 | C13: 1395417652 | D13: بندرعباس | F13: 1000000 | H13: 5373 | J13: 1395/05/31 | L13: 95-150 | M13: 1000000 | N13: 5373 | O13: 100 | P13: =(O13+N13)*M13 -> 5473000000 | Q13: =P13*1.09 -> 5965570000 | S13: 0
A14: 10 | C14: 1395420348 | D14: بندرعباس | F14: 1000000 | H14: 5373 | J14: 1395/05/31 | L14: 95-150 | M14: 733430 | N14: 5373 | O14: 100 | P14: =(O14+N14)*M14 -> 4014062390 | Q14: =P14*1.09 -> 4.375328e+09 | S14: 0
J15: 95/06/31 | L15: 95-167 | M15: 266570 | N15: 5373 | O15: 100 | P15: =(O15+N15)*M15 -> 1458937610 | Q15: =P15*1.09 -> 1.590242e+09 | S15: 0
A16: 11 | C16: 1395425900 | D16: بندرعباس | F16: 1500000 | H16: 5644 | J16: 95/06/31 | L16: 95-167 | M16: 1500000 | N16: 5644 | O16: 100 | P16: =(O16+N16)*M16 -> 8616000000 | Q16: =P16*1.09 -> 9391440000 | S16: 0
A17: 12 | C17: 1395426959 | D17: بندرعباس | F17: 1000000 | H17: 5644 | J17: 95/06/31 | L17: 95-167 | M17: 1000000 | N17: 5644 | O17: 100 | P17: =(O17+N17)*M17 -> 5744000000 | Q17: =P17*1.09 -> 6260960000 | S17: 0
A18: 13 | C18: 1395429261 | D18: بندرعباس | F18: 1500000 | H18: 5645 | J18: 95/06/31 | L18: 95-167 | M18: 1500000 | N18: 5645 | O18: 100 | P18: =(O18+N18)*M18 -> 8617500000 | Q18: =P18*1.09 -> 9393075000 | S18: 0
A19: 14 | B19: 1395/06/20 | C19: 1395430592 | D19: بندرعباس | F19: 1500000 | H19: 5644 | J19: 95/06/31 | L19: 95-167 | M19: 350790 | N19: 5644 | O19: 100 | P19: =(O19+N19)*M19 -> 2014937760 | Q19: =P19*1.09 -> 2.1962822e+09 | S19: 0
J20: 95/07/30 | L20: 95-210 | M20: 1149210 | N20: 5644 | O20: 100 | P20: =(O20+N20)*M20 -> 6601062240 | Q20: =P20*1.09 -> 7.1951578e+09 | S20: 0
A21: 15 | B21: 1395/06/29 | C21: 1395432481 | D21: بندرعباس | F21: 1500000 | H21: 5644 | J21: 95/07/30 | L21: 95-211 | M21: 145530 | N21: 5644 | O21: 100 | P21: =(O21+N21)*M21 -> 835924320 | Q21: =P21*1.09 -> 9.1115751e+08 | S21: 0
J22: 95/08/30 | L22: 95-301 | M22: 1354470 | N22: 5644 | O22: 100 | P22: =(O22+N22)*M22 -> 7780075680 | Q22: =P22*1.09 -> 8.4802825e+09 | S22: 0
A23: 16 | B23: 1395/07/24 | C23: 1395438001 | D23: بندرعباس | F23: 1160000 | H23: 6239 | J23: 95/08/30 | L23: 95-302 | M23: 1160000 | N23: 6239 | O23: 100 | P23: =(O23+N23)*M23 -> 7353240000 | Q23: =P23*1.09 -> 8.0150316e+09 | S23: 0
A24: 17 | B24: 1395/07/27 | C24: 1395438588 | D24: بندرعباس | F24: 1000000 | H24: 6239 | J24: 95/08/30 | L24: 95-303 | M24: 987060 | N24: 6239 | O24: 100 | P24: =(O24+N24)*M24 -> 6256973340 | Q24: =P24*1.09 -> 6.8201009e+09 | S24: 0
J25: 95/09/30 | L25: 95-380 | M25: 12940 | N25: 6239 | O25: 100 | P25: =(O25+N25)*M25 -> 82026660 | Q25: =P25*1.09 -> 89409059 | S25: 0
A26: 18 | B26: 1395/09/03 | C26: 1395447355 | D26: بندرعباس | F26: 2000000 | H26: 6231 | J26: 95/09/30 | L26: 95-381 | M26: 2000000 | N26: 6231 | O26: 100 | P26: =(O26+N26)*M26 -> 12662000000 | Q26: =P26*1.09 -> 1.380158e+10 | S26: 0
A27: 19 | B27: 1395/09/07 | C27: 1395447775 | D27: بندرعباس | E27: 1395449 | F27: 2000000 | H27: 6231 | J27: 95/09/30 | L27: 95-382 | M27: 2000000 | N27: 6231 | O27: 100 | P27: =(O27+N27)*M27 -> 12662000000 | Q27: =P27*1.09 -> 1.380158e+10 | S27: 0
A28: 20 | B28: 1395/09/13 | C28: 1395449113 | D28: بندرعباس | E28: 1395460 | F28: 1600000 | H28: 6231 | J28: 95/09/30 | L28: 95-383 | M28: 204870 | N28: 6231 | O28: 100 | P28: =(O28+N28)*M28 -> 1297031970 | Q28: =P28*1.09 -> 1.4137648e+09 | S28: 0
J29: 95/10/30 | L29: 95-479 | M29: 1395130 | N29: 6231 | O29: 100 | P29: =(O29+N29)*M29 -> 8832568030 | Q29: =P29*1.09 -> 9.6274992e+09 | S29: 0
A30: 21 | B30: 1395/09/21 | C30: 1395451250 | D30: بندرعباس | E30: 1395482 | F30: 820000 | H30: 6231 | J30: 95/10/30 | L30: 95-480 | M30: 820000 | N30: 6231 | O30: 100 | P30: =(O30+N30)*M30 -> 5191420000 | Q30: =P30*1.09 -> 5658647800 | S30: 0
A31: 22 | B31: 1395/09/24 | C31: 1395452666 | D31: بندرعباس | E31: 1395496 | F31: 600000 | H31: 6231 | J31: 95/10/30 | L31: 95-481 | M31: 600000 | N31: 6231 | O31: 100 | P31: =(O31+N31)*M31 -> 3798600000 | Q31: =P31*1.09 -> 4.140474e+09 | S31: 0
A32: 23 | B32: 1395/10/04 | C32: 1395454308 | D32: بندرعباس | E32: 1395519 | F32: 1260000 | H32: 7955 | J32: 95/10/30 | L32: 95-482 | M32: 1260000 | N32: 7955 | O32: 100 | P32: =(O32+N32)*M32 -> 10149300000 | Q32: =P32*1.09 -> 11062737000 | S32: 0
A33: 24 | B33: 1395/10/06 | C33: 1395454576 | D33: بندرعباس | E33: 1395531 | F33: 1400000 | H33: 7955 | J33: 95/10/30 | L33: 95-483 | M33: 1276600 | N33: 7955 | O33: 100 | P33: =(O33+N33)*M33 -> 10283013000 | Q33: =P33*1.09 -> 11208484170 | S33: 0
J34: 95/11/30 | L34: 95-594 | M34: 123400 | N34: 7955 | O34: 100 | P34: =(O34+N34)*M34 -> 993987000 | Q34: =P34*1.09 -> 1083445830
A35: 25 | B35: 1395/10/11 | C35: 1395456100 | D35: بندرعباس | E35: 1395539 | F35: 1600000 | H35: 7955 | J35: 95/11/30 | L35: 95-595 | M35: 1600000 | N35: 7955 | O35: 100 | P35: =(O35+N35)*M35 -> 12888000000 | Q35: =P35*1.09 -> 1.404792e+10 | S35: 0
A36: 26 | B36: 1395/10/13 | C36: 1395456354 | D36: سلاپس- بندرعباس | E36: 1395929 | F36: 500000 | H36: 9882 | J36: 95/01/31 | L36: 96-38 | M36: 494130 | N36: 9882 | O36: 100 | P36: =(O36+N36)*M36 -> 4932405660 | Q36: =P36*1.09 -> 5.3763222e+09 | R36: 500000 | S36: =F36-R36 -> 0
A37: 27 | B37: 1395/10/19 | C37: 1395457644 | D37: بندرعباس | E37: 1395560 | F37: 3400000 | H37: 7955 | J37: 95/11/30 | L37: 95-595 | M37: 3111690 | N37: 7955 | O37: 100 | P37: =(O37+N37)*M37 -> 25064662950 | Q37: =P37*1.09 -> 2.7320483e+10 | R37: 3400000 | S37: =F37-R37 -> 0
J38: 95/12/30 | L38: 95-707 | M38: 288310 | N38: 7955 | O38: 100 | P38: =(O38+N38)*M38 -> 2322337050 | Q38: =P38*1.09 -> 2.5313474e+09
A39: 28 | B39: 1395/10/28 | C39: 1395459286 | D39: بندرعباس | E39: 1395576 | F39: 1620000 | H39: 7955 | J39: 95/12/30 | L39: 95-708 | M39: 1620000 | N39: 7955 | O39: 100 | P39: =(O39+N39)*M39 -> 13049100000 | Q39: =P39*1.09 -> 1.4223519e+10 | R39: 1620000 | S39: =F39-R39 -> 0
A40: 29 | B40: 1395/12/02 | C40: 1395466278 | D40: بندرعباس | E40: 1395609 | F40: 1450000 | H40: 7866 | J40: 95/12/30 | L40: 95-709 | M40: 1450000 | N40: 7866 | O40: 100 | P40: =(O40+N40)*M40 -> 11550700000 | Q40: =P40*1.09 -> 12590263000 | R40: 1450000 | S40: =F40-R40 -> 0
...

Sheet گزارش 97  98  99
A1: مقدار خريداري شده وكيوم باتوم و سلابس
A2: سال خريد | B2: پالايشگاه اصفهان (كيلوگرم) | C2: پالايشگاه آبادان (كيلوگرم) | D2: پالايشگاه بندرعباس (كيلوگرم)
A3: 1397 | B3: 1375000000 | C3: 0 | D3: 129800000
A4: 1398 | B4: 1410000000 | C4: 2000000 | D4: 202300000
A5: شش ماه اول سال 1399 | B5: 564000000 | C5: 1000000 | D5: 97900000
