Workbook

Sheet وثائق 
A1: آمار وثائق تا تاریخ 1404/05/31
A2: ردیف | B2: نام کارگزار | C2: شروع همکاری | D2: تاریخ اولین وثیقه | E2: مبلغ اولین وثیقه | G2: تکمیل وثیقه | S2: جمع وثائق معادل یورو | T2: مانده حساب کارگزار پس از کسر کارسازی در راه معادل یورو *
E3: ملک | F3: نقد | G3: مرحله دوم | J3: مرحله سوم | M3: مرحله چهارم | P3: مرحله پنجم
E4: (معادل یورو ) | G4: تاریخ | H4: نوع وثیقه | I4: مبلغ | J4: تاریخ | K4: نوع وثیقه | L4: مبلغ | M4: تاریخ | N4: نوع وثیقه | O4: مبلغ | P4: تاریخ | Q4: نوع وثیقه | R4: مبلغ
A5: 1 | B5: ابراهیمی | C5: 1398.11.06 | D5: 1404.01.25 | E5: 899000 | G5: 1404.05.11 | H5: ملک | I5: 1866739 | S5: =SUM(E5+I5) -> 2765739
A6: 2 | B6: محمد دربانی | C6: 1398.12.08 | D6: 1399.05.08 | E6: 2552586 | G6: 1399.11.19 | H6: ملک | I6: 2400000 | J6: 1400.09.09 | K6: ملک | L6: 1443000 | M6: 1402.02.07 | N6: ملکی | O6: 4139000 | S6: =SUM(E6+I6+L6+O6) -> 10534586
A7: 3 | B7: مهرداد گرامیان | C7: 1399.08.03 | D7: 1399.08.28 | E7: 1743230 | G7: 1403.09.18 | H7: ملک | I7: 6451612 | S7: =SUM(E7+I7+L7+O7) -> 8194842
A8: 4 | B8: داوود مولاوردی زاده | C8: 1400.06.23 | D8: 1403.05.22 | E8: 711600 | G8: 1403.07.09 | H8: ملک | I8: 1400180 | S8: =SUM(E8+I8+L8+O8) -> 2111780
A9: 5 | B9: بهنام صفروند | C9: 1401.01.21 | D9: 1403.07.19 | E9: 5770992 | S9: =SUM(E9+I9+L9+O9) -> 5770992
A10: 6 | B10: سید محمد مثنایی | C10: 1401.03.09 | D10: 1401.04.06 | F10: 40000000 | G10: 1402.12.16 | H10: نقد | I10: 5000000 | J10: 1403.01.26 | K10: نقد | L10: 5000000 | S10: =SUM(F10*0.2527+I10*0.9281+L10*0.9281) -> 19389000
A11: 7 | B11: ادریس محمدی | C11: 1401.05.04 | D11: 1402.04.19 | E11: 441000 | G11: 1403.05.20 | H11: نقد | I11: 7000000 | S11: =SUM(E11+I11*0.9281) -> 6937700
A12: 8 | B12: سید محمد حسن ابطحی | C12: 1401.06.19 | D12: 1403.07.05 | F12: 4500000 | G12: 1404.08.25 | H12: نقد | I12: 5000000 | S12: =SUM(F12*0.9281+I12*0.9281) -> 8816950
A13: 9 | B13: لواسانی | C13: 1401.07.14 | D13: 1403.07.05 | F13: 3000000 | S13: =SUM(F13*0.9281) -> 2784300
A14: 10 | B14: قاسمی راد | C14: 1401.08.09 | D14: 1403.10.20 | F14: 10000000 | G14: 1403.11.21 | H14: ملک | I14: 820793 | J14: 1403.12.14 | K14: ملک | L14: 948905 | S14: =SUM(F14*0.2527+I14+L14) -> 4296698
A15: 11 | B15: سهیل و سروش نجف زاده | C15: 1401.10.12 | D15: 1403.04.20 | E15: 1782000 | G15: 1403.11.30 | H15: ملک | I15: 2576112 | J15: 1403.12.20 | K15: نقد | L15: 641888 | S15: =SUM(E15+I15+L15) -> 5000000
A16: 12 | B16: حمید رضا تقوی | C16: 1401.12.09 | D16: 1401.12.10 | F16: 10000000 | G16: 1403.04.27 | H16: نقد | I16: 5000000 | J16: 1403.05.10 | K16: ملک | L16: 1430555 | M16: 1403.05.30 | N16: نقد | O16: 5000000 | P16: 1404.08.14 | Q16: ملکی | R16: 2576788 | S16: =SUM(F16*0.2527+I16*0.2527+L16+O16*0.2527+R16) -> 9061343
A17: 13 | B17: مینا فشکی | C17: 1402.11.25 | D17: 1402.11.03 | E17: 21122115 | G17: 1404.05.11 | H17: ملک | I17: 549237 | J17: 1404.08.06 | K17: نقد | L17: 12480000 | M17: 1404.08.25 | N17: نقد | O17: 1550520 | P17: 1404.09.13 | Q17: نقد | R17: 10000000 | S17: =SUM(E17+I17+L17*0.2527+O17*0.2527+R17*0.9281) -> 34497864
A18: 14 | B18: یاسر نقش بندی | C18: 1403.04.13 | D18: 1403.04.27 | F18: 7976000 | G18: 1403.09.20 | H18: نقد | I18: 2000000 | J18: 1403.03.13 | K18: نقد | L18: 5520000 | S18: =SUM(F18*0.2527+I18*0.9281+L18*0.2527) -> 5266639.2
A19: 15 | B19: زیبا الهویردی زاده | C19: 1403.04.20 | D19: 1403.05.10 | F19: 5400000 | S19: =SUM(F19*0.9281) -> 5011740
A20: 16 | B20: قلی نژاد | C20: 1403.06.18 | D20: 1403.06.18 | E20: 7393213 | S20: =SUM(E20) -> 7393213
A21: 17 | B21: مهدی ملک زاده | C21: 1403.06.26 | D21: 1403.06.26 | E21: 27213870 | S21: =SUM(E21) -> 27213870
A22: 18 | B22: افسانه بحرالعلوم | C22: 1403.11.17 | D22: 1403.11.17 | E22: 1411764 | S22: =SUM(E22) -> 1411764
A23: 19 | B23: محمد هادی مومنین | C23: 1403.03.09 | D23: 1404.02.21 | F23: 10000000 | S23: =F23*0.9281 -> 9281000
A24: 20 | B24: رستم آبادی | C24: 1404.03.03 | D24: 1404.03.11 | F24: 21000000 | S24: 5306700
A25: 21 | B25: جواد پوردارا | C25: 1404.03.11 | D25: 1404.04.29 | F25: 10500000 | S25: =F25*0.2527 -> 2653350
A26: 22 | B26: پیمان اصغری و شرکاء | C26: 1404.05.19 | D26: 1404.05.19 | E26: 8925880 | S26: =E26 -> 8925880
A27: 23 | B27: جواد ذاکر دانا | C27: 1404.06.04 | D27: 1404.06.05 | F27: 23000000 | G27: 1404.09.13 | H27: نقد | I27: 5000000 | S27: =SUM(F27*0.2527+I27*0.9281) -> 10452600
A28: 24 | B28: کامبیز نبی زاده | C28: 1404.07.30 | D28: 1404.07.26 | E28: 1536818 | F28: 6400000 | S28: =SUM(E28+F28*0.9281) -> 7476658
A29: 25 | B29: مرجان نقدی | C29: 1404.06.29 | D29: 1404.06.29 | E29: 3128104 | G29: 1404.08.27 | H29: نقد | I29: 10000000 | S29: =SUM(E29+I29*0.2527) -> 5655104
A30: 26 | B30: حمید رضا یعقوبی و شرکاء | C30: 1404.07.20 | D30: 1404.07.20 | E30: 227695 | I30: 5000000 | S30: =SUM(E30+I30*0.2527) -> 1491195
A31: 27 | B31: احسان صفوی امیر | C31: 1403.02.14 | D31: 1402.12.22 | E31: 438492 | G31: 1403.01.28 | H31: ملک | I31: 2418984 | S31: =SUM(E31+I31) -> 2857476
A32: 28 | B32: عباس حسینی پارسا | C32: 1401.08.25
A33: 29 | B33: کاظم حیدرزاده | C33: 1399.01.25 | D33: 1400.10.26 | E33: 857000 | G33: 1400.12.08 | H33: ملک | I33: 458000 | J33: 1403.05.22 | K33: ملک | L33: 478288 | M33: 0 | N33: 0 | O33: 0 | S33: =SUM(E33+I33+L33+O33) -> 1793288
A34: 30 | B34: حسین آقایاری | C34: 1401.07.17
A35: 31 | B35: کیوان معنوی طهرانی | C35: 1402.07.16
A36: 32 | B36: مژگان انصاری | C36: 1401.05.12 | S36: =SUM(E36+I36+L36+O36) -> 0
A37: 33 | B37: شرکت آتروپارس | C37: 1401.05.12
A38: 34 | B38: وحید حمل کاری | C38: 1401.07.20 | D38: 1402.07.18 | E38: 5912000 | S38: =SUM(E38) -> 5912000
A40: مجموع وثائق نقدی / ملکی معادل یورو | S40: =SUM(S5:S38) -> 2.2826427e+08 | T40: =SUM(T5:T38) -> 0 | U40: *

Sheet گردش عملیات کارگزاران
A1: جمع کل عملیات کارگزاران معادل یورو از آغاز فعالیت تا پایان 1405/04/31
A2: ردیف | B2: نام کارگزار | C2: تاریخ انعقاد قرارداد | D2: مشخصات | E2: تعداد حواله وارده | F2: تعداد حواله صادره | G2: جمع گردش حساب | H2: مانده نزد کارگزار | I2: کارسازی در دست اقدام کارگزار | J2: مدت زمان به روز | K2: توضیحات | L2: مانده کارگزار پس از کسر وجوه در راه | M2: حد کارگزار | N2: وثائق اخذ شده از کارگزاران | R2: درصد وثیقه
I3: وجوه در راه | M3: معادل یورو | N3: قرارداد | O3: چک (ارقام به میلیارد ریال ) | P3: سندرهنی معادل یورو | Q3: وجه نقد
A4: 1 | B4: ملت | C4: 1398/05/19 | D4: صرافی | E4: ='وارده و صادره جدید ----'!C65 -> 2262 | F4: ='وارده و صادره جدید ----'!E65 -> 3850 | G4: ='وارده و صادره جدید ----'!H65 -> 6.3795473e+09 | H4: 1.4316441e+08 | L4: =SUM(H4-I4) -> 1.4316441e+08 | M4: 200000000 | N4: قرارداد
A6: 2 | B6: دربانی | C6: 1398/12/08 | D6: صرافی الیزه | E6: ='وارده و صادره جدید ----'!C67 -> 3401 | F6: ='وارده و صادره جدید ----'!E67 -> 7282 | G6: ='وارده و صادره جدید ----'!H67 -> 7.3685758e+09 | H6: 74506288 | I6: 9688987.2 | J6: 2 | L6: =SUM(H6-I6) -> 64817301 | M6: 50000000 | N6: قرارداد | O6: 90000 | P6: 10534586 | Q6: 8300000 | R6: 0.35
A8: 3 | B8: ابراهیمی | C8: 1398/12/04 | D8: صرافی امین | E8: ='وارده و صادره جدید ----'!C66 -> 1747 | F8: ='وارده و صادره جدید ----'!E66 -> 5809 | G8: ='وارده و صادره جدید ----'!H66 -> 3.3265673e+09 | H8: 20061208 | L8: =SUM(H8-I8) -> 20061208 | M8: 30000000 | N8: قرارداد | O8: 60000 | P8: 2765739 | R8: 0.09
A10: 4 | B10: گرامیان | C10: 1399/08/03 | E10: ='وارده و صادره جدید ----'!C70 -> 370 | F10: ='وارده و صادره جدید ----'!E70 -> 2233 | G10: ='وارده و صادره جدید ----'!H70 -> 1.1318558e+09 | H10: 10533682 | L10: =SUM(H10-I10) -> 10533682 | M10: 30000000 | N10: قرارداد | O10: 63000 | P10: 8194842 | R10: 0.2
A12: 5 | B12: مثنایی | C12: 1401/03/07 | D12: صرافی صدف | E12: ='وارده و صادره جدید ----'!C74 -> 2099 | F12: ='وارده و صادره جدید ----'!E74 -> 7392 | G12: ='وارده و صادره جدید ----'!H74 -> 4.3343011e+09 | H12: 98174606 | I12: 3468183.5 | J12: 1 | L12: =SUM(H12-I12) -> 94706422 | M12: 50000000 | N12: قرارداد | O12: 472020 | Q12: 40000000 | R12: 0.36
Q13: 10000000
A15: 6 | B15: مومنین | C15: 1400/03/09 | D15: صرافی نایسیان/گروه مومنین | E15: ='وارده و صادره جدید ----'!C72 -> 154 | F15: ='وارده و صادره جدید ----'!E72 -> 1659 | G15: ='وارده و صادره جدید ----'!H72 -> 1.3993519e+09 | H15: 11839154 | I15: 40042.36 | J15: 1 | L15: =SUM(H15-I15) -> 11799111 | M15: 30000000 | N15: قرارداد | O15: 106500 | Q15: 10000000 | R15: 0.21
A17: 7 | B17: ادریس محمدی | C17: 1401/04/04 | D17: صرافی اسپیناس | E17: ='وارده و صادره جدید ----'!C75 -> 503 | F17: ='وارده و صادره جدید ----'!E75 -> 2187 | G17: ='وارده و صادره جدید ----'!H75 -> 1.2136547e+09 | H17: 49056996 | I17: 2627176.9 | J17: 2 | L17: =SUM(H17-I17) -> 46429819 | M17: 30000000 | N17: قرارداد | O17: 48000 | P17: 441000 | Q17: 10000000 | R17: 0.29
A19: 8 | B19: نجف زاده | C19: 1401/08/25 | D19: صرافی آپرین | E19: ='وارده و صادره جدید ----'!C86 -> 175 | F19: ='وارده و صادره جدید ----'!E86 -> 1547 | G19: ='وارده و صادره جدید ----'!H86 -> 6.4431408e+08 | H19: 31445884 | I19: 4461189.1 | J19: 1 | L19: =SUM(H19-I19) -> 26984695 | M19: 20000000 | N19: قرارداد | O19: 45000 | P19: 4358112 | Q19: 641888 | R19: 0.25
A21: 9 | B21: حمید رضا تقوی | C21: 1401/10/17 | E21: ='وارده و صادره جدید ----'!C88 -> 817 | F21: ='وارده و صادره جدید ----'!E88 -> 2265 | G21: ='وارده و صادره جدید ----'!H88 -> 1.2044546e+09 | H21: 46686065 | L21: =SUM(H21-I21) -> 46686065 | M21: 40000000 | N21: قرارداد | O21: 120000 | P21: 4007343 | Q21: 20000000 | R21: 0.22
A23: 10 | B23: مینا فشکی | C23: 1402/11/03 | E23: ='وارده و صادره جدید ----'!C91 -> 590 | F23: ='وارده و صادره جدید ----'!E91 -> 1533 | G23: ='وارده و صادره جدید ----'!H91 -> 1.5340585e+09 | H23: 64850397 | I23: 60866.11 | J23: 1 | L23: =SUM(H23-I23) -> 64789531 | M23: 65000000 | N23: قرارداد | O23: 105000 | P23: 21671352 | Q23: 14030520 | R23: 0.53
Q24: 10000000
Q25: 5600000
A27: 11 | B27: یاسر نقشنبدی | C27: 1403/04/13 | E27: ='وارده و صادره جدید ----'!C94 -> 58 | F27: ='وارده و صادره جدید ----'!E94 -> 552 | G27: ='وارده و صادره جدید ----'!H94 -> 2.8842741e+08 | H27: 4178268.3 | L27: =SUM(H27-I27) -> 4178268.3 | M27: 9700000 | N27: قرارداد | O27: 5000 | Q27: 13496000 | R27: 0.51
Q28: 2000000
A30: 12 | B30: زیبا الهویردی زاده | C30: 1403/04/20 | E30: ='وارده و صادره جدید ----'!C93 -> 56 | F30: ='وارده و صادره جدید ----'!E93 -> 231 | G30: ='وارده و صادره جدید ----'!H93 -> 1.0681123e+08 | H30: 5405076 | L30: =SUM(H30-I30) -> 5405076 | M30: 10000000 | N30: قرارداد | O30: 18000 | Q30: 5400000 | R30: 0.47
A32: 13 | B32: قلی نژاد واجارگاه | C32: 1403/06/18 | D32: صرافی ارز پلاس | E32: ='وارده و صادره جدید ----'!C95 -> 46 | F32: ='وارده و صادره جدید ----'!E95 -> 624 | G32: ='وارده و صادره جدید ----'!H95 -> 2.0982495e+08 | H32: 8189270.5 | L32: =SUM(H32-I32) -> 8189270.5 | M32: 10000000 | N32: قرارداد | O32: 49200 | P32: 12917126 | R32: 0.5
A34: 14 | B34: مهدی ملک زاده | C34: 1403/09/26 | D34: مهدی ملک زاده و شرکآء | E34: ='وارده و صادره جدید ----'!C96 -> 129 | F34: ='وارده و صادره جدید ----'!E96 -> 247 | G34: ='وارده و صادره جدید ----'!H96 -> 1.307311e+08 | H34: 25999668 | I34: 1579765.1 | J34: 2 | L34: =SUM(H34-I34) -> 24419903 | M34: 30000000 | N34: قرارداد | O34: 9300 | P34: 27213870 | R34: 0.91
A36: 15 | B36: افسانه بحرالعلوم | C36: 1403/11/17 | D36: صرافی کیوان | E36: ='وارده و صادره جدید ----'!C97 -> 61 | F36: ='وارده و صادره جدید ----'!E97 -> 222 | G36: ='وارده و صادره جدید ----'!H97 -> 56946576 | H36: 33219.62 | L36: =SUM(H36-I36) -> 33219.62 | M36: 2800000 | N36: قرارداد | O36: 5400 | P36: 1411764 | R36: 0.5
A38: 16 | B38: مولاوردی | C38: 1400/06/15 | D38: صرافی سورن | E38: ='وارده و صادره جدید ----'!C73 -> 135 | F38: ='وارده و صادره جدید ----'!E73 -> 491 | G38: ='وارده و صادره جدید ----'!H73 -> 2.0657083e+08 | H38: 2144373.9 | I38: 976620.01 | J38: 4 | L38: =SUM(H38-I38) -> 1167753.9 | M38: 10000000 | N38: قرارداد | O38: 21000 | P38: 2111780 | R38: 0.21
A40: 17 | B40: ابطحی | C40: 1401/05/10 | D40: صرافی خاتم الموحدین | E40: ='وارده و صادره جدید ----'!C77 -> 408 | F40: ='وارده و صادره جدید ----'!E77 -> 735 | G40: ='وارده و صادره جدید ----'!H77 -> 2.9360611e+08 | H40: 15150979 | L40: =SUM(H40-I40) -> 15150979 | M40: 20000000 | N40: قرارداد | O40: 31000 | Q40: 9500000 | R40: 0.41
A42: 18 | B42: لواسانی | C42: 1401/05/13 | E42: ='وارده و صادره جدید ----'!C79 -> 58 | F42: ='وارده و صادره جدید ----'!E79 -> 165 | G42: ='وارده و صادره جدید ----'!H79 -> 1.0838169e+08 | H42: 3237121.8 | L42: =SUM(H42-I42) -> 3237121.8 | M42: 10000000 | N42: قرارداد | O42: 8000 | Q42: 3000000 | R42: 0.26
A44: 19 | B44: مهدی رستم آبادی | C44: 1404.03.03 | D44: صرافی کریستال | E44: ='وارده و صادره جدید ----'!C98 -> 54 | F44: ='وارده و صادره جدید ----'!E98 -> 154 | G44: ='وارده و صادره جدید ----'!H98 -> 59858989 | H44: 12110831 | I44: 966352.07 | J44: 2 | L44: =SUM(H44-I44) -> 11144479 | M44: 10000000 | N44: قرارداد | O44: 8000 | Q44: 21000000 | R44: 0.5
A46: 20 | B46: جواد پوردارا | C46: 1404.03.11 | E46: ='وارده و صادره جدید ----'!C99 -> 6 | F46: ='وارده و صادره جدید ----'!E99 -> 38 | G46: ='وارده و صادره جدید ----'!H99 -> 12740250 | H46: 1768292.4 | L46: =SUM(H46-I46) -> 1768292.4 | M46: 5000000 | N46: قرارداد | O46: 4000 | Q46: 10500000 | R46: 0.5
A48: 21 | B48: جواد ذاکر دانا | C48: 1404.06.04 | D48: صرافی جواد ذاکر دانا | E48: ='وارده و صادره جدید ----'!C100 -> 20 | F48: ='وارده و صادره جدید ----'!E100 -> 159 | G48: ='وارده و صادره جدید ----'!H100 -> 69740634 | H48: 9750063.4 | L48: =SUM(H48-I48) -> 9750063.4 | M48: 15000000 | N48: قرارداد | O48: 12000 | Q48: 23000000 | R48: 0.69
Q49: 5000000
A51: 22 | B51: پیمان اصغری | C51: 1404.05.19 | E51: ='وارده و صادره جدید ----'!C82 -> 52 | F51: ='وارده و صادره جدید ----'!E82 -> 392 | G51: ='وارده و صادره جدید ----'!H82 -> 1.9046329e+08 | H51: 19736859 | I51: 1408276.2 | J51: 2 | L51: =SUM(H51-I51) -> 18328583 | M51: 15000000 | N51: قرارداد | O51: 24900 | P51: 8925880 | R51: 0.99
A53: 23 | B53: کامبیز نبی زاده | C53: 1404.07.30 | E53: ='وارده و صادره جدید ----'!C101 -> 31 | F53: ='وارده و صادره جدید ----'!E101 -> 265 | G53: ='وارده و صادره جدید ----'!H101 -> 2.4064109e+08 | H53: 60804026 | I53: 4319138.8 | J53: 1 | L53: =SUM(H53-I53) -> 56484887 | M53: 200000000 | N53: قرارداد | O53: 615000 | P53: 1536818 | Q53: 6400000 | R53: 0.5
A55: 24 | B55: مرجان نقدی | C55: 1404.06.29 | E55: ='وارده و صادره جدید ----'!C102 -> 1 | F55: ='وارده و صادره جدید ----'!E102 -> 1 | G55: ='وارده و صادره جدید ----'!H102 -> 4730000 | H55: 0 | L55: =SUM(H55-I55) -> 0 | M55: 3100000 | N55: قرارداد | O55: 4000 | P55: 3128104 | R55: 1
A57: 25 | B57: حمید رضا یعقوبی | C57: 1404.07.20 | D57: صرافی ایده آل تجارت | E57: ='وارده و صادره جدید ----'!C103 -> 3 | F57: ='وارده و صادره جدید ----'!E103 -> 41 | G57: ='وارده و صادره جدید ----'!H103 -> 17042416 | H57: 4310881.4 | L57: =SUM(H57-I57) -> 4310881.4 | M57: 8000000 | N57: قرارداد | O57: 7000 | P57: 227695 | Q57: 5000000 | R57: 0.57
A59: 26 | B59: محمد طالع | C59: 1404.03.20 | E59: ='وارده و صادره جدید ----'!C105 -> 0 | F59: ='وارده و صادره جدید ----'!E105 -> 0 | G59: ='وارده و صادره جدید ----'!H105 -> 0 | L59: =SUM(H59-I59) -> 0 | M59: 1000000 | N59: قرارداد | O59: 10000 | P59: 990364 | R59: 0.99
A61: 27 | B61: سعید ربیعی منفرد و شرکاء | C61: 1404.11.09 | D61: صرافی آیوت | E61: ='وارده و صادره جدید ----'!C104 -> 9 | F61: ='وارده و صادره جدید ----'!E104 -> 62 | G61: ='وارده و صادره جدید ----'!H104 -> 31388117 | H61: 3688736.2 | L61: =SUM(H61-I61) -> 3688736.2 | M61: 5000000 | N61: قرارداد | O61: 12000 | P61: 2616086 | R61: 0.52
A63: 28 | B63: علی کمالی و شرکاء | C63: 1404.11.19 | D63: صرافی شایستگان | E63: ='وارده و صادره جدید ----'!C106 -> 8 | F63: ='وارده و صادره جدید ----'!E106 -> 60 | G63: ='وارده و صادره جدید ----'!H106 -> 40334321 | H63: 5526498.8 | I63: 1721056.3 | J63: 4 | L63: =SUM(H63-I63) -> 3805442.6 | M63: 5000000 | N63: قرارداد | O63: 14000 | P63: 4828122 | R63: 0.96
A65: *29 | B65: آریا تجارت صابر و شریک | C65: 1405.03.12 | E65: ='وارده و صادره جدید ----'!C107 -> 3 | F65: ='وارده و صادره جدید ----'!E107 -> 29 | G65: ='وارده و صادره جدید ----'!H107 -> 18931959 | H65: 3432098.7 | I65: 155652.89 | J65: 3 | M65: 5000000 | N65: قرارداد | O65: 13000 | Q65: 6000000 | R65: 1
A67: جمع | E67: =SUM(E4:E65) -> 13256 | F67: =SUM(F4:F65) -> 40225 | G67: =SUM(G4:G65) -> 3.0623852e+10 | H67: =SUM(H4:H65) -> 7.3578496e+08 | I67: =SUM(I4:I65) -> 31473306 | L67: =SUM(L4:L65) -> 7.0103521e+08 | M67: =SUM(M4:M65) -> 919600000

Sheet کارگزاران خاص 
A1: جمع کل عملیات کارگزاران معادل یورو از آغاز فعالیت تا پایان 1405/04/31
A2: ردیف | B2: نام کارگزار | C2: تاریخ انعقاد قرارداد | D2: مشخصات | E2: تعداد حواله وارده | F2: تعداد حواله صادره | G2: جمع گردش حساب | H2: مانده نزد کارگزار | I2: کارسازی در دست اقدام کارگزار | J2: مدت زمان به روز | K2: مانده کارگزار پس از کسر وجوه در راه | L2: حد کارگزار | M2: وثائق اخذ شده از کارگزاران | Q2: درصد وثائق
I3: وجوه در راه | L3: معادل یورو | M3: قرارداد | N3: چک (ارقام به میلیارد ریال ) | O3: سندرهنی معادل یورو | P3: وجه نقد
A4: 1 | B4: مجتهدی | C4: 1399/01/24 | E4: ='وارده و صادره جدید ----'!C68 -> 113 | F4: ='وارده و صادره جدید ----'!E68 -> 651 | G4: ='وارده و صادره جدید ----'!H68 -> 2.5954273e+08 | H4: 0 | K4: =SUM(H4-I4) -> 0 | L4: 0 | M4: قرارداد | N4: 15050
A6: 2 | B6: بهنام صفروند | C6: 1401/02/06 | E6: ='وارده و صادره جدید ----'!C76 -> 88 | F6: ='وارده و صادره جدید ----'!E76 -> 288 | G6: ='وارده و صادره جدید ----'!H76 -> 2.8708373e+08 | H6: 0 | K6: =SUM(H6-I6) -> 0 | L6: 10000000 | M6: قرارداد | N6: 27620 | O6: 5770992 | Q6: 0.58
A7: 3 | B7: اتروپارس | C7: 1401/05/12 | E7: ='وارده و صادره جدید ----'!C78 -> 6 | F7: ='وارده و صادره جدید ----'!E78 -> 24 | G7: ='وارده و صادره جدید ----'!H78 -> 40232726 | H7: 3492173.6 | K7: =SUM(H7-I7) -> 3492173.6 | L7: 10000000 | M7: قرارداد | N7: 12500
A8: 4 | B8: حمل کاری | C8: 1401/07/10 | D8: صرافی ریتون | E8: ='وارده و صادره جدید ----'!C80 -> 236 | F8: ='وارده و صادره جدید ----'!E80 -> 1176 | G8: ='وارده و صادره جدید ----'!H80 -> 7.9427523e+08 | H8: 51628450 | K8: =SUM(H8-I8) -> 51628450 | L8: 80000000 | M8: قرارداد | N8: 158000 | O8: 5912000 | Q8: 0.07
A9: 5 | B9: مژگان انصاری | C9: 1401/05/12 | D9: صرافی ویستا/بهنام و بهروز کاووسی | E9: ='وارده و صادره جدید ----'!C87 -> 393 | F9: ='وارده و صادره جدید ----'!E87 -> 491 | G9: ='وارده و صادره جدید ----'!H87 -> 1.3626636e+08 | H9: 12654428 | K9: =SUM(H9-I9) -> 12654428 | L9: 15000000 | M9: قرارداد | N9: 13500
A10: 6 | B10: جلالی و شرکاء | C10: 1399/09/07 | E10: ='وارده و صادره جدید ----'!C71 -> 20 | F10: ='وارده و صادره جدید ----'!E71 -> 180 | G10: ='وارده و صادره جدید ----'!H71 -> 45137647 | H10: 0 | K10: =SUM(H10-I10) -> 0 | L10: 0 | M10: عودت وثائق ( قطع همکاری )
A11: 7 | B11: محمودی | C11: 1401/07/20 | E11: ='وارده و صادره جدید ----'!C84 -> 3 | F11: ='وارده و صادره جدید ----'!E84 -> 34 | G11: ='وارده و صادره جدید ----'!H84 -> 9925473.7 | H11: 0 | K11: =SUM(H11-I11) -> 0 | L11: 0 | M11: قطع همکاری
A12: 8 | B12: حسینی پارسا | C12: 1401/08/25 | E12: ='وارده و صادره جدید ----'!C83 -> 100 | F12: ='وارده و صادره جدید ----'!E83 -> 538 | G12: ='وارده و صادره جدید ----'!H83 -> 1.6808676e+08 | H12: 0 | K12: =SUM(H12-I12) -> 0 | L12: 10000000 | M12: قرارداد | N12: 9000
A13: 9 | B13: فونیکس | C13: 1402/06/13 | E13: ='وارده و صادره جدید ----'!C90 -> 178 | F13: ='وارده و صادره جدید ----'!E90 -> 290 | G13: ='وارده و صادره جدید ----'!H90 -> 1.6096747e+08 | H13: 0 | K13: =SUM(H13-I13) -> 0 | L13: 30000000 | M13: قرارداد
A14: 10 | B14: معنوی طهرانی | C14: 1402/02/05 | E14: ='وارده و صادره جدید ----'!C89 -> 13 | F14: ='وارده و صادره جدید ----'!E89 -> 124 | G14: ='وارده و صادره جدید ----'!H89 -> 47549627 | H14: 2392917.7 | K14: =SUM(H14-I14) -> 2392917.7 | L14: 10000000 | M14: قرارداد | N14: 10600
A15: 11 | B15: صفوی امیر | C15: 1403/02/09 | D15: صرافی آرمانی | E15: ='وارده و صادره جدید ----'!C92 -> 5 | F15: ='وارده و صادره جدید ----'!E92 -> 28 | G15: ='وارده و صادره جدید ----'!H92 -> 25719348 | H15: 0 | K15: =SUM(H15-I15) -> 0 | L15: 2800000 | M15: قرارداد | N15: 10000 | O15: 2857476 | Q15: 1
A16: 12 | B16: حیدرزاده | C16: 1399/01/25 | D16: صرافی آلپ | E16: ='وارده و صادره جدید ----'!C69 -> 932 | F16: ='وارده و صادره جدید ----'!E69 -> 1213 | G16: ='وارده و صادره جدید ----'!H69 -> 4.7573785e+08 | H16: 11360695 | K16: =SUM(H16-I16) -> 11360695 | L16: 20000000 | M16: قرارداد | N16: 38000 | O16: 1793288 | Q16: 0.09
A17: 13 | B17: حسین آقا یاری | C17: 1401/07/17 | E17: ='وارده و صادره جدید ----'!C85 -> 103 | F17: ='وارده و صادره جدید ----'!E85 -> 906 | G17: ='وارده و صادره جدید ----'!H85 -> 6.4114722e+08 | K17: =SUM(H17-I17) -> 0 | L17: 50000000 | M17: قرارداد | N17: 44600
A18: 14 | B18: قاسمی راد | C18: 1401/07/12 | D18: صرافی رادین | E18: ='وارده و صادره جدید ----'!C81 -> 166 | F18: ='وارده و صادره جدید ----'!E81 -> 473 | G18: ='وارده و صادره جدید ----'!H81 -> 1.6425364e+08 | H18: 0 | K18: =SUM(H18-I18) -> 0 | L18: 10000000 | M18: قرارداد | N18: 30000 | O18: 1769698
A20: جمع | E20: =SUM(E4:E19) -> 2356 | F20: =SUM(F4:F19) -> 6416 | G20: =SUM(G4:G19) -> 3.2559258e+09 | H20: =SUM(H4:H19) -> 81528664 | I20: =SUM(I4:I19) -> 0 | K20: =SUM(K4:K19) -> 81528664 | L20: =SUM(L4:L17) -> 237800000

Sheet وارده و صادره جدید ----
B1: حواله وارده و صادره از شروع فعالیت تا پایان سال 1398 | H1: حواله وارده و صادره از ابتدای سال 1399 الی 1399.12.30
B2: نام کارگزار | C2: تعداد وارده | D2: معادل یورو حواله وارده | E2: تعداد صادره | F2: معادل یورو حواله صادره | H2: نام کارگزار | I2: تعداد وارده | J2: معادل یورو حواله وارده | K2: تعداد صادره | L2: معادل یورو حواله صادره
B3: ملت | C3: 62 | D3: 58572900 | E3: 52 | F3: 27310498 | H3: ملت | I3: 616 | J3: 5.6191965e+08 | K3: 471 | L3: 5.213373e+08 | N3: =SUM(J3+L3) -> 1.083257e+09
B4: ابراهیمی | C4: 10 | D4: 16555000 | E4: 31 | F4: 4767577.9 | H4: ابراهیمی | I4: 61 | J4: 40788072 | K4: 60 | L4: 41085782 | N4: =SUM(J4+L4) -> 81873854
B5: دربانی | C5: 19 | D5: 17259637 | E5: 0 | H5: دربانی | I5: 84 | J5: 1.007903e+08 | K5: 45 | L5: 1.0332004e+08 | N5: =SUM(J5+L5) -> 2.0411034e+08
B6: مجتهدی | C6: 0 | D6: 0 | E6: 0 | H6: مجتهدی | I6: 47 | J6: 38342549 | K6: 60 | L6: 23839763 | N6: =SUM(J6+L6) -> 62182312
B7: حیدرزاده | C7: 0 | D7: 0 | E7: 0 | H7: حیدرزاده | I7: 19 | J7: 23243521 | K7: 36 | L7: 14213731 | N7: =SUM(J7+L7) -> 37457251
B8: جمع کل | C8: =SUM(C3:C7) -> 91 | D8: =SUM(D3:D7) -> 92387537 | E8: =SUM(E3:E7) -> 83 | F8: =SUM(F3:F7) -> 32078076 | H8: گرامیان | I8: 44 | J8: 37746386 | K8: 6 | L8: 30603876 | N8: =SUM(J8+L8) -> 68350262
H9: جلالی | I9: 6 | J9: 3737730.7 | K9: 1 | L9: 1702152 | N9: =SUM(J9+L9) -> 5439882.7
D10: =SUM(D8+F8) -> 1.2446561e+08 | H10: جمع کل | I10: =SUM(I3:I9) -> 877 | J10: =SUM(J3:J9) -> 8.0656821e+08 | K10: =SUM(K3:K9) -> 679 | L10: =SUM(L3:L9) -> 7.3610265e+08 | N10: =SUM(J10+L10) -> 1.5426709e+09
B13: حواله وارده و صادره از ابتدای سال 1400 الی 1404.12.29 | H13: حواله وارده و صادره از ابتدای سال 1405 الی 1405.04.31
B14: نام کارگزار | C14: تعداد وارده | D14: معادل یورو حواله وارده | E14: تعداد صادره | F14: معادل یورو حواله صادره | H14: نام کارگزار | I14: تعداد وارده | J14: معادل یورو حواله وارده | K14: تعداد صادره | L14: معادل یورو حواله صادره
B15: ملت | C15: 1496 | D15: 2.5854973e+09 | E15: 3305 | F15: 2.5500674e+09 | H15: ملت | I15: 88 | J15: 52426657 | K15: 22 | L15: 22415475 | M15: =SUM(I15+K15) -> 110 | N15: =SUM(J15+L15) -> 74842131
B16: ابراهیمی | C16: 1632 | D16: 1.5500321e+09 | E16: 5498 | F16: 1.5568587e+09 | H16: ابراهیمی | I16: 44 | J16: 52169358 | K16: 220 | L16: 64310665 | M16: =SUM(I16+K16) -> 264 | N16: =SUM(J16+L16) -> 1.1648002e+08
B17: دربانی | C17: 3133 | D17: 3.4929415e+09 | E17: 6833 | F17: 3.4556872e+09 | H17: دربانی | I17: 165 | J17: 1.0414466e+08 | K17: 404 | L17: 94432464 | M17: =SUM(I17+K17) -> 569 | N17: =SUM(J17+L17) -> 1.9857712e+08
B18: مجتهدی | C18: 66 | D18: 92042087 | E18: 591 | F18: 1.0531833e+08 | H18: مجتهدی | M18: =SUM(I18+K18) -> 0 | N18: =SUM(J18+L18) -> 0
B19: حیدرزاده | C19: 913 | D19: 2.1952267e+08 | E19: 1177 | F19: 2.1875792e+08 | H19: حیدرزاده | M19: =SUM(I19+K19) -> 0 | N19: =SUM(J19+L19) -> 0
B20: گرامیان | C20: 320 | D20: 5.153926e+08 | E20: 2156 | F20: 5.1583088e+08 | H20: گرامیان | I20: 6 | J20: 15529910 | K20: 71 | L20: 16752161 | M20: =SUM(I20+K20) -> 77 | N20: =SUM(J20+L20) -> 32282072
B21: جلالی | C21: 14 | D21: 18930677 | E21: 179 | F21: 20767087 | H21: جلالی | M21: =SUM(I21+K21) -> 0 | N21: =SUM(J21+L21) -> 0
B22: مومنین | C22: 150 | D22: 6.8120168e+08 | E22: 1566 | F22: 6.6686812e+08 | H22: مومنین | I22: 4 | J22: 21611985 | K22: 93 | L22: 29670121 | M22: =SUM(I22+K22) -> 97 | N22: =SUM(J22+L22) -> 51282106
B23: مولاوردی | C23: 132 | D23: 99307194 | E23: 455 | F23: 97574384 | H23: مولاوردی | I23: 3 | J23: 4949880 | K23: 36 | L23: 4739367.3 | M23: =SUM(I23+K23) -> 39 | N23: =SUM(J23+L23) -> 9689247.3
B24: مثنایی | C24: 1992 | D24: 2.0545058e+09 | E24: 7013 | F24: 1.9954044e+09 | H24: مثنایی | I24: 107 | J24: 1.6139235e+08 | K24: 379 | L24: 1.2299855e+08 | M24: =SUM(I24+K24) -> 486 | N24: =SUM(J24+L24) -> 2.843909e+08
B25: ادریس محمدی | C25: 424 | D25: 5.2768607e+08 | E25: 2067 | F25: 4.9154113e+08 | H25: ادریس محمدی | I25: 79 | J25: 1.0471349e+08 | K25: 120 | L25: 89714025 | M25: =SUM(I25+K25) -> 199 | N25: =SUM(J25+L25) -> 1.9442752e+08
B26: بهنام صفروند | C26: 88 | D26: 1.2962692e+08 | E26: 288 | F26: 1.5745681e+08 | H26: بهنام صفروند | M26: =SUM(I26+K26) -> 0 | N26: =SUM(J26+L26) -> 0
B27: ابطحی | C27: 392 | D27: 1.2694546e+08 | E27: 649 | F27: 1.1903728e+08 | H27: ابطحی | I27: 16 | J27: 27269319 | K27: 86 | L27: 20354054 | M27: =SUM(I27+K27) -> 102 | N27: =SUM(J27+L27) -> 47623373
B28: اتروپارس | C28: 6 | D28: 21884760 | E28: 24 | F28: 18347965 | H28: اتروپارس | M28: =SUM(I28+K28) -> 0 | N28: =SUM(J28+L28) -> 0
B29: لواسانی | C29: 58 | D29: 55936301 | E29: 162 | F29: 52400620 | H29: لواسانی | K29: 3 | L29: 44769.67 | M29: =SUM(I29+K29) -> 3 | N29: =SUM(J29+L29) -> 44769.67
B30: حمل کاری | C30: 236 | D30: 4.130556e+08 | E30: 1176 | F30: 3.8121963e+08 | H30: حمل کاری | M30: =SUM(I30+K30) -> 0 | N30: =SUM(J30+L30) -> 0
B31: قاسمی راد | C31: 166 | D31: 82376505 | E31: 464 | F31: 78412631 | H31: قاسمی راد | K31: 9 | L31: 3464503.9 | M31: =SUM(I31+K31) -> 9 | N31: =SUM(J31+L31) -> 3464503.9
B32: پیمان اصغری | C32: 33 | D32: 48485830 | E32: 247 | F32: 46278596 | H32: پیمان اصغری | I32: 19 | J32: 53378029 | K32: 145 | L32: 42320832 | M32: =SUM(I32+K32) -> 164 | N32: =SUM(J32+L32) -> 95698861
B33: حسینی پارسا قشم | C33: 100 | D33: 84343211 | E33: 538 | F33: 83743549 | H33: حسینی پارسا قشم | M33: =SUM(I33+K33) -> 0 | N33: =SUM(J33+L33) -> 0
B34: محمودی | C34: 3 | D34: 4978703.4 | E34: 34 | F34: 4946770.2 | H34: محمودی | M34: =SUM(I34+K34) -> 0 | N34: =SUM(J34+L34) -> 0
B35: حسین آقایاری | C35: 103 | D35: 3.2115936e+08 | E35: 906 | F35: 3.1998787e+08 | H35: حسین آقایاری | M35: =SUM(I35+K35) -> 0 | N35: =SUM(J35+L35) -> 0
B36: نجف زاده | C36: 158 | D36: 3.0781439e+08 | E36: 1519 | F36: 2.940349e+08 | H36: نجف زاده | I36: 17 | J36: 31567791 | K36: 28 | L36: 10896998 | M36: =SUM(I36+K36) -> 45 | N36: =SUM(J36+L36) -> 42464788
B37: انصاری | C37: 393 | D37: 73352145 | E37: 491 | F37: 62914217 | H37: انصاری | M37: =SUM(I37+K37) -> 0 | N37: =SUM(J37+L37) -> 0
B38: حمید رضا تقوی | C38: 690 | D38: 5.7266606e+08 | E38: 2157 | F38: 5.4562891e+08 | H38: حمید رضا تقوی | I38: 127 | J38: 54313893 | K38: 108 | L38: 31845765 | M38: =SUM(I38+K38) -> 235 | N38: =SUM(J38+L38) -> 86159658
B39: معنوی | C39: 13 | D39: 25058746 | E39: 116 | F39: 22094170 | H39: معنوی | K39: 8 | L39: 396710.75 | M39: =SUM(I39+K39) -> 8 | N39: =SUM(J39+L39) -> 396710.75
B40: فونیکس | C40: 178 | D40: 80785576 | E40: 290 | F40: 80181897 | H40: فونیکس | M40: =SUM(I40+K40) -> 0 | N40: =SUM(J40+L40) -> 0
B41: مینا فشکی | C41: 544 | D41: 7.2159593e+08 | E41: 1408 | F41: 6.8069428e+08 | H41: مینا فشکی | I41: 46 | J41: 73606951 | K41: 125 | L41: 58161313 | M41: =SUM(I41+K41) -> 171 | N41: =SUM(J41+L41) -> 1.3176826e+08
B42: صفوی امیر | C42: 5 | D42: 12879531 | E42: 28 | F42: 12839817 | H42: صفوی امیر | M42: =SUM(I42+K42) -> 0 | N42: =SUM(J42+L42) -> 0
B43: زیبا الهویردی زاده | C43: 51 | D43: 48280251 | E43: 209 | F43: 42353873 | H43: زیبا الهویردی زاده | I43: 5 | J43: 7985997.5 | K43: 22 | L43: 8191107 | M43: =SUM(I43+K43) -> 27 | N43: =SUM(J43+L43) -> 16177105
B44: نقش بندی | C44: 47 | D44: 1.4451418e+08 | E44: 552 | F44: 1.4141568e+08 | H44: نقش بندی | I44: 11 | J44: 2497547.4 | M44: =SUM(I44+K44) -> 11 | N44: =SUM(J44+L44) -> 2497547.4
B45: قلی نژاد | C45: 44 | D45: 95785421 | E45: 602 | F45: 85510979 | H45: قلی نژاد | I45: 2 | J45: 13977207 | K45: 22 | L45: 14551346 | M45: =SUM(I45+K45) -> 24 | N45: =SUM(J45+L45) -> 28528553
B46: ملک زاده | C46: 31 | D46: 44692995 | E46: 177 | F46: 31687411 | H46: ملک زاده | I46: 98 | J46: 33540277 | K46: 70 | L46: 20810420 | M46: =SUM(I46+K46) -> 168 | N46: =SUM(J46+L46) -> 54350697
B47: بحرالعلوم | C47: 53 | D47: 25084833 | E47: 201 | F47: 24520342 | H47: بحرالعلوم | I47: 8 | J47: 3502128.2 | K47: 21 | L47: 3839273 | M47: =SUM(I47+K47) -> 29 | N47: =SUM(J47+L47) -> 7341401.3
B48: رستم آبادی | C48: 21 | D48: 21388896 | E48: 132 | F48: 18719969 | H48: رستم آبادی | I48: 33 | J48: 14684134 | K48: 22 | L48: 5065990.2 | M48: =SUM(I48+K48) -> 55 | N48: =SUM(J48+L48) -> 19750124
B49: جواد پوردارا | C49: 6 | D49: 7269556.7 | E49: 38 | F49: 5470693.2 | H49: جواد پوردارا | M49: =SUM(I49+K49) -> 0 | N49: =SUM(J49+L49) -> 0
B50: جواد ذاکر دانا | C50: 20 | D50: 39886474 | E50: 154 | F50: 29740814 | H50: جواد ذاکر دانا | K50: 5 | L50: 113345.65 | M50: =SUM(I50+K50) -> 5 | N50: =SUM(J50+L50) -> 113345.65
B51: کامبیز نبی زاده | C51: 19 | D51: 61062609 | E51: 206 | F51: 47637704 | H51: کامبیز نبی زاده | I51: 12 | J51: 90246756 | K51: 59 | L51: 41694024 | M51: =SUM(I51+K51) -> 71 | N51: =SUM(J51+L51) -> 1.3194078e+08
B52: مرجان نقدی | C52: 1 | D52: 2365000 | E52: 1 | F52: 2365000 | H52: مرجان نقدی | M52: =SUM(I52+K52) -> 0 | N52: =SUM(J52+L52) -> 0
B53: حمید رضا یعقوبی | C53: 3 | D53: 10714657 | E53: 40 | F53: 6209704.2 | H53: حمید رضا یعقوبی | K53: 1 | L53: 118055.51 | M53: =SUM(I53+K53) -> 1 | N53: =SUM(J53+L53) -> 118055.51
B54: ربیعی منفرد | C54: 2 | D54: 3581272.3 | H54: ربیعی منفرد | I54: 7 | J54: 14072326 | K54: 62 | L54: 13734519 | M54: =SUM(I54+K54) -> 69 | N54: =SUM(J54+L54) -> 27806845
B55: محمد طالع | H55: محمد طالع | M55: =SUM(I55+K55) -> 0 | N55: =SUM(J55+L55) -> 0
B56: علی کمالی | H56: علی کمالی | I56: 8 | J56: 21843934 | K56: 60 | L56: 18490387 | M56: =SUM(I56+K56) -> 68 | N56: =SUM(J56+L56) -> 40334321
H57: آریا تجارت صابر | I57: 3 | J57: 11254839 | K57: 29 | L57: 7677120.6 | M57: =SUM(I57+K57) -> 32 | N57: =SUM(J57+L57) -> 18931959
B58: جمع کل | C58: =SUM(C15:C56) -> 13736 | D58: =SUM(D15:D56) -> 1.5424631e+10 | E58: =SUM(E15:E56) -> 43649 | F58: =SUM(F15:F56) -> 1.5070528e+10 | H58: جمع کل | I58: =SUM(I15:I57) -> 908 | J58: =SUM(J15:J57) -> 9.7067942e+08 | K58: =SUM(K15:K57) -> 2230 | L58: =SUM(L15:L57) -> 7.4680336e+08
B60: جمع کل وارده و صادره از ابتدای 1403 | D60: =SUM(D58+F58) -> 3.0495159e+10 | E60: =SUM(C58+E58) -> 57385 | H60: جمع کل وارده و صادره از ابتدای 1403 | J60: =SUM(J58+L58) -> 1.7174828e+09 | K60: =SUM(I58+K58) -> 3138
B63: تجمیع حواله وارده و صادره از آغاز فعالیت تا پایان 1405.04.31
B64: نام کارگزار | C64: تعداد وارده | D64: معادل یورو حواله وارده | E64: تعداد صادره | F64: معادل یورو حواله صادره
B65: ملت | C65: =SUM(C15+I15+C3+I3) -> 2262 | D65: =SUM(D3+J3+D15+J15) -> 3258416541 | E65: =SUM(E3+K3+E15+K15) -> 3850 | F65: =SUM(F3+L3+F15+L15) -> 3.1211307e+09 | H65: =SUM(D65+F65) -> 6.3795473e+09
B66: ابراهیمی | C66: =SUM(C4+I4+C16+I16) -> 1747 | D66: =SUM(D4+J4+D16+J16) -> 1.6595445e+09 | E66: =SUM(E4+K4+E16+K16) -> 5809 | F66: =SUM(F4+L4+F16+L16) -> 1.6670228e+09 | H66: =SUM(D66+F66) -> 3.3265673e+09
B67: دربانی | C67: =SUM(C5+I5+C17+I17) -> 3401 | D67: =SUM(D5+J5+D17+J17) -> 3.715136e+09 | E67: =SUM(E5+K5+E17+K17) -> 7282 | F67: =SUM(L5+F17+L17) -> 3.6534398e+09 | H67: =SUM(D67+F67) -> 7.3685758e+09
B68: مجتهدی | C68: =SUM(C6+I6+C18+I18) -> 113 | D68: =SUM(J6+D18+J18) -> 1.3038464e+08 | E68: =SUM(K6+E18+K18) -> 651 | F68: =SUM(L6+F18+L18) -> 1.291581e+08 | H68: =SUM(D68+F68) -> 2.5954273e+08
B69: حیدرزاده | C69: =SUM(C7+I7+C19+I19) -> 932 | D69: =SUM(J7+D19+J19) -> 2.4276619e+08 | E69: =SUM(K7+E19+K19) -> 1213 | F69: =SUM(L7+F19+L19) -> 2.3297165e+08 | H69: =SUM(D69+F69) -> 4.7573785e+08
B70: گرامیان | C70: =SUM(I8+C20+I20) -> 370 | D70: =SUM(J8+D20+J20) -> 5.6866889e+08 | E70: =SUM(K8+E20+K20) -> 2233 | F70: =SUM(L8+F20+L20) -> 5.6318692e+08 | H70: =SUM(D70+F70) -> 1.1318558e+09
B71: جلالی | C71: =SUM(I9+C21+I21) -> 20 | D71: =SUM(J9+D21+J21) -> 22668408 | E71: =SUM(K9+E21+K21) -> 180 | F71: =SUM(L9+F21+L21) -> 22469239 | H71: =SUM(D71+F71) -> 45137647
B72: مومنین | C72: =SUM(C22+I22) -> 154 | D72: =SUM(D22+J22) -> 7.0281367e+08 | E72: =SUM(E22+K22) -> 1659 | F72: =SUM(F22+L22) -> 6.9653824e+08 | H72: =SUM(D72+F72) -> 1.3993519e+09
B73: مولاوردی | C73: =SUM(C23+I23) -> 135 | D73: =SUM(D23+J23) -> 1.0425707e+08 | E73: =SUM(E23+K23) -> 491 | F73: =SUM(F23+L23) -> 1.0231375e+08 | H73: =SUM(D73+F73) -> 2.0657083e+08
B74: مثنایی | C74: =SUM(C24+I24) -> 2099 | D74: =SUM(D24+J24) -> 2.2158981e+09 | E74: =SUM(E24+K24) -> 7392 | F74: =SUM(F24+L24) -> 2.1184029e+09 | H74: =SUM(D74+F74) -> 4.3343011e+09
B75: ادریس محمدی | C75: =SUM(C25+I25) -> 503 | D75: =SUM(D25+J25) -> 6.3239956e+08 | E75: =SUM(E25+K25) -> 2187 | F75: =SUM(F25+L25) -> 5.8125516e+08 | H75: =SUM(D75+F75) -> 1.2136547e+09
B76: بهنام صفروند | C76: =SUM(C26+I26) -> 88 | D76: =SUM(D26+J26) -> 1.2962692e+08 | E76: =SUM(E26+K26) -> 288 | F76: =SUM(F26+L26) -> 1.5745681e+08 | H76: =SUM(D76+F76) -> 2.8708373e+08
B77: ابطحی | C77: =SUM(C27+I27) -> 408 | D77: =SUM(D27+J27) -> 1.5421478e+08 | E77: =SUM(E27+K27) -> 735 | F77: =SUM(F27+L27) -> 1.3939133e+08 | H77: =SUM(D77+F77) -> 2.9360611e+08
B78: اتروپارس | C78: =SUM(C28+I28) -> 6 | D78: =SUM(D28+J28) -> 21884760 | E78: =SUM(E28+K28) -> 24 | F78: =SUM(F28+L28) -> 18347965 | H78: =SUM(D78+F78) -> 40232726
B79: لواسانی | C79: =SUM(C29+I29) -> 58 | D79: =SUM(D29+J29) -> 55936301 | E79: =SUM(E29+K29) -> 165 | F79: =SUM(F29+L29) -> 52445389 | H79: =SUM(D79+F79) -> 1.0838169e+08
B80: حمل کاری | C80: =SUM(C30+I30) -> 236 | D80: =SUM(D30+J30) -> 4.130556e+08 | E80: =SUM(E30+K30) -> 1176 | F80: =SUM(F30+L30) -> 3.8121963e+08 | H80: =SUM(D80+F80) -> 7.9427523e+08
B81: قاسمی راد | C81: =SUM(C31+I31) -> 166 | D81: =SUM(D31+J31) -> 82376505 | E81: =SUM(E31+K31) -> 473 | F81: =SUM(F31+L31) -> 81877135 | H81: =SUM(D81+F81) -> 1.6425364e+08
B82: پیمان اصغری | C82: =SUM(C32+I32) -> 52 | D82: =SUM(D32+J32) -> 1.0186386e+08 | E82: =SUM(E32+K32) -> 392 | F82: =SUM(F32+L32) -> 88599428 | H82: =SUM(D82+F82) -> 1.9046329e+08
B83: حسینی پارسا قشم | C83: =SUM(C33+I33) -> 100 | D83: =SUM(D33+J33) -> 84343211 | E83: =SUM(E33+K33) -> 538 | F83: =SUM(F33+L33) -> 83743549 | H83: =SUM(D83+F83) -> 1.6808676e+08
... B90: فونیکس | C90: =SUM(C40+I40) -> 178 | D90: =SUM(D40+J40) -> 80785576 | E90: =SUM(E40+K40) -> 290 | F90: =SUM(F40+L40) -> 80181897 | H90: =SUM(D90+F90) -> 1.6096747e+08
B91: مینا فشکی | C91: =SUM(C41+I41) -> 590 | D91: =SUM('وارده و صادره جدید ----'!D41+'وارده و صادره جدید ----'!J41) -> 7.9520288e+08 | E91: =SUM(E41+K41) -> 1533 | F91: =SUM(F41+L41) -> 7.3885559e+08 | H91: =SUM(D91+F91) -> 1.5340585e+09
B92: صفوی امیر | C92: =SUM(C42+I42) -> 5 | D92: =SUM(D42+J42) -> 12879531 | E92: =SUM(E42+K42) -> 28 | F92: =SUM(F42+L42) -> 12839817 | H92: =SUM(D92+F92) -> 25719348
B93: زیبا الهویردی زاده | C93: =SUM(C43+I43) -> 56 | D93: =SUM(D43+J43) -> 56266249 | E93: =SUM(E43+K43) -> 231 | F93: =SUM(F43+L43) -> 50544980 | H93: =SUM(D93+F93) -> 1.0681123e+08
B94: نقش بندی | C94: =SUM(C44+I44) -> 58 | D94: =SUM(D44+J44) -> 1.4701173e+08 | E94: =SUM(E44+K44) -> 552 | F94: =SUM(F44+L44) -> 1.4141568e+08 | H94: =SUM(D94+F94) -> 2.8842741e+08
B95: قلی نژاد | C95: =SUM(C45+I45) -> 46 | D95: =SUM(D45+J45) -> 1.0976263e+08 | E95: =SUM(E45+K45) -> 624 | F95: =SUM(F45+L45) -> 1.0006233e+08 | H95: =SUM(D95+F95) -> 2.0982495e+08
B96: ملک زاده | C96: =SUM(C46+I46) -> 129 | D96: =SUM(D46+J46) -> 78233272 | E96: =SUM(E46+K46) -> 247 | F96: =SUM(F46+L46) -> 52497831 | H96: =SUM(D96+F96) -> 1.307311e+08
B97: بحرالعلوم | C97: =SUM(C47+I47) -> 61 | D97: =SUM(D47+J47) -> 28586961 | E97: =SUM(E47+K47) -> 222 | F97: =SUM(F47+L47) -> 28359615 | H97: =SUM(D97+F97) -> 56946576
B98: رستم آبادی | C98: =SUM(C48+I48) -> 54 | D98: =SUM(D48+J48) -> 36073030 | E98: =SUM(E48+K48) -> 154 | F98: =SUM(F48+L48) -> 23785959 | H98: =SUM(D98+F98) -> 59858989
B99: جواد پوردارا | C99: =SUM(C49+I49) -> 6 | D99: =SUM(D49+J49) -> 7269556.7 | E99: =SUM(E49+K49) -> 38 | F99: =SUM(F49+L49) -> 5470693.2 | H99: =SUM(D99+F99) -> 12740250
B100: جواد ذاکر دانا | C100: =SUM(C50+I50) -> 20 | D100: =SUM(D50+J50) -> 39886474 | E100: =SUM(E50+K50) -> 159 | F100: =SUM(F50+L50) -> 29854160 | H100: =SUM(D100+F100) -> 69740634
B101: کامبیز نبی زاده | C101: =SUM(C51+I51) -> 31 | D101: =SUM(D51+J51) -> 1.5130936e+08 | E101: =SUM(E51+K51) -> 265 | F101: =SUM(F51+L51) -> 89331728 | H101: =SUM(D101+F101) -> 2.4064109e+08
B102: مرجان نقدی | C102: =SUM(C52+I52) -> 1 | D102: =SUM(D52+J52) -> 2365000 | E102: =SUM(E52+K52) -> 1 | F102: =SUM(F52+L52) -> 2365000 | H102: =SUM(D102+F102) -> 4730000
B103: حمید رضا یعقوبی | C103: =SUM(C53+I53) -> 3 | D103: =SUM(D53+J53) -> 10714657 | E103: =SUM(E53+K53) -> 41 | F103: =SUM(F53+L53) -> 6327759.7 | H103: =SUM(D103+F103) -> 17042416
... B106: علی کمالی | C106: =SUM(C56+I56) -> 8 | D106: =SUM(D56+J56) -> 21843934 | E106: =SUM(E56+K56) -> 60 | F106: =SUM(F56+L56) -> 18490387 | H106: =SUM(D106+F106) -> 40334321
B107: آریا تجارت صابر | C107: =I57 -> 3 | D107: =J57 -> 11254839 | E107: =K57 -> 29 | F107: =L57 -> 7677120.6 | H107: =SUM(D107+F107) -> 18931959
B108: جمع کل | C108: =SUM(C65:C107) -> 15612 | D108: =SUM(D65:D107) -> 1.7294266e+10 | E108: =SUM(E65:E107) -> 46641 | F108: =SUM(F65:F107) -> 1.6585512e+10
B110: جمع کل ورود و خروج از بدو تاسیس | D110: =SUM(D108+F108) -> 3.3879778e+10 | E110: =SUM(C108+E108) -> 62253

Sheet جدول مقایسه ای مجموع حواله ها 
B1: جدول مقایسه ای مجموع حواله های وارده و صادره
A3: ردیف | B3: کارگزار | C3: سال 1398 | E3: 1399 | G3: 1400 | I3: 1401 | K3: 1402 | M3: 1403 | O3: 1404 | Q3: 140.04.31 | S3: میزان رشد نسبت به مقطع مشابه سال قبل
C4: تعداد | D4: مبلغ به یورو | E4: تعداد | F4: مبلغ به یورو | G4: تعداد | H4: مبلغ به یورو | I4: تعداد | J4: مبلغ به یورو | K4: تعداد | L4: مبلغ به یورو | M4: تعداد | N4: مبلغ به یورو | O4: تعداد | P4: مبلغ به یورو | Q4: تعداد | R4: مبلغ به یورو
A5: 1 | B5: ملت | C5: 114 | D5: 85883398 | E5: 1087 | F5: 1.083257e+09 | G5: 985 | H5: 1.7280143e+09 | I5: 1043 | J5: 1.5774969e+09 | K5: 391 | L5: 7.944964e+08 | M5: 357 | N5: 3.1997029e+08 | O5: 701 | P5: 7.1554798e+08 | Q5: ='وارده و صادره جدید ----'!M15 -> 110 | R5: ='وارده و صادره جدید ----'!N15 -> 74842131 | S5: -74.8
A6: 2 | B6: دربانی | C6: 19 | D6: 17259637 | E6: 129 | F6: 2.0411034e+08 | G6: 1281 | H6: 1.9574402e+09 | I6: 1573 | J6: 2.0448317e+09 | K6: 1432 | L6: 1.2071068e+09 | M6: 1261 | N6: 6.6161667e+08 | O6: 2807 | P6: 1.077601e+09 | Q6: ='وارده و صادره جدید ----'!M17 -> 569 | R6: ='وارده و صادره جدید ----'!N17 -> 1.9857712e+08 | S6: -47.9
A7: 3 | B7: ابراهیمی | C7: 41 | D7: 21322578 | E7: 121 | F7: 81873854 | G7: 43 | H7: 17014606 | I7: 124 | J7: 97704616 | K7: 2519 | L7: 1.1207242e+09 | M7: 2322 | N7: 1.2373622e+09 | O7: 1688 | P7: 6.340288e+08 | Q7: ='وارده و صادره جدید ----'!M16 -> 264 | R7: ='وارده و صادره جدید ----'!N16 -> 1.1648002e+08 | S7: -60.6
A8: 4 | B8: حیدرزاده | E8: 55 | F8: 37457251 | G8: 288 | H8: 1.1953153e+08 | I8: 486 | J8: 1.3261381e+08 | K8: 518 | L8: 1.3558957e+08 | M8: 356 | N8: 50543020 | O8: 0 | P8: 0 | Q8: ='وارده و صادره جدید ----'!M19 -> 0 | R8: ='وارده و صادره جدید ----'!N19 -> 0 | S8: -100
A9: 5 | B9: مجتهدی | E9: 107 | F9: 62182312 | G9: 69 | H9: 40854485 | I9: 225 | J9: 85613673 | K9: 226 | L9: 65865449 | M9: 18 | N9: 1717568.7 | O9: 0 | P9: 0 | Q9: ='وارده و صادره جدید ----'!M18 -> 0 | R9: ='وارده و صادره جدید ----'!N18 -> 0 | S9: -100
A10: 6 | B10: گرامیان | E10: 50 | F10: 68350262 | G10: 121 | H10: 1.3457335e+08 | I10: 540 | J10: 3.3561612e+08 | K10: 618 | L10: 2.3734642e+08 | M10: 339 | N10: 1.2100925e+08 | O10: 602 | P10: 2.0267598e+08 | Q10: ='وارده و صادره جدید ----'!M20 -> 77 | R10: ='وارده و صادره جدید ----'!N20 -> 32282072 | S10: -66.4
A11: 7 | B11: جلالی | E11: 7 | F11: 5439882.7 | G11: 9 | H11: 1987773 | I11: 3 | J11: 41044.21 | K11: 153 | L11: 29701937 | M11: 28 | N11: 7967009.6 | O11: 0 | P11: 0 | Q11: ='وارده و صادره جدید ----'!M21 -> 0 | R11: ='وارده و صادره جدید ----'!N21 -> 0 | S11: -100
A12: 8 | B12: مومنین | G12: 8 | H12: 28184083 | I12: 342 | J12: 5.0769347e+08 | K12: 539 | L12: 2.7370706e+08 | M12: 226 | N12: 3.2377234e+08 | O12: 444 | P12: 2.1471285e+08 | Q12: ='وارده و صادره جدید ----'!M22 -> 97 | R12: ='وارده و صادره جدید ----'!N22 -> 51282106 | S12: -36.1
A13: 9 | B13: مولاوردی | H13: 0 | I13: 187 | J13: 64603341 | K13: 102 | L13: 61811325 | M13: 85 | N13: 24836910 | O13: 135 | P13: 45630002 | Q13: ='وارده و صادره جدید ----'!M23 -> 39 | R13: ='وارده و صادره جدید ----'!N23 -> 9689247.3 | S13: -42.2
A14: 10 | B14: مثنایی | I14: 868 | J14: 8.3200229e+08 | K14: 2293 | L14: 1.0148144e+09 | M14: 2590 | N14: 1.1238545e+09 | O14: 2628 | P14: 1.0792262e+09 | Q14: ='وارده و صادره جدید ----'!M24 -> 486 | R14: ='وارده و صادره جدید ----'!N24 -> 2.843909e+08 | S14: -37.4
A15: 11 | B15: ادریس محمدی | I15: 225 | J15: 2.1422506e+08 | K15: 783 | L15: 2.5035738e+08 | M15: 653 | N15: 3.2968899e+08 | O15: 683 | P15: 2.2494508e+08 | Q15: ='وارده و صادره جدید ----'!M25 -> 199 | R15: ='وارده و صادره جدید ----'!N25 -> 1.9442752e+08 | S15: 133.1
A16: 12 | B16: بهنام صفروند | I16: 107 | J16: 50507265 | K16: 136 | L16: 2.1455425e+08 | M16: 18 | N16: 19999471 | O16: 28 | P16: 2022749.4 | Q16: ='وارده و صادره جدید ----'!M26 -> 0 | R16: ='وارده و صادره جدید ----'!N26 -> 0 | S16: -100
A17: 13 | B17: ابطحی | I17: 4 | J17: 15479562 | K17: 119 | L17: 39333023 | M17: 144 | N17: 36257476 | O17: 772 | P17: 1.5491268e+08 | Q17: ='وارده و صادره جدید ----'!M27 -> 102 | R17: ='وارده و صادره جدید ----'!N27 -> 47623373 | S17: 37.3
A18: 14 | B18: اتروپارس | I18: 11 | J18: 30140148 | K18: 8 | L18: 4529288.9 | M18: 6 | N18: 5563288.5 | O18: 0 | P18: 0 | Q18: ='وارده و صادره جدید ----'!M28 -> 0 | R18: ='وارده و صادره جدید ----'!N28 -> 0 | S18: -100
A19: 15 | B19: لواسانی | I19: 28 | J19: 25906616 | K19: 50 | L19: 37742511 | M19: 67 | N19: 34208047 | O19: 56 | P19: 10479747 | Q19: ='وارده و صادره جدید ----'!M29 -> 3 | R19: ='وارده و صادره جدید ----'!N29 -> 44769.67 | S19: -99.4
A20: 16 | B20: حمل کاری | I20: 378 | J20: 3.9115419e+08 | K20: 799 | L20: 3.9664772e+08 | M20: 26 | N20: 6473321.8 | O20: 0 | P20: 0 | Q20: ='وارده و صادره جدید ----'!M30 -> 0 | R20: ='وارده و صادره جدید ----'!N30 -> 0 | S20: -100
A21: 17 | B21: قاسمی راد | I21: 197 | J21: 55692507 | K21: 143 | L21: 47982844 | M21: 144 | N21: 32641859 | O21: 114 | P21: 24467849 | Q21: ='وارده و صادره جدید ----'!M31 -> 9 | R21: ='وارده و صادره جدید ----'!N31 -> 3464503.9 | S21: -76.9
A22: 18 | B22: پیمان اصغری | I22: 42 | J22: 41994688 | K22: 25 | L22: 10295645 | O22: 165 | P22: 42474093 | Q22: ='وارده و صادره جدید ----'!M32 -> 164 | R22: ='وارده و صادره جدید ----'!N32 -> 95698861 | S22: 100
A23: 19 | B23: حسینی پارسا قشم | I23: 160 | J23: 44061241 | K23: 294 | L23: 82788122 | M23: 112 | N23: 41237396 | O23: 0 | P23: 0 | Q23: ='وارده و صادره جدید ----'!M33 -> 0 | R23: ='وارده و صادره جدید ----'!N33 -> 0 | S23: -100
A24: 20 | B24: محمودی | I24: 22 | J24: 8539217.5 | K24: 13 | L24: 1386256.1 | O24: 0 | P24: 0 | Q24: ='وارده و صادره جدید ----'!M34 -> 0 | R24: ='وارده و صادره جدید ----'!N34 -> 0 | S24: -100
A25: 21 | B25: حسین آقایاری | I25: 81 | J25: 126186199 | K25: 301 | L25: 2.3976098e+08 | M25: 546 | N25: 2.7351075e+08 | O25: 9 | P25: 1689293.2 | Q25: ='وارده و صادره جدید ----'!M35 -> 0 | R25: ='وارده و صادره جدید ----'!N35 -> 0 | S25: -100
A26: 22 | B26: نجف زاده | I26: 215 | J26: 89275789 | K26: 756 | L26: 2.3924048e+08 | M26: 304 | N26: 1.6393304e+08 | O26: 290 | P26: 1.0939998e+08 | Q26: ='وارده و صادره جدید ----'!M36 -> 45 | R26: ='وارده و صادره جدید ----'!N36 -> 42464788 | S26: -15.5
A27: 23 | B27: انصاری | I27: 25 | J27: 11003017 | K27: 633 | L27: 1.2451655e+08 | M27: 7 | N27: 746797.41 | O27: 0 | P27: 0 | Q27: ='وارده و صادره جدید ----'!M37 -> 0 | R27: ='وارده و صادره جدید ----'!N37 -> 0 | S27: -100
A28: 24 | B28: حمید رضا تقوی | I28: 9 | J28: 3268798.2 | K28: 913 | L28: 3.1316083e+08 | M28: 854 | N28: 3.6481111e+08 | O28: 1016 | P28: 4.3705285e+08 | Q28: ='وارده و صادره جدید ----'!M38 -> 235 | R28: ='وارده و صادره جدید ----'!N38 -> 86159658 | S28: -39.9
A29: 25 | B29: معنوی | K29: 69 | L29: 24882948 | M29: 54 | N29: 21746970 | O29: 6 | P29: 522998.24 | Q29: ='وارده و صادره جدید ----'!M39 -> 8 | R29: ='وارده و صادره جدید ----'!N39 -> 396710.75 | S29: -24.1
A30: 26 | B30: فونیکس | K30: 19 | L30: 5397792.1 | M30: 449 | N30: 1.5556763e+08 | O30: 0 | P30: 0 | Q30: ='وارده و صادره جدید ----'!M40 -> 0 | R30: ='وارده و صادره جدید ----'!N40 -> 0 | S30: -100
A31: 27 | B31: مینا فشکی | K31: 23 | L31: 46195555 | M31: 661 | N31: 4.6594238e+08 | O31: 1268 | P31: 8.9015178e+08 | Q31: ='وارده و صادره جدید ----'!M41 -> 171 | R31: ='وارده و صادره جدید ----'!N41 -> 1.3176826e+08 | S31: -55.7
A32: 28 | B32: صفوی امیر | M32: 29 | N32: 20838518 | O32: 4 | P32: 4880829.8 | Q32: ='وارده و صادره جدید ----'!M42 -> 0 | R32: ='وارده و صادره جدید ----'!N42 -> 0 | S32: -100
A33: 29 | B33: زیبا الهویردی زاده | M33: 79 | N33: 42129101 | O33: 181 | P33: 48505023 | Q33: ='وارده و صادره جدید ----'!M43 -> 27 | R33: ='وارده و صادره جدید ----'!N43 -> 16177105 | S33: 2.5
A34: 30 | B34: نقش بندی | M34: 185 | N34: 1.3969788e+08 | O34: 414 | P34: 1.4623198e+08 | Q34: ='وارده و صادره جدید ----'!M44 -> 11 | R34: ='وارده و صادره جدید ----'!N44 -> 2497547.4 | S34: -95.8
A35: 31 | B35: قلی نژاد | M35: 97 | N35: 36066383 | O35: 549 | P35: 1.4522885e+08 | Q35: ='وارده و صادره جدید ----'!M45 -> 24 | R35: ='وارده و صادره جدید ----'!N45 -> 28528553 | S35: 34.5
A36: 32 | B36: ملک زاده | M36: 5 | N36: 4569508.8 | O36: 203 | P36: 71810896 | Q36: ='وارده و صادره جدید ----'!M46 -> 168 | R36: ='وارده و صادره جدید ----'!N46 -> 54350697 | S36: 18
A37: 33 | B37: بحرالعلوم | M37: 40 | N37: 10046588 | O37: 214 | P37: 39558586 | Q37: ='وارده و صادره جدید ----'!M47 -> 29 | R37: ='وارده و صادره جدید ----'!N47 -> 7341401.3 | S37: -57.7
A38: 34 | B38: رستم آبادی | O38: 153 | P38: 40108865 | Q38: ='وارده و صادره جدید ----'!M48 -> 55 | R38: ='وارده و صادره جدید ----'!N48 -> 19750124 | S38: 67.4
A39: 35 | B39: جواد پوردارا | O39: 44 | P39: 12740250 | Q39: ='وارده و صادره جدید ----'!M49 -> 0 | R39: ='وارده و صادره جدید ----'!N49 -> 0
A40: 36 | B40: جواد ذاکر دانا | O40: 174 | P40: 69615696 | Q40: ='وارده و صادره جدید ----'!M50 -> 5 | R40: ='وارده و صادره جدید ----'!N50 -> 113345.65 | S40: 100
A41: 37 | B41: کامبیز نبی زاده | O41: 225 | P41: 1.0870031e+08 | Q41: ='وارده و صادره جدید ----'!M51 -> 71 | R41: ='وارده و صادره جدید ----'!N51 -> 1.3194078e+08 | S41: 100
A42: 38 | B42: مرجان نقدی | O42: 2 | P42: 4730000 | Q42: ='وارده و صادره جدید ----'!M52 -> 0 | R42: ='وارده و صادره جدید ----'!N52 -> 0
A43: 39 | B43: حمید رضا یعقوبی | O43: 43 | P43: 16924361 | Q43: ='وارده و صادره جدید ----'!M53 -> 1 | R43: ='وارده و صادره جدید ----'!N53 -> 118055.51 | S43: 100
A44: 40 | B44: ربیعی منفرد | O44: 2 | P44: 3581272.3 | Q44: ='وارده و صادره جدید ----'!M54 -> 69 | R44: ='وارده و صادره جدید ----'!N54 -> 27806845 | S44: 100
A45: 41 | B45: محمد طالع | Q45: ='وارده و صادره جدید ----'!M55 -> 0 | R45: ='وارده و صادره جدید ----'!N55 -> 0
A46: 42 | B46: علی کمالی | Q46: ='وارده و صادره جدید ----'!M56 -> 68 | R46: ='وارده و صادره جدید ----'!N56 -> 40334321 | S46: 100
A47: 43 | B47: آریا تجارت صابر | Q47: =SUM('وارده و صادره جدید ----'!I57+'وارده و صادره جدید ----'!K57) -> 32 | R47: =SUM('وارده و صادره جدید ----'!J57+'وارده و صادره جدید ----'!L57) -> 18931959 | S47: 100
B48: جمع کل | C48: =SUM(C5:C31) -> 174 | D48: =SUM(D5:D46) -> 1.2446561e+08 | E48: =SUM(E5:E11) -> 1556 | F48: =SUM(F5:F14) -> 1.5426709e+09 | G48: =SUM(G5:G31) -> 2804 | H48: =SUM(H5:H14) -> 4.0276003e+09 | I48: =SUM(I5:I31) -> 6895 | J48: =SUM(J5:J28) -> 6.7856512e+09 | K48: =SUM(K5:K31) -> 13875 | L48: =SUM(L5:L31) -> 7.0199358e+09 | M48: =SUM(M5:M37) -> 12062 | N48: =SUM(N5:N37) -> 6.0783263e+09 | O48: =SUM(O5:O44) -> 15620 | P48: =SUM(P5:P44) -> 6.5801588e+09 | Q48: =SUM(Q5:Q47) -> 3138 | R48: =SUM(R5:R47) -> 1.7174828e+09 | S48: -29.4
B50: جمع کل عملیات ورود و خروج ارز از بدو تاسیس | E50: ='وارده و صادره جدید ----'!D110 -> 3.3879778e+10 | G50: تعداد کل | H50: ='وارده و صادره جدید ----'!E110 -> 62253

Sheet مانده مشتریان 
A1: مانده مشتریان تا پایان 1405/04/31
A2: ردیف | B2: نام مشتری / نوع ارز | C2: درهم | D2: دلار | E2: یوان | F2: یورو | G2: معادل یورو در مجموع
A3: 1 | B3: نفت ستاره خليج فارس | C3: 2507.62 | D3: 20213157 | F3: 76654.15 | G3: 17630353
A4: 2 | B4: نفت ايرانول | C4: 34356361 | D4: 6133933.2 | F4: 35025 | G4: 13487012
A5: 3 | B5: ملي نفت ايران | C5: 0 | D5: 36728.27 | F5: 0 | G5: 31894.83
A6: 4 | B6: معدني و صنعتي چادرملو | C6: 22410 | G6: 5299.965
A7: 5 | B7: متانول كاوه | D7: 28474 | F7: 6175.35 | G7: 30902.172
A8: 6 | B8: فولاد مباركه اصفهان | C8: 25143087 | D8: 10119390 | E8: 0 | F8: 12238.82 | G8: 14746257
A9: 7 | B9: فراورده هاي قيري هرمز پاسارگاد | C9: 0 | D9: 100 | F9: 0 | G9: 86.84
A10: 8 | B10: شركت هوايار گاز بين الملل | C10: 250.18 | G10: 59.16757
A11: 9 | B11: شركت ويوا پترو آسيا | D11: 1567.37 | G11: 1361.1041
A12: 10 | B12: شركت ويستا پليمر مهر | D12: 339.55 | G12: 294.86522
A13: 11 | B13: شركت نيرو كلر | C13: 260.1 | D13: 2984523 | F13: 0 | G13: 2591821.3
A14: 12 | B14: شركت نوين زعفران | C14: 2644.56 | D14: 0.09 | F14: 438843.01 | G14: 439468.53
A15: 13 | B15: شركت نوين پژوهان شمس زنگان | D15: 149250 | G15: 129608.7
A16: 14 | B16: شركت نفت سپاهان | C16: 8505.69 | D16: 96713.55 | F16: 0 | G16: 85997.643
A17: 15 | B17: شركت نفت پاسارگاد | C17: 16350 | D17: 10939191 | G17: 9503460.2
A18: 16 | B18: شركت نفت پارس | C18: 1000.41 | D18: 1908272.8 | F18: 2766.37 | G18: 1660147
A19: 17 | B19: شركت نفت بهران | C19: 140477.83 | D19: 336685.32 | F19: 53067.46 | G19: 378668
A20: 18 | B20: شركت مهندسي و ساختمان صنايع نفت | C20: 0 | D20: 5038.48 | F20: 1618605.9 | G20: 1622981.3
A21: 19 | B21: شركت مهندسي و ساختمان تيو انرژي | C21: 0 | D21: 251997.5 | E21: 0 | F21: 36993.31 | G21: 255827.94
A22: 20 | B22: شركت مهندسي نورهان تدبير توس | F22: 0.71 | G22: 0.71
A23: 21 | B23: شركت ملي صنايع مس ايران | C23: 0 | D23: 104936.34 | E23: 0 | F23: 845.29 | G23: 91972.008
A24: 22 | B24: شركت ملي پخش فرآورده هاي نفتي ايران | C24: 0.9 | D24: 1291581.6 | F24: 0 | G24: 1121609.7
A25: 23 | B25: شركت ملي پالايش و پخش فرآورده هاي نفتي ايران | C25: 209993.41 | F25: 9164.63 | G25: 58828.071
A26: 24 | B26: شركت معدني و صنايع معدني ارزش آفرين | C26: 574.77 | D26: 17077.5 | G26: 14966.034
A27: 25 | B27: شركت معدني املاح ايران | C27: 250.41 | D27: 204377.5 | F27: 8145 | G27: 185685.64
A28: 26 | B28: شركت مجتمع صنايع آلومينيوم جنوب | C28: 0 | D28: 885280.48 | E28: 0 | F28: 0 | G28: 768777.57
A29: 27 | B29: شركت مجتمع شيميايي آبنوس | D29: 0 | F29: 2356.33 | G29: 2356.33
A30: 28 | B30: شركت گيتي نگاره نيلگون | C30: 298 | G30: 70.477
A31: 29 | B31: شركت گسترش صنايع معادن و ذوب فلزات رنگين مركزي | D31: 49451.5 | G31: 42943.683
A32: 30 | B32: شركت گروه توليدي و بازرگاني آسه تجارت آسيا | C32: 250 | D32: 1126776.2 | G32: 978551.59
A33: 31 | B33: شركت گرد روي پارس | C33: 11172.28 | F33: 8042.6 | G33: 10684.844
A34: 32 | B34: شركت كيميا رزين اراك | D34: 92.5 | G34: 80.327
A35: 33 | B35: شركت كيان پرشيا | D35: 4975 | G35: 4320.29
A36: 34 | B36: شركت كشتيراني درياي خزر | C36: 73836.74 | D36: 2941830.9 | F36: 0 | G36: 2572148.3
A37: 35 | B37: شركت كشت و صنعت تخته فشرده پاك چوب | D37: 1492500 | G37: 1296087
A38: 36 | B38: شركت كابين كاران سينافر | D38: 1100 | G38: 955.24
A39: 37 | B39: شركت فولاد غدير ني ريز | C39: 874.62 | D39: 565478.26 | G39: 491268.17
A40: 38 | B40: شركت فولاد سهند آذر آسيا | D40: 20264.56 | G40: 17597.744
A41: 39 | B41: شركت فولاد بافق | D41: 995000 | G41: 864058
A42: 40 | B42: شركت فولاد آلياژي ايران | C42: 4000571 | D42: 416300 | G42: 1307650
A43: 41 | B43: شركت فنر سازي زر | D43: 117990 | G43: 102462.52
A44: 42 | B44: شركت فرآوري مواد مواد معدني كاني پروران زنگان | D44: 16361.53 | G44: 14208.353
A45: 43 | B45: شركت فرآوري مس درخشان تخت گنبد | D45: 63289.32 | G45: 54960.445
A46: 44 | B46: شركت غلتك سازان سپاهان | D46: 1420768 | G46: 1233794.9
A47: 45 | B47: شركت طلايه داران مس جيرفت | C47: 250 | D47: 0 | G47: 59.125
A48: 46 | B48: شركت طلاي ناب كوروش | C48: 250 | G48: 59.125
A49: 47 | B49: شركت طراحي و مهندسي صنايع انرژي | C49: 0 | D49: 0 | F49: 100 | G49: 100
A50: 48 | B50: شركت صنعتي زكريا شيمي البرز | C50: 302.68 | G50: 71.58382
A51: 49 | B51: شركت صنايع مس شهيد باهنر | C51: 0 | D51: 28846.51 | F51: 0 | G51: 25050.309
A52: 50 | B52: شركت صنايع سيمان شهر كرد | C52: 0 | D52: 1359434.5 | G52: 1180532.9
A53: 51 | B53: شركت صنايع سيمان دشتستان | C53: 251 | D53: 1846123.9 | G53: 1603233.3
A54: 52 | B54: شركت صنايع توليدي نورد گرم فلز | C54: 250.19 | D54: 0 | G54: 59.169935
A55: 53 | B55: شركت صنايع پتروشيمي كرمانشاه | C55: 0 | D55: 2615403.4 | G55: 2271216.3
A56: 54 | B56: شركت صنايع بهداشتي پايدار | D56: 750 | G56: 651.3
A57: 55 | B57: شركت صنايع آلياژ تيس منطقه آزاد چابهار | C57: 259.4 | D57: 43413.88 | G57: 37761.961
A58: 56 | B58: شركت صبا نور ايرانيان | D58: 100 | F58: 110.43 | G58: 197.27
A59: 57 | B59: شركت شمش سازان زنجان | D59: 601.98 | G59: 522.75943
A60: 58 | B60: شركت سيمان مند دشتي | C60: 668240 | D60: 2711023.4 | G60: 2512291.5
A61: 59 | B61: شركت سيمان كردستان | C61: 270.71 | D61: 99928.04 | G61: 86841.533
A62: 60 | B62: شركت سيمان سفيد شرق | C62: 302.17 | D62: 1270.08 | G62: 1174.4007
A63: 61 | B63: شركت سيم راد سما | D63: 49750 | G63: 43202.9
A64: 62 | B64: شركت سفيران درياي فردا | C64: 330471.88 | D64: 611175.54 | G64: 608901.44
A65: 63 | B65: شركت سفيران پيام دريا | C65: 250 | D65: 0 | G65: 59.125
A66: 64 | B66: شركت سانيار موتور پارسيان | D66: 16.81 | G66: 14.597804
A67: 65 | B67: شركت سامان پويش تامين | D67: 394.58 | G67: 342.65327
A68: 66 | B68: شركت سالم تجارت آسيا | C68: 250.29 | D68: 740.35 | G68: 702.11352
A69: 67 | B69: شركت سازه هاي خودرو ديار | C69: 359.25 | D69: 33917.57 | G69: 29538.98
A70: 68 | B70: شركت ساختماني و نصب توربو كمپرسور نفت | C70: 250 | D70: 545.45 | G70: 532.79378
A71: 69 | B71: شركت ساتيار خودرو آسيا | F71: 17443 | G71: 17443
A72: 70 | B72: شركت روئين طلاي زنجان | D72: 31529.23 | G72: 27379.983
A73: 71 | B73: شركت رنگين طيف شيمي | D73: 47.82 | G73: 41.526888
A74: 72 | B74: شركت راهبرد توسعه پتروسازان كارا | C74: 250 | D74: 214673.91 | F74: 746149.5 | G74: 932631.45
A75: 73 | B75: شركت راهبر ترابر انرژي | C75: 2397999 | D75: 1363636.5 | G75: 1751308.7
A76: 74 | B76: شركت ذوب آهن اطلس تجارت سهند | D76: 1000 | G76: 868.4
A77: 75 | B77: شركت دروازه طلايي تجارت فردا | C77: 250 | G77: 59.125
A78: 76 | B78: شركت در و گهر آويژه | D78: 999975 | G78: 868378.29
A79: 77 | B79: شركت داروسازي كاسپين تامين | D79: 2193.46 | G79: 1904.8007
A80: 78 | B80: شركت داروسازي اكسير | C80: 0 | D80: 72.52 | G80: 62.976368
A81: 79 | B81: شركت حفاري استوان كيش | D81: 772799.26 | G81: 671098.88
A82: 80 | B82: شركت چاپار شيمي زاگرس | C82: 250.95 | G82: 59.349675
A83: 81 | B83: شركت تهويه | E83: 0 | F83: 104.3 | G83: 104.3
A84: 82 | B84: شركت توليدي لوله و پروفيل كيهان | D84: 100 | G84: 86.84
A85: 83 | B85: شركت توليدي صنعت قير پارسيان انرژي | C85: 4000 | G85: 946
A86: 84 | B86: شركت توليدي روي پرور زنجان | D86: 4975 | G86: 4320.29
A87: 85 | B87: شركت توليدي بازرگاني و عمراني زنوبر ايرانيان | C87: 798.46 | G87: 188.83579
A88: 86 | B88: شركت توسعه نفت و گاز مپنا | D88: 7911226.1 | G88: 6870108.7
A89: 87 | B89: شركت تلاشگران مواد معدني كيميا صنعت ايرانيان | C89: 250 | D89: 0 | G89: 59.125
A90: 88 | B90: شركت تكنولوژي تكميل چاه كيش | D90: 1488184.8 | G90: 1292339.7
A91: 89 | B91: شركت تعاوني پارسيان گستر منشور شيراز | C91: 500 | G91: 118.25
A92: 90 | B92: شركت ترانس و تجهيزات سپهر | F92: 1339.39 | G92: 1339.39
A93: 91 | B93: شركت تجهيزات توربو كمپرسور نفت | C93: 0 | D93: 0 | F93: 11832.95 | G93: 11832.95
A94: 92 | B94: شركت تبديل نيرو سانا | C94: 4500 | G94: 1064.25
A95: 93 | B95: شركت پيشگامان معماري آريا | D95: 7157.15 | G95: 6215.2691
A96: 94 | B96: شركت پيشداد فولاد ارس | C96: 520 | G96: 122.98
A97: 95 | B97: شركت پيام بار دليجان | D97: 10150 | G97: 8814.26
A98: 96 | B98: شركت پرگاس شيمي لرستان | C98: 250 | G98: 59.125
A99: 97 | B99: شركت پديده شيمي جم | D99: 394.75 | G99: 342.8009
A100: 98 | B100: شركت پتروشيمي مارون | C100: 373.92 | D100: 190890.16 | F100: 387.27 | G100: 166244.72
...

Sheet کارمزد عملیات
A1: سهم کارمزد شرکت راهبر نزد کارگزاران تا پایان 1405/04/31
A2: ردیف | B2: نام کارگزار / نوع ارز | C2: درهم امارات | D2: دلار | E2: يوان | F2: يورو
A3: 1 | B3: تضامني سهيل و سروش نجف زاده | C3: 30687.53 | D3: 33322.71 | E3: 0 | F3: 13.36
A4: 2 | B4: تضامني سيد محمد حسن ابطحي و شركا | C4: 4548.77 | D4: 128848.31 | F4: 400
A5: 3 | B5: حميد رضا تقوي | C5: 140384.63 | D5: 39402.63 | E5: 57859.19 | F5: 0
A6: 4 | B6: شركت تضامني ابراهيمي و شركا | C6: 51367.27 | D6: 253269.87 | E6: 293325.09 | F6: 50908.36
A7: 5 | B7: شركت تضامني آريا تجارت صابر و شريك | D7: 41548.08
A8: 6 | B8: شركت تضامني داود مولاوردي زاده و شركا | C8: 11683.3 | D8: 22395.78 | F8: 3529.63
A9: 7 | B9: شركت تضامني سيد محمد مثنايي نجيبي و شركا | C9: 398448.96 | D9: 448165.13 | E9: 447443.11 | F9: 15635
A10: 8 | B10: شركت تضامني صرافي ادريس محمدي و شركا | C10: 359551.07 | D10: 386890.76 | E10: 0 | F10: 2922.56
A11: 9 | B11: شركت تضامني صرافي افسانه بحرالعلوم و شركا | C11: 28785.8 | D11: 4611.2
A12: 10 | B12: شركت تضامني صرافي پيمان اصغري و شركا | C12: 15162.18 | D12: 164428.8
A13: 11 | B13: شركت تضامني صرافي جواد ذاكري دانا و شركا | C13: 0 | D13: 568.79 | F13: 0
A14: 12 | B14: شركت تضامني صرافي حميد رضا يعقوبي و شركا | C14: 25000.66 | D14: 1461.91
A15: 13 | B15: شركت تضامني صرافي زيبا الهويردي زاده و شركا | D15: 76298.44 | F15: 3000
A16: 14 | B16: شركت تضامني صرافي سعيد ربيعي منفرد و شركا | C16: 45035.78 | D16: 27246.99
A17: 15 | B17: شركت تضامني صرافي علي كمالي و شركا | D17: 94786.78
A18: 16 | B18: شركت تضامني صرافي قلي نژاد واجارگاه وشركا | C18: 0 | D18: 54109.66 | F18: 231.07
A19: 17 | B19: شركت تضامني صرافي كامبيز نبي زاده و شركا | C19: 41833.53 | D19: 59581.37 | F19: 0
A20: 18 | B20: شركت تضامني صرافي لواساني و شركا | C20: 0 | D20: 52.44 | E20: 0 | F20: 440.35
A21: 19 | B21: شركت تضامني صرافي مهدي ملك زاده و شركا | C21: 47804.56 | D21: 160180.65 | F21: 5973.83
A22: 20 | B22: شركت تضامني صرافي مينا فشكي و شركا | C22: 298479.2 | D22: 249620.32 | E22: 155305.95 | F22: 1640.01
A23: 21 | B23: شركت تضامني صرافي ياسر نقشبندي و شركا | C23: 30 | D23: 0
A24: 22 | B24: شركت تضامني محمد درباني و شركاء | C24: 638739.48 | D24: 237465.4 | E24: 0 | F24: 27294.54
A25: 23 | B25: شركت تضامني محمد هادي مومنين و شركا | C25: 16508.64 | D25: 68096.64 | E25: 0 | F25: 0
A26: 24 | B26: شركت تضامني مهدي رستم آبادي و شركا | C26: 88089.56 | D26: 9994.21
A27: 25 | B27: شركت تضامني مهرداد گراميان نيك و شركا | C27: 3519.26 | D27: 140491.89 | F27: 5398.06
A28: 26 | B28: شركت صرافي ملت | C28: 210539.16 | D28: 257539.29 | E28: 0 | F28: 1745.5
A29: 27 | B29: كيوان معنوي طهراني | C29: 9231.8 | D29: 0 | F29: 0
A30: مجموع کل | C30: =SUM(C3:C29) -> 2465431.1 | D30: =SUM(D3:D28) -> 2960378 | E30: =SUM(E3:E28) -> 953933.34 | F30: =SUM(F3:F28) -> 119132.27 | G30: معادل یورو مجموع کارمزد
A32: معادل یورو | C32: =C30*0.2365 -> 583074.46 | D32: =D30*0.8684 -> 2570792.3 | E32: =E30*0.1263 -> 120481.78 | F32: =F30 -> 119132.27 | G32: =SUM(C32:F32) -> 3393480.8

Sheet کارمزد نزد صرافی ملت 
B1: کارمزد تا پایان 1405/01/31
B2: کارگزار | C2: تاریخ | D2: توضیحات | E2: کارمزد درهم | F2: کارمزد یورو | G2: کارمزد دلار | H2: یوان
B3: صرافی ملت | C3: 1402-10-04 | D3: سهم شرکت بابت کارمزد کارسازی حواله ملت | E3: 9771 | F3: 0 | G3: 0 | H3: 0
C4: 1402-10-11 | D4: 20%سهم سه ماهه سوم سال 1402 | E4: 1310.06 | F4: 3.49 | G4: 2198.46
C5: 1402-10-12 | D5: سهم شرکت بابت کارمزد کارسازی حواله ملت 94521 | E5: 26960.63
C6: 1402-10-20 | D6: سهم شرکت بابت کارمزد کارسازی حواله | E6: 4097
C7: 1402-10-26 | D7: سهم شرکت بابت کارمزد کارسازی حواله | E7: 1938
C8: 1402-11-01 | D8: سهم شرکت بابت کارمزد 98284 | G8: 68230.78
C9: 1402-11-07 | D9: سهم شرکت بابت کارمزد 98093 | G9: 30553.27
C10: 1402-11-08 | D10: سهم شرکت بابت کارمزد 99269 | G10: 5038.02
C11: 1402-11-18 | D11: سهم شرکت بابت کارمزد 99786 | G11: 23310.37
C12: 1402-11-23 | D12: سهم شرکت بابت کارمزد 100089 | G12: 59149.06
C13: 1402-11-29 | D13: سهم شرکت بابت کارمزد 101038 | E13: 68439
C14: 1402-12-01 | D14: سهم شرکت بابت کارمزد 101555 | E14: 245284.45
C15: 1402-12-08 | D15: سهم شرکت بابت کارمزد 102606 | E15: 11060
C16: 1402-12-08 | D16: برگشت از کارمزد بابت شارژ تنخواه فونیکس | E16: -300000
C17: 1402-12-15 | D17: سهم شرکت بابت کارمزد 103569 | E17: 81104.88
C18: 1402-12-17 | D18: سهم شرکت بابت کارمزد 10414 | G18: 16000
C19: 1402-12-22 | D19: سهم شرکت بابت کارمزد 104872 | E19: 52103.77
C20: 1402-12-27 | D20: سهم شرکت بابت کارمزد 105562 | E20: 28000
C21: 1402-12-27 | D21: سهم شرکت بابت کارمزد 105676 | E21: 31017.38
C22: 1402-12-27 | D22: سهم شرکت بابت کارمزد 105453 | E22: 35000
C23: 1402-12-27 | D23: سهم شرکت بابت کارمزد 105908 | E23: 35000
C24: 1403/01/15 | D24: سهم شرکت بابت کارمزد 107870 | E24: 20050.23
C25: 1403/01/15 | D25: سهم شرکت بابت کارمزد 108067 | G25: 1350.28
C26: 1403/01/28 | D26: سهم کارمزد سه ماهه چهارم 108256 | G26: 7253.41
C27: 1403/02/02 | D27: سهم کارمزد بابت 109206 | G27: 11076.02
C28: 1403/02/02 | D28: سهم کارمزد بابت 109432 | G28: 17228
C29: 1403/02/01 | D29: سهم کارمزد بابت خرید تجارت 109843 | G29: 12000
C30: 1403/02/17 | D30: سهم کارمزد 8فقره 110897 | G30: 11955.8
C31: 1403/02/16 | D31: سهم کارمزد 110831 | G31: 345.6
C32: 1403/02/24 | D32: سهم کارمزد 15 فقره 111025 | G32: 19711.77
C33: 1403/02/30 | D33: سهم کارمزد 5فقره 112295 | G33: 12119.96
C34: 1403/02/31 | D34: سهم کارمزد 112657 | G34: 9929.73
C35: 1403/03/06 | D35: سهم کارمزد 113406 | G35: 9066.3
C36: 1403-03-08 | D36: تبدیل به یورو و انتقال به مرکزی 112915 | E36: -351136.4 | F36: -3.49 | G36: -297520.8
C37: 1403.03.09 | D37: کارمزد 113872 | G37: 15841.04
C38: 1403.03.09 | D38: کارمزد 114351 | G38: 12597.74
C39: 1403.03.17 | D39: کارمزد 115066 | G39: 6771.98
C40: 1403.03.17 | D40: کارمزد خرید بیستون 115105 | E40: 15856.43
C41: 1403.03.20 | D41: کارمزد خرید بیستون 115475 | E41: 4485.39
C42: 1403/03/20 | D42: سهم کارمزد 115335 | G42: 23805.14
C43: 1403.03.20 | D43: سهم کارمزد 115754 | G43: 17074.41
C44: 1403.03.24 | D44: سهم کارمزد 116074 | G44: 14545.1
C45: 1403.03.27 | D45: سهم کارمزد 116212 | G45: 1716.61
C46: 1403.03.27 | D46: سهم کارمزد 116339 | G46: 4501.08
C47: 1403.03.29 | D47: سهم کارمزد 116459 | G47: 13478.71
C48: 1403.04.04 | D48: سهم کارمزد 116740 | G48: 9932.18
C49: 1403.04.04 | D49: سهم کارمزد 117017 | G49: 21758.45
C50: 1403.04.11 | D50: سهم کارمزد 117715 | G50: 31684.74
C51: 1403.04.13 | D51: سهم 20درصد سه ماهه اول 117030 | G51: 9443.58
C52: 1403.04.13 | D52: کارمزد خرید تجارت صنعت 117414 | G52: 50000
C53: 1403.04.13 | D53: سهم کارمزد 117942 | G53: 5936.13
... C63: 1403.05.23 | D63: سهم کارمزد 123326 | G63: 1482.45
C64: 1403.05.20 | D64: کارمزد خرید تجارت صنعت 123210 | E64: 30000
C65: 1403.05.28 | D65: کارمزد خرید تجارت صنعت 123210 | G65: 15000
C66: 1403.06.08 | D66: کارمزد 38404 | G66: 71.75
C67: 1403.06.26 | D67: کارمزد خرید پتروشیمی لاله 75412 | G67: 3803.58
C68: 1403.07.03 | D68: خرید تجارت صنعت 124012 | G68: 5000
C69: 1403.07.07 | D69: انتقال 20 درصد سهم سه ماهه دوم 1403 نامه 119399 | G69: 2583.72
C70: 1403.07.07 | D70: کارمزد 129622 | G70: 69.22
C71: 1403.07.03 | D71: خرید تجارت صنعت 129216 | G71: 25000
C72: 1403.07.10 | D72: تبدیل به یورو و انتقال به شعبه مرکزی 72 | E72: -50341.82 | G72: -397665.07
C73: 1403.07.16 | D73: کارمزد خرید تجارت صنعت 130636 | G73: 10000
C74: 1403.07.19 | D74: انتقال کارمزد 3858 | G74: 1555.44
C75: 1403.08.30 | D75: کارمزد خرید کنگان 5550 | G75: 112756.26
C76: 1403.10.08 | D76: کارمزد سه ماهه سوم 1403 شناسه 9411 | G76: 2786.05
C77: 1403.10.24 | D77: کارمزد 11441 | G77: 12942.85
C78: 1403.10.27 | D78: انتقال کارمزد 11448 | G78: 11896.63
C79: 1403.10.29 | D79: انتقال کارمزد 19303 | G79: 1000.04
C80: 1403.10.29 | D80: انتقال کارمزد 11922 | G80: 791.44
C81: 1403.11.01 | D81: انتقال کارمزد 11952 | G81: 0.33
C82: 1404.01.21 | D82: انتقال کارمزد 15085 | G82: 38074.36
C83: 1404.01.19 | D83: انتقال 20 درصد سهم سه ماهه چهارم1403 نامه 16425 | E83: 54.01 | G83: 11556.96
C84: 1404.01.30 | D84: انتقال کارمزد 29408 | G84: 52450.82
C85: 1404.02.03 | D85: انتقال کارمزد 135313 | G85: 5627.78
C86: 1404.02.03 | D86: انتقال کارمزد 137807 | G86: 7676.13
C87: 1404.02.06 | D87: انتقال کارمزد 154271 | G87: 8476.39
C88: 1404.02.16 | D88: انتقال کارمزد 17764 | G88: 59086.53
C89: 1404.02.17 | D89: انتقال کارمزد 31802 | G89: 19995.85
C90: 1404.02.23 | D90: انتقال کارمزد 167306 | G90: 17748.04
C91: 1404.02.27 | D91: انتقال کارمزد 167629 | G91: 8340.93
C92: 1404.03.05 | D92: انتقال کارمزد 169820 | G92: 156126.55
C93: 1404.04.16 | D93: انتقال کارمزد 175700 | G93: 130155.77
C94: 1404.04.16 | D94: انتقال کارمزد 176178 | E94: 248776.53
C95: 1404.04.31 | D95: انتقال 20 درصد سهم سه ماهه اول 1404 | E95: 12277.89 | F95: 6000 | G95: 15945.66 | H95: 46800
C96: 1404.05.25 | D96: انتقال کارمزد 185194 | H96: 300427.92
C97: 1404.06.15 | D97: انتقال کارمزد 189324 | E97: 4846.19
C98: 1404.06.15 | D98: انتقال کارمزد 189338 | G98: 24864.76
C99: 1404.07.07 | D99: انتقال 20درصد سهم سه ماهه دوم 1404 | E99: 3944.47 | G99: 3753.47 | H99: 77398.76
C100: 1404.07.12 | D100: انتقال کارمزد 196031 | E100: 186.03 | G100: 16377.92
C101: 1404.08.25 | D101: انتقال کارمزد 205581 | E101: 18667.97 | G101: 136649.83
C102: 1404.09.09 | D102: انتقال کارمزد 209094 | E102: 1855.61 | F102: 494.08 | G102: 50446.69 | H102: 3160.77
D103: انتقال به nostro | E103: -290608.7 | F103: -6494.08 | G103: -917083.48 | H103: -427787.45
C104: 1404.10.14 | D104: انتقال 20درصد سهم سه ماهه سوم 1404 | E104: 5554.95 | F104: 0 | G104: 24338.65
C105: 1404.12.25 | D105: انتقال به nostro | E105: -5554.95 | G105: -24338.65
C106: 1404.01.22 | D106: انتقال 20 درصد سهم سه ماهه چهارم 1404 | E106: 1295.95 | F106: 176.93 | G106: 18937.62
C107: 1405.04.06 | D107: انتقال 20 درصد سهم سه ماهه اول 1405 | E107: 965.03 | F107: 1568.33 | G107: 6693.97
B110: جمع | E110: =SUM(E3:E109) -> 2260.98 | F110: =SUM(F3:F109) -> 1745.26 | G110: =SUM(G3:G109) -> 25631.59 | H110: =SUM(H3:H109) -> 0 | I110: =SUM(E111:H111) -> 24538.455
B111: معادل یورو | E111: =E110*0.2365 -> 534.72177 | F111: =F110 -> 1745.26 | G111: =G110*0.8684 -> 22258.473 | H111: =H110*0.1263 -> 0

Sheet کارمزد یورو نزد شعبه مرکزی
B2: گردش حساب نزد شعبه مستقل مرکزی
B3: تاریخ | C3: بدهکار | D3: بستانکار | E3: مانده
B7: 98/10/04 | D7: 200 | E7: =D7 -> 200
B8: 99/01/23 | D8: 22997.32 | E8: =SUM(E7-C8+D8) -> 23197.32
B9: 99/06/19 | C9: 9198.92 | E9: =SUM(E8-C9+D9) -> 13998.4
B10: 99/07/13 | D10: 52294 | E10: =SUM(E9-C10+D10) -> 66292.4
B11: 99/07/13 | D11: 14413.25 | E11: =SUM(E10-C11+D11) -> 80705.65
B12: 99/07/13 | D12: 1497 | E12: =SUM(E11-C12+D12) -> 82202.65
B13: 99/07/15 | D13: 456 | E13: =SUM(E12-C13+D13) -> 82658.65
B14: 99/07/16 | C14: 80000 | E14: =SUM(E12-C14+D14) -> 2202.65
B15: 99/07/23 | C15: 2000 | E15: =SUM(E14-C15+D15) -> 202.65
B16: 99/07/25 | D16: 33912.21 | E16: =SUM(E15-C16+D16) -> 34114.86
B17: 99/07/26 | C17: 34000 | E17: =SUM(E16-C17+D17) -> 114.86
B18: 99/11/04 | D18: 110465 | E18: =SUM(E17-C18+D18) -> 110579.86
B19: 99/11/05 | C19: 6000 | E19: =SUM(E18-C19+D19) -> 104579.86
B20: 99/11/27 | C20: 40000 | E20: =SUM(E19-C20+D20) -> 64579.86
B21: 99/11/28 | D21: 55810 | E21: =SUM(E20-C21+D21) -> 120389.86 | F21: ۳۰درصد ابتدای ۹۹ تا پایان آذر منشا ارمنستان ۹۹
B22: 99/12/09 | C22: 110000 | E22: =SUM(E21-C22+D22) -> 10389.86
B23: 00.01.22 | C23: 0.22 | E23: 10845.64
B24: 00.02.01 | C24: 3000 | E24: =SUM(E23-C24) -> 7845.64
B25: 00.02.08 | C25: 0.1 | E25: =SUM(E24-C25) -> 7845.54
B26: 00.03.06 | D26: 27330.3 | E26: =SUM(E25+D26) -> 35175.84 | F26: ۳۰درصد ابتدای دیماه ۹۹ تا پایان ۹۹ با منشاEIH
B27: 00.03.18 | D27: 145088 | E27: =SUM(E26+D27) -> 180263.84
B28: 00.03.26 | C28: 180000 | E28: =SUM(E27-C28) -> 263.84
B29: 0.05.17 | D29: 36880 | E29: =SUM(E28+D29) -> 37143.84 | F29: 30درصد اول ۱۴۰۰ پس کسر کارمزد یک در هزار نفت و ۵۰درصد کنگان با منشاEIH
B30: 00.05.23 | C30: 35000 | E30: =SUM(E29-C30) -> 2143.84
B31: 00.06.04 | D31: 223331 | E31: =SUM(E30+D31) -> 225474.84
B32: 00-06-01 | C32: 134000 | E32: =SUM(E31-C32) -> 91474.84
B33: 00.07.07 | C33: 40000 | E33: =SUM(E32-C33) -> 51474.84
B34: 00-08-19 | C34: 20000 | E34: =SUM(E33-C34) -> 31474.84
B35: 00-09-06 | D35: 255904.36 | E35: =SUM(E34+D35) -> 287379.2 | F35: 30درصد سه ماهه دوم ۱۴۰۰ پس از کسر کارمزد ۵۰ درصد صبای کنگان با منشاء اسکناس
B36: 00.09.29 | D36: 171857 | E36: =SUM(E35+D36) -> 459236.2
B37: 00.10.01 | C37: 459000 | E37: =SUM(E36-C37) -> 236.2
B38: 00.10.12 | D38: 76006.56 | E38: =SUM(E37+D38) -> 76242.76 | F38: ۳۰درصد ۳ ماهه سوم ۱۴۰۰ با منشاء EIH
B39: 01.07.22 | C39: 25000 | E39: =SUM(E38-C39) -> 51242.76
B40: 01.04.18 | D40: 49607 | E40: =SUM(E39+D40) -> 100849.76 | F40: 20درصد سه ماهه اول 1401با منشاءEIH
B41: 01.04.21 | C41: 100000 | E41: =SUM(E40-C41) -> 849.76
B42: 01.06.06 | D42: 192510.29 | E42: =SUM(E41+D42) -> 193360.05 | F42: 30درصد ۳ ماهه چهارم ۱۴۰0 با منشاءEIH
B43: 01.06.21 | C43: 192500 | E43: =SUM(E42-C43) -> 860.05
B44: 01.07.27 | D44: 9685.18 | E44: =SUM(E43+D44) -> 10545.23 | F44: 20درصد سه ماهه دوم ۱۴۰۱ با منشاء EIH
B45: 01.09.22 | D45: 9922 | E45: =SUM(E44+D45) -> 20467.23 | F45: 20درصد سه ماهه سوم ۱۴۰۱ با منشاء EIH
B46: 02.01.30 | D46: 2906.88 | E46: =SUM(E45+D46) -> 23374.11 | F46: 20درصد سه ماهه چهارم 1401 با منشاء EIH
B47: 02.03.23 | C47: 23000 | E47: =SUM(E46-C47+D47) -> 374.11
B48: 02.07.26 | D48: 31214 | E48: =SUM(E47-C48+D48) -> 31588.11 | F48: 20درصد شش ماهه اول 1402 با منشاء EIH
B49: 02.08.15 | C49: 30000 | E49: =SUM(E48+D49-C49) -> 1588.11
B50: 02.09.06 | D50: 81555.51 | E50: =SUM(E49+D50-C50) -> 83143.62 | F50: منشاء اسکناس
B51: 02.10.10 | C51: 80000 | E51: =SUM(E50+D51-C51) -> 3143.62
B52: 03.03.10 | D52: 361086.49 | E52: =SUM(E51+D52-C52) -> 364230.11 | F52: منشاء اسکناس
B53: 03.07.14 | D53: 370303.34 | E53: =SUM(E52+D53-C53) -> 734533.45 | F53: منشاء اسکناس
B54: 03.10.19&20 | C54: 12000 | E54: =SUM(E53+D54-C54) -> 722533.45 | F54: برداشت 8 هزار و 4 هزار منشاء اسکناس بابت پرداخت به هیات امنا
B55: 04.08.21&22 | C55: 12000 | E55: =SUM(E54+D55-C55) -> 710533.45 | F55: برداشت ده هزار و دو هزار منشاء اسکناس بابت پرداخت به هیات امنا
B57: جمع مبالغ | C57: =SUM(C7:C56) -> 1626699.2 | D57: =SUM(D7:D56) -> 2337232.7

Sheet کارمزد درهمNOSTRO
A2: درهم NOSTRO (کارمزد) | F2: گردش حساب NOSTRO درهم امارت
A3: تاریخ | B3: بستانکار | C3: بدهکار | D3: مانده | F3: تاریخ | G3: شرح | H3: بستانکار | I3: بدهکار | J3: مانده
A4: 1401/09/20 | B4: 1765670.7 | D4: =SUM(B4-C4) -> 1765670.7 | F4: 1401/04/06 | G4: وثیقه نقدی مثنایی | H4: 40000000 | J4: =SUM(H4) -> 40000000
A5: 1401/09/21 | C5: 1765670.7 | D5: =SUM(D4+B5-C5) -> 0 | E5: تبدیل به ریال | F5: 1401/09/24 | G5: انتقال از بین الملل 11304 | H5: 50000000 | J5: =SUM(J4+H5-I5) -> 90000000
A6: 1402/01/17 | B6: 6800000 | D6: =SUM(D5+B6-C6) -> 6800000 | F6: 1401/09/20 | G6: انتقال درآمد شرکت 41439 | H6: 1765670.7 | J6: =SUM(J5+H6-I6) -> 91765671
A7: 1402/04/19 | B7: 3400000 | D7: =SUM(D6+B7-C7) -> 10200000 | F7: 1401/09/21 | G7: درخواست تبدیل به ریال 41440 | I7: 1765670.7 | J7: =SUM(J6+H7-I7) -> 90000000
A8: 1402/10/12 | B8: 3700000 | D8: =SUM(D7+B8-C8) -> 13900000 | F8: 1401/09/28 | G8: انتقال به ملی دبی 11638 | I8: 50000000 | J8: =SUM(J7+H8-I8) -> 40000000
A9: 1402/11/29 | B9: 1300778.2 | D9: =SUM(D8+B9-C9) -> 15200778 | F9: 1401/10/05 | G9: انتقال از بین الملل 12158 | H9: 50000000 | J9: =SUM(J8+H9-I9) -> 90000000
A10: 1403/03/03 | B10: 1010000 | D10: =SUM(D9+B10-C10) -> 16210778 | F10: 1401/10/05 | G10: انتقال به ملی دبی12153 | I10: 50000000 | J10: =SUM(J9+H10-I10) -> 40000000
A11: 1403.07.03 | B11: 1060000 | D11: =SUM(D10+B11-C11) -> 17270778 | F11: 1401/10/14 | G11: انتقال از بین الملل 12999 | H11: 43500000 | J11: =SUM(J10+H11-I11) -> 83500000
A12: 1403.10.06 | B12: 2074873.5 | D12: =SUM(D11+B12-C12) -> 19345652 | F12: 1401/10/14 | G12: انتقال به ملی دبی 11638 | I12: 43500000 | J12: =SUM(J11+H12-I12) -> 40000000
A13: 04.02.06 | B13: 5196912.5 | D13: =SUM(D12+B13-C13) -> 24542564 | F13: 1401/10/26 | G13: انتقال از بین الملل 14056 | H13: 61500000 | J13: =SUM(J12+H13-I13) -> 101500000
A14: 04.6.027 | B14: 150000 | D14: =SUM(D13+B14-C14) -> 24692564 | E14: ماشین دبی | F14: 1401/10/26 | G14: انتقال به ملی دبی 14056 | I14: 61500000 | J14: =SUM(J13+H14-I14) -> 40000000
A15: 04.06.29 | B15: 3580000 | D15: =SUM(D14+B15-C15) -> 28272564 | F15: 1401/12/10 | G15: وثیقه نقدی تقوی | H15: 10000000 | J15: =SUM(J14+H15-I15) -> 50000000
A16: 04.09.08 | B16: 3105000 | D16: =SUM(D15+B16-C16) -> 31377564 | F16: 1402/01/17 | G16: انتقال درآمد شرکت 56040 | H16: 6800000 | J16: =SUM(J15+H16-I16) -> 56800000
A17: 04.09.17 | B17: 290608.7 | D17: =SUM(D16+B17-C17) -> 31668173 | F17: 1402/04/19 | G17: انتقال درآمد شرکت 69216 | H17: 3400000 | J17: =SUM(J16+H17-I17) -> 60200000
A18: 04.12.28 | B18: 2900648.2 | D18: =SUM(D17+B18-C18) -> 34568821 | F18: 1402/08/04 | G18: قسمت اول نفت ستاره تسویه تعهد | H18: 10000000 | J18: =SUM(J17+H18-I18) -> 70200000
F19: 1402/08/04 | I19: 10000000 | J19: =SUM(J18+H19-I19) -> 60200000
F20: 1402-08-08 | G20: قسمت دوم نفت ستاره تسویه تعهد | H20: 5000000 | J20: =SUM(J19+H20-I20) -> 65200000
F21: 1402-08-08 | I21: 5000000 | J21: =SUM(J20+H21-I21) -> 60200000
F22: 1402-10/12 | G22: انتقال کارمزد | H22: 3700000 | J22: =SUM(J21+H22-I22) -> 63900000
F23: 1402-11-23 | G23: انتقال به tsack 100411 | H23: 30881600 | J23: =SUM(J22+H23-I23) -> 94781600
F24: 1402-11-23 | H24: 49118400 | J24: =SUM(J23+H24-I24) -> 143900000
F25: 1402-11-23 | G25: انتقال به بانک مرکزی - ملی دبی | I25: 80000000 | J25: =SUM(J24+H25-I25) -> 63900000
F26: 1402/11/29 | G26: انتقال کارمزد | H26: 1300778.2 | J26: =SUM(J25+H26-I26) -> 65200778
F27: 1403/03/03 | G27: انتقال کارمزد | H27: 1010000 | J27: =SUM(J26+H27-I27) -> 66210778
F28: 1403/04/23 | G28: وثیقه واریز به حساب تقوی | H28: 5000000 | J28: =SUM(J27+H28-I28) -> 71210778
F29: 1403/04/27 | G29: وثیقه نقدی نقش بندی | H29: 7976000 | J29: =SUM(J28+H29-I29) -> 79186778
F30: 1403.05.30 | G30: وثیقه واریز به حساب تقوی | H30: 2812024 | J30: =SUM(J29+H30-I30) -> 81998802
F31: 1403.05.30 | G31: وثیقه واریز به حساب تقوی | H31: 2187976 | J31: =SUM(J30+H31-I31) -> 84186778
F32: 1403.07.03 | G32: انتقال درآمد 127169 | H32: 1060000 | J32: =SUM(J31+H32-I32) -> 85246778
F33: 1403.10.06 | G33: انتقال درآمد شرکت 144623 | H33: 2074873.5 | J33: =SUM(J32+H33-I33) -> 87321652
F34: 1403.10.20 | G34: وثیقه نقدی قاسمی راد 146655 | H34: 10000000 | J34: =SUM(J33+H34-I34) -> 97321652
F35: 1404.02.06 | G35: انتقال درآمد شرکت 142910 | H35: 5196912.5 | J35: =SUM(J34+H35-I35) -> 1.0251856e+08
F36: 1404.03.12 | G36: وثیقه نقدی رستم آبادی | H36: 21000000 | J36: =SUM(J35+H36-I36) -> 1.2351856e+08
F37: 1404.03.13 | G37: وثیقه نقدی نقش بندی | H37: 5520000 | J37: =SUM(J36+H37-I37) -> 1.2903856e+08
... F47: 1404.09.17 | G47: انتقال کارمزد صرافی ملت | H47: 290608.7 | J47: =SUM(J46+H47-I47) -> 1.9929469e+08
F48: 1404.09.24 | G48: عودت وثیقه خانم مرجان نقدی | I48: 10000000 | J48: =SUM(J47+H48-I48) -> 1.8929469e+08
F49: 04.12.28 | G49: انتقال کارمزد 232461 | H49: 2900648.2 | J49: =SUM(J48+H49-I49) -> 1.9219534e+08
F50: 1405.03.19 | G50: عودت وثیقه قاسمی راد | I50: 10000000 | J50: =SUM(J49+H50-I50) -> 1.8219534e+08
A55: جمع | B55: =SUM(B4:B54) -> 36334492 | C55: =SUM(C4:C54) -> 1765670.7 | D55: =SUM(B55-C55) -> 34568821 | E55: =D55*0.2527 -> 8735541.1 | F55: جمع | H55: =SUM(H4:H54) -> 5.0396101e+08 | I55: =SUM(I4:I54) -> 3.2176567e+08 | J55: =SUM(H55-I55) -> 1.8219534e+08

Sheet کارمزد دلار NOSTRO 
A2: دلار NOSTRO (کارمزد) | H2: گردش حساب NOSTRO دلار
A3: تاریخ | B3: بستانکار | C3: بدهکار | D3: مانده | H3: تاریخ | I3: شرح | J3: بستانکار | K3: بدهکار | L3: مانده
A4: 1402/01/17 | B4: 700000 | D4: =B4 -> 700000 | H4: 1402/01/17 | I4: انتقال کارمزد | J4: 700000 | L4: =J4 -> 700000
A5: 1402/01/20 | C5: 82000 | D5: =SUM(D4+B5-C5) -> 618000 | E5: تبدیل به ریال | H5: 1402/01/20 | I5: تبدیل به ریال | K5: 82000 | L5: =SUM(L4+J5-K5) -> 618000
A6: 1402/04/18 | B6: 2050000 | D6: =SUM(D5+B6-C6) -> 2668000 | H6: 1402/04/18 | I6: انتقال کارمزد | J6: 2050000 | L6: =SUM(L5+J6-K6) -> 2668000
A7: 1402/05/31 | C7: 10000 | D7: =SUM(D6+B7-C7) -> 2658000 | E7: دریافت اسکناس | H7: 1402/05/31 | I7: دریافت اسکناس | K7: 10000 | L7: =SUM(L6+J7-K7) -> 2658000
A8: 1402/06/12 | C8: 200000 | D8: =SUM(D7+B8-C8) -> 2458000 | E8: تبدیل به درهم PHOENIX STAR | H8: 1402/06/12 | I8: تبدیل به درهم و انتقال به فونیکس | K8: 200000 | L8: =SUM(L7+J8-K8) -> 2458000
A9: 1402/10/04 | C9: 54458.82 | D9: =SUM(D8+B9-C9) -> 2403541.2 | E9: تبدیل به درهم PHOENIX STAR | H9: 1402-08-02 | I9: پیش دریافت از معنوی | J9: 3000000 | L9: =SUM(L8+J9-K9) -> 5458000
A10: 1402/10/12 | B10: 2200000 | D10: =SUM(D9+B10-C10) -> 4603541.2 | H10: 1402/10/04 | I10: تبدیل به درهم و انتقال به فونیکس | K10: 54458.82 | L10: =SUM(L9+J10-K10) -> 5403541.2
A11: 1402/11/29 | B11: 1570000 | D11: =SUM(D10+B11-C11) -> 6173541.2 | H11: 1402/10/11 | I11: انتقال کارمزد | J11: 2200000 | L11: =SUM(L10+J11-K11) -> 7603541.2
A12: 1403/03/03 | B12: 1730000 | D12: =SUM(D11+B12-C12) -> 7903541.2 | H12: 1402/11/29 | I12: انتقال کارمزد | J12: 1570000 | L12: =SUM(L11+J12-K12) -> 9173541.2
A13: 03.07.03 | B13: 1550000 | D13: =SUM(D12+B13-C13) -> 9453541.2 | H13: 1402/12/24 | I13: وثیقه نقدی مثنایی | J13: 5000000 | L13: =SUM(L12+J13-K13) -> 14173541
A14: 03.10.06 | B14: 1050000 | D14: =SUM(D13+B14-C14) -> 10503541 | H14: 1403/01/19 | I14: وثیقه نقدی مثنایی | J14: 5000000 | L14: =SUM(L13+J14-K14) -> 19173541
A15: 04.02.06 | B15: 2339450 | D15: =SUM(D14+B15-C15) -> 12842991 | H15: 1403/03/03 | I15: انتقال کارمزد | J15: 1730000 | L15: =SUM(L14+J15-K15) -> 20903541
A16: 04.06.29 | B16: 2450550.7 | D16: =SUM(D15+B16-C16) -> 15293542 | H16: 1403/03/10 | I16: وثیقه نقدی الهویردی زاده | J16: 5400000 | L16: =SUM(L15+J16-K16) -> 26303541
A17: 04.09.08 | B17: 1460000 | D17: =SUM(D16+B17-C17) -> 16753542 | H17: 1403/03/22 | I17: وثیقه نقدی ادریس محمدی | J17: 7000000 | L17: =SUM(L16+J17-K17) -> 33303541
A18: 04.09.17 | B18: 917083.48 | D18: =SUM(D17+B18-C18) -> 17670625 | H18: 03.07.03 | I18: انتقال به درآمد 127169 | J18: 1550000 | L18: =SUM(L17+J18-K18) -> 34853541
A19: 04.12.28 | B19: 1726533.3 | D19: =SUM(D18+B19-C19) -> 19397159 | H19: 03.07.05 | I19: وثیقه نقدی ابطحی | J19: 4500000 | L19: =SUM(L18+J19-K19) -> 39353541
D20: =SUM(D19+B20-C20) -> 19397159 | H20: 03.07.05 | I20: وثیقه نقدی لواسانی | J20: 3000000 | L20: =SUM(L19+J20-K20) -> 42353541
H21: 03.07.07 | I21: عودت پیش دریافت معنوی | K21: 3000000 | L21: =SUM(L20+J21-K21) -> 39353541
H22: 03.09.24 | I22: پیش دریافت نقش بندی | J22: 2000000 | L22: =SUM(L21+J22-K22) -> 41353541
H23: 03.10.06 | I23: انتقال کارمزد شرکت 144623 | J23: 1050000 | L23: =SUM(L22+J23-K23) -> 42403541
H24: 04.02.06 | I24: انتقال کارمزد شرکت 142910 | J24: 2339450 | L24: =SUM(L23+J24-K24) -> 44742991
H25: 04.02.21 | I25: وثیقه نقدی مومنین | J25: 10000000 | L25: =SUM(L24+J25-K25) -> 54742991
H26: 04.06.29 | I26: انتقال کارمزد | J26: 2450550.7 | L26: =SUM(L25+J26-K26) -> 57193542
H27: 04.08.01 | I27: وثیقه نقدی کامبیز نبی زاده | J27: 6400000 | L27: =SUM(L26+J27-K27) -> 63593542
H28: 04.08.25 | I28: وثیقه نقدی حمید رضا یعقوبی | J28: 5000000 | L28: =SUM(L27+J28-K28) -> 68593542
H29: 04.08.25 | I29: وثیقه نقدی ابطحی | J29: 5000000 | L29: =SUM(L28+J29-K29) -> 73593542
H30: 04.09.08 | I30: انتقال کارمزد | J30: 1460000 | L30: =SUM(L29+J30-K30) -> 75053542
H31: 04.09.10 | I31: وثیقه فشکی | J31: 10000000 | L31: =SUM(L30+J31-K31) -> 85053542
H32: 04.09.13 | I32: وثیقه ذاکری دانا | J32: 5000000 | L32: =SUM(L31+J32-K32) -> 90053542
H33: 04.09.17 | I33: انتقال کارمزد صرافی ملت | J33: 917083.48 | L33: =SUM(L32+J33-K33) -> 90970625
... H38: 05.04.11 | I38: وثیقه نقدی دربانی | J38: 3300000 | L38: =SUM(L37+J38-K38) -> 1.0999716e+08
H44: جمع | J44: =SUM(J4:J43) -> 1.1334362e+08 | K44: =SUM(K4:K43) -> 3346458.8 | L44: =SUM(J44-K44) -> 1.0999716e+08
A50: جمع | B50: =SUM(B4:B49) -> 19743617 | C50: =SUM(C4:C49) -> 346458.82 | D50: =SUM(B50-C50) -> 19397159 | E50: =D50*0.9281 -> 18002503

Sheet کارمزد یورو NOSTRO 
A1: یورو NOSTRO (کارمزد) | H1: گردش حساب NOSTRO یورو
A2: تاریخ | B2: بستانکار | C2: بدهکار | D2: مانده | H2: تاریخ | I2: شرح | J2: بستانکار | K2: بدهکار | L2: مانده
A3: 1401/09/20 | B3: 400857.99 | C3: 400857.99 | D3: =SUM(B3-C3) -> 0 | E3: تبدیل به ریال | H3: 1401/09/20 | I3: انتقال کارمزد + تبدیل به ریال | J3: 400857.99 | K3: 400857.99 | L3: 0
A4: 1402/01/17 | B4: 500000 | D4: =SUM(D3+B4-C4) -> 500000 | H4: 1402/01/17 | I4: انتقال کارمزد | J4: 500000 | L4: =SUM(J4) -> 500000
A5: 1402/04/13 | B5: 300000 | D5: =SUM(D4+B5-C5) -> 800000 | H5: 1402/04/13 | I5: انتقال کارمزد | J5: 300000 | L5: =SUM(L4+J5-K5) -> 800000
A6: 1402/04/21 | C6: 225000 | D6: =SUM(D5+B6-C6) -> 575000 | E6: تبدیل به ریال | H6: 1402/04/21 | I6: تبدیل به ریال | K6: 225000 | L6: =SUM(L5+J6-K6) -> 575000
A7: 1402/06/20 | C7: 30000 | D7: =SUM(D6+B7-C7) -> 545000 | E7: تبدیل به ریال | H7: 1402/06/20 | I7: تبدیل به ریال | K7: 30000 | L7: =SUM(L6+J7-K7) -> 545000
A8: 1402/10/09 | C8: 50000 | D8: =SUM(D7+B8-C8) -> 495000 | E8: تبدیل به ریال | H8: 1402/08/03 | I8: پیش دریافت از معنوی | J8: 2000000 | L8: =SUM(L7+J8-K8) -> 2545000
A9: 1402/10/12 | B9: 1150000 | D9: =SUM(D8+B9-C9) -> 1645000 | H9: 1402/10/09 | I9: تبدیل به ریال | K9: 50000 | L9: =SUM(L8+J9-K9) -> 2495000
A10: 1402/11/29 | B10: 300000 | D10: =SUM(D9+B10-C10) -> 1945000 | H10: 1402/10/12 | I10: انتقال کارمزد | J10: 1150000 | L10: =SUM(L9+J10-K10) -> 3645000
A11: 1403/03/03 | B11: 420000 | D11: =SUM(D10+B11-C11) -> 2365000 | H11: 1402/11/04 | I11: برگشت پیش دریافت از معنوی | K11: 2000000 | L11: =SUM(L10+J11-K11) -> 1645000
A12: 03.07.03 | B12: 560000 | D12: =SUM(D11+B12-C12) -> 2925000 | H12: 1402/11/29 | I12: انتقال کارمزد | J12: 300000 | L12: =SUM(L11+J12-K12) -> 1945000
A13: 03.10.06 | B13: 715000 | D13: =SUM(D12+B13-C13) -> 3640000 | H13: 1403/03/03 | I13: انتقال کارمزد | J13: 420000 | L13: =SUM(L12+J13-K13) -> 2365000
A14: 04.02.06 | B14: 297032.35 | D14: =SUM(D13+B14-C14) -> 3937032.4 | H14: 03.07.03 | I14: انتقال کارمزد 127169 | J14: 560000 | L14: =SUM(L13+J14-K14) -> 2925000
A15: 04.06.17 | B15: 350000 | D15: =SUM(D14+B15-C15) -> 4287032.3 | H15: 03.10.06 | I15: انتقال کارمزد 144623 | J15: 715000 | L15: =SUM(L14+J15-K15) -> 3640000
A16: 04.09.08 | B16: 272437.14 | D16: =SUM(D15+B16-C16) -> 4559469.5 | H16: 03.12.20 | I16: وثیقه نجف زاده | J16: 641888 | L16: =SUM(L15+J16-K16) -> 4281888
A17: 04.09.17 | B17: 6494.08 | D17: =SUM(D16+B17-C17) -> 4565963.6 | H17: 04.02.06 | I17: انتقال کارمزد 142910 | J17: 297032.35 | L17: =SUM(L16+J17-K17) -> 4578920.3
A18: 04.12.28 | B18: 250000 | D18: =SUM(D17+B18-C18) -> 4815963.6 | H18: 04.06.17 | I18: انتقال کارمزد | J18: 350000 | L18: =SUM(L17+J18-K18) -> 4928920.3
H19: 04.09.14 | I19: انتقال کارمزد | J19: 272437.14 | L19: =SUM(L18+J19-K19) -> 5201357.5
H20: 04.09.17 | I20: انتقال کارمزد صرافی ملت | J20: 6494.08 | L20: =SUM(L19+J20-K20) -> 5207851.6
H21: 04.12.28 | I21: انتقال کارمزد 232461 | J21: 250000 | L21: =SUM(L20+J21-K21) -> 5457851.6
A29: جمع | B29: =SUM(B3:B28) -> 5521821.6 | C29: =SUM(C3:C28) -> 705857.99 | D29: =SUM(B29-C29) -> 4815963.6
H34: جمع | J34: =SUM(J3:J33) -> 8163709.6 | K34: =SUM(K3:K33) -> 2705858 | L34: =SUM(J34-K34) -> 5457851.6

Sheet کارمزد یوان NOSTRO 
A1: یوان NOSTRO (کارمزد) | H1: گردش حساب NOSTRO یوان
A2: تاریخ | B2: بستانکار | C2: بدهکار | D2: مانده | H2: تاریخ | I2: شرح | J2: بستانکار | K2: بدهکار | L2: مانده
A3: 1402/04/13 | B3: 4900000 | D3: =B3 -> 4900000 | H3: 1402/04/13 | I3: انتقال کارمزد | J3: 4900000 | L3: =J3 -> 4900000
A4: 1402/10/12 | B4: 3559431.1 | D4: =SUM(D3+B4-C4) -> 8459431.1 | H4: 1402/10/12 | I4: انتقال کارمزد | J4: 3559431.1 | L4: =SUM(L3+J4-K4) -> 8459431.1
A5: 1402/10/29 | B5: 1900000 | D5: =SUM(D4+B5-C5) -> 10359431 | H5: 1402/10/29 | I5: انتقال کارمزد | J5: 1900000 | L5: =SUM(L4+J5-K5) -> 10359431
A6: 1403/03/01 | B6: 2740000 | D6: =SUM(D5+B6-C6) -> 13099431 | H6: 1402/03/01 | I6: انتقال کارمزد | J6: 2740000 | L6: =SUM(L5+J6-K6) -> 13099431
A7: 03.07.03 | B7: 7680000 | D7: =SUM(D6+B7-C7) -> 20779431 | H7: 03.07.03 | I7: انتقال کارمزد 127169 | J7: 7680000 | L7: =SUM(L6+J7-K7) -> 20779431
A8: 03.10.06 | B8: 6662147.7 | D8: =SUM(D7+B8-C8) -> 27441579 | H8: 03.10.06 | I8: انتقال کارمزد شرکت 144623 | J8: 6662147.7 | L8: =SUM(L7+J8-K8) -> 27441579
A9: 04.02.06 | B9: 5840655.1 | D9: =SUM(D8+B9-C9) -> 33282234 | H9: 04.02.06 | I9: انتقال کارمزد شرکت 142910 | J9: 5840655.1 | L9: =SUM(L8+J9-K9) -> 33282234
A10: 04.06.17 | B10: 6400000 | D10: =SUM(D9+B10-C10) -> 39682234 | H10: 04.06.17 | I10: انتقال کارمزد | J10: 6400000 | L10: =SUM(L9+J10-K10) -> 39682234
A11: 04.09.08 | B11: 3710000 | D11: =SUM(D10+B11-C11) -> 43392234 | H11: 04.09.08 | I11: انتقال کارمزد | J11: 3710000 | L11: =SUM(L10+J11-K11) -> 43392234
A12: 04.09.17 | B12: 427787.45 | D12: =SUM(D11+B12-C12) -> 43820021 | H12: 04.09.17 | I12: انتقال کارمزد صرافی ملت | J12: 427787.45 | L12: =SUM(L11+J12-K12) -> 43820021
A13: 04.11.16 | B13: 121621.7 | D13: =SUM(D12+B13-C13) -> 43941643 | H13: 04.11.16 | I13: انتقال کارمزد صرافی ملت | J13: 121621.7 | L13: =SUM(L12+J13-K13) -> 43941643
A14: 04.12.28 | B14: 3100000 | H14: 04.12.28 | I14: انتقال کارمزد 232461 | J14: 3100000 | L14: =SUM(L13+J14-K14) -> 47041643
A20: جمع | B20: =SUM(B3:B19) -> 47041643 | C20: =SUM(C3:C19) -> 0 | D20: =SUM(B20-C20) -> 47041643 | E20: =D20*0.1352 -> 6360030.1
H21: جمع | J21: =SUM(J3:J20) -> 47041643 | K21: =SUM(K3:K20) -> 0 | L21: =SUM(J21-K21) -> 47041643

Sheet مجموع کارمزد دریافتی 
A1: کارمزد دریافتی از ابتدا تا 1404/10/30
A2: نوع ارز | B2: مبلغ | C2: معادل یورو | D2: 20%زیان نفت ستاره | E2: تنخواه فونیکس مرحله چهارم | F2: تنخواه فونیکس مرحله سوم | G2: تنخواه فونیکس مرحله دوم | H2: تنخواه فونیکس مرحله اول | I2: تسویه فونیکس از محل درآمد | J2: تبدیل به ریال | K2: انتقال از معنوی به مثنایی | L2: انتقال از مومنین به ابراهیمی | M2: انتقال از مثنایی به فونیکس (تامین نقدینگی ) | N2: تامین سهم بین الملل از کارمزد بید بلند | O2: تحویل اسکناس | P2: برگشت کارمزد ارز مبادلارت | Q2: برگشت از کارمزد(حدودا") | R2: مجموع کسر شده به تفکیک ارز | S2: معادل کل یور کسر شده | T2: مانده درآمد معادل یورو
A3: یورو | B3: 9783234.9 | C3: 10167687 | J3: 2308557.2 | K3: 16180.34 | N3: 408463.37 | O3: 12000 | P3: 32339.37 | Q3: 1299928.6 | R3: =SUM(D3:Q3) -> 4077468.9 | S3: =R3 -> 4077468.9 | T3: =SUM(C3-S3) -> 6090218.2
A4: دلار | B4: 18017084 | C4: =B4*0.9281 -> 16721656 | G4: 200000 | H4: 54458.82 | J4: 82000 | O4: 10000 | P4: 331661.13 | Q4: 1921230.2 | R4: =SUM(D4:Q4) -> 2599350.2 | S4: =R4*0.9281 -> 2412456.9 | T4: =SUM(C4-S4) -> 14309199
A5: درهم امارات | B5: 33433844 | C5: =B5*0.2527 -> 8448732.3 | D5: 259971.68 | E5: 400000 | F5: 300000 | I5: 2289.2 | J5: 1765670.7 | M5: 888000 | Q5: 1655018.9 | R5: =SUM(D5:Q5) -> 5270950.5 | S5: =R5*0.2527 -> 1331969.2 | T5: =SUM(C5-S5) -> 7116763.1
A6: یوان | B6: 43820021 | C6: =B6*0.1352 -> 5924466.9 | L6: 224000 | Q6: 208808.18 | R6: =SUM(D6:Q6) -> 432808.18 | S6: =R6*0.012 -> 5193.6982 | T6: =SUM(C6-S6) -> 5919273.2
A7: مانده به یورو | C7: =SUM(C3:C6) -> 41262542 | S7: =SUM(S3:S6) -> 7827088.7 | T7: =SUM(T3:T6) -> 33435453
J8: =J4*0.9281 -> 76104.2
J9: =J5*0.2527 -> 446184.98 | M9: =M5*0.2527 -> 224397.6 | Q9: =Q4*0.9281 -> 1783093.8
M10: معادل یورو کارمزد بابت انتقال به فونیکس | Q10: =Q5*0.2527 -> 418223.29
J11: =SUM(J3+J8+J9) -> 2830846.4 | Q11: =Q6*0.1352 -> 28230.866
J12: معادل یورو تبدیل به ریا ل | Q12: =SUM(Q3+Q9+Q10+Q11) -> 3529476.6
C13: پرداختی به فونیکس از محل درآمد راهبر | D13: دلار | E13: درهم | F13: معادل دلارنرخ 3.6725 | G13: جمع کل دلار | Q13: معادل یورو برگشت از کارمزد
D14: 54458.82 | E14: 300000 | F14: =E14/3.6725 -> 81688.223 | G14: =SUM(D14+F14) -> 136147.04
D15: 200000 | E15: 400000 | F15: =E15/3.6725 -> 108917.63 | G15: =SUM(D15+F15) -> 308917.63
C17: جمع کل به دلار پرداختی به فونیکس | G17: =SUM(G14:G15) -> 445064.67
C19: فروش ماشین دبی به کارمزد درهم اضافه شد | E19: 150000

Sheet کارمزد ریالی
A1: معادل ریالی کارمزد واریز به اداره مرکزی بانک
A2: ردیف | B2: مبلغ ریالی بستانکار | C2: مبلغ ریالی بدهکار | D2: مانده به ریال | E2: ثبت | F2: تاریخ | G2: توضیحات
A3: 1 | B3: 118542153085 | D3: =SUM(B3-C3) -> 118542153085 | E3: 32359 | F3: 1404.12.02
A4: 2 | B4: 286520416728 | D4: =SUM(D3+B4-C4) -> 405062569813 | E4: 33503 | F4: 1404.12.23
A5: 3 | B5: 307938091154 | D5: =SUM(D4+B5-C5) -> 713000660967 | E5: 33791 | F5: 1404.12.26
A6: 4 | B6: 76456652921 | D6: =SUM(D5+B6-C6) -> 789457313888 | E6: 640 | F6: 1405.01.22
A7: 5 | C7: 59500000000 | D7: =SUM(D6+B7-C7) -> 729957313888 | E7: 1100 | F7: 1405.01.29 | G7: واریز به حساب سانیار موتور پارسیان
A8: 6 | B8: 28110153732 | D8: =SUM(D7+B8-C8) -> 758067467620 | E8: 2299 | F8: 1405.02.14
A9: 7 | B9: 45185507954 | D9: =SUM(D8+B9-C9) -> 803252975574 | E9: 3891 | F9: 1405.03.11
A10: 8 | B10: 55628816113 | D10: =SUM(D9+B10-C10) -> 858881791687 | E10: 4198 | F10: 1405.03.17
A11: 9 | B11: 148802911147 | D11: =SUM(D10+B11-C11) -> 1007684702834 | E11: 5648 | F11: 1405.04.08
D12: =SUM(D11+B12-C12) -> 1007684702834
D13: =SUM(D12+B13-C13) -> 1007684702834
D14: =SUM(D13+B14-C14) -> 1007684702834
D15: =SUM(D14+B15-C15) -> 1007684702834
D16: =SUM(D15+B16-C16) -> 1007684702834
D17: =SUM(D16+B17-C17) -> 1007684702834
D18: =SUM(D17+B18-C18) -> 1007684702834
A19: جمع | B19: =SUM(B3:B18) -> 1067184702834 | C19: =SUM(C3:C18) -> 59500000000 | D19: =SUM(B19-C19) -> 1007684702834

Sheet پرداختی به فونیکس 
A1: مبالغ پرداختی به فونیکس از محل درآمد راهبر | F1: نرخ تبدیل 3/6725
A2: ردیف | B2: تاریخ | C2: مبلغ برداشت از درآمد | D2: نوع ارز | E2: درهم پرداختی | F2: معادل دلار
A3: 1 | B3: 1402.06.12 | C3: 200000 | D3: دلار | E3: 734500 | F3: 200000
A4: 2 | B4: 1402.10.05 | C4: 54458.82 | D4: دلار | E4: 200000 | F4: 54458.82
A5: 3 | B5: 1402.12.08 | C5: 300000 | D5: درهم | E5: 300000 | F5: =C5/3.6725 -> 81688.223
A6: 4 | B6: 1403.06.06 | C6: 400000 | D6: درهم | E6: 400000 | F6: =C6/3.6725 -> 108917.63
A8: جمع کل پرداختی به درهم | E8: =SUM(E3:E6) -> 1634500 | F8: =SUM(F3:F6) -> 445064.67
B11: جمع کل کارمزد پرداختی به فونیکس از ابتدا | E11: 961878.87
A14: مبالغ برداشتی از کارمزد توسط فونیکس از محل درآمد فونیکس
A15: ردیف | B15: تاریخ | C15: مبلغ | D15: نوع ارز | E15: توضیحات
A16: 1 | B16: 1403.02.24 | C16: 80000 | D16: درهم | E16: پرداخت 4 درهزار کارمزد 20میلیون درهم | H16: 227000
A17: 2 | B17: 1403.02.29 | C17: 80000 | E17: پرداخت 4 درهزار کارمزد 20میلیون درهم
A18: 3
A19: 4
A20: 5 | B20: 1403.04.11 | C20: 104000 | D20: درهم | E20: بدلیل پرداخت مستقیم به مثنایی4درهزار کارمزد 4 فقره حواله
A22: جمع کل برداشت توسط فونیکس | C22: =SUM(C16:C20) -> 264000 | D22: درهم | E22: =C22/3.6725 -> 71885.636
A24: 1 | B24: 1404.06.27 | C24: 150000 | D24: درهم | E24: بابت فروش ماشین به حساب tsak واریز شد

Sheet کارسازی پیش  یوان
A1: مبالغ یوان منفی نزد کارگزاران بابت کارسازی پیش پرداخت تا 1404/03/05
B2: دستور انتقال صادر شده به یوان
B3: ردیف | C3: کارگزار | D3: مبلغ به یوان | E3: وضعیت حساب
B4: 1 | C4: مثنایی | D4: 38300228 | E4: مثبت
B5: 2 | C5: ابراهیمی | D5: 16802555 | E5: منفی
B6: 3 | C6: تقوی | D6: 10492893
B7: 4 | C7: فشکی | D7: 514699.69 | E7: مثبت
B8: 5 | C8: ملت | D8: 1.3641996e+08 | E8: منفی
B9: جمع کل بدهی | D9: =SUM(D4:D8) -> 2.0253033e+08
A11: شماره حساب های درخواستی بابت واریز یوان به حساب
A12: ردیف | B12: کارگزار | C12: تاریخ اعلام به بین الملل | D12: مبلغ به یوان | E12: رسید واریزارائه شده | F12: تاریخ ارائه رسید | G12: بانک | H12: جمع کل نزد کارگزار | I12: توضیحات | J12: نامه اداره | K12: تاریخ نامه
A13: 1 | B13: ابراهیمی | C13: /4خرداد/29اردیبهشت | D13: 2154775.6 | G13: سامان | H13: =SUM(D13:D14) -> 31595461
A14: 2 | C14: 31اردیبهشت | D14: 29440685 | G14: پارسیان
A15: 4 | B15: مثنایی | C15: 28بهمن | D15: 32488408 | E15: 32488408 | F15: 7خرداد | G15: ملی ایران | H15: =SUM(D15:D17) -> 1.9062988e+08 | J15: 47411 | K15: 1403.12.05
A16: 5 | C16: 22اسفند /5اسفند | D16: 1.5814147e+08 | G16: ملی ایران | I16: کل مبلغ 325 میلیون
I17: قسمت اول 50 واریز شده مثنایی و قسمت دوم117 میلیون صرافی ملت
A19: 6 | B19: تقوی | C19: 16اسفند | D19: 90342088 | G19: ملی ایران | H19: =SUM(D19:D19) -> 90342088 | J19: عدم پاسخ استعلام
A20: 7 | B20: ملت | H20: =SUM(D20:D24) -> 1.3667193e+08
A21: 8 | C21: 29اردیبهشت | D21: 52869043 | G21: سامان - ایران خودرو
A22: 9 | C22: /8خرداد/29اردیبهشت | D22: 21023576 | G22: سامان - ایران خودرو
A23: 10 | C23: 24اردیبهشت | D23: 37611655 | G23: سامان - ایران خودرو
A24: 11 | C24: 21اردیبهشت/8خرداد | D24: 25167655 | G24: سامان - ایران خودرو
B25: جمع کل | D25: =SUM(D13:D23) -> 4.240717e+08 | E25: =SUM(E13:E23) -> 32488408
B76: ردیف | C76: شماره حواله | D76: نام مشتری | E76: مبلغ | F76: نوع ارز | G76: شعبه
B77: 1 | C77: 298 | D77: رویان دارو | E77: 3616161.6 | F77: یوان | G77: فردوسی
B78: 2 | C78: 300 | E78: 1336363.6
B79: 3 | C79: 63 | D79: تولیدی مخمل عالی بافت | E79: 1368482.8 | G79: سبزه میدان
B80: 4 | C80: 303 | D80: رویان دارو | E80: 1237373.8 | G80: فردوسی
B81: 5 | C81: 53 | D81: بهران موتور | E81: 673383.85 | G81: شیخ صدوق
B82: 6 | C82: 301 | D82: رویان دارو | E82: 888888.9 | G82: فردوسی
B83: 7 | C83: 52 | D83: بهران موتور | E83: 689131.33 | G83: شیخ صدوق
B84: 8 | C84: 308 | D84: رویان دارو | E84: 633333.35 | G84: فردوسی
B85: 9 | C85: 307 | D85: رویان دارو | E85: 690909.11 | G85: فردوسی
B86: 10 | C86: 304 | D86: رویان دارو | E86: 513636.38 | G86: فردوسی
B87: 11 | C87: 1751 | D87: ایرکاپارت پویا | E87: 574520.22 | G87: مرکزی
B88: 12 | C88: 309 | D88: رویان دارو | E88: 509090.92 | G88: فردوسی
B89: 13 | C89: 126 | D89: متین خودرو | E89: 1060606.6 | G89: زنجان
B90: 14 | C90: 101 | D90: اکسیر شمس | E90: 396929.62 | G90: سعادت آباد
... B93: 17 | C93: 158 | D93: خودروسازی مایان | E93: 6494001 | G93: چهارراه ولیعصر
B94: 18 | C94: 157 | D94: خودروسازی مایان | E94: 6605730.3
B95: 19 | C95: 311 | D95: رویان دارو | E95: 703030.32 | G95: فردوسی
B96: 20 | C96: 312 | D96: رویان دارو | E96: 622222.24
B97: 21 | C97: 313 | D97: رویان دارو | E97: 1742424.3
B98: 22 | C98: 33 | D98: نیرو موتور سهند | E98: 10691919 | G98: ایوانکی
B99: 23 | C99: 47 | D99: نیرو موتور سهند | E99: 9342974.2
B100: 24 | C100: 49 | D100: نیرو موتور دماوند | E100: 23730661
B101: 25 | C101: 226&227 | D101: یکتاز سیکلت | E101: 11110000 | G101: دکتر بهشتی
B102: 26 | C102: 448 | D102: بهمن موتور | E102: 24946417 | G102: کندوان
B103: 27 | C103: 61 | D103: نیرو موتور دماوند | E103: 7069278.9 | G103: ایوانکی
B104: 28 | C104: 451 | D104: بهمن موتور | E104: 59095050 | G104: کندوان
B105: 29 | C105: 452 | E105: 24946417
B106: 30 | C106: 453 | E106: 24691431
B107: 31 | C107: 262&263 | D107: چوب سندل گرگان | E107: 374851.04 | G107: گرگان
B108: 32 | C108: 59 | D108: نیرو موتور دماوند | E108: 6793373.8 | G108: ایوانکی
B109: 33 | C109: 68 | D109: ایران خودرو | E109: 30416352 | G109: دانشگاه تهران
B110: 34 | C110: 265 | D110: کرمان موتور | E110: 48015393 | G110: پارس خودرو
B111: 35 | C111: 262 | D111: کیمیا روکش گرگان | E111: 416666.68 | G111: ولیعصر گرگان
B112: 36 | C112: 84 | D112: ایران خوردو دیزل | E112: 30261818 | G112: دانشگاه تهران
B113: 37 | C113: 85 | D113: ایران خودرو دیزل | E113: 30261818
B114: 38 | C114: 82 | D114: ایران خودرو دیزل | E114: 30419394
B115: 39 | C115: 6 | D115: متین خودرو | E115: 981235.2 | G115: زنجان
B116: 40 | C116: 10 | D116: متین خودرو | E116: 1277650 | G116: زنجان
B117: 41 | C117: 7 | D117: متین خودرو | E117: 303000 | G117: زنجان
B118: 42 | C118: 9 | D118: متین خودرو | E118: 318150 | G118: زنجان
B119: 43 | C119: 2 | D119: داروسازی دانا | E119: 1272646.5 | G119: تبریز
B120: 44 | C120: 310 | D120: رویان دارو | E120: 851515.17 | G120: فردوسی
B124: جمع کل حواله بدون اقدام | E124: =SUM(E77:E122) -> 4.1359474e+08 | F124: یوان

Sheet قرارداد مشتریان
B1: لیست مشتریان دارای قرارداد
A2: ردیف | B2: نام شرکت | C2: نام شعبه | D2: شماره قرارداد | E2: تاریخ شروع | F2: تاریخ خاتمه | G2: نامه تمدید | H2: زمان اخذ کارمزد | I2: مدت زمان اعلام وصول | J2: مدت رسوب | K2: معافیت کارمزد | L2: توضیحات
H3: ورود / خروج | I3: حداکثر زمان | K3: فروش به صرافی ملت / بانک
A4: 1 | B4: ملی گاز ایران | C4: سرافراز | D4: 98/CNT/1004 | E4: 98/05/01 | F4: 1402/04/28 | G4: طبق توافق طرفین قابل تمدید می باشد 31968 | H4: ورود
A5: 2 | B5: نفتیران اینترترید ( نیکو ) | C5: مستقل مرکزی | D5: 98/CNT/1002 | E5: 98/06/03 | F5: 1399/06/03 | G5: تمدید قرارداد مشخص نیست 36729 | H5: ورود | I5: 30روز
A6: 3 | B6: ملی پخش فرآورده های نفتی ایران | C6: مستقل مرکزی | D6: 98/CNT/1005 | E6: 98/10/20 | F6: 1401/11/01 | G6: تمدید خودکار 5622 | H6: ورود | I6: سی روز تقویمی
A7: 4 | B7: ملی پالایش و پخش فرآورده های نفتی ایران | C7: مستقل مرکزی | D7: 98/CNT/1001 | E7: 98/11/01 | F7: 1401/11/01 | G7: 4613/م | H7: خروج | I7: 30روز تقویمی | L7: مابه التفاوت هزینه مترتب بر کارسازی وجوه بر عهده شعبه مستقل مرکزی می باشد
A8: 5 | B8: پتروشیمی خارک | C8: مستقل مرکزی | D8: 98/CNT/1008 | E8: 98/11/01 | F8: 36961 | G8: خودبخود تمدید الحاقیه 3 | H8: ورود | I8: 30روز تقویمی | L8: نرخ 3/5درهم دلار و یورو چین 4 درهزار
A9: 6 | B9: ملی نفت ایران | C9: مستقل مرکزی | D9: 98/CNT/1003 | E9: 98/11/03 | F9: 1404/10/01 | G9: تمدید خودکار 28088 | H9: خروج | I9: دوماه
A10: 7 | B10: توربوکمپرسور نفت | C10: مستقل مرکزی | D10: 98/CNT/1006 | E10: 98/11/10 | F10: 1401.11.01 | G10: 5620تمدید خودکار | H10: ورود | I10: 15روز تقویمی | J10: یکماه از تاریخ واریز وجوه در حسابهای معرفی شده | K10: کارمزدهای ارزی مشتمل برکارمزدهای ریالی نمی باشد
A11: 8 | B11: تجارت صنعت پتروشیمی خلیج فارس | C11: مستقل مرکزی | D11: 98/CNT/1013 | E11: 1403/02/01 | F11: 1404.02.01 | G11: خود بخود تمدید 8507 | H11: خروج | L11: دلار یورو 4/5 درهزار و درهم 3/5 در هزار گردش بیش از بیست میلیون دلار نیم در هزار کاهش در هر دو ارز اجرا از اول اردیبهشت 1403
A13: 9 | B13: پالایش نفت لاوان | C13: شیراز | D13: 98/CNT/1021 | E13: 98/11/16 | F13: 1405.07.06 | G13: خودکار 38838 | H13: ورود | I13: دوماه | J13: 60
A14: 10 | B14: پتروشیمی شیراز | C14: از مستقل مرکزی به شیراز | D14: 99/CNT/1007 | E14: 1404.03.10 | F14: 1405.03.10 | G14: .47304189793 خودرکار | H14: خروج | I14: 15روز تقویمی | K14: مرکز مبادلات معاف
A15: 11 | B15: ملی نفتکش | C15: مستقل مرکزی | D15: 99/CNT/1012 | E15: 99/03/01 | F15: 1400/03/01 | H15: ورود | I15: 30روز تقویمی
A16: 12 | B16: پالایش نفت کرمانشاه | C16: کرمانشاه | D16: 99/CNT/1015 | E16: 99/03/12 | F16: 14012-03-12 | G16: 41154تمدید خودبخود | H16: خروج | I16: 60روز تقویمی
A17: 13 | B17: پتروشیمی بیستون | C17: کرمانشاه | D17: 99/CNT/1016 | E17: 99/03/12 | F17: 1402-01-12 | G17: خودبخود تمدید 1963/م | H17: خروج | I17: 60روز تقویمی
A19: 14 | B19: تجهیزات گاز تامکار | C19: سپهبدقرنی | D19: 98/CNT/1023 | E19: 99/03/12 | F19: 1402/03/12 | G19: م/1964تمدیدخودبخود | H19: ورود | I19: دوماه | K19: رسوب یکماه قید شده
A20: 15 | B20: پتروشیمی پردیس | C20: مستقل مرکزی | D20: 99/CNT/1020 | E20: 99/04/01 | F20: 1402/04/01 | G20: 34360تمدیدخودکار | H20: ورود | I20: دوماه | L20: دلار و یورو 6 درهزار درهم 4 درهزار اروپا1
A21: 16 | B21: توسعه پترو ایران | C21: مستقل مرکزی | D21: 99/CNT/1022 | E21: 99/04/01 | F21: 1402/04/01 | G21: 31737تمدید خودرکار | H21: ورود | I21: 30روزکاری
A22: 17 | B22: سیمان داراب | C22: شیراز | D22: 99/CNT/1030 | E22: 99/05/01 | F22: 1400/05/01 | G22: اتمام قرارداد40236 | H22: ورود | I22: دوماه
A23: 18 | B23: جندی شاپور | C23: میرداماد | D23: 99/CNT/1038 | E23: 99/08/27 | F23: 1402/08-27 | G23: 41155خودبخود تمدید | H23: ورود | I23: دوماه | J23: یکماه از تاریخ واریز | K23: 0 | L23: عدم امکان واریز بعد از انقضاء قرارداد
A24: 19 | B24: نفت ستاره خلیج فارس | C24: مستقل مرکزی | D24: 99/CNT/1018 | E24: 99/05/13 | F24: 1402/05/13 | G24: 33204خودبخود تمدید | H24: ورود | I24: 15روز کاری
A25: 20 | B25: نفت و گاز سیه فام | C25: ولیعصر نبش دکتر بهشتی | D25: 99/CNT/1040 | E25: 99/05/07 | F25: 1400/05/01 | G25: بدلیل عدم ایفای تعهدات گذشته قرارداد تمدید نمی گردد36729 | H25: ورود | I25: دوماه
A26: 21 | B26: صنایع سلولزی مارینا سان | C26: بانکداری شرکتی -ظفر | D26: 99/CNT/1024 | E26: 99/05/27 | F26: 1402/05/27 | G26: خودکار تمدید 35484 | H26: ورود | I26: دوماه | J26: یکماه از تاریخ واریز | L26: عدم امکان واریز بعد از انقضاء قرارداد
A27: 22 | B27: فولاد مبارکه اصفهان | C27: اصفهان | D27: 99/CNT/1034 | E27: 99/05/27 | F27: 1400/05/27 | G27: 130741 | H27: خروج | I27: دو ماه
D28: 1403/CNT/1143 | E28: 1403.07.14 | F28: 1404.07.14
A29: 23 | B29: ذوب آهن اصفهان | C29: اصفهان | D29: 99/CNT/1039 | E29: 99/05/27 | F29: 1400/05/27 | H29: ورود | I29: دوماه
D30: 1402/CNT/1128 | E30: 1402/10/06 | F30: 1403/10/06 | G30: خود بخود تمدید | H30: ورود | I30: 15روز تقویمی | J30: یکماه از تاریخ واریز
A31: 24 | B31: پلیمر آریا ساسول | C31: مستقل مرکزی | D31: 99/CNT/1037 | E31: 99/06/17 | F31: 1405.06.17 | G31: 130472 | H31: خروج | I31: دو ماه
A33: 25 | B33: نفت بهران | C33: بانکداری شرکتی -ظفر | D33: 99/CNT/1041 | E33: 99/06/31 | F33: 1402/06/31 | G33: تمدید خودکار 37951 | H33: ورود | I33: دوماه | J33: دوماه از تاریخ واریز | L33: عدم امکان واریز بعد از انقضاء قرارداد
A35: 26 | B35: چدن سازان | C35: شیخ صدوق اصفهان | D35: 99/CNT/1033 | E35: 99/06/31 | F35: 1401/06/31 | G35: 21737 | H35: ورود | I35: دوماه | J35: یکماه از تاریخ واریز | L35: عدم امکان واریز بعد از انقضاء قرارداد
A36: 27 | B36: صنایع مس | C36: بانکداری شرکتی - ظفر | D36: 99/CNT/1042 | E36: 1400/12/25 | F36: 1401/12/25 | G36: 25890 | H36: ورود | I36: سه ماه
D37: 1405/CNT/1132 | E37: 1405.04.20 | F37: 1406.05.20 | G37: 10897/15286 | H37: خروج | I37: 15روز تقویمی | J37: 14روز از تاریخ واریز
A38: 28 | B38: سیم و کابل ابهر | C38: بانکداری شرکتی -ظفر | D38: 99/CNT/1044 | E38: 99/07/07 | F38: 1402/07/07 | G38: 37332تمدید خودکار | H38: ورود | I38: دوماه | J38: یکماه از تاریخ واریز | L38: عدم امکان واریز بعد از انقضاء قرارداد
A39: 29 | B39: فرآورده های لبنی گلستان صباح | C39: صباح گنبد | D39: 99/CNT/1048 | E39: 99/07/28 | F39: 1400/07/28 | G39: 47488 | H39: ورود | I39: دو ماه
D40: 1271 | E40: 1404.10.03 | F40: 1405.10.03 | I40: 15 | J40: 15
A41: 30 | B41: فرآورده های گل یاس لبن | C41: صباح گنبد | D41: 99/CNT/1049 | E41: 99/07/28 | F41: 1400/07/28 | G41: بدلیل عدم پاسخگویی هلیدینگ قرارد تمدید نخواهد شد 36729 | H41: ورود | I41: دو ماه
A42: 31 | B42: صباح پودر فجر | C42: صباح گنبد | D42: 99/CNT/1050 | E42: 99/07/28 | F42: 1400/07/28 | H42: ورود | I42: دو ماه
A43: 32 | B43: صنایع شیر فجر گنبد | C43: صباح گنبد | D43: 99/CNT/1051 | E43: 99/07/28 | F43: 1400/07/28 | G43: 47485 | H43: ورود | I43: دوماه
D44: 1270 | E44: 1404.10.03 | F44: 1405.10.03 | I44: 15 | J44: 15
A45: 33 | B45: صنایع شیر فجر آساک قوچان | C45: صباح گنبد | D45: 99/CNT/1052 | E45: 99/07/28 | F45: 1400/07/28 | G45: 47480 | H45: ورود | I45: دوماه
D46: 1269 | E46: 1404.10.03 | F46: 1405.10.03 | I46: 15 | J46: 15
A47: 34 | B47: پالایش نفت اصفهان | C47: اصفهان | D47: 99/CNT/1029 | E47: 99/08/05 | F47: 1401/08/05 | H47: ورود | I47: دوماه
A48: 35 | B48: پتروشیمی مارون | C48: مرکزی اهواز | D48: 99/CNT/1010 | E48: 99/11/06 | F48: 1401/11/06 | G48: خودبخود تمدید 27645/ | H48: خروج | I48: دوماه | J48: یکماه از تاریخ واریز
C49: تندگویان | D49: 1403/CNT/1144 | E49: 1403.07.21 | F49: 1404.07.21 | G49: 24148 | H49: خروج | I49: دوماه | K49: خرید ارز توسط بانک معاف / نرخ ثابت است تا پایان قرارداد | L49: درهم 3.5 و دلار و یورو 4درهزار
A50: 36 | B50: شرکت پالایش نفت تهران | C50: پالایش نفت تهران | D50: 1400/CNT/1060 | E50: 1400/03/22 | F50: 1401/03/22 | G50: بدلیل تغییر هیات مدیره تمایلی به تمدید نمی باشد 36729 | H50: ورود | I50: 15روزتقویمی | J50: سه ماه از تاریخ واریز
A51: 37 | B51: صنعت خشکبار و حبوبات کوروش | C51: بانکداری شرکتی -ظفر | D51: 1400/CNT/1063 | E51: 1400/04/28 | F51: 1402/04/28 | G51: خودکار تمدید35487 | H51: ورود | I51: 15روز تقویمی | J51: یکماه از تاریخ واریز
A52: 38 | B52: ایران تابلو | C52: سه راه طالقانی | D52: 1400/CNT/1061 | E52: 1400/04/21 | F52: 1401/04/21 | H52: ورود | I52: 15روز تقویمی | J52: یکماه از تاریخ واریز
A53: 39 | B53: متانول کاوه | C53: نارنجستان پاسداران | D53: 99/CNT/1035 | E53: 1400/05/11 | F53: 1402/05/11 | G53: 33203خودبخودتمدید | H53: خروج | I53: 30روز | J53: یکماه از تاریخ واریز
A54: 40 | B54: سنا دام پارس | C54: بانکداری شرکتی - ظفر | D54: 1400/CNT/1064 | E54: 1400/05/11 | F54: 1401/05/11 | H54: ورود | I54: 15روز تقویمی | J54: یکماه از تاریخ واریز
A55: 41 | B55: به تام روانکار | C55: بانکداری شرکتی - ظفر | D55: 1400/CNT/1065 | E55: 1400/06/30 | F55: 1402/06/30 | G55: تمدید خودکار 37949 | H55: ورود | I55: 15روز تقویمی | J55: یکماه از تاریخ واریز | K55: هزینه نگهداری ماده 6 بند 6-2
A56: 42 | B56: مهندسی و ساختمانی جهانپارس | C56: بانکداری شرکتی - ظفر | D56: 1400/CNT/1066 | E56: 1400/08/22 | F56: 1401/08/22 | G56: ابطال شده | H56: ورود | I56: 30روزتقویمی | J56: دوماه از تاریخ واریز
C57: ظفر | D57: 1403/cnt/1202 | E57: 1403.12.18 | F57: 1404.12.18 | G57: خودکار 49758 | H57: ورود | I57: 30 | J57: 60
A58: 43 | B58: ایرانسل | C58: بانکداری شرکتی - ظفر | D58: 1400/CNT/1062 | E58: 1400/10/01 | F58: 1401/10/01 | H58: ورد | I58: 15روز تقویمی | L58: عدم امکان واریز بعد از انقضاء قرارداد
A59: 44 | B59: پاکسان | C59: ظفر | D59: 1400/CNT/1069 | E59: 1400/10/01 | F59: 1401/10/01 | H59: ورود | I59: 30روز تقویمی | J59: یکماه از تاریخ واریز | K59: هزینه نگهداری ماده 6 بند 6-2 | L59: عدم امکان واریز بعد از انقضاء قرارداد
D60: 1274 | E60: 1404.10.18 | F60: 1405.10.18 | G60: خودکار 50269 | I60: 15 | J60: 15
A61: 45 | B61: فرآورده های قیری هرمزپاسارگاد | C61: بانکداری شرکتی -ظفر | D61: 1400/CNT/1072 | E61: 1400/10/01 | F61: 1401/10/01 | H61: ورود | I61: دوماه | L61: عدم امکان واریز بعد از انقضاء قرارداد
A62: 46 | B62: پتروشیمی فن آوران | C62: مرکزی اهواز | D62: 1400/CNT/1056 | E62: 1400/10/11 | F62: 1403/10/11 | G62: 107966تمدید + تاریخ رسوب | H62: خروج | I62: 15روز تقویمی | J62: 14روز از تاریخ واریز | L62: عدم امکان واریز بعد از انقضاء قرارداد
A63: 47 | B63: پتروشیمی رازی | C63: مرکزی اهواز | D63: 1400/CNT/1075 | E63: 1401/04/17 | F63: 1402-04-17 | G63: خودبخود تمدید 1772/م | H63: ورورد | I63: 15روز تقویمی | J63: 60روز از تاریخ واریز
A64: 48 | B64: ملی مهندسی و ساختمان نفت | C64: مرکزی | D64: 1401/CNT/1077 | E64: 1401/03/25 | F64: 1402/03/25 | G64: خودبخودتمدید30606 | H64: ورود | I64: 15روز کاری | J64: 2ماه از تاریخ واریز
A65: 49 | B65: انرژی امین کسری | C65: گلفام | D65: 1401/CNT/1076 | E65: 1401/04/20 | F65: 1402/04/20 | G65: خودبخود تمدید3008 | H65: ورود | I65: 15رو زکاری | J65: 45روز از تاریخ واریز
A66: 50 | B66: مس باهنر | C66: ظفر | D66: 1401/CNT/1079 | E66: 1401/07/30 | F66: 1402/07/30 | G66: خود بخود تمدید37333 | H66: ورود | I66: 30روز تقویمی | J66: 60روز از تاریخ واریز
A67: 51 | B67: حافظ دریای آریاHDA | C67: نارنجستان پاسداران | D67: 1401/CNT/1081 | E67: 1401/05/30 | F67: 1402/05/30 | G67: خودبخود تمدید33202 | H67: ورود | I67: 30روزتقویمی | J67: دوماه از تاریخ واریز
A68: 52 | B68: کشتیرانی جمهوری اسلامی ایران | D68: 1401/CNT/1073 | E68: 1401/06/09 | F68: 1402/07/09 | G68: خودبخود تمدید 34005 | H68: ورود | I68: 30روز تقویمی | J68: دو ماه از تا یخ واریز
A69: 53 | B69: پترو پالایش کنگان | C69: سپهبدقرنی | D69: 1401/CNT/1078 | E69: 1401/08/08 | F69: 1402/08/08 | G69: خودبخود تمدید37950 | H69: ورود | I69: 15روز تقویمی | J69: یکماه از تاریخ واریز
A70: 54 | B70: پتروشیمی امیر کبیر | C70: جیحون | D70: 1401/CNT/1009 | E70: 1401/06/23 | F70: 1402/06/23 | G70: خودبخود تمدید 5731 | H70: خروج | I70: 30روز تقویمی | J70: یکماه از تاریخ واریز
A71: 55 | B71: تجهیز نیرو پترو کیمیا | C71: لاله ملت | D71: 1401/CNT/1083 | E71: 1401/06/23 | F71: 1402/06/23 | G71: خودبخود تمدید 35024 | H71: ورود | I71: 15روز | J71: یکماه از تاریخ واریز
A72: 56 | B72: معدنی املاح ایران | C72: ظفر | D72: 1401/CNYT/1084 | E72: 1401/07/30 | F72: 1402/07/30 | G72: خودبخود تمدید37334 | H72: ورود | I72: 15روز تقویمی | J72: یکماه از تاریخ واریز
A73: 57 | B73: پترو نیرو صبا | C73: اسکان | D73: 1401/CNT/1086 | E73: 1401/06/27 | F73: 1402/06/27 | G73: خودبخود تمدید6107/م | H73: ورود | I73: 15روز تقویمی | J73: یکماه از تاریخ واریز
A74: 58 | B74: پتروشیمی لاله | C74: تندگویان (29551نامه ) | D74: 1401/CNT/1045 | E74: 1401/08/08 | F74: 1404/08/08 | G74: الحاقیه 2 | H74: خروج | I74: دو ماه | J74: یکماه از تاریخ واریز | K74: درخواست تلفنی معاف مرکز مبادلات
A75: 59 | B75: سازنده توربوکمپرسور | C75: مرکزی | D75: 1401/CNT/1092 | E75: 1401/09/08 | F75: 1402/09/09 | G75: خودبخود تمدید40421 | H75: ورود | I75: 15روزتقویمی | J75: یکماه از تاریخ وارز
A76: 60 | B76: آهن فولاد ارفع | C76: گلفام | D76: 1401/CNT/1094 | E76: 1401/09/30 | F76: 1402/09/30 | G76: خودبخود تمدید43464 | H76: ورود | I76: 15روز تقویمی | J76: یکماه از تاریخ واریز
A77: 61 | B77: نفت پارس | C77: ظفر | D77: 1402/CNT/1080 | E77: 1401/09/30 | F77: 1402/09/30 | G77: خود بخود تمدید 43570 | H77: ورود | I77: 15روز تقویمی | J77: 3ماه از تاریخ واریز
A78: 62 | B78: صبا فولاد خلیج فارس | C78: اسکان | D78: 1401/CNT/1091 | E78: 1401/10/13 | F78: 1402/10/13 | G78: خودبخود تمدید44953 | H78: ورود | I78: 15روز تقویمی | J78: یکماه از تاریخ واریز
A79: 63 | B79: چادر ملو | C79: ظفر | D79: 1401/CNT/1093 | E79: 1401/10/13 | F79: 1402/10/13 | G79: خود بخود تمدید44955 | H79: ورود | I79: 15روز تقویمی | J79: یکماه از تاریخ واریز
A80: 64 | B80: کشتیرانی والفجر | C80: نارنجستان پاسداران | D80: 1401/CNT/1096 | E80: 1401/11/06 | F80: 1402/12/06 | G80: خودبخود تمدید 47209 | H80: ورود | I80: 30روز تقویمی | J80: 2ماه از تاریخ واریز
A81: 65 | B81: تجهیزات توربوکمپرسور | C81: مرکزی | D81: 1401/CNT/1100 | E81: 1401/11/11 | F81: 1402/11/11 | G81: خودبخود تمدید 47926 | H81: ورود | I81: 15روز تقویمی | J81: یکماه از تاریخ واریز
A82: 66 | B82: توربین های صنعتی غدیر یزد | C82: یزد | D82: 1401/CNT/1103 | E82: 1401-11-30 | F82: 1402-11-30 | G82: خودبخود تمدید | H82: ورود | I82: 15روز تقویمی | J82: 1ماه از تاریخ واریز
A83: 67 | B83: نفت ایرانول | D83: 1401/CNT/1036 | E83: 1401-12-13 | F83: 1402-12-13 | G83: خود بخود تمدید15050 | H83: خروج | I83: 20روز تقویمی | J83: 1ماه از تاریخ واریز
A84: 68 | B84: پتروشیمی تبریز | C84: تبریز | D84: 1401/CNT/1025 | E84: 1402/01/19 | F84: 1403/01/19 | G84: خودبخود تمدید 56822 | H84: ورود | I84: 15روز تقویمی | J84: ۱ماه از تاریخ واریز | L84: نرخ کارمزد ۴درهم و یورو و دلار ۵/۵ درهزار
A85: 69 | B85: سهند فلات تبریز | C85: تبریز | D85: 1401/CNT/1106 | E85: 1402/01/19 | F85: 1403/01/19 | G85: خود بخود تمدید 56820 | H85: ورود | I85: 15روز تقویمی | J85: 1ماه از تاریخ واریز
A86: 70 | B86: آلومنیوم المهدی | C86: مصلی بندرعباس | D86: 1401/CNT/1087 | E86: 1402/01/19 | F86: 1403/01/19 | G86: خود بخود تمدید 56819 | H86: ورود | I86: 15روز تقویمی | J86: 1ماه از تاریخ واریز | L86: نرخ کارمزد ۴درهزار یورو و دلار ۶درهزار
A87: 71 | B87: ایلام | D87: 1401/CNT/1105 | E87: 1402/01/19 | F87: 1403/01/19 | G87: خود بخود تمدید56816 | H87: ورود | I87: 15روزتقویمی | J87: 1ماه از تاریخ واریز
A88: 72 | B88: فولاد هرمزگان جنوب | D88: 1401/CNT/1095 | E88: 1402/02/05 | F88: 1403/02/05 | G88: خود بخود تمدید58541 | H88: ورود | I88: ۱۵روز تقویمی | J88: ۶۰ روز
A89: 73 | B89: سفیران پیام دریا | C89: نارنجستان پاسداران | D89: 1401/CNT/1088 | E89: 1401/12/24 | F89: 14022/12/24 | G89: خودبخود تمدید59799 | H89: ورود | I89: 30روز تقویمی | J89: 60روز از تاریخ واریز
A90: 74 | B90: ریخته گری | C90: شاهرود | D90: 1401/CNT/1108 | E90: 1402/02/24 | F90: 1403/02/24 | G90: خودبخود تمدید61734 | H90: ورود | I90: 15روز تقویمی | J90: یکماه از تاریخ واریز
A91: 75 | B91: کشتیرانی دریای خزر | C91: غازیان بندر انزلی | D91: 1401/CNT/1110 | E91: 1402/03/08 | F91: 1403/03/08 | G91: خودبخود تمدید 64038 | H91: ورود | I91: 15روز تقویمی | J91: یکماه از تاریخ واریز
A92: 76 | B92: پترو صنعت رادمهر کرمانشاه | C92: کرمانشاه | D92: 1401/CNT/1107 | E92: 1402/03/22 | F92: 1403/03/22 | G92: خودبخود تمدید 9654 | H92: ورود | I92: 15روز تقویمی | J92: یکماه از تاریخ واریز
A93: 77 | B93: راهبر ترابر انرژی | C93: اصفهان | D93: 1401/CNT/1109 | E93: 1402/03/22 | F93: 1403/03/22 | G93: خودبخود تمدید 65755 | H93: ورود | I93: 15روز تقویمی | J93: یکماه از تاریخ واریز
A94: 78 | B94: مهندسی ایتوک ایران | C94: ونک | D94: 1402/CNT/1112 | E94: 1402/04/10 | F94: 1403/04/10 | G94: خودبخود تمدید 68188 | H94: ورود | I94: 15روز تقویمی | J94: یکماه از تاریخ واریز
A95: 79 | B95: گروه صنعتی بارز | C95: هفت تیر | D95: 1402/CNT/1114 | E95: 1402/06/05 | F95: 1403/06/05 | G95: خودبخود تمدید 21027 | H95: ورود | I95: 15روز تقویمی | J95: یکماه از تاریخ واریز | L95: نرخ کارمزد 4 درهزار دلار و یورو 6 در هزار
A96: 80 | B96: سفیران دریای فردا | C96: غازیان بندر انزلی | D96: 140/CNT/1119 | E96: 1402/06/18 | F96: 1403/06/18 | G96: خودبخود تمدید | H96: ورود | I96: 15روز تقویمی | J96: یکماه از تاریخ واریز
A97: 81 | B97: نفت جی هرمز | C97: مستقل مرکزی | D97: 1402/CNT/1123 | E97: 1402/07/22 | F97: 1403/07/22 | G97: خودبخود تمدید | H97: ورود | I97: 15روز تقویمی | J97: یکماه از تاریخ واریز | L97: نرخ کارمزد درهم 3.5 درهزار - دلار و یورو 4/5
A98: 82 | B98: بیمه کوثر | C98: استاد مطهری | D98: 142/CNT/1117 | E98: 1402/07/29 | F98: 1403/07/29 | G98: خود بخود تمدید ش 84038 | H98: ورود | I98: 15روز تقویمی | J98: یکماه از تاریخ واریز
A99: 83 | B99: سیس تجارت کارمانیا | C99: کرمان | D99: 1402/CNT/1120 | E99: 1402/07/30 | F99: 1403/07/30 | G99: خودبخود تمدید ش 84223 | H99: ورود | I99: 15روز تقویمی | J99: یکماه از تاریخ واریز
A100: 84 | B100: بید بلند | C100: مرکزی | D100: 1402/CNT/1122 | E100: 1402/08/29 | F100: 1403/08/29 | G100: خود بخود تمدید | H100: ورود | I100: 15روز تقویمی | J100: یکماه از تاریخ واریز | L100: درهم 4 درهزار یورو و دلار 5 درهزار
A101: 85 | B101: توسعه تجارت راهبر ترابر | C101: اصفهان | D101: 1402/CNT/1125 | E101: 1402/09/18 | F101: 1403/09/18 | G101: خود بخود تمدید 35014 | H101: ورود | I101: 15روزتقویمی | J101: یکماه از تاریخ واریز
A102: 86 | B102: لوید آلمان کیش | C102: دکتر بهشتی | D102: 1402/CNT/1127 | E102: 1402/09/25 | F102: 1403/09/25 | G102: خود بخود تمدید 35855 | H102: ورود | I102: 15روز تقویمی | J102: یکماه از تاریخ واریز
A103: 87 | B103: غلتک سازان سپاهان | C103: چهار باغ بالا اصفهان | D103: 1402/CNT/1126 | E103: 1402/09/29 | F103: 1403/09/29 | G103: خودبخود تمدید | H103: ورود | I103: 15روز تقویمی | J103: یکماه از تاریخ واریز
A104: 88 | B104: o1 | C104: شعبه مرکزی | D104: 1402/CNT/1129 | E104: 1402/11/11 | F104: 14023/11/11 | G104: خودبخود تمدید 99406 | H104: ورود | I104: 15روز تقویمی | J104: دوماه از تاریخ واریز
...

Sheet مکاتبه مستقیم 
A1: لیست مشتریان بابت مکاتبه مستقیم
A2: ردیف | B2: نام مشتری | C2: شماره نامه | D2: تاریخ | E2: نام شعبه | F2: توضیحات
A3: 1 | B3: نیکو | C3: 1403/-19003 | D3: 1403.06.17 | E3: آقای معصومیان | F3: با امضای جناب سعیدی
A4: 2 | B4: تجارت صنعت | C4: 1403/-16379 | D4: 1403.05.28 | E4: مرکزی
A5: 3 | B5: فن آوران | C5: 1403/-16380/162324 | D5: 1403.05.28 | E5: اهواز | F5: در متن الحاقیه 3
A6: 4 | B6: پتروشیمی لاله | C6: 1403/-22005 | D6: 1403.07.07 | E6: تندگویان
A7: 5 | B7: پتروشیمی ایلام | C7: 1403/-22430 | D7: 1403.07.09 | E7: ایلام
A8: 6 | B8: پتروشیمی خارک | C8: 1403/-22902 | D8: 1403.07.12 | E8: مرکزی
A9: 7 | B9: پتروشیمی شیراز
A10: 8 | B10: پترشیمی پردیس
A11: 9 | B11: نفت ستاره خلیج فارس
A12: 10 | B12: پلیمر آریا ساسول
A13: 11 | B13: فولاد مبارکه اصفهان | C13: 1403/-23172 | D13: 1403.07.14 | E13: اصفهان
A14: 12 | B14: نفت سپاهان | C14: 1403/-23163 | D14: 1403.07.14 | E14: ظفر
A15: 13 | B15: نیرو کلر | C15: 1403/-23164 | D15: 1403.07.14 | E15: اصفهان
A16: 14 | B16: ریخته گری دقیق پارس | C16: 1403/-23168 | D16: 1403.07.14 | E16: سمنان
A17: 15 | B17: پترو پالایش کنگان | C17: 1403/-23170 | D17: 1403.07.14 | E17: سپهبد قرنی
A18: 16 | B18: پتروشیمی رازی | C18: 1403/-23171 | D18: 1403.07.14 | E18: اهواز
A19: 17 | B19: کشتیرانی دریای خزر | C19: 1403/-23166 | D19: 1403.07.14 | E19: رشت
A20: 18 | B20: سفیران دریای فردا
A21: 19 | B21: فولاد هرمزگان | C21: 1403/-23169 | D21: 1403.07.14 | E21: بندرعباس
A22: 20 | B22: پتروشیمی لاوان | C22: 1403/-23298 | D22: 1403.07.14 | E22: شیراز
A23: 21 | B23: صبا فولاد خلیج فارس | C23: 1403/-23279 | D23: 1403.07.15 | E23: اسکان
A24: 22 | B24: پترشیمی امیر کبیر | C24: 1403/-23275 | D24: 1403.07.15 | E24: سایپا جیحون
A25: 23 | B25: پتروشیمی مارون | C25: 1403/-25055 | D25: 1403/07.25 | E25: تندگویان
A26: 24 | B26: نفت ایرانول | C26: 1403/-26853 | D26: 1403/08.06 | E26: گلستان پاسداران
A27: 25 | B27: حافظ دریا | C27: 1403/-27064 | D27: 1403/08/07 | E27: نارنجستان پاسداران
A28: 26 | B28: سفیران پیام دریا | F28: قبول نکرده منتظرپاسخیم
A29: 27 | B29: متانول کاوه
A30: 28 | B30: گاز تامکار | C30: 1403/-27063 | D30: 1403.08.07 | E30: سپهبد قرنی
A31: 29 | B31: پتروشیمی تبریز | C31: 27034 | D31: 1403.08.07 | E31: مرکزی تبریز
A32: 30 | B32: بیستون | C32: 27062 | D32: 1403.08.07 | E32: مرکزی کرمانشاه
A33: 31 | B33: پالایش نفت کرمانشاه
A34: 32 | B34: پتروشیمی مروارید | C34: 27326 | D34: 1403.08.09 | E34: مرکزی بوشهر | F34: در قرارداد قید شده
A35: 33 | B35: فرآوردهای قیری هرمز پاسارگاد | C35: 28558 | D35: 1403.08.15 | E35: ظفر
A36: 34 | B36: راهبر ترابر انرژی | C36: 29147 | D36: 1403.08.19 | E36: مرکزی اصفهان
A37: 35 | B37: قائد بصیر | C37: 29503 | D37: 1403.08.20 | E37: گاندی
A38: 36 | B38: صنایع آلومینیوم جنوب | C38: 33742 | D38: 1403.09.12 | E38: چهارراه ولیعصر
A39: 37 | B39: نفت پارس | C39: 44040 | D39: 1403.11.16 | E39: ظفر
A40: 38 | B40: پتروشیمی تخت جمشید | C40: 49287 | D40: 1403.12.15 | E40: تندگویان
A41: 39 | B41: پتروشیمی جم | C41: 1844 | D41: 1404.01.23 | E41: بوشهر
A42: 40 | B42: آفاق سوخت اطلس | C42: 2728 | D42: 1404.01.27 | E42: قزوین
A43: 41 | B43: طلایه داران مس جیرفت | C43: 2877 | D43: 1404.01.30 | E43: سعادت آباد
A44: 42 | B44: تلاشگران مواد معدنی کیمیا صنعت ایرانیان | C44: 2877 | D44: 1404.01.30 | E44: سعادت آباد
A45: 43 | B45: بازرگانی و عمرانی زنوبر ایرانیان | C45: 3151 | D45: 1404.01.31 | E45: نجات الهی شمالی
A46: 44 | B46: هوایار گاز بین الملل | C46: 3150 | D46: 1404.01.31 | E46: ایلام
... A53: 51 | B53: نفت پاسارگاد | C53: 59010 | D53: 1404.11.29 | E53: ظفر

Sheet مبنای کارمزد
B2: نحوه اخذ کارمزد از مشتریان دارای قرارداد
A3: ردیف | B3: نام شرکت | C3: زمان اخذ کارمزد | E3: ردیف | F3: نام شرکت | G3: زمان اخذ کارمزد
C4: ورود / خروج | G4: ورود / خروج
A5: 1 | B5: ملی گاز ایران | C5: ورود | E5: 52 | F5: کشتیرانی جمهوری اسلامی ایران | G5: ورود
A6: 2 | B6: نفتیران اینترترید ( نیکو ) | C6: ورود | E6: 53 | F6: پترو پالایش کنگان | G6: ورود
A7: 3 | B7: ملی پخش فرآورده های نفتی ایران | C7: ورود | E7: 54 | F7: پتروشیمی امیر کبیر | G7: خروج
A8: 4 | B8: ملی پالایش و پخش فرآورده های نفتی ایران | C8: خروج | E8: 55 | F8: تجهیز نیرو پترو کیمیا | G8: ورود
A9: 5 | B9: پتروشیمی خارک | C9: ورود | E9: 56 | F9: معدنی املاح ایران | G9: ورود
A10: 6 | B10: ملی نفت ایران | C10: خروج | E10: 57 | F10: پترو نیرو صبا | G10: ورود
A11: 7 | B11: توربوکمپرسور نفت | C11: ورود | E11: 58 | F11: پتروشیمی لاله | G11: خروج
A12: 8 | B12: تجارت صنعت پتروشیمی خلیج فارس | C12: خروج | E12: 59 | F12: سازنده توربوکمپرسور | G12: ورود
A13: 9 | B13: پالایش نفت لاوان | C13: ورود | E13: 60 | F13: آهن فولاد ارفع | G13: ورود
A14: 10 | B14: پتروشیمی شیراز | C14: ورود | E14: 61 | F14: نفت پارس | G14: ورود
A15: 11 | B15: ملی نفتکش | C15: ورود | E15: 62 | F15: صبا فولاد خلیج فارس | G15: ورود
A16: 12 | B16: پالایش نفت کرمانشاه | C16: خروج | E16: 63 | F16: چادر ملو | G16: ورود
... A54: 50 | B54: مس باهنر | C54: ورود | E54: 101 | F54: قائد بصیر | G54: ورود
A55: 51 | B55: حافظ دریای آریا | C55: ورود

Sheet مقایسه ای 
C3: OK
B4: مجموع کل | C4: مجموع کل
B5: 1405 | C5: 1404
A6: تضامني سهيل و سروش نجف زاده | B6: 42464788 | C6: 50273393 | D6: =SUM(B6-C6)*100/C6 -> -15.532281
A7: تضامني سيد محمد حسن ابطحي و شركا | B7: 47623373 | C7: 34675879 | D7: =SUM(B7-C7)*100/C7 -> 37.338617
A8: حميد رضا تقوي | B8: 86159658 | C8: 1.4331031e+08 | D8: =SUM(B8-C8)*100/C8 -> -39.878956
A9: شركت تضامني ابراهيمي و شركا | B9: 1.1647268e+08 | C9: 2.9545215e+08 | D9: =SUM(B9-C9)*100/C9 -> -60.578159
A10: شركت تضامني آريا تجارت صابر و شريك | B10: 18931959 | D10: =SUM(B10-C10)*100/C10 -> #DIV/0!
A11: شركت تضامني داود مولاوردي زاده و شركا | B11: 9689247.3 | C11: 16773889 | D11: =SUM(B11-C11)*100/C11 -> -42.236129
A12: شركت تضامني سيد محمد مثنايي نجيبي و شركا | B12: 2.8463127e+08 | C12: 4.5448374e+08 | D12: =SUM(B12-C12)*100/C12 -> -37.372619
A13: شركت تضامني صرافي ادريس محمدي و شركا | B13: 1.9442752e+08 | C13: 83394182 | D13: =SUM(B13-C13)*100/C13 -> 133.14278
A14: شركت تضامني صرافي افسانه بحرالعلوم و شركا | B14: 7341401.3 | C14: 17350217 | D14: =SUM(B14-C14)*100/C14 -> -57.686978
A15: شركت تضامني صرافي پيمان اصغري و شركا | B15: 95698861 | D15: =SUM(B15-C15)*100/C15 -> #DIV/0!
A16: شركت تضامني صرافي زيبا الهويردي زاده و شركا | B16: 16177105 | C16: 15779324 | D16: =SUM(B16-C16)*100/C16 -> 2.5208996
A17: شركت تضامني صرافي سعيد ربيعي منفرد و شركا | B17: 27806845 | D17: =SUM(B17-C17)*100/C17 -> #DIV/0!
A18: شركت تضامني صرافي علي كمالي و شركا | B18: 40951283 | D18: =SUM(B18-C18)*100/C18 -> #DIV/0!
A19: شركت تضامني صرافي قلي نژاد واجارگاه وشركا | B19: 28528553 | C19: 21211254 | D19: =SUM(B19-C19)*100/C19 -> 34.497248
A20: شركت تضامني صرافي كامبيز نبي زاده و شركا | B20: 1.3194078e+08 | D20: =SUM(B20-C20)*100/C20 -> #DIV/0!
A21: شركت تضامني صرافي مهدي ملك زاده و شركا | B21: 54350697 | C21: 46042222 | D21: =SUM(B21-C21)*100/C21 -> 18.045338
A22: شركت تضامني صرافي مينا فشكي و شركا | B22: 1.3176826e+08 | C22: 2.9775934e+08 | D22: =SUM(B22-C22)*100/C22 -> -55.746723
A23: شركت تضامني صرافي ناصر قاسمي راد | B23: 3464503.9 | C23: 15002271 | D23: =SUM(B23-C23)*100/C23 -> -76.906804
A24: شركت تضامني صرافي ياسر نقشبندي و شركا | B24: 2497547.4 | C24: 59379286 | D24: =SUM(B24-C24)*100/C24 -> -95.793908
A25: شركت تضامني محمد درباني و شركاء | B25: 1.9928862e+08 | C25: 3.8218026e+08 | D25: =SUM(B25-C25)*100/C25 -> -47.854811
A26: شركت تضامني محمد هادي مومنين و شركا | B26: 51282106 | C26: 80280699 | D26: =SUM(B26-C26)*100/C26 -> -36.121501
A27: شركت تضامني مهدي رستم آبادي و شركا | B27: 19743766 | C27: 11795974 | D27: =SUM(B27-C27)*100/C27 -> 67.377156
A28: شركت تضامني مهرداد گراميان نيك و شركا | B28: 32282072 | C28: 96088622 | D28: =SUM(B28-C28)*100/C28 -> -66.403856
A29: شركت صرافي ملت | B29: 74842131 | C29: 2.9651859e+08 | D29: =SUM(B29-C29)*100/C29 -> -74.759717
A30: كيوان معنوي طهراني | B30: 396710.78 | C30: 522998.24 | D30: =SUM(B30-C30)*100/C30 -> -24.146823
A31: شركت تضامني بهنام صفروند و شركا | C31: 2022749.4 | D31: =SUM(B31-C31)*100/C31 -> -100
A32: شركت تضامني حسين آقاياري و شركا | C32: 1410363.3 | D32: =SUM(B32-C32)*100/C32 -> -100
A33: شركت تضامني صرافي احسان صفوي امير و شركا | D33: =SUM(B33-C33)*100/C33 -> #DIV/0!
A34: شركت تضامني صرافي لواساني و شركا | B34: 44769.665 | C34: 7557785.4 | D34: =SUM(B34-C34)*100/C34 -> -99.407635
A35: شركت تضامني صرافي جواد ذاكري دانا و شركا | B35: 111738.08 | D35: =SUM(B35-C35)*100/C35 -> #DIV/0!
A36: شركت تضامني صرافي حميد رضا يعقوبي و شركا | B36: 118055.51 | D36: =SUM(B36-C36)*100/C36 -> #DIV/0!
A37: شركت تضامني جواد پور دارا و شركا | C37: 2483250
A38: شركت تضامني صرافي احسان صفوي امير و شركا | C38: 2000000
A40: مجموع کل | B40: =SUM(B6:B36) -> 1.7190363e+09 | C40: =SUM(C6:C38) -> 2.4337488e+09 | D40: =SUM(B40-C40)*100/C40 -> -29.366732

Sheet وارده و صادره به ماه 
A1: حواله وارده و صادره از ابتدای دیماه تا پایان دیماه 1404
A2: ردیف | B2: نام کارگزار | C2: حواله وارده | E2: حواله صادره
C3: مبلغ معادل یورو | D3: تعداد | E3: مبلغ معادل یورو | F3: تعداد
A4: 1 | B4: تضامني سهيل و سروش نجف زاده | C4: 2017685.9 | D4: 1 | E4: 3037328.5 | F4: 20
A5: 2 | B5: تضامني سيد محمد حسن ابطحي و شركا | C5: 164594.78 | D5: 3 | E5: 2874866 | F5: 23
A6: 3 | B6: حميد رضا تقوي | C6: 12474173 | D6: 9 | E6: 9216800.4 | F6: 38
A7: 4 | B7: شركت تضامني ابراهيمي و شركا | C7: 28756088 | D7: 20 | E7: 14150650 | F7: 59
A8: 5 | B8: شركت تضامني سيد محمد مثنايي نجيبي و شركا | C8: 17185095 | D8: 66 | E8: 16068397 | F8: 73
A9: 6 | B9: شركت تضامني صرافي ادريس محمدي و شركا | C9: 1763037.2 | D9: 7 | E9: 24204875 | F9: 145
A10: 7 | B10: شركت تضامني صرافي افسانه بحرالعلوم و شركا | C10: 1380074.9 | D10: 2
A11: 8 | B11: شركت تضامني صرافي پيمان اصغري و شركا | C11: 2548845.3 | D11: 4 | E11: 314719.02 | F11: 4
A12: 9 | B12: شركت تضامني صرافي قلي نژاد واجارگاه وشركا | C12: 35267.8 | D12: 1 | E12: 7332580.5 | F12: 46
A13: 10 | B13: شركت تضامني صرافي كامبيز نبي زاده و شركا | C13: 3310401.7 | D13: 1 | E13: 10769052 | F13: 68
A14: 11 | B14: شركت تضامني صرافي مهدي ملك زاده و شركا | C14: 639981.2 | D14: 1 | E14: 994184.17 | F14: 1
A15: 12 | B15: شركت تضامني صرافي مينا فشكي و شركا | C15: 27971573 | D15: 21 | E15: 30018687 | F15: 53
A16: 13 | B16: شركت تضامني صرافي ياسر نقشبندي و شركا | C16: 7213228.7 | D16: 4 | E16: 5769914.7 | F16: 56
A17: 14 | B17: شركت تضامني محمد درباني و شركاء | C17: 23557412 | D17: 106 | E17: 28920063 | F17: 104
A18: 15 | B18: شركت صرافي ملت | C18: 47545348 | D18: 25 | E18: 66236846 | F18: 34
A19: 16 | B19: شركت تضامني داود مولاوردي زاده و شركا | E19: 3522479.4 | F19: 26
A20: 17 | B20: شركت تضامني صرافي افسانه بحرالعلوم و شركا | E20: 1342803.4 | F20: 18
A21: 18 | B21: شركت تضامني صرافي جواد ذاكري دانا و شركا | E21: 1605715.4 | F21: 6
A22: 19 | B22: شركت تضامني صرافي زيبا الهويردي زاده و شركا | E22: 3274081.9 | F22: 4
A23: 20 | B23: شركت تضامني محمد هادي مومنين و شركا | E23: 2207386.5 | F23: 6
A24: 21 | B24: شركت تضامني مهدي رستم آبادي و شركا | E24: 1669079.1 | F24: 16
A25: 22 | B25: شركت تضامني مهرداد گراميان نيك و شركا | E25: 8745826.1 | F25: 51
A27: جمع کل معادل یورو | C27: =SUM(C4:C19) -> 1.7656281e+08 | D27: =SUM(D4:D19) -> 271 | E27: =SUM(E4:E25) -> 2.4227634e+08 | F27: =SUM(F4:F25) -> 851
B29: مجموع | C29: =SUM(C27+E27) -> 4.1883914e+08

Sheet معاف از کارمزد 
A1: مشتریان معاف
A2: 1 | B2: پتروشیمی لاله
A3: 2 | B3: نفت ستاره خلیج فارس
A4: 3 | B4: پتروشیمی مروارید
A5: 4 | B5: پترو پالایش نیک یزد
A6: 5 | B6: سیمان دشتستان
A7: 6 | B7: پتروشیمی شیراز
A8: 7 | B8: فولاد مبارکه اصفهان
A9: 8 | B9: سیمان باقران
A10: 9 | B10: پتروشیمی جم
A11: 10 | B11: پترو پالایش کنگان
A12: 11 | B12: پتروشیمی رازی
A13: 12 | B13: قیر پارسیان انرژی
... A19: 18 | B19: سیمان مند دشتی
