Workbook

Sheet وثائق 
A1: آمار وثائق تا تاریخ 1404/05/31
A2: ردیف | B2: نام کارگزار | C2: شروع همکاری | D2: تاریخ اولین وثیقه | E2: مبلغ اولین وثیقه | G2: تکمیل وثیقه | S2: جمع وثائق معادل یورو | T2: مانده حساب کارگزار پس از کسر کارسازی در راه معادل یورو *
E3: ملک | F3: نقد | G3: مرحله دوم | J3: مرحله سوم | M3: مرحله چهارم | P3: مرحله پنجم
E4: (معادل یورو ) | G4: تاریخ | H4: نوع وثیقه | I4: مبلغ | J4: تاریخ | K4: نوع وثیقه | L4: مبلغ | M4: تاریخ | N4: نوع وثیقه | O4: مبلغ | P4: تاریخ | Q4: نوع وثیقه | R4: مبلغ
A5: 1 | B5: ابراهیمی | C5: 1398.11.06 | D5: 1404.01.25 | E5: 899000 | G5: 1404.05.11 | H5: ملک | I5: 1866739 | S5: =SUM(E5+I5) -> 2765739
A6: 2 | B6: محمد دربانی | C6: 1398.12.08 | D6: 1399.05.08 | E6: 2552586 | G6: 1399.11.19 | H6: ملک | I6: 2400000 | J6: 1400.09.09 | K6: ملک | L6: 1443000 | M6: 1402.02.07 | N6: ملکی | O6: 4139000 | S6: =SUM(E6+I6+L6+O6) -> 10534586
A7: 3 | B7: مهرداد گرامیان | C7: 1399.08.03 | D7: 1399.08.28 | E7: 1743230 | G7: 1403.09.18 | H7: ملک | I7: 6451612 | S7: =SUM(E7+I7+L7+O7) -> 8194842
A8: 4 | B8: داوود مولاوردی زاده | C8: 1400.06.23 | D8: 1403.05.22 | E8: 711600 | G8: 1403.07.09 | H8: ملک | I8: 1400180 | S8: =SUM(E8+I8+L8+O8) -> 2111780
A9: 5 | B9: بهنام صفروند | C9: 1401.01.21 | D9: 1403.07.19 | E9: 5770992 | S9: =SUM(E9+I9+L9+O9) -> 5770992
A10: 6 | B10: سید محمد مثنایی | C10: 1401.03.09 | D10: 1401.04.06 | F10: 40000000 | G10: 1402.12.16 | H10: نقد | I10: 5000000 | J10: 1403.01.26 | K10: نقد | L10: 5000000 | S10: =SUM(F10*0.2527+I10*0.9281+L10*0.9281) -> 19389000
A11: 7 | B11: ادریس محمدی | C11: 1401.05.04 | D11: 1402.04.19 | E11: 441000 | G11: 1403.05.20 | H11: نقد | I11: 7000000 | S11: =SUM(E11+I11*0.9281) -> 6937700
A12: 8 | B12: سید محمد حسن ابطحی | C12: 1401.06.19 | D12: 1403.07.05 | F12: 4500000 | G12: 1404.08.25 | H12: نقد | I12: 5000000 | S12: =SUM(F12*0.9281+I12*0.9281) -> 8816950
A13: 9 | B13: لواسانی | C13: 1401.07.14 | D13: 1403.07.05 | F13: 3000000 | S13: =SUM(F13*0.9281) -> 2784300
A14: 10 | B14: قاسمی راد | C14: 1401.08.09 | D14: 1403.10.20 | F14: 10000000 | G14: 1403.11.21 | H14: ملک | I14: 820793 | J14: 1403.12.14 | K14: ملک | L14: 948905 | S14: =SUM(F14*0.2527+I14+L14) -> 4296698
A15: 11 | B15: سهیل و سروش نجف زاده | C15: 1401.10.12 | D15: 1403.04.20 | E15: 1782000 | G15: 1403.11.30 | H15: ملک | I15: 2576112 | J15: 1403.12.20 | K15: نقد | L15: 641888 | S15: =SUM(E15+I15+L15) -> 5000000
A16: 12 | B16: حمید رضا تقوی | C16: 1401.12.09 | D16: 1401.12.10 | F16: 10000000 | G16: 1403.04.27 | H16: نقد | I16: 5000000 | J16: 1403.05.10 | K16: ملک | L16: 1430555 | M16: 1403.05.30 | N16: نقد | O16: 5000000 | P16: 1404.08.14 | Q16: ملکی | R16: 2576788 | S16: =SUM(F16*0.2527+I16*0.2527+L16+O16*0.2527+R16) -> 9061343
A17: 13 | B17: مینا فشکی | C17: 1402.11.25 | D17: 1402.11.03 | E17: 21122115 | G17: 1404.05.11 | H17: ملک | I17: 549237 | J17: 1404.08.06 | K17: نقد | L17: 12480000 | M17: 1404.08.25 | N17: نقد | O17: 1550520 | P17: 1404.09.13 | Q17: نقد | R17: 10000000 | S17: =SUM(E17+I17+L17*0.2527+O17*0.2527+R17*0.9281) -> 34497864
A18: 14 | B18: یاسر نقش بندی | C18: 1403.04.13 | D18: 1403.04.27 | F18: 7976000 | G18: 1403.09.20 | H18: نقد | I18: 2000000 | J18: 1403.03.13 | K18: نقد | L18: 5520000 | S18: =SUM(F18*0.2527+I18*0.9281+L18*0.2527) -> 5266639.2
A19: 15 | B19: زیبا الهویردی زاده | C19: 1403.04.20 | D19: 1403.05.10 | F19: 5400000 | S19: =SUM(F19*0.9281) -> 5011740
A20: 16 | B20: قلی نژاد | C20: 1403.06.18 | D20: 1403.06.18 | E20: 7393213 | S20: =SUM(E20) -> 7393213
A21: 17 | B21: مهدی ملک زاده | C21: 1403.06.26 | D21: 1403.06.26 | E21: 27213870 | S21: =SUM(E21) -> 27213870
A22: 18 | B22: افسانه بحرالعلوم | C22: 1403.11.17 | D22: 1403.11.17 | E22: 1411764 | S22: =SUM(E22) -> 1411764
A23: 19 | B23: محمد هادی مومنین | C23: 1403.03.09 | D23: 1404.02.21 | F23: 10000000 | S23: =F23*0.9281 -> 9281000
A24: 20 | B24: رستم آبادی | C24: 1404.03.03 | D24: 1404.03.11 | F24: 21000000 | S24: 5306700
A25: 21 | B25: جواد پوردارا | C25: 1404.03.11 | D25: 1404.04.29 | F25: 10500000 | S25: =F25*0.2527 -> 2653350
A26: 22 | B26: پیمان اصغری و شرکاء | C26: 1404.05.19 | D26: 1404.05.19 | E26: 8925880 | S26: =E26 -> 8925880
A27: 23 | B27: جواد ذاکر دانا | C27: 1404.06.04 | D27: 1404.06.05 | F27: 23000000 | G27: 1404.09.13 | H27: نقد | I27: 5000000 | S27: =SUM(F27*0.2527+I27*0.9281) -> 10452600
A28: 24 | B28: کامبیز نبی زاده | C28: 1404.07.30 | D28: 1404.07.26 | E28: 1536818 | F28: 6400000 | S28: =SUM(E28+F28*0.9281) -> 7476658
A29: 25 | B29: مرجان نقدی | C29: 1404.06.29 | D29: 1404.06.29 | E29: 3128104 | G29: 1404.08.27 | H29: نقد | I29: 10000000 | S29: =SUM(E29+I29*0.2527) -> 5655104
A30: 26 | B30: حمید رضا یعقوبی و شرکاء | C30: 1404.07.20 | D30: 1404.07.20 | E30: 227695 | I30: 5000000 | S30: =SUM(E30+I30*0.2527) -> 1491195
A31: 27 | B31: احسان صفوی امیر | C31: 1403.02.14 | D31: 1402.12.22 | E31: 438492 | G31: 1403.01.28 | H31: ملک | I31: 2418984 | S31: =SUM(E31+I31) -> 2857476
A32: 28 | B32: عباس حسینی پارسا | C32: 1401.08.25
A33: 29 | B33: کاظم حیدرزاده | C33: 1399.01.25 | D33: 1400.10.26 | E33: 857000 | G33: 1400.12.08 | H33: ملک | I33: 458000 | J33: 1403.05.22 | K33: ملک | L33: 478288 | M33: 0 | N33: 0 | O33: 0 | S33: =SUM(E33+I33+L33+O33) -> 1793288
A34: 30 | B34: حسین آقایاری | C34: 1401.07.17
A35: 31 | B35: کیوان معنوی طهرانی | C35: 1402.07.16
A36: 32 | B36: مژگان انصاری | C36: 1401.05.12 | S36: =SUM(E36+I36+L36+O36) -> 0
A37: 33 | B37: شرکت آتروپارس | C37: 1401.05.12
A38: 34 | B38: وحید حمل کاری | C38: 1401.07.20 | D38: 1402.07.18 | E38: 5912000 | S38: =SUM(E38) -> 5912000
A40: مجموع وثائق نقدی / ملکی معادل یورو | S40: =SUM(S5:S38) -> 2.2826427e+08 | T40: =SUM(T5:T38) -> 0 | U40: *

Sheet گردش عملیات کارگزاران
A1: جمع کل عملیات کارگزاران معادل یورو از آغاز فعالیت تا پایان 1405/04/31
A2: ردیف | B2: نام کارگزار | C2: تاریخ انعقاد قرارداد | D2: مشخصات | E2: تعداد حواله وارده | F2: تعداد حواله صادره | G2: جمع گردش حساب | H2: مانده نزد کارگزار | I2: کارسازی در دست اقدام کارگزار | J2: مدت زمان به روز | K2: توضیحات | L2: مانده کارگزار پس از کسر وجوه در راه | M2: حد کارگزار | N2: وثائق اخذ شده از کارگزاران | R2: درصد وثیقه
I3: وجوه در راه | M3: معادل یورو | N3: قرارداد | O3: چک (ارقام به میلیارد ریال ) | P3: سندرهنی معادل یورو | Q3: وجه نقد
A4: 1 | B4: ملت | C4: 1398/05/19 | D4: صرافی | E4: ='وارده و صادره جدید ----'!C65 -> 2262 | F4: ='وارده و صادره جدید ----'!E65 -> 3850 | G4: ='وارده و صادره جدید ----'!H65 -> 6.3795473e+09 | H4: 1.4316441e+08 | L4: =SUM(H4-I4) -> 1.4316441e+08 | M4: 200000000 | N4: قرارداد
A6: 2 | B6: دربانی | C6: 1398/12/08 | D6: صرافی الیزه | E6: ='وارده و صادره جدید ----'!C67 -> 3401 | F6: ='وارده و صادره جدید ----'!E67 -> 7282 | G6: ='وارده و صادره جدید ----'!H67 -> 7.3685758e+09 | H6: 74506288 | I6: 9688987.2 | J6: 2 | L6: =SUM(H6-I6) -> 64817301 | M6: 50000000 | N6: قرارداد | O6: 90000 | P6: 10534586 | Q6: 8300000 | R6: 0.35
A8: 3 | B8: ابراهیمی | C8: 1398/12/04 | D8: صرافی امین | E8: ='وارده و صادره جدید ----'!C66 -> 1747 | F8: ='وارده و صادره جدید ----'!E66 -> 5809 | G8: ='وارده و صادره جدید ----'!H66 -> 3.3265673e+09 | H8: 20061208 | L8: =SUM(H8-I8) -> 20061208 | M8: 30000000 | N8: قرارداد | O8: 60000 | P8: 2765739 | R8: 0.09
A10: 4 | B10: گرامیان | C10: 1399/08/03 | E10: ='وارده و صادره جدید ----'!C70 -> 370 | F10: ='وارده و صادره جدید ----'!E70 -> 2233 | G10: ='وارده و صادره جدید ----'!H70 -> 1.1318558e+09 | H10: 10533682 | L10: =SUM(H10-I10) -> 10533682 | M10: 30000000 | N10: قرارداد | O10: 63000 | P10: 8194842 | R10: 0.2
A12: 5 | B12: مثنایی | C12: 1401/03/07 | D12: صرافی صدف | E12: ='وارده و صادره جدید ----'!C74 -> 2099 | F12: ='وارده و صادره جدید ----'!E74 -> 7392 | G12: ='وارده و صادره جدید ----'!H74 -> 4.3343011e+09 | H12: 98174606 | I12: 3468183.5 | J12: 1 | L12: =SUM(H12-I12) -> 94706422 | M12: 50000000 | N12: قرارداد | O12: 472020 | Q12: 40000000 | R12: 0.36
Q13: 10000000
A15: 6 | B15: مومنین | C15: 1400/03/09 | D15: صرافی نایسیان/گروه مومنین | E15: ='وارده و صادره جدید ----'!C72 -> 154 | F15: ='وارده و صادره جدید ----'!E72 -> 1659 | G15: ='وارده و صادره جدید ----'!H72 -> 1.3993519e+09 | H15: 11839154 | I15: 40042.36 | J15: 1 | L15: =SUM(H15-I15) -> 11799111 | M15: 30000000 | N15: قرارداد | O15: 106500 | Q15: 10000000 | R15: 0.21
A17: 7 | B17: ادریس محمدی | C17: 1401/04/04 | D17: صرافی اسپیناس | E17: ='وارده و صادره جدید ----'!C75 -> 503 | F17: ='وارده و صادره جدید ----'!E75 -> 2187 | G17: ='وارده و صادره جدید ----'!H75 -> 1.2136547e+09 | H17: 49056996 | I17: 2627176.9 | J17: 2 | L17: =SUM(H17-I17) -> 46429819 | M17: 30000000 | N17: قرارداد | O17: 48000 | P17: 441000 | Q17: 10000000 | R17: 0.29
A19: 8 | B19: نجف زاده | C19: 1401/08/25 | D19: صرافی آپرین | E19: ='وارده و صادره جدید ----'!C86 -> 175 | F19: ='وارده و صادره جدید ----'!E86 -> 1547 | G19: ='وارده و صادره جدید ----'!H86 -> 6.4431408e+08 | H19: 31445884 | I19: 4461189.1 | J19: 1 | L19: =SUM(H19-I19) -> 26984695 | M19: 20000000 | N19: قرارداد | O19: 45000 | P19: 4358112 | Q19: 641888 | R19: 0.25
A21: 9 | B21: حمید رضا تقوی | C21: 1401/10/17 | E21: ='وارده و صادره جدید ----'!C88 -> 817 | F21: ='وارده و صادره جدید ----'!E88 -> 2265 | G21: ='وارده و صادره جدید ----'!H88 -> 1.2044546e+09 | H21: 46686065 | L21: =SUM(H21-I21) -> 46686065 | M21: 40000000 | N21: قرارداد | O21: 120000 | P21: 4007343 | Q21: 20000000 | R21: 0.22
A23: 10 | B23: مینا فشکی | C23: 1402/11/03 | E23: ='وارده و صادره جدید ----'!C91 -> 590 | F23: ='وارده و صادره جدید ----'!E91 -> 1533 | G23: ='وارده و صادره جدید ----'!H91 -> 1.5340585e+09 | H23: 64850397 | I23: 60866.11 | J23: 1 | L23: =SUM(H23-I23) -> 64789531 | M23: 65000000 | N23: قرارداد | O23: 105000 | P23: 21671352 | Q23: 14030520 | R23: 0.53
Q24: 10000000
Q25: 5600000
A27: 11 | B27: یاسر نقشنبدی | C27: 1403/04/13 | E27: ='وارده و صادره جدید ----'!C94 -> 58 | F27: ='وارده و صادره جدید ----'!E94 -> 552 | G27: ='وارده و صادره جدید ----'!H94 -> 2.8842741e+08 | H27: 4178268.3 | L27: =SUM(H27-I27) -> 4178268.3 | M27: 9700000 | N27: قرارداد | O27: 5000 | Q27: 13496000 | R27: 0.51
Q28: 2000000
A30: 12 | B30: زیبا الهویردی زاده | C30: 1403/04/20 | E30: ='وارده و صادره جدید ----'!C93 -> 56 | F30: ='وارده و صادره جدید ----'!E93 -> 231 | G30: ='وارده و صادره جدید ----'!H93 -> 1.0681123e+08 | H30: 5405076 | L30: =SUM(H30-I30) -> 5405076 | M30: 10000000 | N30: قرارداد | O30: 18000 | Q30: 5400000 | R30: 0.47
A32: 13 | B32: قلی نژاد واجارگاه | C32: 1403/06/18 | D32: صرافی ارز پلاس | E32: ='وارده و صادره جدید ----'!C95 -> 46 | F32: ='وارده و صادره جدید ----'!E95 -> 624 | G32: ='وارده و صادره جدید ----'!H95 -> 2.0982495e+08 | H32: 8189270.5 | L32: =SUM(H32-I32) -> 8189270.5 | M32: 10000000 | N32: قرارداد | O32: 49200 | P32: 12917126 | R32: 0.5
A34: 14 | B34: مهدی ملک زاده | C34: 1403/09/26 | D34: مهدی ملک زاده و شرکآء | E34: ='وارده و صادره جدید ----'!C96 -> 129 | F34: ='وارده و صادره جدید ----'!E96 -> 247 | G34: ='وارده و صادره جدید ----'!H96 -> 1.307311e+08 | H34: 25999668 | I34: 1579765.1 | J34: 2 | L34: =SUM(H34-I34) -> 24419903 | M34: 30000000 | N34: قرارداد | O34: 9300 | P34: 27213870 | R34: 0.91
A36: 15 | B36: افسانه بحرالعلوم | C36: 1403/11/17 | D36: صرافی کیوان | E36: ='وارده و صادره جدید ----'!C97 -> 61 | F36: ='وارده و صادره جدید ----'!E97 -> 222 | G36: ='وارده و صادره جدید ----'!H97 -> 56946576 | H36: 33219.62 | L36: =SUM(H36-I36) -> 33219.62 | M36: 2800000 | N36: قرارداد | O36: 5400 | P36: 1411764 | R36: 0.5
A38: 16 | B38: مولاوردی | C38: 1400/06/15 | D38: صرافی سورن | E38: ='وارده و صادره جدید ----'!C73 -> 135 | F38: ='وارده و صادره جدید ----'!E73 -> 491 | G38: ='وارده و صادره جدید ----'!H73 -> 2.0657083e+08 | H38: 2144373.9 | I38: 976620.01 | J38: 4 | L38: =SUM(H38-I38) -> 1167753.9 | M38: 10000000 | N38: قرارداد | O38: 21000 | P38: 2111780 | R38: 0.21
A40: 17 | B40: ابطحی | C40: 1401/05/10 | D40: صرافی خاتم الموحدین | E40: ='وارده و صادره جدید ----'!C77 -> 408 | F40: ='وارده و صادره جدید ----'!E77 -> 735 | G40: ='وارده و صادره جدید ----'!H77 -> 2.9360611e+08 | H40: 15150979 | L40: =SUM(H40-I40) -> 15150979 | M40: 20000000 | N40: قرارداد | O40: 31000 | Q40: 9500000 | R40: 0.41
A42: 18 | B42: لواسانی | C42: 1401/05/13 | E42: ='وارده و صادره جدید ----'!C79 -> 58 | F42: ='وارده و صادره جدید ----'!E79 -> 165 | G42: ='وارده و صادره جدید ----'!H79 -> 1.0838169e+08 | H42: 3237121.8 | L42: =SUM(H42-I42) -> 3237121.8 | M42: 10000000 | N42: قرارداد | O42: 8000 | Q42: 3000000 | R42: 0.26
A44: 19 | B44: مهدی رستم آبادی | C44: 1404.03.03 | D44: صرافی کریستال | E44: ='وارده و صادره جدید ----'!C98 -> 54 | F44: ='وارده و صادره جدید ----'!E98 -> 154 | G44: ='وارده و صادره جدید ----'!H98 -> 59858989 | H44: 12110831 | I44: 966352.07 | J44: 2 | L44: =SUM(H44-I44) -> 11144479 | M44: 10000000 | N44: قرارداد | O44: 8000 | Q44: 21000000 | R44: 0.5
A46: 20 | B46: جواد پوردارا | C46: 1404.03.11 | E46: ='وارده و صادره جدید ----'!C99 -> 6 | F46: ='وارده و صادره جدید ----'!E99 -> 38 | G46: ='وارده و صادره جدید ----'!H99 -> 12740250 | H46: 1768292.4 | L46: =SUM(H46-I46) -> 1768292.4 | M46: 5000000 | N46: قرارداد | O46: 4000 | Q46: 10500000 | R46: 0.5
A48: 21 | B48: جواد ذاکر دانا | C48: 1404.06.04 | D48: صرافی جواد ذاکر دانا | E48: ='وارده و صادره جدید ----'!C100 -> 20 | F48: ='وارده و صادره جدید ----'!E100 -> 159 | G48: ='وارده و صادره جدید ----'!H100 -> 69740634 | H48: 9750063.4 | L48: =SUM(H48-I48) -> 9750063.4 | M48: 15000000 | N48: قرارداد | O48: 12000 | Q48: 23000000 | R48: 0.69
Q49: 5000000
A51: 22 | B51: پیمان اصغری | C51: 1404.05.19 | E51: ='وارده و صادره جدید ----'!C82 -> 52 | F51: ='وارده و صادره جدید ----'!E82 -> 392 | G51: ='وارده و صادره جدید ----'!H82 -> 1.9046329e+08 | H51: 19736859 | I51: 1408276.2 | J51: 2 | L51: =SUM(H51-I51) -> 18328583 | M51: 15000000 | N51: قرارداد | O51: 24900 | P51: 8925880 | R51: 0.99
A53: 23 | B53: کامبیز نبی زاده | C53: 1404.07.30 | E53: ='وارده و صادره جدید ----'!C101 -> 31 | F53: ='وارده و صادره جدید ----'!E101 -> 265 | G53: ='وارده و صادره جدید ----'!H101 -> 2.4064109e+08 | H53: 60804026 | I53: 4319138.8 | J53: 1 | L53: =SUM(H53-I53) -> 56484887 | M53: 200000000 | N53: قرارداد | O53: 615000 | P53: 1536818 | Q53: 6400000 | R53: 0.5
A55: 24 | B55: مرجان نقدی | C55: 1404.06.29 | E55: ='وارده و صادره جدید ----'!C102 -> 1 | F55: ='وارده و صادره جدید ----'!E102 -> 1 | G55: ='وارده و صادره جدید ----'!H102 -> 4730000 | H55: 0 | L55: =SUM(H55-I55) -> 0 | M55: 3100000 | N55: قرارداد | O55: 4000 | P55: 3128104 | R55: 1
A57: 25 | B57: حمید رضا یعقوبی | C57: 1404.07.20 | D57: صرافی ایده آل تجارت | E57: ='وارده و صادره جدید ----'!C103 -> 3 | F57: ='وارده و صادره جدید ----'!E103 -> 41 | G57: ='وارده و صادره جدید ----'!H103 -> 17042416 | H57: 4310881.4 | L57: =SUM(H57-I57) -> 4310881.4 | M57: 8000000 | N57: قرارداد | O57: 7000 | P57: 227695 | Q57: 5000000 | R57: 0.57
A59: 26 | B59: محمد طالع | C59: 1404.03.20 | E59: ='وارده و صادره جدید ----'!C105 -> 0 | F59: ='وارده و صادره جدید ----'!E105 -> 0 | G59: ='وارده و صادره جدید ----'!H105 -> 0 | L59: =SUM(H59-I59) -> 0 | M59: 1000000 | N59: قرارداد | O59: 10000 | P59: 990364 | R59: 0.99
A61: 27 | B61: سعید ربیعی منفرد و شرکاء | C61: 1404.11.09 | D61: صرافی آیوت | E61: ='وارده و صادره جدید ----'!C104 -> 9 | F61: ='وارده و صادره جدید ----'!E104 -> 62 | G61: ='وارده و صادره جدید ----'!H104 -> 31388117 | H61: 3688736.2 | L61: =SUM(H61-I61) -> 3688736.2 | M61: 5000000 | N61: قرارداد | O61: 12000 | P61: 2616086 | R61: 0.52
A63: 28 | B63: علی کمالی و شرکاء | C63: 1404.11.19 | D63: صرافی شایستگان | E63: ='وارده و صادره جدید ----'!C106 -> 8 | F63: ='وارده و صادره جدید ----'!E106 -> 60 | G63: ='وارده و صادره جدید ----'!H106 -> 40334321 | H63: 5526498.8 | I63: 1721056.3 | J63: 4 | L63: =SUM(H63-I63) -> 3805442.6 | M63: 5000000 | N63: قرارداد | O63: 14000 | P63: 4828122 | R63: 0.96
A65: *29 | B65: آریا تجارت صابر و شریک | C65: 1405.03.12 | E65: ='وارده و صادره جدید ----'!C107 -> 3 | F65: ='وارده و صادره جدید ----'!E107 -> 29 | G65: ='وارده و صادره جدید ----'!H107 -> 18931959 | H65: 3432098.7 | I65: 155652.89 | J65: 3 | M65: 5000000 | N65: قرارداد | O65: 13000 | Q65: 6000000 | R65: 1
A67: جمع | E67: =SUM(E4:E65) -> 13256 | F67: =SUM(F4:F65) -> 40225 | G67: =SUM(G4:G65) -> 3.0623852e+10 | H67: =SUM(H4:H65) -> 7.3578496e+08 | I67: =SUM(I4:I65) -> 31473306 | L67: =SUM(L4:L65) -> 7.0103521e+08 | M67: =SUM(M4:M65) -> 919600000

Sheet کارگزاران خاص 
A1: جمع کل عملیات کارگزاران معادل یورو از آغاز فعالیت تا پایان 1405/04/31
A2: ردیف | B2: نام کارگزار | C2: تاریخ انعقاد قرارداد | D2: مشخصات | E2: تعداد حواله وارده | F2: تعداد حواله صادره | G2: جمع گردش حساب | H2: مانده نزد کارگزار | I2: کارسازی در دست اقدام کارگزار | J2: مدت زمان به روز | K2: مانده کارگزار پس از کسر وجوه در راه | L2: حد کارگزار | M2: وثائق اخذ شده از کارگزاران | Q2: درصد وثائق
I3: وجوه در راه | L3: معادل یورو | M3: قرارداد | N3: چک (ارقام به میلیارد ریال ) | O3: سندرهنی معادل یورو | P3: وجه نقد
A4: 1 | B4: مجتهدی | C4: 1399/01/24 | E4: ='وارده و صادره جدید ----'!C68 -> 113 | F4: ='وارده و صادره جدید ----'!E68 -> 651 | G4: ='وارده و صادره جدید ----'!H68 -> 2.5954273e+08 | H4: 0 | K4: =SUM(H4-I4) -> 0 | L4: 0 | M4: قرارداد | N4: 15050
A6: 2 | B6: بهنام صفروند | C6: 1401/02/06 | E6: ='وارده و صادره جدید ----'!C76 -> 88 | F6: ='وارده و صادره جدید ----'!E76 -> 288 | G6: ='وارده و صادره جدید ----'!H76 -> 2.8708373e+08 | H6: 0 | K6: =SUM(H6-I6) -> 0 | L6: 10000000 | M6: قرارداد | N6: 27620 | O6: 5770992 | Q6: 0.58
A7: 3 | B7: اتروپارس | C7: 1401/05/12 | E7: ='وارده و صادره جدید ----'!C78 -> 6 | F7: ='وارده و صادره جدید ----'!E78 -> 24 | G7: ='وارده و صادره جدید ----'!H78 -> 40232726 | H7: 3492173.6 | K7: =SUM(H7-I7) -> 3492173.6 | L7: 10000000 | M7: قرارداد | N7: 12500
A8: 4 | B8: حمل کاری | C8: 1401/07/10 | D8: صرافی ریتون | E8: ='وارده و صادره جدید ----'!C80 -> 236 | F8: ='وارده و صادره جدید ----'!E80 -> 1176 | G8: ='وارده و صادره جدید ----'!H80 -> 7.9427523e+08 | H8: 51628450 | K8: =SUM(H8-I8) -> 51628450 | L8: 80000000 | M8: قرارداد | N8: 158000 | O8: 5912000 | Q8: 0.07
A9: 5 | B9: مژگان انصاری | C9: 1401/05/12 | D9: صرافی ویستا/بهنام و بهروز کاووسی | E9: ='وارده و صادره جدید ----'!C87 -> 393 | F9: ='وارده و صادره جدید ----'!E87 -> 491 | G9: ='وارده و صادره جدید ----'!H87 -> 1.3626636e+08 | H9: 12654428 | K9: =SUM(H9-I9) -> 12654428 | L9: 15000000 | M9: قرارداد | N9: 13500
A10: 6 | B10: جلالی و شرکاء | C10: 1399/09/07 | E10: ='وارده و صادره جدید ----'!C71 -> 20 | F10: ='وارده و صادره جدید ----'!E71 -> 180 | G10: ='وارده و صادره جدید ----'!H71 -> 45137647 | H10: 0 | K10: =SUM(H10-I10) -> 0 | L10: 0 | M10: عودت وثائق ( قطع همکاری )
A11: 7 | B11: محمودی | C11: 1401/07/20 | E11: ='وارده و صادره جدید ----'!C84 -> 3 | F11: ='وارده و صادره جدید ----'!E84 -> 34 | G11: ='وارده و صادره جدید ----'!H84 -> 9925473.7 | H11: 0 | K11: =SUM(H11-I11) -> 0 | L11: 0 | M11: قطع همکاری
A12: 8 | B12: حسینی پارسا | C12: 1401/08/25 | E12: ='وارده و صادره جدید ----'!C83 -> 100 | F12: ='وارده و صادره جدید ----'!E83 -> 538 | G12: ='وارده و صادره جدید ----'!H83 -> 1.6808676e+08 | H12: 0 | K12: =SUM(H12-I12) -> 0 | L12: 10000000 | M12: قرارداد | N12: 9000
A13: 9 | B13: فونیکس | C13: 1402/06/13 | E13: ='وارده و صادره جدید ----'!C90 -> 178 | F13: ='وارده و صادره جدید ----'!E90 -> 290 | G13: ='وارده و صادره جدید ----'!H90 -> 1.6096747e+08 | H13: 0 | K13: =SUM(H13-I13) -> 0 | L13: 30000000 | M13: قرارداد
A14: 10 | B14: معنوی طهرانی | C14: 1402/02/05 | E14: ='وارده و صادره جدید ----'!C89 -> 13 | F14: ='وارده و صادره جدید ----'!E89 -> 124 | G14: ='وارده و صادره جدید ----'!H89 -> 47549627 | H14: 2392917.7 | K14: =SUM(H14-I14) -> 2392917.7 | L14: 10000000 | M14: قرارداد | N14: 10600
A15: 11 | B15: صفوی امیر | C15: 1403/02/09 | D15: صرافی آرمانی | E15: ='وارده و صادره جدید ----'!C92 -> 5 | F15: ='وارده و صادره جدید ----'!E92 -> 28 | G15: ='وارده و صادره جدید ----'!H92 -> 25719348 | H15: 0 | K15: =SUM(H15-I15) -> 0 | L15: 2800000 | M15: قرارداد | N15: 10000 | O15: 2857476 | Q15: 1
A16: 12 | B16: حیدرزاده | C16: 1399/01/25 | D16: صرافی آلپ | E16: ='وارده و صادره جدید ----'!C69 -> 932 | F16: ='وارده و صادره جدید ----'!E69 -> 1213 | G16: ='وارده و صادره جدید ----'!H69 -> 4.7573785e+08 | H16: 11360695 | K16: =SUM(H16-I16) -> 11360695 | L16: 20000000 | M16: قرارداد | N16: 38000 | O16: 1793288 | Q16: 0.09
A17: 13 | B17: حسین آقا یاری | C17: 1401/07/17 | E17: ='وارده و صادره جدید ----'!C85 -> 103 | F17: ='وارده و صادره جدید ----'!E85 -> 906 | G17: ='وارده و صادره جدید ----'!H85 -> 6.4114722e+08 | K17: =SUM(H17-I17) -> 0 | L17: 50000000 | M17: قرارداد | N17: 44600
A18: 14 | B18: قاسمی راد | C18: 1401/07/12 | D18: صرافی رادین | E18: ='وارده و صادره جدید ----'!C81 -> 166 | F18: ='وارده و صادره جدید ----'!E81 -> 473 | G18: ='وارده و صادره جدید ----'!H81 -> 1.6425364e+08 | H18: 0 | K18: =SUM(H18-I18) -> 0 | L18: 10000000 | M18: قرارداد | N18: 30000 | O18: 1769698
A20: جمع | E20: =SUM(E4:E19) -> 2356 | F20: =SUM(F4:F19) -> 6416 | G20: =SUM(G4:G19) -> 3.2559258e+09 | H20: =SUM(H4:H19) -> 81528664 | I20: =SUM(I4:I19) -> 0 | K20: =SUM(K4:K19) -> 81528664 | L20: =SUM(L4:L17) -> 237800000

Sheet وارده و صادره جدید ----
B1: حواله وارده و صادره از شروع فعالیت تا پایان سال 1398 | H1: حواله وارده و صادره از ابتدای سال 1399 الی 1399.12.30
B2: نام کارگزار | C2: تعداد وارده | D2: معادل یورو حواله وارده | E2: تعداد صادره | F2: معادل یورو حواله صادره | H2: نام کارگزار | I2: تعداد وارده | J2: معادل یورو حواله وارده | K2: تعداد صادره | L2: معادل یورو حواله صادره
B3: ملت | C3: 62 | D3: 58572900 | E3: 52 | F3: 27310498 | H3: ملت | I3: 616 | J3: 5.6191965e+08 | K3: 471 | L3: 5.213373e+08 | N3: =SUM(J3+L3) -> 1.083257e+09
B4: ابراهیمی | C4: 10 | D4: 16555000 | E4: 31 | F4: 4767577.9 | H4: ابراهیمی | I4: 61 | J4: 40788072 | K4: 60 | L4: 41085782 | N4: =SUM(J4+L4) -> 81873854
B5: دربانی | C5: 19 | D5: 17259637 | E5: 0 | H5: دربانی | I5: 84 | J5: 1.007903e+08 | K5: 45 | L5: 1.0332004e+08 | N5: =SUM(J5+L5) -> 2.0411034e+08
B6: مجتهدی | C6: 0 | D6: 0 | E6: 0 | H6: مجتهدی | I6: 47 | J6: 38342549 | K6: 60 | L6: 23839763 | N6: =SUM(J6+L6) -> 62182312
B7: حیدرزاده | C7: 0 | D7: 0 | E7: 0 | H7: حیدرزاده | I7: 19 | J7: 23243521 | K7: 36 | L7: 14213731 | N7: =SUM(J7+L7) -> 37457251
B8: جمع کل | C8: =SUM(C3:C7) -> 91 | D8: =SUM(D3:D7) -> 92387537 | E8: =SUM(E3:E7) -> 83 | F8: =SUM(F3:F7) -> 32078076 | H8: گرامیان | I8: 44 | J8: 37746386 | K8: 6 | L8: 30603876 | N8: =SUM(J8+L8) -> 68350262
H9: جلالی | I9: 6 | J9: 3737730.7 | K9: 1 | L9: 1702152 | N9: =SUM(J9+L9) -> 5439882.7
D10: =SUM(D8+F8) -> 1.2446561e+08 | H10: جمع کل | I10: =SUM(I3:I9) -> 877 | J10: =SUM(J3:J9) -> 8.0656821e+08 | K10: =SUM(K3:K9) -> 679 | L10: =SUM(L3:L9) -> 7.3610265e+08 | N10: =SUM(J10+L10) -> 1.5426709e+09
B13: حواله وارده و صادره از ابتدای سال 1400 الی 1404.12.29 | H13: حواله وارده و صادره از ابتدای سال 1405 الی 1405.04.31
B14: نام کارگزار | C14: تعداد وارده | D14: معادل یورو حواله وارده | E14: تعداد صادره | F14: معادل یورو حواله صادره | H14: نام کارگزار | I14: تعداد وارده | J14: معادل یورو حواله وارده | K14: تعداد صادره | L14: معادل یورو حواله صادره
B15: ملت | C15: 1496 | D15: 2.5854973e+09 | E15: 3305 | F15: 2.5500674e+09 | H15: ملت | I15: 88 | J15: 52426657 | K15: 22 | L15: 22415475 | M15: =SUM(I15+K15) -> 110 | N15: =SUM(J15+L15) -> 74842131
B16: ابراهیمی | C16: 1632 | D16: 1.5500321e+09 | E16: 5498 | F16: 1.5568587e+09 | H16: ابراهیمی | I16: 44 | J16: 52169358 | K16: 220 | L16: 64310665 | M16: =SUM(I16+K16) -> 264 | N16: =SUM(J16+L16) -> 1.1648002e+08
B17: دربانی | C17: 3133 | D17: 3.4929415e+09 | E17: 6833 | F17: 3.4556872e+09 | H17: دربانی | I17: 165 | J17: 1.0414466e+08 | K17: 404 | L17: 94432464 | M17: =SUM(I17+K17) -> 569 | N17: =SUM(J17+L17) -> 1.9857712e+08
B18: مجتهدی | C18: 66 | D18: 92042087 | E18: 591 | F18: 1.0531833e+08 | H18: مجتهدی | M18: =SUM(I18+K18) -> 0 | N18: =SUM(J18+L18) -> 0
B19: حیدرزاده | C19: 913 | D19: 2.1952267e+08 | E19: 1177 | F19: 2.1875792e+08 | H19: حیدرزاده | M19: =SUM(I19+K19) -> 0 | N19: =SUM(J19+L19) -> 0
B20: گرامیان | C20: 320 | D20: 5.153926e+08 | E20: 2156 | F20: 5.1583088e+08 | H20: گرامیان | I20: 6 | J20: 15529910 | K20: 71 | L20: 16752161 | M20: =SUM(I20+K20) -> 77 | N20: =SUM(J20+L20) -> 32282072
B21: جلالی | C21: 14 | D21: 18930677 | E21: 179 | F21: 20767087 | H21: جلالی | M21: =SUM(I21+K21) -> 0 | N21: =SUM(J21+L21) -> 0
B22: مومنین | C22: 150 | D22: 6.8120168e+08 | E22: 1566 | F22: 6.6686812e+08 | H22: مومنین | I22: 4 | J22: 21611985 | K22: 93 | L22: 29670121 | M22: =SUM(I22+K22) -> 97 | N22: =SUM(J22+L22) -> 51282106
B23: مولاوردی | C23: 132 | D23: 99307194 | E23: 455 | F23: 97574384 | H23: مولاوردی | I23: 3 | J23: 4949880 | K23: 36 | L23: 4739367.3 | M23: =SUM(I23+K23) -> 39 | N23: =SUM(J23+L23) -> 9689247.3
B24: مثنایی | C24: 1992 | D24: 2.0545058e+09 | E24: 7013 | F24: 1.9954044e+09 | H24: مثنایی | I24: 107 | J24: 1.6139235e+08 | K24: 379 | L24: 1.2299855e+08 | M24: =SUM(I24+K24) -> 486 | N24: =SUM(J24+L24) -> 2.843909e+08
B25: ادریس محمدی | C25: 424 | D25: 5.2768607e+08 | E25: 2067 | F25: 4.9154113e+08 | H25: ادریس محمدی | I25: 79 | J25: 1.0471349e+08 | K25: 120 | L25: 89714025 | M25: =SUM(I25+K25) -> 199 | N25: =SUM(J25+L25) -> 1.9442752e+08
B26: بهنام صفروند | C26: 88 | D26: 1.2962692e+08 | E26: 288 | F26: 1.5745681e+08 | H26: بهنام صفروند | M26: =SUM(I26+K26) -> 0 | N26: =SUM(J26+L26) -> 0
B27: ابطحی | C27: 392 | D27: 1.2694546e+08 | E27: 649 | F27: 1.1903728e+08 | H27: ابطحی | I27: 16 | J27: 27269319 | K27: 86 | L27: 20354054 | M27: =SUM(I27+K27) -> 102 | N27: =SUM(J27+L27) -> 47623373
B28: اتروپارس | C28: 6 | D28: 21884760 | E28: 24 | F28: 18347965 | H28: اتروپارس | M28: =SUM(I28+K28) -> 0 | N28: =SUM(J28+L28) -> 0
B29: لواسانی | C29: 58 | D29: 55936301 | E29: 162 | F29: 52400620 | H29: لواسانی | K29: 3 | L29: 44769.67 | M29: =SUM(I29+K29) -> 3 | N29: =SUM(J29+L29) -> 44769.67
B30: حمل کاری | C30: 236 | D30: 4.130556e+08 | E30: 1176 | F30: 3.8121963e+08 | H30: حمل کاری | M30: =SUM(I30+K30) -> 0 | N30: =SUM(J30+L30) -> 0
B31: قاسمی راد | C31: 166 | D31: 82376505 | E31: 464 | F31: 78412631 | H31: قاسمی راد | K31: 9 | L31: 3464503.9 | M31: =SUM(I31+K31) -> 9 | N31: =SUM(J31+L31) -> 3464503.9
B32: پیمان اصغری | C32: 33 | D32: 48485830 | E32: 247 | F32: 46278596 | H32: پیمان اصغری | I32: 19 | J32: 53378029 | K32: 145 | L32: 42320832 | M32: =SUM(I32+K32) -> 164 | N32: =SUM(J32+L32) -> 95698861
B33: حسینی پارسا قشم | C33: 100 | D33: 84343211 | E33: 538 | F33: 83743549 | H33: حسینی پارسا قشم | M33: =SUM(I33+K33) -> 0 | N33: =SUM(J33+L33) -> 0
B34: محمودی | C34: 3 | D34: 4978703.4 | E34: 34 | F34: 4946770.2 | H34: محمودی | M34: =SUM(I34+K34) -> 0 | N34: =SUM(J34+L34) -> 0
B35: حسین آقایاری | C35: 103 | D35: 3.2115936e+08 | E35: 906 | F35: 3.1998787e+08 | H35: حسین آقایاری | M35: =SUM(I35+K35) -> 0 | N35: =SUM(J35+L35) -> 0
B36: نجف زاده | C36: 158 | D36: 3.0781439e+08 | E36: 1519 | F36: 2.940349e+08 | H36: نجف زاده | I36: 17 | J36: 31567791 | K36: 28 | L36: 10896998 | M36: =SUM(I36+K36) -> 45 | N36: =SUM(J36+L36) -> 42464788
B37: انصاری | C37: 393 | D37: 73352145 | E37: 491 | F37: 62914217 | H37: انصاری | M37: =SUM(I37+K37) -> 0 | N37: =SUM(J37+L37) -> 0
B38: حمید رضا تقوی | C38: 690 | D38: 5.7266606e+08 | E38: 2157 | F38: 5.4562891e+08 | H38: حمید رضا تقوی | I38: 127 | J38: 54313893 | K38: 108 | L38: 31845765 | M38: =SUM(I38+K38) -> 235 | N38: =SUM(J38+L38) -> 86159658
B39: معنوی | C39: 13 | D39: 25058746 | E39: 116 | F39: 22094170 | H39: معنوی | K39: 8 | L39: 396710.75 | M39: =SUM(I39+K39) -> 8 | N39: =SUM(J39+L39) -> 396710.75
B40: فونیکس | C40: 178 | D40: 80785576 | E40: 290 | F40: 80181897 | H40: فونیکس | M40: =SUM(I40+K40) -> 0 | N40: =SUM(J40+L40) -> 0
B41: مینا فشکی | C41: 544 | D41: 7.2159593e+08 | E41: 1408 | F41: 6.8069428e+08 | H41: مینا فشکی | I41: 46 | J41: 73606951 | K41: 125 | L41: 58161313 | M41: =SUM(I41+K41) -> 171 | N41: =SUM(J41+L41) -> 1.3176826e+08
B42: صفوی امیر | C42: 5 | D42: 12879531 | E42: 28 | F42: 12839817 | H42: صفوی امیر | M42: =SUM(I42+K42) -> 0 | N42: =SUM(J42+L42) -> 0
...

Sheet جدول مقایسه ای مجموع حواله ها 
B1: جدول مقایسه ای مجموع حواله های وارده و صادره
A3: ردیف | B3: کارگزار | C3: سال 1398 | E3: 1399 | G3: 1400 | I3: 1401 | K3: 1402 | M3: 1403 | O3: 1404 | Q3: 140.04.31 | S3: میزان رشد نسبت به مقطع مشابه سال قبل
C4: تعداد | D4: مبلغ به یورو | E4: تعداد | F4: مبلغ به یورو | G4: تعداد | H4: مبلغ به یورو | I4: تعداد | J4: مبلغ به یورو | K4: تعداد | L4: مبلغ به یورو | M4: تعداد | N4: مبلغ به یورو | O4: تعداد | P4: مبلغ به یورو | Q4: تعداد | R4: مبلغ به یورو
A5: 1 | B5: ملت | C5: 114 | D5: 85883398 | E5: 1087 | F5: 1.083257e+09 | G5: 985 | H5: 1.7280143e+09 | I5: 1043 | J5: 1.5774969e+09 | K5: 391 | L5: 7.944964e+08 | M5: 357 | N5: 3.1997029e+08 | O5: 701 | P5: 7.1554798e+08 | Q5: ='وارده و صادره جدید ----'!M15 -> 110 | R5: ='وارده و صادره جدید ----'!N15 -> 74842131 | S5: -74.8
A6: 2 | B6: دربانی | C6: 19 | D6: 17259637 | E6: 129 | F6: 2.0411034e+08 | G6: 1281 | H6: 1.9574402e+09 | I6: 1573 | J6: 2.0448317e+09 | K6: 1432 | L6: 1.2071068e+09 | M6: 1261 | N6: 6.6161667e+08 | O6: 2807 | P6: 1.077601e+09 | Q6: ='وارده و صادره جدید ----'!M17 -> 569 | R6: ='وارده و صادره جدید ----'!N17 -> 1.9857712e+08 | S6: -47.9
A7: 3 | B7: ابراهیمی | C7: 41 | D7: 21322578 | E7: 121 | F7: 81873854 | G7: 43 | H7: 17014606 | I7: 124 | J7: 97704616 | K7: 2519 | L7: 1.1207242e+09 | M7: 2322 | N7: 1.2373622e+09 | O7: 1688 | P7: 6.340288e+08 | Q7: ='وارده و صادره جدید ----'!M16 -> 264 | R7: ='وارده و صادره جدید ----'!N16 -> 1.1648002e+08 | S7: -60.6
A8: 4 | B8: حیدرزاده | E8: 55 | F8: 37457251 | G8: 288 | H8: 1.1953153e+08 | I8: 486 | J8: 1.3261381e+08 | K8: 518 | L8: 1.3558957e+08 | M8: 356 | N8: 50543020 | O8: 0 | P8: 0 | Q8: ='وارده و صادره جدید ----'!M19 -> 0 | R8: ='وارده و صادره جدید ----'!N19 -> 0 | S8: -100
A9: 5 | B9: مجتهدی | E9: 107 | F9: 62182312 | G9: 69 | H9: 40854485 | I9: 225 | J9: 85613673 | K9: 226 | L9: 65865449 | M9: 18 | N9: 1717568.7 | O9: 0 | P9: 0 | Q9: ='وارده و صادره جدید ----'!M18 -> 0 | R9: ='وارده و صادره جدید ----'!N18 -> 0 | S9: -100
A10: 6 | B10: گرامیان | E10: 50 | F10: 68350262 | G10: 121 | H10: 1.3457335e+08 | I10: 540 | J10: 3.3561612e+08 | K10: 618 | L10: 2.3734642e+08 | M10: 339 | N10: 1.2100925e+08 | O10: 602 | P10: 2.0267598e+08 | Q10: ='وارده و صادره جدید ----'!M20 -> 77 | R10: ='وارده و صادره جدید ----'!N20 -> 32282072 | S10: -66.4
A11: 7 | B11: جلالی | E11: 7 | F11: 5439882.7 | G11: 9 | H11: 1987773 | I11: 3 | J11: 41044.21 | K11: 153 | L11: 29701937 | M11: 28 | N11: 7967009.6 | O11: 0 | P11: 0 | Q11: ='وارده و صادره جدید ----'!M21 -> 0 | R11: ='وارده و صادره جدید ----'!N21 -> 0 | S11: -100
A12: 8 | B12: مومنین | G12: 8 | H12: 28184083 | I12: 342 | J12: 5.0769347e+08 | K12: 539 | L12: 2.7370706e+08 | M12: 226 | N12: 3.2377234e+08 | O12: 444 | P12: 2.1471285e+08 | Q12: ='وارده و صادره جدید ----'!M22 -> 97 | R12: ='وارده و صادره جدید ----'!N22 -> 51282106 | S12: -36.1
A13: 9 | B13: مولاوردی | H13: 0 | I13: 187 | J13: 64603341 | K13: 102 | L13: 61811325 | M13: 85 | N13: 24836910 | O13: 135 | P13: 45630002 | Q13: ='وارده و صادره جدید ----'!M23 -> 39 | R13: ='وارده و صادره جدید ----'!N23 -> 9689247.3 | S13: -42.2
A14: 10 | B14: مثنایی | I14: 868 | J14: 8.3200229e+08 | K14: 2293 | L14: 1.0148144e+09 | M14: 2590 | N14: 1.1238545e+09 | O14: 2628 | P14: 1.0792262e+09 | Q14: ='وارده و صادره جدید ----'!M24 -> 486 | R14: ='وارده و صادره جدید ----'!N24 -> 2.843909e+08 | S14: -37.4
A15: 11 | B15: ادریس محمدی | I15: 225 | J15: 2.1422506e+08 | K15: 783 | L15: 2.5035738e+08 | M15: 653 | N15: 3.2968899e+08 | O15: 683 | P15: 2.2494508e+08 | Q15: ='وارده و صادره جدید ----'!M25 -> 199 | R15: ='وارده و صادره جدید ----'!N25 -> 1.9442752e+08 | S15: 133.1
A16: 12 | B16: بهنام صفروند | I16: 107 | J16: 50507265 | K16: 136 | L16: 2.1455425e+08 | M16: 18 | N16: 19999471 | O16: 28 | P16: 2022749.4 | Q16: ='وارده و صادره جدید ----'!M26 -> 0 | R16: ='وارده و صادره جدید ----'!N26 -> 0 | S16: -100
A17: 13 | B17: ابطحی | I17: 4 | J17: 15479562 | K17: 119 | L17: 39333023 | M17: 144 | N17: 36257476 | O17: 772 | P17: 1.5491268e+08 | Q17: ='وارده و صادره جدید ----'!M27 -> 102 | R17: ='وارده و صادره جدید ----'!N27 -> 47623373 | S17: 37.3
A18: 14 | B18: اتروپارس | I18: 11 | J18: 30140148 | K18: 8 | L18: 4529288.9 | M18: 6 | N18: 5563288.5 | O18: 0 | P18: 0 | Q18: ='وارده و صادره جدید ----'!M28 -> 0 | R18: ='وارده و صادره جدید ----'!N28 -> 0 | S18: -100
A19: 15 | B19: لواسانی | I19: 28 | J19: 25906616 | K19: 50 | L19: 37742511 | M19: 67 | N19: 34208047 | O19: 56 | P19: 10479747 | Q19: ='وارده و صادره جدید ----'!M29 -> 3 | R19: ='وارده و صادره جدید ----'!N29 -> 44769.67 | S19: -99.4
A20: 16 | B20: حمل کاری | I20: 378 | J20: 3.9115419e+08 | K20: 799 | L20: 3.9664772e+08 | M20: 26 | N20: 6473321.8 | O20: 0 | P20: 0 | Q20: ='وارده و صادره جدید ----'!M30 -> 0 | R20: ='وارده و صادره جدید ----'!N30 -> 0 | S20: -100
A21: 17 | B21: قاسمی راد | I21: 197 | J21: 55692507 | K21: 143 | L21: 47982844 | M21: 144 | N21: 32641859 | O21: 114 | P21: 24467849 | Q21: ='وارده و صادره جدید ----'!M31 -> 9 | R21: ='وارده و صادره جدید ----'!N31 -> 3464503.9 | S21: -76.9
A22: 18 | B22: پیمان اصغری | I22: 42 | J22: 41994688 | K22: 25 | L22: 10295645 | O22: 165 | P22: 42474093 | Q22: ='وارده و صادره جدید ----'!M32 -> 164 | R22: ='وارده و صادره جدید ----'!N32 -> 95698861 | S22: 100
A23: 19 | B23: حسینی پارسا قشم | I23: 160 | J23: 44061241 | K23: 294 | L23: 82788122 | M23: 112 | N23: 41237396 | O23: 0 | P23: 0 | Q23: ='وارده و صادره جدید ----'!M33 -> 0 | R23: ='وارده و صادره جدید ----'!N33 -> 0 | S23: -100
A24: 20 | B24: محمودی | I24: 22 | J24: 8539217.5 | K24: 13 | L24: 1386256.1 | O24: 0 | P24: 0 | Q24: ='وارده و صادره جدید ----'!M34 -> 0 | R24: ='وارده و صادره جدید ----'!N34 -> 0 | S24: -100
A25: 21 | B25: حسین آقایاری | I25: 81 | J25: 126186199 | K25: 301 | L25: 2.3976098e+08 | M25: 546 | N25: 2.7351075e+08 | O25: 9 | P25: 1689293.2 | Q25: ='وارده و صادره جدید ----'!M35 -> 0 | R25: ='وارده و صادره جدید ----'!N35 -> 0 | S25: -100
A26: 22 | B26: نجف زاده | I26: 215 | J26: 89275789 | K26: 756 | L26: 2.3924048e+08 | M26: 304 | N26: 1.6393304e+08 | O26: 290 | P26: 1.0939998e+08 | Q26: ='وارده و صادره جدید ----'!M36 -> 45 | R26: ='وارده و صادره جدید ----'!N36 -> 42464788 | S26: -15.5
A27: 23 | B27: انصاری | I27: 25 | J27: 11003017 | K27: 633 | L27: 1.2451655e+08 | M27: 7 | N27: 746797.41 | O27: 0 | P27: 0 | Q27: ='وارده و صادره جدید ----'!M37 -> 0 | R27: ='وارده و صادره جدید ----'!N37 -> 0 | S27: -100
A28: 24 | B28: حمید رضا تقوی | I28: 9 | J28: 3268798.2 | K28: 913 | L28: 3.1316083e+08 | M28: 854 | N28: 3.6481111e+08 | O28: 1016 | P28: 4.3705285e+08 | Q28: ='وارده و صادره جدید ----'!M38 -> 235 | R28: ='وارده و صادره جدید ----'!N38 -> 86159658 | S28: -39.9
A29: 25 | B29: معنوی | K29: 69 | L29: 24882948 | M29: 54 | N29: 21746970 | O29: 6 | P29: 522998.24 | Q29: ='وارده و صادره جدید ----'!M39 -> 8 | R29: ='وارده و صادره جدید ----'!N39 -> 396710.75 | S29: -24.1
A30: 26 | B30: فونیکس | K30: 19 | L30: 5397792.1 | M30: 449 | N30: 1.5556763e+08 | O30: 0 | P30: 0 | Q30: ='وارده و صادره جدید ----'!M40 -> 0 | R30: ='وارده و صادره جدید ----'!N40 -> 0 | S30: -100
A31: 27 | B31: مینا فشکی | K31: 23 | L31: 46195555 | M31: 661 | N31: 4.6594238e+08 | O31: 1268 | P31: 8.9015178e+08 | Q31: ='وارده و صادره جدید ----'!M41 -> 171 | R31: ='وارده و صادره جدید ----'!N41 -> 1.3176826e+08 | S31: -55.7
A32: 28 | B32: صفوی امیر | M32: 29 | N32: 20838518 | O32: 4 | P32: 4880829.8 | Q32: ='وارده و صادره جدید ----'!M42 -> 0 | R32: ='وارده و صادره جدید ----'!N42 -> 0 | S32: -100
A33: 29 | B33: زیبا الهویردی زاده | M33: 79 | N33: 42129101 | O33: 181 | P33: 48505023 | Q33: ='وارده و صادره جدید ----'!M43 -> 27 | R33: ='وارده و صادره جدید ----'!N43 -> 16177105 | S33: 2.5
A34: 30 | B34: نقش بندی | M34: 185 | N34: 1.3969788e+08 | O34: 414 | P34: 1.4623198e+08 | Q34: ='وارده و صادره جدید ----'!M44 -> 11 | R34: ='وارده و صادره جدید ----'!N44 -> 2497547.4 | S34: -95.8
A35: 31 | B35: قلی نژاد | M35: 97 | N35: 36066383 | O35: 549 | P35: 1.4522885e+08 | Q35: ='وارده و صادره جدید ----'!M45 -> 24 | R35: ='وارده و صادره جدید ----'!N45 -> 28528553 | S35: 34.5
A36: 32 | B36: ملک زاده | M36: 5 | N36: 4569508.8 | O36: 203 | P36: 71810896 | Q36: ='وارده و صادره جدید ----'!M46 -> 168 | R36: ='وارده و صادره جدید ----'!N46 -> 54350697 | S36: 18
A37: 33 | B37: بحرالعلوم | M37: 40 | N37: 10046588 | O37: 214 | P37: 39558586 | Q37: ='وارده و صادره جدید ----'!M47 -> 29 | R37: ='وارده و صادره جدید ----'!N47 -> 7341401.3 | S37: -57.7
A38: 34 | B38: رستم آبادی | O38: 153 | P38: 40108865 | Q38: ='وارده و صادره جدید ----'!M48 -> 55 | R38: ='وارده و صادره جدید ----'!N48 -> 19750124 | S38: 67.4
A39: 35 | B39: جواد پوردارا | O39: 44 | P39: 12740250 | Q39: ='وارده و صادره جدید ----'!M49 -> 0 | R39: ='وارده و صادره جدید ----'!N49 -> 0
A40: 36 | B40: جواد ذاکر دانا | O40: 174 | P40: 69615696 | Q40: ='وارده و صادره جدید ----'!M50 -> 5 | R40: ='وارده و صادره جدید ----'!N50 -> 113345.65 | S40: 100
A41: 37 | B41: کامبیز نبی زاده | O41: 225 | P41: 1.0870031e+08 | Q41: ='وارده و صادره جدید ----'!M51 -> 71 | R41: ='وارده و صادره جدید ----'!N51 -> 1.3194078e+08 | S41: 100
...

Sheet مانده مشتریان 
A1: مانده مشتریان تا پایان 1405/04/31
A2: ردیف | B2: نام مشتری / نوع ارز | C2: درهم | D2: دلار | E2: یوان | F2: یورو | G2: معادل یورو در مجموع
A3: 1 | B3: نفت ستاره خليج فارس | C3: 2507.62 | D3: 20213157 | F3: 76654.15 | G3: 17630353
A4: 2 | B4: نفت ايرانول | C4: 34356361 | D4: 6133933.2 | F4: 35025 | G4: 13487012
A5: 3 | B5: ملي نفت ايران | C5: 0 | D5: 36728.27 | F5: 0 | G5: 31894.83
A6: 4 | B6: معدني و صنعتي چادرملو | C6: 22410 | G6: 5299.965
A7: 5 | B7: متانول كاوه | D7: 28474 | F7: 6175.35 | G7: 30902.172
A8: 6 | B8: فولاد مباركه اصفهان | C8: 25143087 | D8: 10119390 | E8: 0 | F8: 12238.82 | G8: 14746257
A9: 7 | B9: فراورده هاي قيري هرمز پاسارگاد | C9: 0 | D9: 100 | F9: 0 | G9: 86.84
A10: 8 | B10: شركت هوايار گاز بين الملل | C10: 250.18 | G10: 59.16757
A11: 9 | B11: شركت ويوا پترو آسيا | D11: 1567.37 | G11: 1361.1041
A12: 10 | B12: شركت ويستا پليمر مهر | D12: 339.55 | G12: 294.86522
A13: 11 | B13: شركت نيرو كلر | C13: 260.1 | D13: 2984523 | F13: 0 | G13: 2591821.3
A14: 12 | B14: شركت نوين زعفران | C14: 2644.56 | D14: 0.09 | F14: 438843.01 | G14: 439468.53
A15: 13 | B15: شركت نوين پژوهان شمس زنگان | D15: 149250 | G15: 129608.7
A16: 14 | B16: شركت نفت سپاهان | C16: 8505.69 | D16: 96713.55 | F16: 0 | G16: 85997.643
A17: 15 | B17: شركت نفت پاسارگاد | C17: 16350 | D17: 10939191 | G17: 9503460.2
A18: 16 | B18: شركت نفت پارس | C18: 1000.41 | D18: 1908272.8 | F18: 2766.37 | G18: 1660147
A19: 17 | B19: شركت نفت بهران | C19: 140477.83 | D19: 336685.32 | F19: 53067.46 | G19: 378668
A20: 18 | B20: شركت مهندسي و ساختمان صنايع نفت | C20: 0 | D20: 5038.48 | F20: 1618605.9 | G20: 1622981.3
A21: 19 | B21: شركت مهندسي و ساختمان تيو انرژي | C21: 0 | D21: 251997.5 | E21: 0 | F21: 36993.31 | G21: 255827.94
A22: 20 | B22: شركت مهندسي نورهان تدبير توس | F22: 0.71 | G22: 0.71
A23: 21 | B23: شركت ملي صنايع مس ايران | C23: 0 | D23: 104936.34 | E23: 0 | F23: 845.29 | G23: 91972.008
A24: 22 | B24: شركت ملي پخش فرآورده هاي نفتي ايران | C24: 0.9 | D24: 1291581.6 | F24: 0 | G24: 1121609.7
A25: 23 | B25: شركت ملي پالايش و پخش فرآورده هاي نفتي ايران | C25: 209993.41 | F25: 9164.63 | G25: 58828.071
A26: 24 | B26: شركت معدني و صنايع معدني ارزش آفرين | C26: 574.77 | D26: 17077.5 | G26: 14966.034
A27: 25 | B27: شركت معدني املاح ايران | C27: 250.41 | D27: 204377.5 | F27: 8145 | G27: 185685.64
A28: 26 | B28: شركت مجتمع صنايع آلومينيوم جنوب | C28: 0 | D28: 885280.48 | E28: 0 | F28: 0 | G28: 768777.57
A29: 27 | B29: شركت مجتمع شيميايي آبنوس | D29: 0 | F29: 2356.33 | G29: 2356.33
A30: 28 | B30: شركت گيتي نگاره نيلگون | C30: 298 | G30: 70.477
A31: 29 | B31: شركت گسترش صنايع معادن و ذوب فلزات رنگين مركزي | D31: 49451.5 | G31: 42943.683
A32: 30 | B32: شركت گروه توليدي و بازرگاني آسه تجارت آسيا | C32: 250 | D32: 1126776.2 | G32: 978551.59
A33: 31 | B33: شركت گرد روي پارس | C33: 11172.28 | F33: 8042.6 | G33: 10684.844
A34: 32 | B34: شركت كيميا رزين اراك | D34: 92.5 | G34: 80.327
A35: 33 | B35: شركت كيان پرشيا | D35: 4975 | G35: 4320.29
A36: 34 | B36: شركت كشتيراني درياي خزر | C36: 73836.74 | D36: 2941830.9 | F36: 0 | G36: 2572148.3
A37: 35 | B37: شركت كشت و صنعت تخته فشرده پاك چوب | D37: 1492500 | G37: 1296087
A38: 36 | B38: شركت كابين كاران سينافر | D38: 1100 | G38: 955.24
A39: 37 | B39: شركت فولاد غدير ني ريز | C39: 874.62 | D39: 565478.26 | G39: 491268.17
A40: 38 | B40: شركت فولاد سهند آذر آسيا | D40: 20264.56 | G40: 17597.744
...

Sheet کارمزد عملیات
A1: سهم کارمزد شرکت راهبر نزد کارگزاران تا پایان 1405/04/31
A2: ردیف | B2: نام کارگزار / نوع ارز | C2: درهم امارات | D2: دلار | E2: يوان | F2: يورو
A3: 1 | B3: تضامني سهيل و سروش نجف زاده | C3: 30687.53 | D3: 33322.71 | E3: 0 | F3: 13.36
A4: 2 | B4: تضامني سيد محمد حسن ابطحي و شركا | C4: 4548.77 | D4: 128848.31 | F4: 400
A5: 3 | B5: حميد رضا تقوي | C5: 140384.63 | D5: 39402.63 | E5: 57859.19 | F5: 0
A6: 4 | B6: شركت تضامني ابراهيمي و شركا | C6: 51367.27 | D6: 253269.87 | E6: 293325.09 | F6: 50908.36
A7: 5 | B7: شركت تضامني آريا تجارت صابر و شريك | D7: 41548.08
A8: 6 | B8: شركت تضامني داود مولاوردي زاده و شركا | C8: 11683.3 | D8: 22395.78 | F8: 3529.63
A9: 7 | B9: شركت تضامني سيد محمد مثنايي نجيبي و شركا | C9: 398448.96 | D9: 448165.13 | E9: 447443.11 | F9: 15635
A10: 8 | B10: شركت تضامني صرافي ادريس محمدي و شركا | C10: 359551.07 | D10: 386890.76 | E10: 0 | F10: 2922.56
A11: 9 | B11: شركت تضامني صرافي افسانه بحرالعلوم و شركا | C11: 28785.8 | D11: 4611.2
A12: 10 | B12: شركت تضامني صرافي پيمان اصغري و شركا | C12: 15162.18 | D12: 164428.8
A13: 11 | B13: شركت تضامني صرافي جواد ذاكري دانا و شركا | C13: 0 | D13: 568.79 | F13: 0
A14: 12 | B14: شركت تضامني صرافي حميد رضا يعقوبي و شركا | C14: 25000.66 | D14: 1461.91
A15: 13 | B15: شركت تضامني صرافي زيبا الهويردي زاده و شركا | D15: 76298.44 | F15: 3000
A16: 14 | B16: شركت تضامني صرافي سعيد ربيعي منفرد و شركا | C16: 45035.78 | D16: 27246.99
A17: 15 | B17: شركت تضامني صرافي علي كمالي و شركا | D17: 94786.78
A18: 16 | B18: شركت تضامني صرافي قلي نژاد واجارگاه وشركا | C18: 0 | D18: 54109.66 | F18: 231.07
A19: 17 | B19: شركت تضامني صرافي كامبيز نبي زاده و شركا | C19: 41833.53 | D19: 59581.37 | F19: 0
A20: 18 | B20: شركت تضامني صرافي لواساني و شركا | C20: 0 | D20: 52.44 | E20: 0 | F20: 440.35
A21: 19 | B21: شركت تضامني صرافي مهدي ملك زاده و شركا | C21: 47804.56 | D21: 160180.65 | F21: 5973.83
A22: 20 | B22: شركت تضامني صرافي مينا فشكي و شركا | C22: 298479.2 | D22: 249620.32 | E22: 155305.95 | F22: 1640.01
A23: 21 | B23: شركت تضامني صرافي ياسر نقشبندي و شركا | C23: 30 | D23: 0
A24: 22 | B24: شركت تضامني محمد درباني و شركاء | C24: 638739.48 | D24: 237465.4 | E24: 0 | F24: 27294.54
A25: 23 | B25: شركت تضامني محمد هادي مومنين و شركا | C25: 16508.64 | D25: 68096.64 | E25: 0 | F25: 0
A26: 24 | B26: شركت تضامني مهدي رستم آبادي و شركا | C26: 88089.56 | D26: 9994.21
A27: 25 | B27: شركت تضامني مهرداد گراميان نيك و شركا | C27: 3519.26 | D27: 140491.89 | F27: 5398.06
A28: 26 | B28: شركت صرافي ملت | C28: 210539.16 | D28: 257539.29 | E28: 0 | F28: 1745.5
A29: 27 | B29: كيوان معنوي طهراني | C29: 9231.8 | D29: 0 | F29: 0
A30: مجموع کل | C30: =SUM(C3:C29) -> 2465431.1 | D30: =SUM(D3:D28) -> 2960378 | E30: =SUM(E3:E28) -> 953933.34 | F30: =SUM(F3:F28) -> 119132.27 | G30: معادل یورو مجموع کارمزد
A32: معادل یورو | C32: =C30*0.2365 -> 583074.46 | D32: =D30*0.8684 -> 2570792.3 | E32: =E30*0.1263 -> 120481.78 | F32: =F30 -> 119132.27 | G32: =SUM(C32:F32) -> 3393480.8

Sheet کارمزد نزد صرافی ملت 
B1: کارمزد تا پایان 1405/01/31
B2: کارگزار | C2: تاریخ | D2: توضیحات | E2: کارمزد درهم | F2: کارمزد یورو | G2: کارمزد دلار | H2: یوان
B3: صرافی ملت | C3: 1402-10-04 | D3: سهم شرکت بابت کارمزد کارسازی حواله ملت | E3: 9771 | F3: 0 | G3: 0 | H3: 0
C4: 1402-10-11 | D4: 20%سهم سه ماهه سوم سال 1402 | E4: 1310.06 | F4: 3.49 | G4: 2198.46
C5: 1402-10-12 | D5: سهم شرکت بابت کارمزد کارسازی حواله ملت 94521 | E5: 26960.63
C6: 1402-10-20 | D6: سهم شرکت بابت کارمزد کارسازی حواله | E6: 4097
C7: 1402-10-26 | D7: سهم شرکت بابت کارمزد کارسازی حواله | E7: 1938
C8: 1402-11-01 | D8: سهم شرکت بابت کارمزد 98284 | G8: 68230.78
C9: 1402-11-07 | D9: سهم شرکت بابت کارمزد 98093 | G9: 30553.27
C10: 1402-11-08 | D10: سهم شرکت بابت کارمزد 99269 | G10: 5038.02
C11: 1402-11-18 | D11: سهم شرکت بابت کارمزد 99786 | G11: 23310.37
C12: 1402-11-23 | D12: سهم شرکت بابت کارمزد 100089 | G12: 59149.06
C13: 1402-11-29 | D13: سهم شرکت بابت کارمزد 101038 | E13: 68439
C14: 1402-12-01 | D14: سهم شرکت بابت کارمزد 101555 | E14: 245284.45
C15: 1402-12-08 | D15: سهم شرکت بابت کارمزد 102606 | E15: 11060
C16: 1402-12-08 | D16: برگشت از کارمزد بابت شارژ تنخواه فونیکس | E16: -300000
C17: 1402-12-15 | D17: سهم شرکت بابت کارمزد 103569 | E17: 81104.88
C18: 1402-12-17 | D18: سهم شرکت بابت کارمزد 10414 | G18: 16000
C19: 1402-12-22 | D19: سهم شرکت بابت کارمزد 104872 | E19: 52103.77
C20: 1402-12-27 | D20: سهم شرکت بابت کارمزد 105562 | E20: 28000
C21: 1402-12-27 | D21: سهم شرکت بابت کارمزد 105676 | E21: 31017.38
C22: 1402-12-27 | D22: سهم شرکت بابت کارمزد 105453 | E22: 35000
C23: 1402-12-27 | D23: سهم شرکت بابت کارمزد 105908 | E23: 35000
C24: 1403/01/15 | D24: سهم شرکت بابت کارمزد 107870 | E24: 20050.23
C25: 1403/01/15 | D25: سهم شرکت بابت کارمزد 108067 | G25: 1350.28
C26: 1403/01/28 | D26: سهم کارمزد سه ماهه چهارم 108256 | G26: 7253.41
C27: 1403/02/02 | D27: سهم کارمزد بابت 109206 | G27: 11076.02
C28: 1403/02/02 | D28: سهم کارمزد بابت 109432 | G28: 17228
C29: 1403/02/01 | D29: سهم کارمزد بابت خرید تجارت 109843 | G29: 12000
C30: 1403/02/17 | D30: سهم کارمزد 8فقره 110897 | G30: 11955.8
C31: 1403/02/16 | D31: سهم کارمزد 110831 | G31: 345.6
C32: 1403/02/24 | D32: سهم کارمزد 15 فقره 111025 | G32: 19711.77
C33: 1403/02/30 | D33: سهم کارمزد 5فقره 112295 | G33: 12119.96
C34: 1403/02/31 | D34: سهم کارمزد 112657 | G34: 9929.73
C35: 1403/03/06 | D35: سهم کارمزد 113406 | G35: 9066.3
C36: 1403-03-08 | D36: تبدیل به یورو و انتقال به مرکزی 112915 | E36: -351136.4 | F36: -3.49 | G36: -297520.8
C37: 1403.03.09 | D37: کارمزد 113872 | G37: 15841.04
C38: 1403.03.09 | D38: کارمزد 114351 | G38: 12597.74
C39: 1403.03.17 | D39: کارمزد 115066 | G39: 6771.98
C40: 1403.03.17 | D40: کارمزد خرید بیستون 115105 | E40: 15856.43
...

Sheet کارمزد یورو نزد شعبه مرکزی
B2: گردش حساب نزد شعبه مستقل مرکزی
B3: تاریخ | C3: بدهکار | D3: بستانکار | E3: مانده
B7: 98/10/04 | D7: 200 | E7: =D7 -> 200
B8: 99/01/23 | D8: 22997.32 | E8: =SUM(E7-C8+D8) -> 23197.32
B9: 99/06/19 | C9: 9198.92 | E9: =SUM(E8-C9+D9) -> 13998.4
B10: 99/07/13 | D10: 52294 | E10: =SUM(E9-C10+D10) -> 66292.4
B11: 99/07/13 | D11: 14413.25 | E11: =SUM(E10-C11+D11) -> 80705.65
B12: 99/07/13 | D12: 1497 | E12: =SUM(E11-C12+D12) -> 82202.65
B13: 99/07/15 | D13: 456 | E13: =SUM(E12-C13+D13) -> 82658.65
B14: 99/07/16 | C14: 80000 | E14: =SUM(E12-C14+D14) -> 2202.65
B15: 99/07/23 | C15: 2000 | E15: =SUM(E14-C15+D15) -> 202.65
B16: 99/07/25 | D16: 33912.21 | E16: =SUM(E15-C16+D16) -> 34114.86
B17: 99/07/26 | C17: 34000 | E17: =SUM(E16-C17+D17) -> 114.86
B18: 99/11/04 | D18: 110465 | E18: =SUM(E17-C18+D18) -> 110579.86
B19: 99/11/05 | C19: 6000 | E19: =SUM(E18-C19+D19) -> 104579.86
B20: 99/11/27 | C20: 40000 | E20: =SUM(E19-C20+D20) -> 64579.86
B21: 99/11/28 | D21: 55810 | E21: =SUM(E20-C21+D21) -> 120389.86 | F21: ۳۰درصد ابتدای ۹۹ تا پایان آذر منشا ارمنستان ۹۹
B22: 99/12/09 | C22: 110000 | E22: =SUM(E21-C22+D22) -> 10389.86
B23: 00.01.22 | C23: 0.22 | E23: 10845.64
B24: 00.02.01 | C24: 3000 | E24: =SUM(E23-C24) -> 7845.64
B25: 00.02.08 | C25: 0.1 | E25: =SUM(E24-C25) -> 7845.54
B26: 00.03.06 | D26: 27330.3 | E26: =SUM(E25+D26) -> 35175.84 | F26: ۳۰درصد ابتدای دیماه ۹۹ تا پایان ۹۹ با منشاEIH
B27: 00.03.18 | D27: 145088 | E27: =SUM(E26+D27) -> 180263.84
B28: 00.03.26 | C28: 180000 | E28: =SUM(E27-C28) -> 263.84
B29: 0.05.17 | D29: 36880 | E29: =SUM(E28+D29) -> 37143.84 | F29: 30درصد اول ۱۴۰۰ پس کسر کارمزد یک در هزار نفت و ۵۰درصد کنگان با منشاEIH
B30: 00.05.23 | C30: 35000 | E30: =SUM(E29-C30) -> 2143.84
B31: 00.06.04 | D31: 223331 | E31: =SUM(E30+D31) -> 225474.84
B32: 00-06-01 | C32: 134000 | E32: =SUM(E31-C32) -> 91474.84
B33: 00.07.07 | C33: 40000 | E33: =SUM(E32-C33) -> 51474.84
B34: 00-08-19 | C34: 20000 | E34: =SUM(E33-C34) -> 31474.84
B35: 00-09-06 | D35: 255904.36 | E35: =SUM(E34+D35) -> 287379.2 | F35: 30درصد سه ماهه دوم ۱۴۰۰ پس از کسر کارمزد ۵۰ درصد صبای کنگان با منشاء اسکناس
B36: 00.09.29 | D36: 171857 | E36: =SUM(E35+D36) -> 459236.2
B37: 00.10.01 | C37: 459000 | E37: =SUM(E36-C37) -> 236.2
B38: 00.10.12 | D38: 76006.56 | E38: =SUM(E37+D38) -> 76242.76 | F38: ۳۰درصد ۳ ماهه سوم ۱۴۰۰ با منشاء EIH
B39: 01.07.22 | C39: 25000 | E39: =SUM(E38-C39) -> 51242.76
B40: 01.04.18 | D40: 49607 | E40: =SUM(E39+D40) -> 100849.76 | F40: 20درصد سه ماهه اول 1401با منشاءEIH
B41: 01.04.21 | C41: 100000 | E41: =SUM(E40-C41) -> 849.76
B42: 01.06.06 | D42: 192510.29 | E42: =SUM(E41+D42) -> 193360.05 | F42: 30درصد ۳ ماهه چهارم ۱۴۰0 با منشاءEIH
B43: 01.06.21 | C43: 192500 | E43: =SUM(E42-C43) -> 860.05
B44: 01.07.27 | D44: 9685.18 | E44: =SUM(E43+D44) -> 10545.23 | F44: 20درصد سه ماهه دوم ۱۴۰۱ با منشاء EIH
...

Sheet کارمزد درهمNOSTRO
A2: درهم NOSTRO (کارمزد) | F2: گردش حساب NOSTRO درهم امارت
A3: تاریخ | B3: بستانکار | C3: بدهکار | D3: مانده | F3: تاریخ | G3: شرح | H3: بستانکار | I3: بدهکار | J3: مانده
A4: 1401/09/20 | B4: 1765670.7 | D4: =SUM(B4-C4) -> 1765670.7 | F4: 1401/04/06 | G4: وثیقه نقدی مثنایی | H4: 40000000 | J4: =SUM(H4) -> 40000000
A5: 1401/09/21 | C5: 1765670.7 | D5: =SUM(D4+B5-C5) -> 0 | E5: تبدیل به ریال | F5: 1401/09/24 | G5: انتقال از بین الملل 11304 | H5: 50000000 | J5: =SUM(J4+H5-I5) -> 90000000
A6: 1402/01/17 | B6: 6800000 | D6: =SUM(D5+B6-C6) -> 6800000 | F6: 1401/09/20 | G6: انتقال درآمد شرکت 41439 | H6: 1765670.7 | J6: =SUM(J5+H6-I6) -> 91765671
A7: 1402/04/19 | B7: 3400000 | D7: =SUM(D6+B7-C7) -> 10200000 | F7: 1401/09/21 | G7: درخواست تبدیل به ریال 41440 | I7: 1765670.7 | J7: =SUM(J6+H7-I7) -> 90000000
A8: 1402/10/12 | B8: 3700000 | D8: =SUM(D7+B8-C8) -> 13900000 | F8: 1401/09/28 | G8: انتقال به ملی دبی 11638 | I8: 50000000 | J8: =SUM(J7+H8-I8) -> 40000000
A9: 1402/11/29 | B9: 1300778.2 | D9: =SUM(D8+B9-C9) -> 15200778 | F9: 1401/10/05 | G9: انتقال از بین الملل 12158 | H9: 50000000 | J9: =SUM(J8+H9-I9) -> 90000000
A10: 1403/03/03 | B10: 1010000 | D10: =SUM(D9+B10-C10) -> 16210778 | F10: 1401/10/05 | G10: انتقال به ملی دبی12153 | I10: 50000000 | J10: =SUM(J9+H10-I10) -> 40000000
A11: 1403.07.03 | B11: 1060000 | D11: =SUM(D10+B11-C11) -> 17270778 | F11: 1401/10/14 | G11: انتقال از بین الملل 12999 | H11: 43500000 | J11: =SUM(J10+H11-I11) -> 83500000
A12: 1403.10.06 | B12: 2074873.5 | D12: =SUM(D11+B12-C12) -> 19345652 | F12: 1401/10/14 | G12: انتقال به ملی دبی 11638 | I12: 43500000 | J12: =SUM(J11+H12-I12) -> 40000000
A13: 04.02.06 | B13: 5196912.5 | D13: =SUM(D12+B13-C13) -> 24542564 | F13: 1401/10/26 | G13: انتقال از بین الملل 14056 | H13: 61500000 | J13: =SUM(J12+H13-I13) -> 101500000
A14: 04.6.027 | B14: 150000 | D14: =SUM(D13+B14-C14) -> 24692564 | E14: ماشین دبی | F14: 1401/10/26 | G14: انتقال به ملی دبی 14056 | I14: 61500000 | J14: =SUM(J13+H14-I14) -> 40000000
A15: 04.06.29 | B15: 3580000 | D15: =SUM(D14+B15-C15) -> 28272564 | F15: 1401/12/10 | G15: وثیقه نقدی تقوی | H15: 10000000 | J15: =SUM(J14+H15-I15) -> 50000000
A16: 04.09.08 | B16: 3105000 | D16: =SUM(D15+B16-C16) -> 31377564 | F16: 1402/01/17 | G16: انتقال درآمد شرکت 56040 | H16: 6800000 | J16: =SUM(J15+H16-I16) -> 56800000
A17: 04.09.17 | B17: 290608.7 | D17: =SUM(D16+B17-C17) -> 31668173 | F17: 1402/04/19 | G17: انتقال درآمد شرکت 69216 | H17: 3400000 | J17: =SUM(J16+H17-I17) -> 60200000
A18: 04.12.28 | B18: 2900648.2 | D18: =SUM(D17+B18-C18) -> 34568821 | F18: 1402/08/04 | G18: قسمت اول نفت ستاره تسویه تعهد | H18: 10000000 | J18: =SUM(J17+H18-I18) -> 70200000
F19: 1402/08/04 | I19: 10000000 | J19: =SUM(J18+H19-I19) -> 60200000
F20: 1402-08-08 | G20: قسمت دوم نفت ستاره تسویه تعهد | H20: 5000000 | J20: =SUM(J19+H20-I20) -> 65200000
F21: 1402-08-08 | I21: 5000000 | J21: =SUM(J20+H21-I21) -> 60200000
F22: 1402-10/12 | G22: انتقال کارمزد | H22: 3700000 | J22: =SUM(J21+H22-I22) -> 63900000
F23: 1402-11-23 | G23: انتقال به tsack 100411 | H23: 30881600 | J23: =SUM(J22+H23-I23) -> 94781600
F24: 1402-11-23 | H24: 49118400 | J24: =SUM(J23+H24-I24) -> 143900000
F25: 1402-11-23 | G25: انتقال به بانک مرکزی - ملی دبی | I25: 80000000 | J25: =SUM(J24+H25-I25) -> 63900000
F26: 1402/11/29 | G26: انتقال کارمزد | H26: 1300778.2 | J26: =SUM(J25+H26-I26) -> 65200778
F27: 1403/03/03 | G27: انتقال کارمزد | H27: 1010000 | J27: =SUM(J26+H27-I27) -> 66210778
F28: 1403/04/23 | G28: وثیقه واریز به حساب تقوی | H28: 5000000 | J28: =SUM(J27+H28-I28) -> 71210778
F29: 1403/04/27 | G29: وثیقه نقدی نقش بندی | H29: 7976000 | J29: =SUM(J28+H29-I29) -> 79186778
F30: 1403.05.30 | G30: وثیقه واریز به حساب تقوی | H30: 2812024 | J30: =SUM(J29+H30-I30) -> 81998802
F31: 1403.05.30 | G31: وثیقه واریز به حساب تقوی | H31: 2187976 | J31: =SUM(J30+H31-I31) -> 84186778
F32: 1403.07.03 | G32: انتقال درآمد 127169 | H32: 1060000 | J32: =SUM(J31+H32-I32) -> 85246778
F33: 1403.10.06 | G33: انتقال درآمد شرکت 144623 | H33: 2074873.5 | J33: =SUM(J32+H33-I33) -> 87321652
F34: 1403.10.20 | G34: وثیقه نقدی قاسمی راد 146655 | H34: 10000000 | J34: =SUM(J33+H34-I34) -> 97321652
F35: 1404.02.06 | G35: انتقال درآمد شرکت 142910 | H35: 5196912.5 | J35: =SUM(J34+H35-I35) -> 1.0251856e+08
F36: 1404.03.12 | G36: وثیقه نقدی رستم آبادی | H36: 21000000 | J36: =SUM(J35+H36-I36) -> 1.2351856e+08
F37: 1404.03.13 | G37: وثیقه نقدی نقش بندی | H37: 5520000 | J37: =SUM(J36+H37-I37) -> 1.2903856e+08
... F47: 1404.09.17 | G47: انتقال کارمزد صرافی ملت | H47: 290608.7 | J47: =SUM(J46+H47-I47) -> 1.9929469e+08
F48: 1404.09.24 | G48: عودت وثیقه خانم مرجان نقدی | I48: 10000000 | J48: =SUM(J47+H48-I48) -> 1.8929469e+08
F49: 04.12.28 | G49: انتقال کارمزد 232461 | H49: 2900648.2 | J49: =SUM(J48+H49-I49) -> 1.9219534e+08
F50: 1405.03.19 | G50: عودت وثیقه قاسمی راد | I50: 10000000 | J50: =SUM(J49+H50-I50) -> 1.8219534e+08
...

Sheet کارمزد دلار NOSTRO 
A2: دلار NOSTRO (کارمزد) | H2: گردش حساب NOSTRO دلار
A3: تاریخ | B3: بستانکار | C3: بدهکار | D3: مانده | H3: تاریخ | I3: شرح | J3: بستانکار | K3: بدهکار | L3: مانده
A4: 1402/01/17 | B4: 700000 | D4: =B4 -> 700000 | H4: 1402/01/17 | I4: انتقال کارمزد | J4: 700000 | L4: =J4 -> 700000
A5: 1402/01/20 | C5: 82000 | D5: =SUM(D4+B5-C5) -> 618000 | E5: تبدیل به ریال | H5: 1402/01/20 | I5: تبدیل به ریال | K5: 82000 | L5: =SUM(L4+J5-K5) -> 618000
A6: 1402/04/18 | B6: 2050000 | D6: =SUM(D5+B6-C6) -> 2668000 | H6: 1402/04/18 | I6: انتقال کارمزد | J6: 2050000 | L6: =SUM(L5+J6-K6) -> 2668000
A7: 1402/05/31 | C7: 10000 | D7: =SUM(D6+B7-C7) -> 2658000 | E7: دریافت اسکناس | H7: 1402/05/31 | I7: دریافت اسکناس | K7: 10000 | L7: =SUM(L6+J7-K7) -> 2658000
A8: 1402/06/12 | C8: 200000 | D8: =SUM(D7+B8-C8) -> 2458000 | E8: تبدیل به درهم PHOENIX STAR | H8: 1402/06/12 | I8: تبدیل به درهم و انتقال به فونیکس | K8: 200000 | L8: =SUM(L7+J8-K8) -> 2458000
A9: 1402/10/04 | C9: 54458.82 | D9: =SUM(D8+B9-C9) -> 2403541.2 | E9: تبدیل به درهم PHOENIX STAR | H9: 1402-08-02 | I9: پیش دریافت از معنوی | J9: 3000000 | L9: =SUM(L8+J9-K9) -> 5458000
A10: 1402/10/12 | B10: 2200000 | D10: =SUM(D9+B10-C10) -> 4603541.2 | H10: 1402/10/04 | I10: تبدیل به درهم و انتقال به فونیکس | K10: 54458.82 | L10: =SUM(L9+J10-K10) -> 5403541.2
A11: 1402/11/29 | B11: 1570000 | D11: =SUM(D10+B11-C11) -> 6173541.2 | H11: 1402/10/11 | I11: انتقال کارمزد | J11: 2200000 | L11: =SUM(L10+J11-K11) -> 7603541.2
A12: 1403/03/03 | B12: 1730000 | D12: =SUM(D11+B12-C12) -> 7903541.2 | H12: 1402/11/29 | I12: انتقال کارمزد | J12: 1570000 | L12: =SUM(L11+J12-K12) -> 9173541.2
A13: 03.07.03 | B13: 1550000 | D13: =SUM(D12+B13-C13) -> 9453541.2 | H13: 1402/12/24 | I13: وثیقه نقدی مثنایی | J13: 5000000 | L13: =SUM(L12+J13-K13) -> 14173541
A14: 03.10.06 | B14: 1050000 | D14: =SUM(D13+B14-C14) -> 10503541 | H14: 1403/01/19 | I14: وثیقه نقدی مثنایی | J14: 5000000 | L14: =SUM(L13+J14-K14) -> 19173541
A15: 04.02.06 | B15: 2339450 | D15: =SUM(D14+B15-C15) -> 12842991 | H15: 1403/03/03 | I15: انتقال کارمزد | J15: 1730000 | L15: =SUM(L14+J15-K15) -> 20903541
A16: 04.06.29 | B16: 2450550.7 | D16: =SUM(D15+B16-C16) -> 15293542 | H16: 1403/03/10 | I16: وثیقه نقدی الهویردی زاده | J16: 5400000 | L16: =SUM(L15+J16-K16) -> 26303541
A17: 04.09.08 | B17: 1460000 | D17: =SUM(D16+B17-C17) -> 16753542 | H17: 1403/03/22 | I17: وثیقه نقدی ادریس محمدی | J17: 7000000 | L17: =SUM(L16+J17-K17) -> 33303541
A18: 04.09.17 | B18: 917083.48 | D18: =SUM(D17+B18-C18) -> 17670625 | H18: 03.07.03 | I18: انتقال به درآمد 127169 | J18: 1550000 | L18: =SUM(L17+J18-K18) -> 34853541
A19: 04.12.28 | B19: 1726533.3 | D19: =SUM(D18+B19-C19) -> 19397159 | H19: 03.07.05 | I19: وثیقه نقدی ابطحی | J19: 4500000 | L19: =SUM(L18+J19-K19) -> 39353541
D20: =SUM(D19+B20-C20) -> 19397159 | H20: 03.07.05 | I20: وثیقه نقدی لواسانی | J20: 3000000 | L20: =SUM(L19+J20-K20) -> 42353541
H21: 03.07.07 | I21: عودت پیش دریافت معنوی | K21: 3000000 | L21: =SUM(L20+J21-K21) -> 39353541
H22: 03.09.24 | I22: پیش دریافت نقش بندی | J22: 2000000 | L22: =SUM(L21+J22-K22) -> 41353541
H23: 03.10.06 | I23: انتقال کارمزد شرکت 144623 | J23: 1050000 | L23: =SUM(L22+J23-K23) -> 42403541
H24: 04.02.06 | I24: انتقال کارمزد شرکت 142910 | J24: 2339450 | L24: =SUM(L23+J24-K24) -> 44742991
H25: 04.02.21 | I25: وثیقه نقدی مومنین | J25: 10000000 | L25: =SUM(L24+J25-K25) -> 54742991
H26: 04.06.29 | I26: انتقال کارمزد | J26: 2450550.7 | L26: =SUM(L25+J26-K26) -> 57193542
H27: 04.08.01 | I27: وثیقه نقدی کامبیز نبی زاده | J27: 6400000 | L27: =SUM(L26+J27-K27) -> 63593542
H28: 04.08.25 | I28: وثیقه نقدی حمید رضا یعقوبی | J28: 5000000 | L28: =SUM(L27+J28-K28) -> 68593542
H29: 04.08.25 | I29: وثیقه نقدی ابطحی | J29: 5000000 | L29: =SUM(L28+J29-K29) -> 73593542
H30: 04.09.08 | I30: انتقال کارمزد | J30: 1460000 | L30: =SUM(L29+J30-K30) -> 75053542
H31: 04.09.10 | I31: وثیقه فشکی | J31: 10000000 | L31: =SUM(L30+J31-K31) -> 85053542
H32: 04.09.13 | I32: وثیقه ذاکری دانا | J32: 5000000 | L32: =SUM(L31+J32-K32) -> 90053542
H33: 04.09.17 | I33: انتقال کارمزد صرافی ملت | J33: 917083.48 | L33: =SUM(L32+J33-K33) -> 90970625
... H38: 05.04.11 | I38: وثیقه نقدی دربانی | J38: 3300000 | L38: =SUM(L37+J38-K38) -> 1.0999716e+08
H44: جمع | J44: =SUM(J4:J43) -> 1.1334362e+08 | K44: =SUM(K4:K43) -> 3346458.8 | L44: =SUM(J44-K44) -> 1.0999716e+08
A50: جمع | B50: =SUM(B4:B49) -> 19743617 | C50: =SUM(C4:C49) -> 346458.82 | D50: =SUM(B50-C50) -> 19397159 | E50: =D50*0.9281 -> 18002503

Sheet کارمزد یورو NOSTRO 
A1: یورو NOSTRO (کارمزد) | H1: گردش حساب NOSTRO یورو
A2: تاریخ | B2: بستانکار | C2: بدهکار | D2: مانده | H2: تاریخ | I2: شرح | J2: بستانکار | K2: بدهکار | L2: مانده
A3: 1401/09/20 | B3: 400857.99 | C3: 400857.99 | D3: =SUM(B3-C3) -> 0 | E3: تبدیل به ریال | H3: 1401/09/20 | I3: انتقال کارمزد + تبدیل به ریال | J3: 400857.99 | K3: 400857.99 | L3: 0
A4: 1402/01/17 | B4: 500000 | D4: =SUM(D3+B4-C4) -> 500000 | H4: 1402/01/17 | I4: انتقال کارمزد | J4: 500000 | L4: =SUM(J4) -> 500000
A5: 1402/04/13 | B5: 300000 | D5: =SUM(D4+B5-C5) -> 800000 | H5: 1402/04/13 | I5: انتقال کارمزد | J5: 300000 | L5: =SUM(L4+J5-K5) -> 800000
A6: 1402/04/21 | C6: 225000 | D6: =SUM(D5+B6-C6) -> 575000 | E6: تبدیل به ریال | H6: 1402/04/21 | I6: تبدیل به ریال | K6: 225000 | L6: =SUM(L5+J6-K6) -> 575000
A7: 1402/06/20 | C7: 30000 | D7: =SUM(D6+B7-C7) -> 545000 | E7: تبدیل به ریال | H7: 1402/06/20 | I7: تبدیل به ریال | K7: 30000 | L7: =SUM(L6+J7-K7) -> 545000
A8: 1402/10/09 | C8: 50000 | D8: =SUM(D7+B8-C8) -> 495000 | E8: تبدیل به ریال | H8: 1402/08/03 | I8: پیش دریافت از معنوی | J8: 2000000 | L8: =SUM(L7+J8-K8) -> 2545000
A9: 1402/10/12 | B9: 1150000 | D9: =SUM(D8+B9-C9) -> 1645000 | H9: 1402/10/09 | I9: تبدیل به ریال | K9: 50000 | L9: =SUM(L8+J9-K9) -> 2495000
A10: 1402/11/29 | B10: 300000 | D10: =SUM(D9+B10-C10) -> 1945000 | H10: 1402/10/12 | I10: انتقال کارمزد | J10: 1150000 | L10: =SUM(L9+J10-K10) -> 3645000
A11: 1403/03/03 | B11: 420000 | D11: =SUM(D10+B11-C11) -> 2365000 | H11: 1402/11/04 | I11: برگشت پیش دریافت از معنوی | K11: 2000000 | L11: =SUM(L10+J11-K11) -> 1645000
A12: 03.07.03 | B12: 560000 | D12: =SUM(D11+B12-C12) -> 2925000 | H12: 1402/11/29 | I12: انتقال کارمزد | J12: 300000 | L12: =SUM(L11+J12-K12) -> 1945000
A13: 03.10.06 | B13: 715000 | D13: =SUM(D12+B13-C13) -> 3640000 | H13: 1403/03/03 | I13: انتقال کارمزد | J13: 420000 | L13: =SUM(L12+J13-K13) -> 2365000
